Workbook

Sheet ENERO
A1: ="Año "&Tabla_Año[] -> Año 2027
B2: Total Plazas Ocupadas Equivalentes | C2: TOTAL JORNADA COMPLETA | D2: TOTAL JORNADA TIPO A | E2: TOTAL JORNADA TIPO B | G2: MES | H2: DIAS
B3: =+Tabla_Ocup_01[TOTAL JORNADA COMPLETA]+Tabla_Ocup_01[TOTAL JORNADA TIPO A]*2/3+Tabla_Ocup_01[TOTAL JORNADA TIPO B]*1/3 -> 0 | G3: ENERO | H3: =DAY(EOMONTH(1&"/"&Tabla_Mes_01[MES]&"/"&Tabla_Año[],0)) -> 31
B7: CATEGORIA PROFESIONAL | C7: HORAS MES (FICHAJES) | D7: horas exigidas Plaza CD | E7: Total Horas exigidas mes | F7: CUMPLIMIENTO | G7: DIF.
B8: CUIDADOR | D8: =+IFERROR(INDEX(RATIO[DEP 26],MATCH(Tabla_Horas_01[[#This Row],[CATEGORIA PROFESIONAL]],RATIO[CATEGORIA PROFESIONAL],0)),0) -> 1.3815261 | E8: =+Tabla_Horas_01[[#This Row],[horas exigidas Plaza CD]]*Tabla_Ocup_01[Total Plazas Ocupadas Equivalentes]*Tabla_Mes_01[DIAS] -> 0 | F8: =IF(Tabla_Horas_01[[#This Row],[Total Horas exigidas mes]]=0,"",IF(Tabla_Horas_01[[#This Row],[HORAS MES (FICHAJES)]]>=Tabla_Horas_01[[#This Row],[Total Horas exigidas mes]],"CUMPLE","INCUMPLIMIENTO")) | G8: =+Tabla_Horas_01[[#This Row],[HORAS MES (FICHAJES)]]-Tabla_Horas_01[[#This Row],[Total Horas exigidas mes]] -> 0
B9: TECNICOS | D9: =+IFERROR(INDEX(RATIO[DEP 26],MATCH(Tabla_Horas_01[[#This Row],[CATEGORIA PROFESIONAL]],RATIO[CATEGORIA PROFESIONAL],0)),0) -> 0.41445783 | E9: =+Tabla_Horas_01[[#This Row],[horas exigidas Plaza CD]]*Tabla_Ocup_01[Total Plazas Ocupadas Equivalentes]*Tabla_Mes_01[DIAS] -> 0 | F9: =IF(Tabla_Horas_01[[#This Row],[Total Horas exigidas mes]]=0,"",IF(Tabla_Horas_01[[#This Row],[HORAS MES (FICHAJES)]]>=Tabla_Horas_01[[#This Row],[Total Horas exigidas mes]],"CUMPLE","INCUMPLIMIENTO")) | G9: =+Tabla_Horas_01[[#This Row],[HORAS MES (FICHAJES)]]-Tabla_Horas_01[[#This Row],[Total Horas exigidas mes]] -> 0

Sheet FEBRERO
A1: ="Año "&Tabla_Año[] -> Año 2027
B2: Total Plazas Ocupadas Equivalentes | C2: TOTAL JORNADA COMPLETA | D2: TOTAL JORNADA TIPO A | E2: TOTAL JORNADA TIPO B | G2: MES | H2: DIAS
B3: =+Tabla_Ocup_02[TOTAL JORNADA COMPLETA]+Tabla_Ocup_02[TOTAL JORNADA TIPO A]*2/3+Tabla_Ocup_02[TOTAL JORNADA TIPO B]*1/3 -> 0 | G3: FEBRERO | H3: =DAY(EOMONTH(1&"/"&Tabla_Mes_02[MES]&"/"&Tabla_Año[],0)) -> 28
B7: CATEGORIA PROFESIONAL | C7: HORAS MES (FICHAJES) | D7: horas exigidas Plaza CD | E7: Total Horas exigidas mes | F7: CUMPLIMIENTO | G7: DIF.
B8: CUIDADOR | D8: =+IFERROR(INDEX(RATIO[DEP 26],MATCH(Tabla_Horas_02[[#This Row],[CATEGORIA PROFESIONAL]],RATIO[CATEGORIA PROFESIONAL],0)),0) -> 1.3815261 | E8: =+Tabla_Horas_02[[#This Row],[horas exigidas Plaza CD]]*Tabla_Ocup_02[Total Plazas Ocupadas Equivalentes]*Tabla_Mes_02[DIAS] -> 0 | F8: =IF(Tabla_Horas_02[[#This Row],[Total Horas exigidas mes]]=0,"",IF(Tabla_Horas_02[[#This Row],[HORAS MES (FICHAJES)]]>=Tabla_Horas_02[[#This Row],[Total Horas exigidas mes]],"CUMPLE","INCUMPLIMIENTO")) | G8: =+Tabla_Horas_02[[#This Row],[HORAS MES (FICHAJES)]]-Tabla_Horas_02[[#This Row],[Total Horas exigidas mes]] -> 0
B9: TECNICOS | D9: =+IFERROR(INDEX(RATIO[DEP 26],MATCH(Tabla_Horas_02[[#This Row],[CATEGORIA PROFESIONAL]],RATIO[CATEGORIA PROFESIONAL],0)),0) -> 0.41445783 | E9: =+Tabla_Horas_02[[#This Row],[horas exigidas Plaza CD]]*Tabla_Ocup_02[Total Plazas Ocupadas Equivalentes]*Tabla_Mes_02[DIAS] -> 0 | F9: =IF(Tabla_Horas_02[[#This Row],[Total Horas exigidas mes]]=0,"",IF(Tabla_Horas_02[[#This Row],[HORAS MES (FICHAJES)]]>=Tabla_Horas_02[[#This Row],[Total Horas exigidas mes]],"CUMPLE","INCUMPLIMIENTO")) | G9: =+Tabla_Horas_02[[#This Row],[HORAS MES (FICHAJES)]]-Tabla_Horas_02[[#This Row],[Total Horas exigidas mes]] -> 0

Sheet MARZO
A1: ="Año "&Tabla_Año[] -> Año 2027
B2: Total Plazas Ocupadas Equivalentes | C2: TOTAL JORNADA COMPLETA | D2: TOTAL JORNADA TIPO A | E2: TOTAL JORNADA TIPO B | G2: MES | H2: DIAS
B3: =+Tabla_Ocup_1171316[TOTAL JORNADA COMPLETA]+Tabla_Ocup_1171316[TOTAL JORNADA TIPO A]*2/3+Tabla_Ocup_1171316[TOTAL JORNADA TIPO B]*1/3 -> 0 | G3: MARZO | H3: =DAY(EOMONTH(1&"/"&Tabla_Mes_11121518[MES]&"/"&Tabla_Año[],0)) -> 31
B7: CATEGORIA PROFESIONAL | C7: HORAS MES (FICHAJES) | D7: horas exigidas Plaza CD | E7: Total Horas exigidas mes | F7: CUMPLIMIENTO | G7: DIF.
B8: CUIDADOR | D8: =+IFERROR(INDEX(RATIO[DEP 26],MATCH(Tabla_Horas_11111417[[#This Row],[CATEGORIA PROFESIONAL]],RATIO[CATEGORIA PROFESIONAL],0)),0) -> 1.3815261 | E8: =+Tabla_Horas_11111417[[#This Row],[horas exigidas Plaza CD]]*Tabla_Ocup_1171316[Total Plazas Ocupadas Equivalentes]*Tabla_Mes_11121518[DIAS] -> 0 | F8: =IF(Tabla_Horas_11111417[[#This Row],[Total Horas exigidas mes]]=0,"",IF(Tabla_Horas_11111417[[#This Row],[HORAS MES (FICHAJES)]]>=Tabla_Horas_11111417[[#This Row],[Total Horas exigidas mes]],"CUMPLE","INCUMPLIMIENTO")) | G8: =+Tabla_Horas_11111417[[#This Row],[HORAS MES (FICHAJES)]]-Tabla_Horas_11111417[[#This Row],[Total Horas exigidas mes]] -> 0
B9: TECNICOS | D9: =+IFERROR(INDEX(RATIO[DEP 26],MATCH(Tabla_Horas_11111417[[#This Row],[CATEGORIA PROFESIONAL]],RATIO[CATEGORIA PROFESIONAL],0)),0) -> 0.41445783 | E9: =+Tabla_Horas_11111417[[#This Row],[horas exigidas Plaza CD]]*Tabla_Ocup_1171316[Total Plazas Ocupadas Equivalentes]*Tabla_Mes_11121518[DIAS] -> 0 | F9: =IF(Tabla_Horas_11111417[[#This Row],[Total Horas exigidas mes]]=0,"",IF(Tabla_Horas_11111417[[#This Row],[HORAS MES (FICHAJES)]]>=Tabla_Horas_11111417[[#This Row],[Total Horas exigidas mes]],"CUMPLE","INCUMPLIMIENTO")) | G9: =+Tabla_Horas_11111417[[#This Row],[HORAS MES (FICHAJES)]]-Tabla_Horas_11111417[[#This Row],[Total Horas exigidas mes]] -> 0

Sheet ABRIL
A1: ="Año "&Tabla_Año[] -> Año 2027
B2: Total Plazas Ocupadas Equivalentes | C2: TOTAL JORNADA COMPLETA | D2: TOTAL JORNADA TIPO A | E2: TOTAL JORNADA TIPO B | G2: MES | H2: DIAS
B3: =+Tabla_Ocup_04[TOTAL JORNADA COMPLETA]+Tabla_Ocup_04[TOTAL JORNADA TIPO A]*2/3+Tabla_Ocup_04[TOTAL JORNADA TIPO B]*1/3 -> 0 | G3: ABRIL | H3: =DAY(EOMONTH(1&"/"&Tabla_Mes_04[MES]&"/"&Tabla_Año[],0)) -> 30
B7: CATEGORIA PROFESIONAL | C7: HORAS MES (FICHAJES) | D7: horas exigidas Plaza CD | E7: Total Horas exigidas mes | F7: CUMPLIMIENTO | G7: DIF.
B8: CUIDADOR | D8: =+IFERROR(INDEX(RATIO[DEP 26],MATCH(Tabla_Horas_04[[#This Row],[CATEGORIA PROFESIONAL]],RATIO[CATEGORIA PROFESIONAL],0)),0) -> 1.3815261 | E8: =+Tabla_Horas_04[[#This Row],[horas exigidas Plaza CD]]*Tabla_Ocup_04[Total Plazas Ocupadas Equivalentes]*Tabla_Mes_04[DIAS] -> 0 | F8: =IF(Tabla_Horas_04[[#This Row],[Total Horas exigidas mes]]=0,"",IF(Tabla_Horas_04[[#This Row],[HORAS MES (FICHAJES)]]>=Tabla_Horas_04[[#This Row],[Total Horas exigidas mes]],"CUMPLE","INCUMPLIMIENTO")) | G8: =+Tabla_Horas_04[[#This Row],[HORAS MES (FICHAJES)]]-Tabla_Horas_04[[#This Row],[Total Horas exigidas mes]] -> 0
B9: TECNICOS | D9: =+IFERROR(INDEX(RATIO[DEP 26],MATCH(Tabla_Horas_04[[#This Row],[CATEGORIA PROFESIONAL]],RATIO[CATEGORIA PROFESIONAL],0)),0) -> 0.41445783 | E9: =+Tabla_Horas_04[[#This Row],[horas exigidas Plaza CD]]*Tabla_Ocup_04[Total Plazas Ocupadas Equivalentes]*Tabla_Mes_04[DIAS] -> 0 | F9: =IF(Tabla_Horas_04[[#This Row],[Total Horas exigidas mes]]=0,"",IF(Tabla_Horas_04[[#This Row],[HORAS MES (FICHAJES)]]>=Tabla_Horas_04[[#This Row],[Total Horas exigidas mes]],"CUMPLE","INCUMPLIMIENTO")) | G9: =+Tabla_Horas_04[[#This Row],[HORAS MES (FICHAJES)]]-Tabla_Horas_04[[#This Row],[Total Horas exigidas mes]] -> 0

Sheet MAYO
A1: ="Año "&Tabla_Año[] -> Año 2027
B2: Total Plazas Ocupadas Equivalentes | C2: TOTAL JORNADA COMPLETA | D2: TOTAL JORNADA TIPO A | E2: TOTAL JORNADA TIPO B | G2: MES | H2: DIAS
B3: =+Tabla_Ocup_11713161922[TOTAL JORNADA COMPLETA]+Tabla_Ocup_11713161922[TOTAL JORNADA TIPO A]*2/3+Tabla_Ocup_11713161922[TOTAL JORNADA TIPO B]*1/3 -> 0 | G3: MAYO | H3: =DAY(EOMONTH(1&"/"&Tabla_Mes_05[MES]&"/"&Tabla_Año[],0)) -> 31
B7: CATEGORIA PROFESIONAL | C7: HORAS MES (FICHAJES) | D7: horas exigidas Plaza CD | E7: Total Horas exigidas mes | F7: CUMPLIMIENTO | G7: DIF.
B8: CUIDADOR | D8: =+IFERROR(INDEX(RATIO[DEP 26],MATCH(Tabla_Horas_05[[#This Row],[CATEGORIA PROFESIONAL]],RATIO[CATEGORIA PROFESIONAL],0)),0) -> 1.3815261 | E8: =+Tabla_Horas_05[[#This Row],[horas exigidas Plaza CD]]*Tabla_Ocup_11713161922[Total Plazas Ocupadas Equivalentes]*Tabla_Mes_05[DIAS] -> 0 | F8: =IF(Tabla_Horas_05[[#This Row],[Total Horas exigidas mes]]=0,"",IF(Tabla_Horas_05[[#This Row],[HORAS MES (FICHAJES)]]>=Tabla_Horas_05[[#This Row],[Total Horas exigidas mes]],"CUMPLE","INCUMPLIMIENTO")) | G8: =+Tabla_Horas_05[[#This Row],[HORAS MES (FICHAJES)]]-Tabla_Horas_05[[#This Row],[Total Horas exigidas mes]] -> 0
B9: TECNICOS | D9: =+IFERROR(INDEX(RATIO[DEP 26],MATCH(Tabla_Horas_05[[#This Row],[CATEGORIA PROFESIONAL]],RATIO[CATEGORIA PROFESIONAL],0)),0) -> 0.41445783 | E9: =+Tabla_Horas_05[[#This Row],[horas exigidas Plaza CD]]*Tabla_Ocup_11713161922[Total Plazas Ocupadas Equivalentes]*Tabla_Mes_05[DIAS] -> 0 | F9: =IF(Tabla_Horas_05[[#This Row],[Total Horas exigidas mes]]=0,"",IF(Tabla_Horas_05[[#This Row],[HORAS MES (FICHAJES)]]>=Tabla_Horas_05[[#This Row],[Total Horas exigidas mes]],"CUMPLE","INCUMPLIMIENTO")) | G9: =+Tabla_Horas_05[[#This Row],[HORAS MES (FICHAJES)]]-Tabla_Horas_05[[#This Row],[Total Horas exigidas mes]] -> 0

Sheet JUNIO
A1: ="Año "&Tabla_Año[] -> Año 2027
B2: Total Plazas Ocupadas Equivalentes | C2: TOTAL JORNADA COMPLETA | D2: TOTAL JORNADA TIPO A | E2: TOTAL JORNADA TIPO B | G2: MES | H2: DIAS
B3: =+Tabla_Ocup_1171316192225[TOTAL JORNADA COMPLETA]+Tabla_Ocup_1171316192225[TOTAL JORNADA TIPO A]*2/3+Tabla_Ocup_1171316192225[TOTAL JORNADA TIPO B]*1/3 -> 0 | G3: JUNIO | H3: =DAY(EOMONTH(1&"/"&Tabla_Mes_06[MES]&"/"&Tabla_Año[],0)) -> 30
B7: CATEGORIA PROFESIONAL | C7: HORAS MES (FICHAJES) | D7: horas exigidas Plaza CD | E7: Total Horas exigidas mes | F7: CUMPLIMIENTO | G7: DIF.
B8: CUIDADOR | D8: =+IFERROR(INDEX(RATIO[DEP 26],MATCH(Tabla_Horas_06[[#This Row],[CATEGORIA PROFESIONAL]],RATIO[CATEGORIA PROFESIONAL],0)),0) -> 1.3815261 | E8: =+Tabla_Horas_06[[#This Row],[horas exigidas Plaza CD]]*Tabla_Ocup_1171316192225[Total Plazas Ocupadas Equivalentes]*Tabla_Mes_06[DIAS] -> 0 | F8: =IF(Tabla_Horas_06[[#This Row],[Total Horas exigidas mes]]=0,"",IF(Tabla_Horas_06[[#This Row],[HORAS MES (FICHAJES)]]>=Tabla_Horas_06[[#This Row],[Total Horas exigidas mes]],"CUMPLE","INCUMPLIMIENTO")) | G8: =+Tabla_Horas_06[[#This Row],[HORAS MES (FICHAJES)]]-Tabla_Horas_06[[#This Row],[Total Horas exigidas mes]] -> 0
B9: TECNICOS | D9: =+IFERROR(INDEX(RATIO[DEP 26],MATCH(Tabla_Horas_06[[#This Row],[CATEGORIA PROFESIONAL]],RATIO[CATEGORIA PROFESIONAL],0)),0) -> 0.41445783 | E9: =+Tabla_Horas_06[[#This Row],[horas exigidas Plaza CD]]*Tabla_Ocup_1171316192225[Total Plazas Ocupadas Equivalentes]*Tabla_Mes_06[DIAS] -> 0 | F9: =IF(Tabla_Horas_06[[#This Row],[Total Horas exigidas mes]]=0,"",IF(Tabla_Horas_06[[#This Row],[HORAS MES (FICHAJES)]]>=Tabla_Horas_06[[#This Row],[Total Horas exigidas mes]],"CUMPLE","INCUMPLIMIENTO")) | G9: =+Tabla_Horas_06[[#This Row],[HORAS MES (FICHAJES)]]-Tabla_Horas_06[[#This Row],[Total Horas exigidas mes]] -> 0

Sheet JULIO
A1: ="Año "&Tabla_Año[] -> Año 2027
B2: Total Plazas Ocupadas Equivalentes | C2: TOTAL JORNADA COMPLETA | D2: TOTAL JORNADA TIPO A | E2: TOTAL JORNADA TIPO B | G2: MES | H2: DIAS
B3: =+Tabla_Ocup_117131619222528[TOTAL JORNADA COMPLETA]+Tabla_Ocup_117131619222528[TOTAL JORNADA TIPO A]*2/3+Tabla_Ocup_117131619222528[TOTAL JORNADA TIPO B]*1/3 -> 0 | G3: JULIO | H3: =DAY(EOMONTH(1&"/"&Tabla_Mes_07[MES]&"/"&Tabla_Año[],0)) -> 31
B7: CATEGORIA PROFESIONAL | C7: HORAS MES (FICHAJES) | D7: horas exigidas Plaza CD | E7: Total Horas exigidas mes | F7: CUMPLIMIENTO | G7: DIF.
B8: CUIDADOR | D8: =+IFERROR(INDEX(RATIO[DEP 26],MATCH(Tabla_Horas_07[[#This Row],[CATEGORIA PROFESIONAL]],RATIO[CATEGORIA PROFESIONAL],0)),0) -> 1.3815261 | E8: =+Tabla_Horas_07[[#This Row],[horas exigidas Plaza CD]]*Tabla_Ocup_117131619222528[Total Plazas Ocupadas Equivalentes]*Tabla_Mes_07[DIAS] -> 0 | F8: =IF(Tabla_Horas_07[[#This Row],[Total Horas exigidas mes]]=0,"",IF(Tabla_Horas_07[[#This Row],[HORAS MES (FICHAJES)]]>=Tabla_Horas_07[[#This Row],[Total Horas exigidas mes]],"CUMPLE","INCUMPLIMIENTO")) | G8: =+Tabla_Horas_07[[#This Row],[HORAS MES (FICHAJES)]]-Tabla_Horas_07[[#This Row],[Total Horas exigidas mes]] -> 0
B9: TECNICOS | D9: =+IFERROR(INDEX(RATIO[DEP 26],MATCH(Tabla_Horas_07[[#This Row],[CATEGORIA PROFESIONAL]],RATIO[CATEGORIA PROFESIONAL],0)),0) -> 0.41445783 | E9: =+Tabla_Horas_07[[#This Row],[horas exigidas Plaza CD]]*Tabla_Ocup_117131619222528[Total Plazas Ocupadas Equivalentes]*Tabla_Mes_07[DIAS] -> 0 | F9: =IF(Tabla_Horas_07[[#This Row],[Total Horas exigidas mes]]=0,"",IF(Tabla_Horas_07[[#This Row],[HORAS MES (FICHAJES)]]>=Tabla_Horas_07[[#This Row],[Total Horas exigidas mes]],"CUMPLE","INCUMPLIMIENTO")) | G9: =+Tabla_Horas_07[[#This Row],[HORAS MES (FICHAJES)]]-Tabla_Horas_07[[#This Row],[Total Horas exigidas mes]] -> 0

Sheet AGOSTO
A1: ="Año "&Tabla_Año[] -> Año 2027
B2: Total Plazas Ocupadas Equivalentes | C2: TOTAL JORNADA COMPLETA | D2: TOTAL JORNADA TIPO A | E2: TOTAL JORNADA TIPO B | G2: MES | H2: DIAS
B3: =+Tabla_Ocup_08[TOTAL JORNADA COMPLETA]+Tabla_Ocup_08[TOTAL JORNADA TIPO A]*2/3+Tabla_Ocup_08[TOTAL JORNADA TIPO B]*1/3 -> 0 | G3: AGOSTO | H3: =DAY(EOMONTH(1&"/"&Tabla_Mes_111215182124273033[MES]&"/"&Tabla_Año[],0)) -> 31
B7: CATEGORIA PROFESIONAL | C7: HORAS MES (FICHAJES) | D7: horas exigidas Plaza CD | E7: Total Horas exigidas mes | F7: CUMPLIMIENTO | G7: DIF.
B8: CUIDADOR | D8: =+IFERROR(INDEX(RATIO[DEP 26],MATCH(Tabla_Horas_08[[#This Row],[CATEGORIA PROFESIONAL]],RATIO[CATEGORIA PROFESIONAL],0)),0) -> 1.3815261 | E8: =+Tabla_Horas_08[[#This Row],[horas exigidas Plaza CD]]*Tabla_Ocup_08[Total Plazas Ocupadas Equivalentes]*Tabla_Mes_111215182124273033[DIAS] -> 0 | F8: =IF(Tabla_Horas_08[[#This Row],[Total Horas exigidas mes]]=0,"",IF(Tabla_Horas_08[[#This Row],[HORAS MES (FICHAJES)]]>=Tabla_Horas_08[[#This Row],[Total Horas exigidas mes]],"CUMPLE","INCUMPLIMIENTO")) | G8: =+Tabla_Horas_08[[#This Row],[HORAS MES (FICHAJES)]]-Tabla_Horas_08[[#This Row],[Total Horas exigidas mes]] -> 0
B9: TECNICOS | D9: =+IFERROR(INDEX(RATIO[DEP 26],MATCH(Tabla_Horas_08[[#This Row],[CATEGORIA PROFESIONAL]],RATIO[CATEGORIA PROFESIONAL],0)),0) -> 0.41445783 | E9: =+Tabla_Horas_08[[#This Row],[horas exigidas Plaza CD]]*Tabla_Ocup_08[Total Plazas Ocupadas Equivalentes]*Tabla_Mes_111215182124273033[DIAS] -> 0 | F9: =IF(Tabla_Horas_08[[#This Row],[Total Horas exigidas mes]]=0,"",IF(Tabla_Horas_08[[#This Row],[HORAS MES (FICHAJES)]]>=Tabla_Horas_08[[#This Row],[Total Horas exigidas mes]],"CUMPLE","INCUMPLIMIENTO")) | G9: =+Tabla_Horas_08[[#This Row],[HORAS MES (FICHAJES)]]-Tabla_Horas_08[[#This Row],[Total Horas exigidas mes]] -> 0

Sheet SEPTIEMBRE
A1: ="Año "&Tabla_Año[] -> Año 2027
B2: Total Plazas Ocupadas Equivalentes | C2: TOTAL JORNADA COMPLETA | D2: TOTAL JORNADA TIPO A | E2: TOTAL JORNADA TIPO B | G2: MES | H2: DIAS
B3: =+Tabla_Ocup_09[TOTAL JORNADA COMPLETA]+Tabla_Ocup_09[TOTAL JORNADA TIPO A]*2/3+Tabla_Ocup_09[TOTAL JORNADA TIPO B]*1/3 -> 0 | G3: SEPTIEMBRE | H3: =DAY(EOMONTH(1&"/"&Tabla_Mes_09[MES]&"/"&Tabla_Año[],0)) -> 30
B7: CATEGORIA PROFESIONAL | C7: HORAS MES (FICHAJES) | D7: horas exigidas Plaza CD | E7: Total Horas exigidas mes | F7: CUMPLIMIENTO | G7: DIF.
B8: CUIDADOR | D8: =+IFERROR(INDEX(RATIO[DEP 26],MATCH(Tabla_Horas_09[[#This Row],[CATEGORIA PROFESIONAL]],RATIO[CATEGORIA PROFESIONAL],0)),0) -> 1.3815261 | E8: =+Tabla_Horas_09[[#This Row],[horas exigidas Plaza CD]]*Tabla_Ocup_09[Total Plazas Ocupadas Equivalentes]*Tabla_Mes_09[DIAS] -> 0 | F8: =IF(Tabla_Horas_09[[#This Row],[Total Horas exigidas mes]]=0,"",IF(Tabla_Horas_09[[#This Row],[HORAS MES (FICHAJES)]]>=Tabla_Horas_09[[#This Row],[Total Horas exigidas mes]],"CUMPLE","INCUMPLIMIENTO")) | G8: =+Tabla_Horas_09[[#This Row],[HORAS MES (FICHAJES)]]-Tabla_Horas_09[[#This Row],[Total Horas exigidas mes]] -> 0
B9: TECNICOS | D9: =+IFERROR(INDEX(RATIO[DEP 26],MATCH(Tabla_Horas_09[[#This Row],[CATEGORIA PROFESIONAL]],RATIO[CATEGORIA PROFESIONAL],0)),0) -> 0.41445783 | E9: =+Tabla_Horas_09[[#This Row],[horas exigidas Plaza CD]]*Tabla_Ocup_09[Total Plazas Ocupadas Equivalentes]*Tabla_Mes_09[DIAS] -> 0 | F9: =IF(Tabla_Horas_09[[#This Row],[Total Horas exigidas mes]]=0,"",IF(Tabla_Horas_09[[#This Row],[HORAS MES (FICHAJES)]]>=Tabla_Horas_09[[#This Row],[Total Horas exigidas mes]],"CUMPLE","INCUMPLIMIENTO")) | G9: =+Tabla_Horas_09[[#This Row],[HORAS MES (FICHAJES)]]-Tabla_Horas_09[[#This Row],[Total Horas exigidas mes]] -> 0

Sheet OCTUBRE
A1: ="Año "&Tabla_Año[] -> Año 2027
B2: Total Plazas Ocupadas Equivalentes | C2: TOTAL JORNADA COMPLETA | D2: TOTAL JORNADA TIPO A | E2: TOTAL JORNADA TIPO B | G2: MES | H2: DIAS
B3: =+Tabla_Ocup_10[TOTAL JORNADA COMPLETA]+Tabla_Ocup_10[TOTAL JORNADA TIPO A]*2/3+Tabla_Ocup_10[TOTAL JORNADA TIPO B]*1/3 -> 0 | G3: OCTUBRE | H3: =DAY(EOMONTH(1&"/"&Tabla_Mes_10[MES]&"/"&Tabla_Año[],0)) -> 31
B7: CATEGORIA PROFESIONAL | C7: HORAS MES (FICHAJES) | D7: horas exigidas Plaza CD | E7: Total Horas exigidas mes | F7: CUMPLIMIENTO | G7: DIF.
B8: CUIDADOR | D8: =+IFERROR(INDEX(RATIO[DEP 26],MATCH(Tabla_Horas_10[[#This Row],[CATEGORIA PROFESIONAL]],RATIO[CATEGORIA PROFESIONAL],0)),0) -> 1.3815261 | E8: =+Tabla_Horas_10[[#This Row],[horas exigidas Plaza CD]]*Tabla_Ocup_10[Total Plazas Ocupadas Equivalentes]*Tabla_Mes_10[DIAS] -> 0 | F8: =IF(Tabla_Horas_10[[#This Row],[Total Horas exigidas mes]]=0,"",IF(Tabla_Horas_10[[#This Row],[HORAS MES (FICHAJES)]]>=Tabla_Horas_10[[#This Row],[Total Horas exigidas mes]],"CUMPLE","INCUMPLIMIENTO")) | G8: =+Tabla_Horas_10[[#This Row],[HORAS MES (FICHAJES)]]-Tabla_Horas_10[[#This Row],[Total Horas exigidas mes]] -> 0
B9: TECNICOS | D9: =+IFERROR(INDEX(RATIO[DEP 26],MATCH(Tabla_Horas_10[[#This Row],[CATEGORIA PROFESIONAL]],RATIO[CATEGORIA PROFESIONAL],0)),0) -> 0.41445783 | E9: =+Tabla_Horas_10[[#This Row],[horas exigidas Plaza CD]]*Tabla_Ocup_10[Total Plazas Ocupadas Equivalentes]*Tabla_Mes_10[DIAS] -> 0 | F9: =IF(Tabla_Horas_10[[#This Row],[Total Horas exigidas mes]]=0,"",IF(Tabla_Horas_10[[#This Row],[HORAS MES (FICHAJES)]]>=Tabla_Horas_10[[#This Row],[Total Horas exigidas mes]],"CUMPLE","INCUMPLIMIENTO")) | G9: =+Tabla_Horas_10[[#This Row],[HORAS MES (FICHAJES)]]-Tabla_Horas_10[[#This Row],[Total Horas exigidas mes]] -> 0

Sheet NOVIEMBRE
A1: ="Año "&Tabla_Año[] -> Año 2027
B2: Total Plazas Ocupadas Equivalentes | C2: TOTAL JORNADA COMPLETA | D2: TOTAL JORNADA TIPO A | E2: TOTAL JORNADA TIPO B | G2: MES | H2: DIAS
B3: =+Tabla_Ocup_11[TOTAL JORNADA COMPLETA]+Tabla_Ocup_11[TOTAL JORNADA TIPO A]*2/3+Tabla_Ocup_11[TOTAL JORNADA TIPO B]*1/3 -> 0 | G3: NOVIEMBRE | H3: =DAY(EOMONTH(1&"/"&Tabla_Mes_11[MES]&"/"&Tabla_Año[],0)) -> 30
B7: CATEGORIA PROFESIONAL | C7: HORAS MES (FICHAJES) | D7: horas exigidas Plaza CD | E7: Total Horas exigidas mes | F7: CUMPLIMIENTO | G7: DIF.
B8: CUIDADOR | D8: =+IFERROR(INDEX(RATIO[DEP 26],MATCH(Tabla_Horas_11[[#This Row],[CATEGORIA PROFESIONAL]],RATIO[CATEGORIA PROFESIONAL],0)),0) -> 1.3815261 | E8: =+Tabla_Horas_11[[#This Row],[horas exigidas Plaza CD]]*Tabla_Ocup_11[Total Plazas Ocupadas Equivalentes]*Tabla_Mes_11[DIAS] -> 0 | F8: =IF(Tabla_Horas_11[[#This Row],[Total Horas exigidas mes]]=0,"",IF(Tabla_Horas_11[[#This Row],[HORAS MES (FICHAJES)]]>=Tabla_Horas_11[[#This Row],[Total Horas exigidas mes]],"CUMPLE","INCUMPLIMIENTO")) | G8: =+Tabla_Horas_11[[#This Row],[HORAS MES (FICHAJES)]]-Tabla_Horas_11[[#This Row],[Total Horas exigidas mes]] -> 0
B9: TECNICOS | D9: =+IFERROR(INDEX(RATIO[DEP 26],MATCH(Tabla_Horas_11[[#This Row],[CATEGORIA PROFESIONAL]],RATIO[CATEGORIA PROFESIONAL],0)),0) -> 0.41445783 | E9: =+Tabla_Horas_11[[#This Row],[horas exigidas Plaza CD]]*Tabla_Ocup_11[Total Plazas Ocupadas Equivalentes]*Tabla_Mes_11[DIAS] -> 0 | F9: =IF(Tabla_Horas_11[[#This Row],[Total Horas exigidas mes]]=0,"",IF(Tabla_Horas_11[[#This Row],[HORAS MES (FICHAJES)]]>=Tabla_Horas_11[[#This Row],[Total Horas exigidas mes]],"CUMPLE","INCUMPLIMIENTO")) | G9: =+Tabla_Horas_11[[#This Row],[HORAS MES (FICHAJES)]]-Tabla_Horas_11[[#This Row],[Total Horas exigidas mes]] -> 0

Sheet DICIEMBRE
A1: ="Año "&Tabla_Año[] -> Año 2027
B2: Total Plazas Ocupadas | C2: TOTAL JORNADA COMPLETA | D2: TOTAL JORNADA TIPO A | E2: TOTAL JORNADA TIPO B | G2: MES | H2: DIAS
B3: =+Tabla_Ocup_12[TOTAL JORNADA COMPLETA]+Tabla_Ocup_12[TOTAL JORNADA TIPO A]*2/3+Tabla_Ocup_12[TOTAL JORNADA TIPO B]*1/3 -> 0 | G3: DICIEMBRE | H3: =DAY(EOMONTH(1&"/"&Tabla_Mes_12[MES]&"/"&Tabla_Año[],0)) -> 31
B7: CATEGORIA PROFESIONAL | C7: HORAS MES (FICHAJES) | D7: horas exigidas Plaza CD | E7: Total Horas exigidas mes | F7: CUMPLIMIENTO | G7: DIF.
B8: CUIDADOR | D8: =+IFERROR(INDEX(RATIO[DEP 26],MATCH(Tabla_Horas_12[[#This Row],[CATEGORIA PROFESIONAL]],RATIO[CATEGORIA PROFESIONAL],0)),0) -> 1.3815261 | E8: =+Tabla_Horas_12[[#This Row],[horas exigidas Plaza CD]]*Tabla_Ocup_12[Total Plazas Ocupadas]*Tabla_Mes_12[DIAS] -> 0 | F8: =IF(Tabla_Horas_12[[#This Row],[Total Horas exigidas mes]]=0,"",IF(Tabla_Horas_12[[#This Row],[HORAS MES (FICHAJES)]]>=Tabla_Horas_12[[#This Row],[Total Horas exigidas mes]],"CUMPLE","INCUMPLIMIENTO")) | G8: =+Tabla_Horas_12[[#This Row],[HORAS MES (FICHAJES)]]-Tabla_Horas_12[[#This Row],[Total Horas exigidas mes]] -> 0
B9: TECNICOS | D9: =+IFERROR(INDEX(RATIO[DEP 26],MATCH(Tabla_Horas_12[[#This Row],[CATEGORIA PROFESIONAL]],RATIO[CATEGORIA PROFESIONAL],0)),0) -> 0.41445783 | E9: =+Tabla_Horas_12[[#This Row],[horas exigidas Plaza CD]]*Tabla_Ocup_12[Total Plazas Ocupadas]*Tabla_Mes_12[DIAS] -> 0 | F9: =IF(Tabla_Horas_12[[#This Row],[Total Horas exigidas mes]]=0,"",IF(Tabla_Horas_12[[#This Row],[HORAS MES (FICHAJES)]]>=Tabla_Horas_12[[#This Row],[Total Horas exigidas mes]],"CUMPLE","INCUMPLIMIENTO")) | G9: =+Tabla_Horas_12[[#This Row],[HORAS MES (FICHAJES)]]-Tabla_Horas_12[[#This Row],[Total Horas exigidas mes]] -> 0

Sheet AÑO 2027
A1: ="Año "&Tabla_Año[] -> Año 2027 | G1: CUMPLIMIENTO
A2: MES | B2: OCUPACION EQUIVALENTE | C2: OCUPACION PLAZA TOTAL | D2: OCUPACION TIPO A | E2: OCUPACION TIPO B | G2: RATIO | H2: ENERO | I2: FEBRERO | J2: MARZO | K2: ABRIL | L2: MAYO | M2: JUNIO | N2: JULIO | O2: AGOSTO | P2: SEPTIEMBRE | Q2: OCTUBRE | R2: NOVIEMBRE | S2: DICIEMBRE | T2: TOTAL
A3: ENERO | B3: =+Tabla_Ocup_01[Total Plazas Ocupadas Equivalentes] -> 0 | C3: =+Tabla_Ocup_01[TOTAL JORNADA COMPLETA] -> 0 | D3: =+Tabla_Ocup_01[TOTAL JORNADA TIPO A] -> 0 | E3: =+Tabla_Ocup_01[TOTAL JORNADA TIPO B] -> 0 | G3: CUIDADOR | H3: =+ENERO!$G$8 -> 0 | I3: =+FEBRERO!$G$8 -> 0 | J3: =+MARZO!$G$8 -> 0 | K3: =+ABRIL!$G$8 -> 0 | L3: =+MAYO!$G$8 -> 0 | M3: =+JUNIO!$G$8 -> 0 | N3: =+JULIO!$G$8 -> 0 | O3: =+AGOSTO!$G$8 -> 0 | P3: =+SEPTIEMBRE!$G$8 -> 0 | Q3: =+OCTUBRE!$G$8 -> 0 | R3: =+NOVIEMBRE!$G$8 -> 0 | S3: =+DICIEMBRE!$G$8 -> 0 | T3: =SUM(INCUMPLIMIENTOS[[#This Row],[ENERO]:[DICIEMBRE]]) -> 0
A4: FEBRERO | B4: =+Tabla_Ocup_02[Total Plazas Ocupadas Equivalentes] -> 0 | C4: =+Tabla_Ocup_02[TOTAL JORNADA COMPLETA] -> 0 | D4: =+Tabla_Ocup_02[TOTAL JORNADA TIPO A] -> 0 | E4: =+Tabla_Ocup_02[TOTAL JORNADA TIPO B] -> 0 | G4: TECNICOS | H4: =+ENERO!$G$9 -> 0 | I4: =+FEBRERO!$G$9 -> 0 | J4: =+MARZO!$G$9 -> 0 | K4: =+ABRIL!$G$9 -> 0 | L4: =+MAYO!$G$9 -> 0 | M4: =+JUNIO!$G$9 -> 0 | N4: =+JULIO!$G$9 -> 0 | O4: =+AGOSTO!$G$9 -> 0 | P4: =+SEPTIEMBRE!$G$9 -> 0 | Q4: =+OCTUBRE!$G$9 -> 0 | R4: =+NOVIEMBRE!$G$9 -> 0 | S4: =+DICIEMBRE!$G$9 -> 0 | T4: =SUM(INCUMPLIMIENTOS[[#This Row],[ENERO]:[DICIEMBRE]]) -> 0
A5: MARZO | B5: =+Tabla_Ocup_1171316[Total Plazas Ocupadas Equivalentes] -> 0 | C5: =+Tabla_Ocup_1171316[TOTAL JORNADA COMPLETA] -> 0 | D5: =+Tabla_Ocup_1171316[TOTAL JORNADA TIPO A] -> 0 | E5: =+Tabla_Ocup_1171316[TOTAL JORNADA TIPO B] -> 0
A6: ABRIL | B6: =+Tabla_Ocup_04[Total Plazas Ocupadas Equivalentes] -> 0 | C6: =+Tabla_Ocup_04[TOTAL JORNADA COMPLETA] -> 0 | D6: =+Tabla_Ocup_04[TOTAL JORNADA TIPO A] -> 0 | E6: =+Tabla_Ocup_04[TOTAL JORNADA TIPO B] -> 0
A7: MAYO | B7: =+Tabla_Ocup_11713161922[Total Plazas Ocupadas Equivalentes] -> 0 | C7: =+Tabla_Ocup_11713161922[TOTAL JORNADA COMPLETA] -> 0 | D7: =+Tabla_Ocup_11713161922[TOTAL JORNADA TIPO A] -> 0 | E7: =+Tabla_Ocup_11713161922[TOTAL JORNADA TIPO B] -> 0
A8: JUNIO | B8: =+Tabla_Ocup_1171316192225[Total Plazas Ocupadas Equivalentes] -> 0 | C8: =+Tabla_Ocup_1171316192225[TOTAL JORNADA COMPLETA] -> 0 | D8: =+Tabla_Ocup_1171316192225[TOTAL JORNADA TIPO A] -> 0 | E8: =+Tabla_Ocup_1171316192225[TOTAL JORNADA TIPO B] -> 0
A9: JULIO | B9: =+Tabla_Ocup_117131619222528[Total Plazas Ocupadas Equivalentes] -> 0 | C9: =+Tabla_Ocup_117131619222528[TOTAL JORNADA COMPLETA] -> 0 | D9: =+Tabla_Ocup_117131619222528[TOTAL JORNADA TIPO A] -> 0 | E9: =+Tabla_Ocup_117131619222528[TOTAL JORNADA TIPO B] -> 0 | G9: EXIGENCIAS MES
A10: AGOSTO | B10: =+Tabla_Ocup_08[Total Plazas Ocupadas Equivalentes] -> 0 | C10: =+Tabla_Ocup_08[TOTAL JORNADA COMPLETA] -> 0 | D10: =+Tabla_Ocup_08[TOTAL JORNADA TIPO A] -> 0 | E10: =+Tabla_Ocup_08[TOTAL JORNADA TIPO B] -> 0 | G10: RATIO | H10: ENERO | I10: FEBRERO | J10: MARZO | K10: ABRIL | L10: MAYO | M10: JUNIO | N10: JULIO | O10: AGOSTO | P10: SEPTIEMBRE | Q10: OCTUBRE | R10: NOVIEMBRE | S10: DICIEMBRE | T10: TOTAL
A11: SEPTIEMBRE | B11: =+Tabla_Ocup_09[Total Plazas Ocupadas Equivalentes] -> 0 | C11: =+Tabla_Ocup_09[TOTAL JORNADA COMPLETA] -> 0 | D11: =+Tabla_Ocup_09[TOTAL JORNADA TIPO A] -> 0 | E11: =+Tabla_Ocup_09[TOTAL JORNADA TIPO B] -> 0 | G11: CUIDADOR | H11: =+ENERO!$E$8 -> 0 | I11: =+FEBRERO!$E$8 -> 0 | J11: =+MARZO!$E$8 -> 0 | K11: =+ABRIL!$E$8 -> 0 | L11: =+MAYO!$E$8 -> 0 | M11: =+JUNIO!$E$8 -> 0 | N11: =+JULIO!$E$8 -> 0 | O11: =+AGOSTO!$E$8 -> 0 | P11: =+SEPTIEMBRE!$E$8 -> 0 | Q11: =+OCTUBRE!$E$8 -> 0 | R11: =+NOVIEMBRE!$E$8 -> 0 | S11: =+DICIEMBRE!$E$8 -> 0 | T11: =SUM(EXIGENCIAS[[#This Row],[ENERO]:[DICIEMBRE]]) -> 0
A12: OCTUBRE | B12: =+Tabla_Ocup_10[Total Plazas Ocupadas Equivalentes] -> 0 | C12: =+Tabla_Ocup_10[TOTAL JORNADA COMPLETA] -> 0 | D12: =+Tabla_Ocup_10[TOTAL JORNADA TIPO A] -> 0 | E12: =+Tabla_Ocup_10[TOTAL JORNADA TIPO B] -> 0 | G12: TECNICOS | H12: =+ENERO!$E$9 -> 0 | I12: =+FEBRERO!$E$9 -> 0 | J12: =+MARZO!$E$9 -> 0 | K12: =+ABRIL!$E$9 -> 0 | L12: =+MAYO!$E$9 -> 0 | M12: =+JUNIO!$E$9 -> 0 | N12: =+JULIO!$E$9 -> 0 | O12: =+AGOSTO!$E$9 -> 0 | P12: =+SEPTIEMBRE!$E$9 -> 0 | Q12: =+OCTUBRE!$E$9 -> 0 | R12: =+NOVIEMBRE!$E$9 -> 0 | S12: =+DICIEMBRE!$E$9 -> 0 | T12: =SUM(EXIGENCIAS[[#This Row],[ENERO]:[DICIEMBRE]]) -> 0
A13: NOVIEMBRE | B13: =+Tabla_Ocup_11[Total Plazas Ocupadas Equivalentes] -> 0 | C13: =+Tabla_Ocup_11[TOTAL JORNADA COMPLETA] -> 0 | D13: =+Tabla_Ocup_11[TOTAL JORNADA TIPO A] -> 0 | E13: =+Tabla_Ocup_11[TOTAL JORNADA TIPO B] -> 0
A14: DICIEMBRE | B14: =+Tabla_Ocup_12[Total Plazas Ocupadas] -> 0 | C14: =+Tabla_Ocup_12[TOTAL JORNADA COMPLETA] -> 0 | D14: =+Tabla_Ocup_12[TOTAL JORNADA TIPO A] -> 0 | E14: =+Tabla_Ocup_12[TOTAL JORNADA TIPO B] -> 0
G17: HORAS FICHAJES
G18: RATIO | H18: ENERO | I18: FEBRERO | J18: MARZO | K18: ABRIL | L18: MAYO | M18: JUNIO | N18: JULIO | O18: AGOSTO | P18: SEPTIEMBRE | Q18: OCTUBRE | R18: NOVIEMBRE | S18: DICIEMBRE | T18: TOTAL
G19: CUIDADOR | H19: =+ENERO!$C$8 -> 0 | I19: =+FEBRERO!$C$8 -> 0 | J19: =+MARZO!$C$8 -> 0 | K19: =+ABRIL!$C$8 -> 0 | L19: =+MAYO!$C$8 -> 0 | M19: =+JUNIO!$C$8 -> 0 | N19: =+JULIO!$C$8 -> 0 | O19: =+AGOSTO!$C$8 -> 0 | P19: =+SEPTIEMBRE!$C$8 -> 0 | Q19: =+OCTUBRE!$C$8 -> 0 | R19: =+NOVIEMBRE!$C$8 -> 0 | S19: =+DICIEMBRE!$C$8 -> 0 | T19: =SUM(EXIGENCIAS10[[#This Row],[ENERO]:[DICIEMBRE]]) -> 0
G20: TECNICOS | H20: =+ENERO!$C$9 -> 0 | I20: =+FEBRERO!$C$9 -> 0 | J20: =+MARZO!$C$9 -> 0 | K20: =+ABRIL!$C$9 -> 0 | L20: =+MAYO!$C$9 -> 0 | M20: =+JUNIO!$C$9 -> 0 | N20: =+JULIO!$C$9 -> 0 | O20: =+AGOSTO!$C$9 -> 0 | P20: =+SEPTIEMBRE!$C$9 -> 0 | Q20: =+OCTUBRE!$C$9 -> 0 | R20: =+NOVIEMBRE!$C$9 -> 0 | S20: =+DICIEMBRE!$C$9 -> 0 | T20: =SUM(EXIGENCIAS10[[#This Row],[ENERO]:[DICIEMBRE]]) -> 0

Sheet DATOS
A1: CATEGORIA PROFESIONAL | B1: DEP 26 | C1: DEP 27 | D1: DEP 28 | E1: DEP 29 | F1: DEP 30
A2: CUIDADOR | B2: 1.3815261 | C2: 1.3574297 | D2: 1.3453815 | E2: 1.3293173 | F2: 1.324498
A3: TECNICOS | B3: 0.41445783 | C3: 0.40722892 | D3: 0.40361446 | E3: 0.39879518 | F3: 0.3973494
A6: Año | E6: SI/NO | F6: RATIOS | G6: ASISTENCIAL | H6: MEDICINA
A7: 2027 | F7: SIN RATIO (Disposición Transitoria Tercera DF 92/2020)
E8: SI | F8: ENFERMERIA RI | G8: ASISTENCIAL | H8: MEDICINA
E9: NO | F9: ENFERMERIA RII | H9: NO
F10: ENFERMERIA RIII
