Workbook

Sheet NOVIEMBRE
A1: ="Año "&Tabla_Año[] -> Año 2026
B2: Total Plazas Ocupadas Equivalentes | C2: TOTAL JORNADA COMPLETA | D2: TOTAL JORNADA TIPO A | E2: TOTAL JORNADA TIPO B | G2: MES | H2: DIAS
B3: =+Tabla_Ocup_11[TOTAL JORNADA COMPLETA]+Tabla_Ocup_11[TOTAL JORNADA TIPO A]*2/3+Tabla_Ocup_11[TOTAL JORNADA TIPO B]*1/3 -> 0 | G3: NOVIEMBRE | H3: =DAY(EOMONTH(1&"/"&Tabla_Mes_11[MES]&"/"&Tabla_Año[],0)) -> 30
B7: CATEGORIA PROFESIONAL | C7: HORAS MES (FICHAJES) | D7: horas exigidas Plaza CD | E7: Total Horas exigidas mes | F7: CUMPLIMIENTO | G7: DIF.
B8: CUIDADOR | D8: =+IFERROR(INDEX(RATIO[DEP 26],MATCH(Tabla_Horas_11[[#This Row],[CATEGORIA PROFESIONAL]],RATIO[CATEGORIA PROFESIONAL],0)),0) -> 1.3815261 | E8: =+Tabla_Horas_11[[#This Row],[horas exigidas Plaza CD]]*Tabla_Ocup_11[Total Plazas Ocupadas Equivalentes]*Tabla_Mes_11[DIAS] -> 0 | F8: =IF(Tabla_Horas_11[[#This Row],[Total Horas exigidas mes]]=0,"",IF(Tabla_Horas_11[[#This Row],[HORAS MES (FICHAJES)]]>=Tabla_Horas_11[[#This Row],[Total Horas exigidas mes]],"CUMPLE","INCUMPLIMIENTO")) | G8: =+Tabla_Horas_11[[#This Row],[HORAS MES (FICHAJES)]]-Tabla_Horas_11[[#This Row],[Total Horas exigidas mes]] -> 0
B9: TECNICOS | D9: =+IFERROR(INDEX(RATIO[DEP 26],MATCH(Tabla_Horas_11[[#This Row],[CATEGORIA PROFESIONAL]],RATIO[CATEGORIA PROFESIONAL],0)),0) -> 0.41445783 | E9: =+Tabla_Horas_11[[#This Row],[horas exigidas Plaza CD]]*Tabla_Ocup_11[Total Plazas Ocupadas Equivalentes]*Tabla_Mes_11[DIAS] -> 0 | F9: =IF(Tabla_Horas_11[[#This Row],[Total Horas exigidas mes]]=0,"",IF(Tabla_Horas_11[[#This Row],[HORAS MES (FICHAJES)]]>=Tabla_Horas_11[[#This Row],[Total Horas exigidas mes]],"CUMPLE","INCUMPLIMIENTO")) | G9: =+Tabla_Horas_11[[#This Row],[HORAS MES (FICHAJES)]]-Tabla_Horas_11[[#This Row],[Total Horas exigidas mes]] -> 0

Sheet DICIEMBRE
A1: ="Año "&Tabla_Año[] -> Año 2026
B2: Total Plazas Ocupadas | C2: TOTAL JORNADA COMPLETA | D2: TOTAL JORNADA TIPO A | E2: TOTAL JORNADA TIPO B | G2: MES | H2: DIAS
B3: =+Tabla_Ocup_12[TOTAL JORNADA COMPLETA]+Tabla_Ocup_12[TOTAL JORNADA TIPO A]*2/3+Tabla_Ocup_12[TOTAL JORNADA TIPO B]*1/3 -> 0 | G3: DICIEMBRE | H3: =DAY(EOMONTH(1&"/"&Tabla_Mes_12[MES]&"/"&Tabla_Año[],0)) -> 31
B7: CATEGORIA PROFESIONAL | C7: HORAS MES (FICHAJES) | D7: horas exigidas Plaza CD | E7: Total Horas exigidas mes | F7: CUMPLIMIENTO | G7: DIF.
B8: CUIDADOR | D8: =+IFERROR(INDEX(RATIO[DEP 26],MATCH(Tabla_Horas_12[[#This Row],[CATEGORIA PROFESIONAL]],RATIO[CATEGORIA PROFESIONAL],0)),0) -> 1.3815261 | E8: =+Tabla_Horas_12[[#This Row],[horas exigidas Plaza CD]]*Tabla_Ocup_12[Total Plazas Ocupadas]*Tabla_Mes_12[DIAS] -> 0 | F8: =IF(Tabla_Horas_12[[#This Row],[Total Horas exigidas mes]]=0,"",IF(Tabla_Horas_12[[#This Row],[HORAS MES (FICHAJES)]]>=Tabla_Horas_12[[#This Row],[Total Horas exigidas mes]],"CUMPLE","INCUMPLIMIENTO")) | G8: =+Tabla_Horas_12[[#This Row],[HORAS MES (FICHAJES)]]-Tabla_Horas_12[[#This Row],[Total Horas exigidas mes]] -> 0
B9: TECNICOS | D9: =+IFERROR(INDEX(RATIO[DEP 26],MATCH(Tabla_Horas_12[[#This Row],[CATEGORIA PROFESIONAL]],RATIO[CATEGORIA PROFESIONAL],0)),0) -> 0.41445783 | E9: =+Tabla_Horas_12[[#This Row],[horas exigidas Plaza CD]]*Tabla_Ocup_12[Total Plazas Ocupadas]*Tabla_Mes_12[DIAS] -> 0 | F9: =IF(Tabla_Horas_12[[#This Row],[Total Horas exigidas mes]]=0,"",IF(Tabla_Horas_12[[#This Row],[HORAS MES (FICHAJES)]]>=Tabla_Horas_12[[#This Row],[Total Horas exigidas mes]],"CUMPLE","INCUMPLIMIENTO")) | G9: =+Tabla_Horas_12[[#This Row],[HORAS MES (FICHAJES)]]-Tabla_Horas_12[[#This Row],[Total Horas exigidas mes]] -> 0

Sheet AÑO 2026
A1: ="Año "&Tabla_Año[] -> Año 2026 | G1: CUMPLIMIENTO
A2: MES | B2: OCUPACION EQUIVALENTE | C2: OCUPACION PLAZA TOTAL | D2: OCUPACION TIPO A | E2: OCUPACION TIPO B | G2: RATIO | H2: NOVIEMBRE | I2: DICIEMBRE | J2: TOTAL
A3: NOVIEMBRE | B3: =+Tabla_Ocup_11[Total Plazas Ocupadas Equivalentes] -> 0 | C3: =+Tabla_Ocup_11[TOTAL JORNADA COMPLETA] -> 0 | D3: =+Tabla_Ocup_11[TOTAL JORNADA TIPO A] -> 0 | E3: =+Tabla_Ocup_11[TOTAL JORNADA TIPO B] -> 0 | G3: CUIDADOR | H3: =+NOVIEMBRE!$G$8 -> 0 | I3: =+DICIEMBRE!G8 -> 0 | J3: =SUM(INCUMPLIMIENTOS[[#This Row],[NOVIEMBRE]:[DICIEMBRE]]) -> 0
A4: DICIEMBRE | B4: =+Tabla_Ocup_12[Total Plazas Ocupadas] -> 0 | C4: =+Tabla_Ocup_12[TOTAL JORNADA COMPLETA] -> 0 | D4: =+Tabla_Ocup_12[TOTAL JORNADA TIPO A] -> 0 | E4: =+Tabla_Ocup_12[TOTAL JORNADA TIPO B] -> 0 | G4: TECNICOS | H4: =+NOVIEMBRE!$G$9 -> 0 | I4: =+DICIEMBRE!G9 -> 0 | J4: =SUM(INCUMPLIMIENTOS[[#This Row],[NOVIEMBRE]:[DICIEMBRE]]) -> 0
G9: EXIGENCIAS MES
G10: RATIO | H10: NOVIEMBRE | I10: DICIEMBRE | J10: TOTAL
G11: CUIDADOR | H11: =+NOVIEMBRE!$E$8 -> 0 | I11: =+DICIEMBRE!E8 -> 0 | J11: =+SUM(EXIGENCIAS[[#This Row],[NOVIEMBRE]:[DICIEMBRE]]) -> 0
G12: TECNICOS | H12: =+NOVIEMBRE!$E$9 -> 0 | I12: =+DICIEMBRE!E9 -> 0 | J12: =+SUM(EXIGENCIAS[[#This Row],[NOVIEMBRE]:[DICIEMBRE]]) -> 0
G17: HORAS FICHAJES
G18: RATIO | H18: NOVIEMBRE | I18: DICIEMBRE | J18: TOTAL
G19: CUIDADOR | H19: =+NOVIEMBRE!$C$8 -> 0 | I19: =+DICIEMBRE!C8 -> 0 | J19: =+SUM(EXIGENCIAS10[[#This Row],[NOVIEMBRE]:[DICIEMBRE]]) -> 0
G20: TECNICOS | H20: =+NOVIEMBRE!$C$9 -> 0 | I20: =+DICIEMBRE!C9 -> 0 | J20: =+SUM(EXIGENCIAS10[[#This Row],[NOVIEMBRE]:[DICIEMBRE]]) -> 0

Sheet DATOS
A1: CATEGORIA PROFESIONAL | B1: DEP 26 | C1: DEP 27 | D1: DEP 28 | E1: DEP 29 | F1: DEP 30
A2: CUIDADOR | B2: 1.3815261 | C2: 1.3574297 | D2: 1.3453815 | E2: 1.3293173 | F2: 1.324498
A3: TECNICOS | B3: 0.41445783 | C3: 0.40722892 | D3: 0.40361446 | E3: 0.39879518 | F3: 0.3973494
A6: Año | E6: SI/NO | F6: RATIOS | G6: ASISTENCIAL | H6: MEDICINA
A7: 2026 | F7: SIN RATIO (Disposición Transitoria Tercera DF 92/2020)
E8: SI | F8: ENFERMERIA RI | G8: ASISTENCIAL | H8: MEDICINA
E9: NO | F9: ENFERMERIA RII | H9: NO
F10: ENFERMERIA RIII
