Workbook

Sheet ENERO
A1: ="Año "&Tabla_Año[] -> Año 2027
B2: Total Plazas Ocupadas | C2: Total plazas ocupadas Dependiente | D2: Plazas Ocupadas ED | E2: Total plazas ocupadas No dependiente | G2: MES | H2: DIAS
B3: =+Tabla_Ocup_01[Total plazas ocupadas Dependiente]+Tabla_Ocup_01[Plazas Ocupadas ED]*0.5*248/365+Tabla_Ocup_01[Total plazas ocupadas No dependiente] -> 0 | G3: ENERO | H3: =DAY(EOMONTH(1&"/"&Tabla_Mes_01[MES]&"/"&Tabla_Año[],0)) -> 31
B7: CATEGORIA PROFESIONAL | C7: HORAS MES (FICHAJES) | D7: horas exigidas día Dependiente | E7: horas exi. Día No dependiente | F7: Total Horas exigidas mes | G7: CUMPLIMIENTO | H7: DIF.
B8: CUIDADOR | D8: =+IFERROR(INDEX(RATIO[DEP 26],MATCH(Tabla_Horas_01[[#This Row],[CATEGORIA PROFESIONAL]],RATIO[CATEGORIA PROFESIONAL],0)),0) -> 2.2191781 | E8: =+IFERROR(INDEX(RATIO[NO DEP 26],MATCH(Tabla_Horas_01[[#This Row],[CATEGORIA PROFESIONAL]],RATIO[CATEGORIA PROFESIONAL],0)),0) -> 0.73972603 | F8: =+(Tabla_Horas_01[[#This Row],[horas exigidas día Dependiente]]*Tabla_Ocup_01[Total plazas ocupadas Dependiente]+Tabla_Horas_01[[#This Row],[horas exi. Día No dependiente]]*Tabla_Ocup_01[Total plazas ocupadas No dependiente])*Tabla_Mes_01[DIAS] -> 0 | G8: =IF(Tabla_Horas_01[[#This Row],[Total Horas exigidas mes]]=0,"",IF(Tabla_Horas_01[[#This Row],[HORAS MES (FICHAJES)]]>=Tabla_Horas_01[[#This Row],[Total Horas exigidas mes]],"CUMPLE","INCUMPLIMIENTO")) | H8: =+Tabla_Horas_01[[#This Row],[HORAS MES (FICHAJES)]]-Tabla_Horas_01[[#This Row],[Total Horas exigidas mes]] -> 0
B9: TECNICOS | D9: =+IFERROR(INDEX(RATIO[DEP 26],MATCH(Tabla_Horas_01[[#This Row],[CATEGORIA PROFESIONAL]],RATIO[CATEGORIA PROFESIONAL],0)),0) -> 0.17808219 | E9: =+IFERROR(INDEX(RATIO[NO DEP 26],MATCH(Tabla_Horas_01[[#This Row],[CATEGORIA PROFESIONAL]],RATIO[CATEGORIA PROFESIONAL],0)),0) -> 0.067123288 | F9: =+(Tabla_Horas_01[[#This Row],[horas exigidas día Dependiente]]*Tabla_Ocup_01[Total plazas ocupadas Dependiente]+Tabla_Horas_01[[#This Row],[horas exi. Día No dependiente]]*Tabla_Ocup_01[Total plazas ocupadas No dependiente])*Tabla_Mes_01[DIAS] -> 0 | G9: =IF(Tabla_Horas_01[[#This Row],[Total Horas exigidas mes]]=0,"",IF(Tabla_Horas_01[[#This Row],[HORAS MES (FICHAJES)]]>=Tabla_Horas_01[[#This Row],[Total Horas exigidas mes]],"CUMPLE","INCUMPLIMIENTO")) | H9: =+Tabla_Horas_01[[#This Row],[HORAS MES (FICHAJES)]]-Tabla_Horas_01[[#This Row],[Total Horas exigidas mes]] -> 0
D10: =+IFERROR(INDEX(RATIO[DEP 26],MATCH(Tabla_Horas_01[[#This Row],[CATEGORIA PROFESIONAL]],RATIO[CATEGORIA PROFESIONAL],0)),0) -> 0 | E10: =+IFERROR(INDEX(RATIO[NO DEP 26],MATCH(Tabla_Horas_01[[#This Row],[CATEGORIA PROFESIONAL]],RATIO[CATEGORIA PROFESIONAL],0)),0) -> 0 | F10: =+(Tabla_Horas_01[[#This Row],[horas exigidas día Dependiente]]*Tabla_Ocup_01[Total plazas ocupadas Dependiente]+Tabla_Horas_01[[#This Row],[horas exi. Día No dependiente]]*Tabla_Ocup_01[Total plazas ocupadas No dependiente])*Tabla_Mes_01[DIAS] -> 0 | G10: =IF(Tabla_Horas_01[[#This Row],[Total Horas exigidas mes]]=0,"",IF(Tabla_Horas_01[[#This Row],[HORAS MES (FICHAJES)]]>=Tabla_Horas_01[[#This Row],[Total Horas exigidas mes]],"CUMPLE","INCUMPLIMIENTO")) | H10: =+Tabla_Horas_01[[#This Row],[HORAS MES (FICHAJES)]]-Tabla_Horas_01[[#This Row],[Total Horas exigidas mes]] -> 0
D11: =+IFERROR(INDEX(RATIO[DEP 26],MATCH(Tabla_Horas_01[[#This Row],[CATEGORIA PROFESIONAL]],RATIO[CATEGORIA PROFESIONAL],0)),0) -> 0 | E11: =+IFERROR(INDEX(RATIO[NO DEP 26],MATCH(Tabla_Horas_01[[#This Row],[CATEGORIA PROFESIONAL]],RATIO[CATEGORIA PROFESIONAL],0)),0) -> 0 | F11: =+(Tabla_Horas_01[[#This Row],[horas exigidas día Dependiente]]*Tabla_Ocup_01[Total plazas ocupadas Dependiente]+Tabla_Horas_01[[#This Row],[horas exi. Día No dependiente]]*Tabla_Ocup_01[Total plazas ocupadas No dependiente])*Tabla_Mes_01[DIAS] -> 0 | G11: =IF(Tabla_Horas_01[[#This Row],[Total Horas exigidas mes]]=0,"",IF(Tabla_Horas_01[[#This Row],[HORAS MES (FICHAJES)]]>=Tabla_Horas_01[[#This Row],[Total Horas exigidas mes]],"CUMPLE","INCUMPLIMIENTO")) | H11: =+Tabla_Horas_01[[#This Row],[HORAS MES (FICHAJES)]]-Tabla_Horas_01[[#This Row],[Total Horas exigidas mes]] -> 0

Sheet FEBRERO
A1: ="Año "&Tabla_Año[] -> Año 2027
B2: Total Plazas Ocupadas | C2: Total plazas ocupadas Dependiente | D2: Plazas Ocupadas ED | E2: Total plazas ocupadas No dependiente | G2: MES | H2: DIAS
B3: =Tabla_Ocup_02[Total plazas ocupadas Dependiente]+Tabla_Ocup_02[Plazas Ocupadas ED]*0.5*248/365+Tabla_Ocup_02[Total plazas ocupadas No dependiente] -> 0 | G3: FEBRERO | H3: =DAY(EOMONTH(1&"/"&Tabla_Mes_02[MES]&"/"&Tabla_Año[],0)) -> 28
B7: CATEGORIA PROFESIONAL | C7: HORAS MES (FICHAJES) | D7: horas exigidas día Dependiente | E7: horas exi. Día No dependiente | F7: Total Horas exigidas mes | G7: CUMPLIMIENTO | H7: DIF.
B8: CUIDADOR | D8: =+IFERROR(INDEX(RATIO[DEP 26],MATCH(Tabla_Horas_02[[#This Row],[CATEGORIA PROFESIONAL]],RATIO[CATEGORIA PROFESIONAL],0)),0) -> 2.2191781 | E8: =+IFERROR(INDEX(RATIO[NO DEP 26],MATCH(Tabla_Horas_02[[#This Row],[CATEGORIA PROFESIONAL]],RATIO[CATEGORIA PROFESIONAL],0)),0) -> 0.73972603 | F8: =+(Tabla_Horas_02[[#This Row],[horas exigidas día Dependiente]]*Tabla_Ocup_02[Total plazas ocupadas Dependiente]+Tabla_Horas_02[[#This Row],[horas exi. Día No dependiente]]*Tabla_Ocup_02[Total plazas ocupadas No dependiente])*Tabla_Mes_02[DIAS] -> 0 | G8: =IF(Tabla_Horas_02[[#This Row],[Total Horas exigidas mes]]=0,"",IF(Tabla_Horas_02[[#This Row],[HORAS MES (FICHAJES)]]>=Tabla_Horas_02[[#This Row],[Total Horas exigidas mes]],"CUMPLE","INCUMPLIMIENTO")) | H8: =+Tabla_Horas_02[[#This Row],[HORAS MES (FICHAJES)]]-Tabla_Horas_02[[#This Row],[Total Horas exigidas mes]] -> 0
B9: TECNICOS | D9: =+IFERROR(INDEX(RATIO[DEP 26],MATCH(Tabla_Horas_02[[#This Row],[CATEGORIA PROFESIONAL]],RATIO[CATEGORIA PROFESIONAL],0)),0) -> 0.17808219 | E9: =+IFERROR(INDEX(RATIO[NO DEP 26],MATCH(Tabla_Horas_02[[#This Row],[CATEGORIA PROFESIONAL]],RATIO[CATEGORIA PROFESIONAL],0)),0) -> 0.067123288 | F9: =+(Tabla_Horas_02[[#This Row],[horas exigidas día Dependiente]]*Tabla_Ocup_02[Total plazas ocupadas Dependiente]+Tabla_Horas_02[[#This Row],[horas exi. Día No dependiente]]*Tabla_Ocup_02[Total plazas ocupadas No dependiente])*Tabla_Mes_02[DIAS] -> 0 | G9: =IF(Tabla_Horas_02[[#This Row],[Total Horas exigidas mes]]=0,"",IF(Tabla_Horas_02[[#This Row],[HORAS MES (FICHAJES)]]>=Tabla_Horas_02[[#This Row],[Total Horas exigidas mes]],"CUMPLE","INCUMPLIMIENTO")) | H9: =+Tabla_Horas_02[[#This Row],[HORAS MES (FICHAJES)]]-Tabla_Horas_02[[#This Row],[Total Horas exigidas mes]] -> 0
D10: =+IFERROR(INDEX(RATIO[DEP 26],MATCH(Tabla_Horas_02[[#This Row],[CATEGORIA PROFESIONAL]],RATIO[CATEGORIA PROFESIONAL],0)),0) -> 0 | E10: =+IFERROR(INDEX(RATIO[NO DEP 26],MATCH(Tabla_Horas_02[[#This Row],[CATEGORIA PROFESIONAL]],RATIO[CATEGORIA PROFESIONAL],0)),0) -> 0 | F10: =+(Tabla_Horas_02[[#This Row],[horas exigidas día Dependiente]]*Tabla_Ocup_02[Total plazas ocupadas Dependiente]+Tabla_Horas_02[[#This Row],[horas exi. Día No dependiente]]*Tabla_Ocup_02[Total plazas ocupadas No dependiente])*Tabla_Mes_02[DIAS] -> 0 | G10: =IF(Tabla_Horas_02[[#This Row],[Total Horas exigidas mes]]=0,"",IF(Tabla_Horas_02[[#This Row],[HORAS MES (FICHAJES)]]>=Tabla_Horas_02[[#This Row],[Total Horas exigidas mes]],"CUMPLE","INCUMPLIMIENTO")) | H10: =+Tabla_Horas_02[[#This Row],[HORAS MES (FICHAJES)]]-Tabla_Horas_02[[#This Row],[Total Horas exigidas mes]] -> 0
D11: =+IFERROR(INDEX(RATIO[DEP 26],MATCH(Tabla_Horas_02[[#This Row],[CATEGORIA PROFESIONAL]],RATIO[CATEGORIA PROFESIONAL],0)),0) -> 0 | E11: =+IFERROR(INDEX(RATIO[NO DEP 26],MATCH(Tabla_Horas_02[[#This Row],[CATEGORIA PROFESIONAL]],RATIO[CATEGORIA PROFESIONAL],0)),0) -> 0 | F11: =+(Tabla_Horas_02[[#This Row],[horas exigidas día Dependiente]]*Tabla_Ocup_02[Total plazas ocupadas Dependiente]+Tabla_Horas_02[[#This Row],[horas exi. Día No dependiente]]*Tabla_Ocup_02[Total plazas ocupadas No dependiente])*Tabla_Mes_02[DIAS] -> 0 | G11: =IF(Tabla_Horas_02[[#This Row],[Total Horas exigidas mes]]=0,"",IF(Tabla_Horas_02[[#This Row],[HORAS MES (FICHAJES)]]>=Tabla_Horas_02[[#This Row],[Total Horas exigidas mes]],"CUMPLE","INCUMPLIMIENTO")) | H11: =+Tabla_Horas_02[[#This Row],[HORAS MES (FICHAJES)]]-Tabla_Horas_02[[#This Row],[Total Horas exigidas mes]] -> 0

Sheet MARZO
A1: ="Año "&Tabla_Año[] -> Año 2027
B2: Total Plazas Ocupadas | C2: Total plazas ocupadas Dependiente | D2: Plazas Ocupadas ED | E2: Total plazas ocupadas No dependiente | G2: MES | H2: DIAS
B3: =Tabla_Ocup_03[Total plazas ocupadas Dependiente]+Tabla_Ocup_03[Plazas Ocupadas ED]*0.5*248/365+Tabla_Ocup_03[Total plazas ocupadas No dependiente] -> 0 | G3: MARZO | H3: =DAY(EOMONTH(1&"/"&Tabla_Mes_03[MES]&"/"&Tabla_Año[],0)) -> 31
B7: CATEGORIA PROFESIONAL | C7: HORAS MES (FICHAJES) | D7: horas exigidas día Dependiente | E7: horas exi. Día No dependiente | F7: Total Horas exigidas mes | G7: CUMPLIMIENTO | H7: DIF.
B8: CUIDADOR | D8: =+IFERROR(INDEX(RATIO[DEP 26],MATCH(Tabla_Horas_03[[#This Row],[CATEGORIA PROFESIONAL]],RATIO[CATEGORIA PROFESIONAL],0)),0) -> 2.2191781 | E8: =+IFERROR(INDEX(RATIO[NO DEP 26],MATCH(Tabla_Horas_03[[#This Row],[CATEGORIA PROFESIONAL]],RATIO[CATEGORIA PROFESIONAL],0)),0) -> 0.73972603 | F8: =+(Tabla_Horas_03[[#This Row],[horas exigidas día Dependiente]]*Tabla_Ocup_03[Total plazas ocupadas Dependiente]+Tabla_Horas_03[[#This Row],[horas exi. Día No dependiente]]*Tabla_Ocup_03[Total plazas ocupadas No dependiente])*Tabla_Mes_03[DIAS] -> 0 | G8: =IF(Tabla_Horas_03[[#This Row],[Total Horas exigidas mes]]=0,"",IF(Tabla_Horas_03[[#This Row],[HORAS MES (FICHAJES)]]>=Tabla_Horas_03[[#This Row],[Total Horas exigidas mes]],"CUMPLE","INCUMPLIMIENTO")) | H8: =+Tabla_Horas_03[[#This Row],[HORAS MES (FICHAJES)]]-Tabla_Horas_03[[#This Row],[Total Horas exigidas mes]] -> 0
B9: TECNICOS | D9: =+IFERROR(INDEX(RATIO[DEP 26],MATCH(Tabla_Horas_03[[#This Row],[CATEGORIA PROFESIONAL]],RATIO[CATEGORIA PROFESIONAL],0)),0) -> 0.17808219 | E9: =+IFERROR(INDEX(RATIO[NO DEP 26],MATCH(Tabla_Horas_03[[#This Row],[CATEGORIA PROFESIONAL]],RATIO[CATEGORIA PROFESIONAL],0)),0) -> 0.067123288 | F9: =+(Tabla_Horas_03[[#This Row],[horas exigidas día Dependiente]]*Tabla_Ocup_03[Total plazas ocupadas Dependiente]+Tabla_Horas_03[[#This Row],[horas exi. Día No dependiente]]*Tabla_Ocup_03[Total plazas ocupadas No dependiente])*Tabla_Mes_03[DIAS] -> 0 | G9: =IF(Tabla_Horas_03[[#This Row],[Total Horas exigidas mes]]=0,"",IF(Tabla_Horas_03[[#This Row],[HORAS MES (FICHAJES)]]>=Tabla_Horas_03[[#This Row],[Total Horas exigidas mes]],"CUMPLE","INCUMPLIMIENTO")) | H9: =+Tabla_Horas_03[[#This Row],[HORAS MES (FICHAJES)]]-Tabla_Horas_03[[#This Row],[Total Horas exigidas mes]] -> 0
D10: =+IFERROR(INDEX(RATIO[DEP 26],MATCH(Tabla_Horas_03[[#This Row],[CATEGORIA PROFESIONAL]],RATIO[CATEGORIA PROFESIONAL],0)),0) -> 0 | E10: =+IFERROR(INDEX(RATIO[NO DEP 26],MATCH(Tabla_Horas_03[[#This Row],[CATEGORIA PROFESIONAL]],RATIO[CATEGORIA PROFESIONAL],0)),0) -> 0 | F10: =+(Tabla_Horas_03[[#This Row],[horas exigidas día Dependiente]]*Tabla_Ocup_03[Total plazas ocupadas Dependiente]+Tabla_Horas_03[[#This Row],[horas exi. Día No dependiente]]*Tabla_Ocup_03[Total plazas ocupadas No dependiente])*Tabla_Mes_03[DIAS] -> 0 | G10: =IF(Tabla_Horas_03[[#This Row],[Total Horas exigidas mes]]=0,"",IF(Tabla_Horas_03[[#This Row],[HORAS MES (FICHAJES)]]>=Tabla_Horas_03[[#This Row],[Total Horas exigidas mes]],"CUMPLE","INCUMPLIMIENTO")) | H10: =+Tabla_Horas_03[[#This Row],[HORAS MES (FICHAJES)]]-Tabla_Horas_03[[#This Row],[Total Horas exigidas mes]] -> 0
D11: =+IFERROR(INDEX(RATIO[DEP 26],MATCH(Tabla_Horas_03[[#This Row],[CATEGORIA PROFESIONAL]],RATIO[CATEGORIA PROFESIONAL],0)),0) -> 0 | E11: =+IFERROR(INDEX(RATIO[NO DEP 26],MATCH(Tabla_Horas_03[[#This Row],[CATEGORIA PROFESIONAL]],RATIO[CATEGORIA PROFESIONAL],0)),0) -> 0 | F11: =+(Tabla_Horas_03[[#This Row],[horas exigidas día Dependiente]]*Tabla_Ocup_03[Total plazas ocupadas Dependiente]+Tabla_Horas_03[[#This Row],[horas exi. Día No dependiente]]*Tabla_Ocup_03[Total plazas ocupadas No dependiente])*Tabla_Mes_03[DIAS] -> 0 | G11: =IF(Tabla_Horas_03[[#This Row],[Total Horas exigidas mes]]=0,"",IF(Tabla_Horas_03[[#This Row],[HORAS MES (FICHAJES)]]>=Tabla_Horas_03[[#This Row],[Total Horas exigidas mes]],"CUMPLE","INCUMPLIMIENTO")) | H11: =+Tabla_Horas_03[[#This Row],[HORAS MES (FICHAJES)]]-Tabla_Horas_03[[#This Row],[Total Horas exigidas mes]] -> 0

Sheet ABRIL
A1: ="Año "&Tabla_Año[] -> Año 2027
B2: Total Plazas Ocupadas | C2: Total plazas ocupadas Dependiente | D2: Plazas Ocupadas ED | E2: Total plazas ocupadas No dependiente | G2: MES | H2: DIAS
B3: =Tabla_Ocup_04[Total plazas ocupadas Dependiente]+Tabla_Ocup_04[Plazas Ocupadas ED]*0.5*248/365+Tabla_Ocup_04[Total plazas ocupadas No dependiente] -> 0 | G3: ABRIL | H3: =DAY(EOMONTH(1&"/"&Tabla_Mes_04[MES]&"/"&Tabla_Año[],0)) -> 30
B7: CATEGORIA PROFESIONAL | C7: HORAS MES (FICHAJES) | D7: horas exigidas día Dependiente | E7: horas exi. Día No dependiente | F7: Total Horas exigidas mes | G7: CUMPLIMIENTO | H7: DIF.
B8: CUIDADOR | D8: =+IFERROR(INDEX(RATIO[DEP 26],MATCH(Tabla_Horas_04[[#This Row],[CATEGORIA PROFESIONAL]],RATIO[CATEGORIA PROFESIONAL],0)),0) -> 2.2191781 | E8: =+IFERROR(INDEX(RATIO[NO DEP 26],MATCH(Tabla_Horas_04[[#This Row],[CATEGORIA PROFESIONAL]],RATIO[CATEGORIA PROFESIONAL],0)),0) -> 0.73972603 | F8: =+(Tabla_Horas_04[[#This Row],[horas exigidas día Dependiente]]*Tabla_Ocup_04[Total plazas ocupadas Dependiente]+Tabla_Horas_04[[#This Row],[horas exi. Día No dependiente]]*Tabla_Ocup_04[Total plazas ocupadas No dependiente])*Tabla_Mes_04[DIAS] -> 0 | G8: =IF(Tabla_Horas_04[[#This Row],[Total Horas exigidas mes]]=0,"",IF(Tabla_Horas_04[[#This Row],[HORAS MES (FICHAJES)]]>=Tabla_Horas_04[[#This Row],[Total Horas exigidas mes]],"CUMPLE","INCUMPLIMIENTO")) | H8: =+Tabla_Horas_04[[#This Row],[HORAS MES (FICHAJES)]]-Tabla_Horas_04[[#This Row],[Total Horas exigidas mes]] -> 0
B9: TECNICOS | D9: =+IFERROR(INDEX(RATIO[DEP 26],MATCH(Tabla_Horas_04[[#This Row],[CATEGORIA PROFESIONAL]],RATIO[CATEGORIA PROFESIONAL],0)),0) -> 0.17808219 | E9: =+IFERROR(INDEX(RATIO[NO DEP 26],MATCH(Tabla_Horas_04[[#This Row],[CATEGORIA PROFESIONAL]],RATIO[CATEGORIA PROFESIONAL],0)),0) -> 0.067123288 | F9: =+(Tabla_Horas_04[[#This Row],[horas exigidas día Dependiente]]*Tabla_Ocup_04[Total plazas ocupadas Dependiente]+Tabla_Horas_04[[#This Row],[horas exi. Día No dependiente]]*Tabla_Ocup_04[Total plazas ocupadas No dependiente])*Tabla_Mes_04[DIAS] -> 0 | G9: =IF(Tabla_Horas_04[[#This Row],[Total Horas exigidas mes]]=0,"",IF(Tabla_Horas_04[[#This Row],[HORAS MES (FICHAJES)]]>=Tabla_Horas_04[[#This Row],[Total Horas exigidas mes]],"CUMPLE","INCUMPLIMIENTO")) | H9: =+Tabla_Horas_04[[#This Row],[HORAS MES (FICHAJES)]]-Tabla_Horas_04[[#This Row],[Total Horas exigidas mes]] -> 0
D10: =+IFERROR(INDEX(RATIO[DEP 26],MATCH(Tabla_Horas_04[[#This Row],[CATEGORIA PROFESIONAL]],RATIO[CATEGORIA PROFESIONAL],0)),0) -> 0 | E10: =+IFERROR(INDEX(RATIO[NO DEP 26],MATCH(Tabla_Horas_04[[#This Row],[CATEGORIA PROFESIONAL]],RATIO[CATEGORIA PROFESIONAL],0)),0) -> 0 | F10: =+(Tabla_Horas_04[[#This Row],[horas exigidas día Dependiente]]*Tabla_Ocup_04[Total plazas ocupadas Dependiente]+Tabla_Horas_04[[#This Row],[horas exi. Día No dependiente]]*Tabla_Ocup_04[Total plazas ocupadas No dependiente])*Tabla_Mes_04[DIAS] -> 0 | G10: =IF(Tabla_Horas_04[[#This Row],[Total Horas exigidas mes]]=0,"",IF(Tabla_Horas_04[[#This Row],[HORAS MES (FICHAJES)]]>=Tabla_Horas_04[[#This Row],[Total Horas exigidas mes]],"CUMPLE","INCUMPLIMIENTO")) | H10: =+Tabla_Horas_04[[#This Row],[HORAS MES (FICHAJES)]]-Tabla_Horas_04[[#This Row],[Total Horas exigidas mes]] -> 0
D11: =+IFERROR(INDEX(RATIO[DEP 26],MATCH(Tabla_Horas_04[[#This Row],[CATEGORIA PROFESIONAL]],RATIO[CATEGORIA PROFESIONAL],0)),0) -> 0 | E11: =+IFERROR(INDEX(RATIO[NO DEP 26],MATCH(Tabla_Horas_04[[#This Row],[CATEGORIA PROFESIONAL]],RATIO[CATEGORIA PROFESIONAL],0)),0) -> 0 | F11: =+(Tabla_Horas_04[[#This Row],[horas exigidas día Dependiente]]*Tabla_Ocup_04[Total plazas ocupadas Dependiente]+Tabla_Horas_04[[#This Row],[horas exi. Día No dependiente]]*Tabla_Ocup_04[Total plazas ocupadas No dependiente])*Tabla_Mes_04[DIAS] -> 0 | G11: =IF(Tabla_Horas_04[[#This Row],[Total Horas exigidas mes]]=0,"",IF(Tabla_Horas_04[[#This Row],[HORAS MES (FICHAJES)]]>=Tabla_Horas_04[[#This Row],[Total Horas exigidas mes]],"CUMPLE","INCUMPLIMIENTO")) | H11: =+Tabla_Horas_04[[#This Row],[HORAS MES (FICHAJES)]]-Tabla_Horas_04[[#This Row],[Total Horas exigidas mes]] -> 0

Sheet MAYO
A1: ="Año "&Tabla_Año[] -> Año 2027
B2: Total Plazas Ocupadas | C2: Total plazas ocupadas Dependiente | D2: Plazas Ocupadas ED | E2: Total plazas ocupadas No dependiente | G2: MES | H2: DIAS
B3: =Tabla_Ocup_05[Total plazas ocupadas Dependiente]+Tabla_Ocup_05[Plazas Ocupadas ED]*0.5*248/365+Tabla_Ocup_05[Total plazas ocupadas No dependiente] -> 0 | G3: MAYO | H3: =DAY(EOMONTH(1&"/"&Tabla_Mes_05[MES]&"/"&Tabla_Año[],0)) -> 31
B7: CATEGORIA PROFESIONAL | C7: HORAS MES (FICHAJES) | D7: horas exigidas día Dependiente | E7: horas exi. Día No dependiente | F7: Total Horas exigidas mes | G7: CUMPLIMIENTO | H7: DIF.
B8: CUIDADOR | D8: =+IFERROR(INDEX(RATIO[DEP 26],MATCH(Tabla_Horas_05[[#This Row],[CATEGORIA PROFESIONAL]],RATIO[CATEGORIA PROFESIONAL],0)),0) -> 2.2191781 | E8: =+IFERROR(INDEX(RATIO[NO DEP 26],MATCH(Tabla_Horas_05[[#This Row],[CATEGORIA PROFESIONAL]],RATIO[CATEGORIA PROFESIONAL],0)),0) -> 0.73972603 | F8: =+(Tabla_Horas_05[[#This Row],[horas exigidas día Dependiente]]*Tabla_Ocup_05[Total plazas ocupadas Dependiente]+Tabla_Horas_05[[#This Row],[horas exi. Día No dependiente]]*Tabla_Ocup_05[Total plazas ocupadas No dependiente])*Tabla_Mes_05[DIAS] -> 0 | G8: =IF(Tabla_Horas_05[[#This Row],[Total Horas exigidas mes]]=0,"",IF(Tabla_Horas_05[[#This Row],[HORAS MES (FICHAJES)]]>=Tabla_Horas_05[[#This Row],[Total Horas exigidas mes]],"CUMPLE","INCUMPLIMIENTO")) | H8: =+Tabla_Horas_05[[#This Row],[HORAS MES (FICHAJES)]]-Tabla_Horas_05[[#This Row],[Total Horas exigidas mes]] -> 0
B9: TECNICOS | D9: =+IFERROR(INDEX(RATIO[DEP 26],MATCH(Tabla_Horas_05[[#This Row],[CATEGORIA PROFESIONAL]],RATIO[CATEGORIA PROFESIONAL],0)),0) -> 0.17808219 | E9: =+IFERROR(INDEX(RATIO[NO DEP 26],MATCH(Tabla_Horas_05[[#This Row],[CATEGORIA PROFESIONAL]],RATIO[CATEGORIA PROFESIONAL],0)),0) -> 0.067123288 | F9: =+(Tabla_Horas_05[[#This Row],[horas exigidas día Dependiente]]*Tabla_Ocup_05[Total plazas ocupadas Dependiente]+Tabla_Horas_05[[#This Row],[horas exi. Día No dependiente]]*Tabla_Ocup_05[Total plazas ocupadas No dependiente])*Tabla_Mes_05[DIAS] -> 0 | G9: =IF(Tabla_Horas_05[[#This Row],[Total Horas exigidas mes]]=0,"",IF(Tabla_Horas_05[[#This Row],[HORAS MES (FICHAJES)]]>=Tabla_Horas_05[[#This Row],[Total Horas exigidas mes]],"CUMPLE","INCUMPLIMIENTO")) | H9: =+Tabla_Horas_05[[#This Row],[HORAS MES (FICHAJES)]]-Tabla_Horas_05[[#This Row],[Total Horas exigidas mes]] -> 0
D10: =+IFERROR(INDEX(RATIO[DEP 26],MATCH(Tabla_Horas_05[[#This Row],[CATEGORIA PROFESIONAL]],RATIO[CATEGORIA PROFESIONAL],0)),0) -> 0 | E10: =+IFERROR(INDEX(RATIO[NO DEP 26],MATCH(Tabla_Horas_05[[#This Row],[CATEGORIA PROFESIONAL]],RATIO[CATEGORIA PROFESIONAL],0)),0) -> 0 | F10: =+(Tabla_Horas_05[[#This Row],[horas exigidas día Dependiente]]*Tabla_Ocup_05[Total plazas ocupadas Dependiente]+Tabla_Horas_05[[#This Row],[horas exi. Día No dependiente]]*Tabla_Ocup_05[Total plazas ocupadas No dependiente])*Tabla_Mes_05[DIAS] -> 0 | G10: =IF(Tabla_Horas_05[[#This Row],[Total Horas exigidas mes]]=0,"",IF(Tabla_Horas_05[[#This Row],[HORAS MES (FICHAJES)]]>=Tabla_Horas_05[[#This Row],[Total Horas exigidas mes]],"CUMPLE","INCUMPLIMIENTO")) | H10: =+Tabla_Horas_05[[#This Row],[HORAS MES (FICHAJES)]]-Tabla_Horas_05[[#This Row],[Total Horas exigidas mes]] -> 0
D11: =+IFERROR(INDEX(RATIO[DEP 26],MATCH(Tabla_Horas_05[[#This Row],[CATEGORIA PROFESIONAL]],RATIO[CATEGORIA PROFESIONAL],0)),0) -> 0 | E11: =+IFERROR(INDEX(RATIO[NO DEP 26],MATCH(Tabla_Horas_05[[#This Row],[CATEGORIA PROFESIONAL]],RATIO[CATEGORIA PROFESIONAL],0)),0) -> 0 | F11: =+(Tabla_Horas_05[[#This Row],[horas exigidas día Dependiente]]*Tabla_Ocup_05[Total plazas ocupadas Dependiente]+Tabla_Horas_05[[#This Row],[horas exi. Día No dependiente]]*Tabla_Ocup_05[Total plazas ocupadas No dependiente])*Tabla_Mes_05[DIAS] -> 0 | G11: =IF(Tabla_Horas_05[[#This Row],[Total Horas exigidas mes]]=0,"",IF(Tabla_Horas_05[[#This Row],[HORAS MES (FICHAJES)]]>=Tabla_Horas_05[[#This Row],[Total Horas exigidas mes]],"CUMPLE","INCUMPLIMIENTO")) | H11: =+Tabla_Horas_05[[#This Row],[HORAS MES (FICHAJES)]]-Tabla_Horas_05[[#This Row],[Total Horas exigidas mes]] -> 0

Sheet JUNIO
A1: ="Año "&Tabla_Año[] -> Año 2027
B2: Total Plazas Ocupadas | C2: Total plazas ocupadas Dependiente | D2: Plazas Ocupadas ED | E2: Total plazas ocupadas No dependiente | G2: MES | H2: DIAS
B3: =Tabla_Ocup_06[Total plazas ocupadas Dependiente]+Tabla_Ocup_06[Plazas Ocupadas ED]*0.5*248/365+Tabla_Ocup_06[Total plazas ocupadas No dependiente] -> 0 | G3: JUNIO | H3: =DAY(EOMONTH(1&"/"&Tabla_Mes_06[MES]&"/"&Tabla_Año[],0)) -> 30
B7: CATEGORIA PROFESIONAL | C7: HORAS MES (FICHAJES) | D7: horas exigidas día Dependiente | E7: horas exi. Día No dependiente | F7: Total Horas exigidas mes | G7: CUMPLIMIENTO | H7: DIF.
B8: CUIDADOR | D8: =+IFERROR(INDEX(RATIO[DEP 26],MATCH(Tabla_Horas_06[[#This Row],[CATEGORIA PROFESIONAL]],RATIO[CATEGORIA PROFESIONAL],0)),0) -> 2.2191781 | E8: =+IFERROR(INDEX(RATIO[NO DEP 26],MATCH(Tabla_Horas_06[[#This Row],[CATEGORIA PROFESIONAL]],RATIO[CATEGORIA PROFESIONAL],0)),0) -> 0.73972603 | F8: =+(Tabla_Horas_06[[#This Row],[horas exigidas día Dependiente]]*Tabla_Ocup_06[Total plazas ocupadas Dependiente]+Tabla_Horas_06[[#This Row],[horas exi. Día No dependiente]]*Tabla_Ocup_06[Total plazas ocupadas No dependiente])*Tabla_Mes_06[DIAS] -> 0 | G8: =IF(Tabla_Horas_06[[#This Row],[Total Horas exigidas mes]]=0,"",IF(Tabla_Horas_06[[#This Row],[HORAS MES (FICHAJES)]]>=Tabla_Horas_06[[#This Row],[Total Horas exigidas mes]],"CUMPLE","INCUMPLIMIENTO")) | H8: =+Tabla_Horas_06[[#This Row],[HORAS MES (FICHAJES)]]-Tabla_Horas_06[[#This Row],[Total Horas exigidas mes]] -> 0
B9: TECNICOS | D9: =+IFERROR(INDEX(RATIO[DEP 26],MATCH(Tabla_Horas_06[[#This Row],[CATEGORIA PROFESIONAL]],RATIO[CATEGORIA PROFESIONAL],0)),0) -> 0.17808219 | E9: =+IFERROR(INDEX(RATIO[NO DEP 26],MATCH(Tabla_Horas_06[[#This Row],[CATEGORIA PROFESIONAL]],RATIO[CATEGORIA PROFESIONAL],0)),0) -> 0.067123288 | F9: =+(Tabla_Horas_06[[#This Row],[horas exigidas día Dependiente]]*Tabla_Ocup_06[Total plazas ocupadas Dependiente]+Tabla_Horas_06[[#This Row],[horas exi. Día No dependiente]]*Tabla_Ocup_06[Total plazas ocupadas No dependiente])*Tabla_Mes_06[DIAS] -> 0 | G9: =IF(Tabla_Horas_06[[#This Row],[Total Horas exigidas mes]]=0,"",IF(Tabla_Horas_06[[#This Row],[HORAS MES (FICHAJES)]]>=Tabla_Horas_06[[#This Row],[Total Horas exigidas mes]],"CUMPLE","INCUMPLIMIENTO")) | H9: =+Tabla_Horas_06[[#This Row],[HORAS MES (FICHAJES)]]-Tabla_Horas_06[[#This Row],[Total Horas exigidas mes]] -> 0
D10: =+IFERROR(INDEX(RATIO[DEP 26],MATCH(Tabla_Horas_06[[#This Row],[CATEGORIA PROFESIONAL]],RATIO[CATEGORIA PROFESIONAL],0)),0) -> 0 | E10: =+IFERROR(INDEX(RATIO[NO DEP 26],MATCH(Tabla_Horas_06[[#This Row],[CATEGORIA PROFESIONAL]],RATIO[CATEGORIA PROFESIONAL],0)),0) -> 0 | F10: =+(Tabla_Horas_06[[#This Row],[horas exigidas día Dependiente]]*Tabla_Ocup_06[Total plazas ocupadas Dependiente]+Tabla_Horas_06[[#This Row],[horas exi. Día No dependiente]]*Tabla_Ocup_06[Total plazas ocupadas No dependiente])*Tabla_Mes_06[DIAS] -> 0 | G10: =IF(Tabla_Horas_06[[#This Row],[Total Horas exigidas mes]]=0,"",IF(Tabla_Horas_06[[#This Row],[HORAS MES (FICHAJES)]]>=Tabla_Horas_06[[#This Row],[Total Horas exigidas mes]],"CUMPLE","INCUMPLIMIENTO")) | H10: =+Tabla_Horas_06[[#This Row],[HORAS MES (FICHAJES)]]-Tabla_Horas_06[[#This Row],[Total Horas exigidas mes]] -> 0
D11: =+IFERROR(INDEX(RATIO[DEP 26],MATCH(Tabla_Horas_06[[#This Row],[CATEGORIA PROFESIONAL]],RATIO[CATEGORIA PROFESIONAL],0)),0) -> 0 | E11: =+IFERROR(INDEX(RATIO[NO DEP 26],MATCH(Tabla_Horas_06[[#This Row],[CATEGORIA PROFESIONAL]],RATIO[CATEGORIA PROFESIONAL],0)),0) -> 0 | F11: =+(Tabla_Horas_06[[#This Row],[horas exigidas día Dependiente]]*Tabla_Ocup_06[Total plazas ocupadas Dependiente]+Tabla_Horas_06[[#This Row],[horas exi. Día No dependiente]]*Tabla_Ocup_06[Total plazas ocupadas No dependiente])*Tabla_Mes_06[DIAS] -> 0 | G11: =IF(Tabla_Horas_06[[#This Row],[Total Horas exigidas mes]]=0,"",IF(Tabla_Horas_06[[#This Row],[HORAS MES (FICHAJES)]]>=Tabla_Horas_06[[#This Row],[Total Horas exigidas mes]],"CUMPLE","INCUMPLIMIENTO")) | H11: =+Tabla_Horas_06[[#This Row],[HORAS MES (FICHAJES)]]-Tabla_Horas_06[[#This Row],[Total Horas exigidas mes]] -> 0

Sheet JULIO
A1: ="Año "&Tabla_Año[] -> Año 2027
B2: Total Plazas Ocupadas | C2: Total plazas ocupadas Dependiente | D2: Plazas Ocupadas ED | E2: Total plazas ocupadas No dependiente | G2: MES | H2: DIAS
B3: =Tabla_Ocup_07[Total plazas ocupadas Dependiente]+Tabla_Ocup_07[Plazas Ocupadas ED]*0.5*248/365+Tabla_Ocup_07[Total plazas ocupadas No dependiente] -> 0 | G3: JULIO | H3: =DAY(EOMONTH(1&"/"&Tabla_Mes_07[MES]&"/"&Tabla_Año[],0)) -> 31
B7: CATEGORIA PROFESIONAL | C7: HORAS MES (FICHAJES) | D7: horas exigidas día Dependiente | E7: horas exi. Día No dependiente | F7: Total Horas exigidas mes | G7: CUMPLIMIENTO | H7: DIF.
B8: CUIDADOR | D8: =+IFERROR(INDEX(RATIO[DEP 26],MATCH(Tabla_Horas_07[[#This Row],[CATEGORIA PROFESIONAL]],RATIO[CATEGORIA PROFESIONAL],0)),0) -> 2.2191781 | E8: =+IFERROR(INDEX(RATIO[NO DEP 26],MATCH(Tabla_Horas_07[[#This Row],[CATEGORIA PROFESIONAL]],RATIO[CATEGORIA PROFESIONAL],0)),0) -> 0.73972603 | F8: =+(Tabla_Horas_07[[#This Row],[horas exigidas día Dependiente]]*Tabla_Ocup_07[Total plazas ocupadas Dependiente]+Tabla_Horas_07[[#This Row],[horas exi. Día No dependiente]]*Tabla_Ocup_07[Total plazas ocupadas No dependiente])*Tabla_Mes_07[DIAS] -> 0 | G8: =IF(Tabla_Horas_07[[#This Row],[Total Horas exigidas mes]]=0,"",IF(Tabla_Horas_07[[#This Row],[HORAS MES (FICHAJES)]]>=Tabla_Horas_07[[#This Row],[Total Horas exigidas mes]],"CUMPLE","INCUMPLIMIENTO")) | H8: =+Tabla_Horas_07[[#This Row],[HORAS MES (FICHAJES)]]-Tabla_Horas_07[[#This Row],[Total Horas exigidas mes]] -> 0
B9: TECNICOS | D9: =+IFERROR(INDEX(RATIO[DEP 26],MATCH(Tabla_Horas_07[[#This Row],[CATEGORIA PROFESIONAL]],RATIO[CATEGORIA PROFESIONAL],0)),0) -> 0.17808219 | E9: =+IFERROR(INDEX(RATIO[NO DEP 26],MATCH(Tabla_Horas_07[[#This Row],[CATEGORIA PROFESIONAL]],RATIO[CATEGORIA PROFESIONAL],0)),0) -> 0.067123288 | F9: =+(Tabla_Horas_07[[#This Row],[horas exigidas día Dependiente]]*Tabla_Ocup_07[Total plazas ocupadas Dependiente]+Tabla_Horas_07[[#This Row],[horas exi. Día No dependiente]]*Tabla_Ocup_07[Total plazas ocupadas No dependiente])*Tabla_Mes_07[DIAS] -> 0 | G9: =IF(Tabla_Horas_07[[#This Row],[Total Horas exigidas mes]]=0,"",IF(Tabla_Horas_07[[#This Row],[HORAS MES (FICHAJES)]]>=Tabla_Horas_07[[#This Row],[Total Horas exigidas mes]],"CUMPLE","INCUMPLIMIENTO")) | H9: =+Tabla_Horas_07[[#This Row],[HORAS MES (FICHAJES)]]-Tabla_Horas_07[[#This Row],[Total Horas exigidas mes]] -> 0
D10: =+IFERROR(INDEX(RATIO[DEP 26],MATCH(Tabla_Horas_07[[#This Row],[CATEGORIA PROFESIONAL]],RATIO[CATEGORIA PROFESIONAL],0)),0) -> 0 | E10: =+IFERROR(INDEX(RATIO[NO DEP 26],MATCH(Tabla_Horas_07[[#This Row],[CATEGORIA PROFESIONAL]],RATIO[CATEGORIA PROFESIONAL],0)),0) -> 0 | F10: =+(Tabla_Horas_07[[#This Row],[horas exigidas día Dependiente]]*Tabla_Ocup_07[Total plazas ocupadas Dependiente]+Tabla_Horas_07[[#This Row],[horas exi. Día No dependiente]]*Tabla_Ocup_07[Total plazas ocupadas No dependiente])*Tabla_Mes_07[DIAS] -> 0 | G10: =IF(Tabla_Horas_07[[#This Row],[Total Horas exigidas mes]]=0,"",IF(Tabla_Horas_07[[#This Row],[HORAS MES (FICHAJES)]]>=Tabla_Horas_07[[#This Row],[Total Horas exigidas mes]],"CUMPLE","INCUMPLIMIENTO")) | H10: =+Tabla_Horas_07[[#This Row],[HORAS MES (FICHAJES)]]-Tabla_Horas_07[[#This Row],[Total Horas exigidas mes]] -> 0
D11: =+IFERROR(INDEX(RATIO[DEP 26],MATCH(Tabla_Horas_07[[#This Row],[CATEGORIA PROFESIONAL]],RATIO[CATEGORIA PROFESIONAL],0)),0) -> 0 | E11: =+IFERROR(INDEX(RATIO[NO DEP 26],MATCH(Tabla_Horas_07[[#This Row],[CATEGORIA PROFESIONAL]],RATIO[CATEGORIA PROFESIONAL],0)),0) -> 0 | F11: =+(Tabla_Horas_07[[#This Row],[horas exigidas día Dependiente]]*Tabla_Ocup_07[Total plazas ocupadas Dependiente]+Tabla_Horas_07[[#This Row],[horas exi. Día No dependiente]]*Tabla_Ocup_07[Total plazas ocupadas No dependiente])*Tabla_Mes_07[DIAS] -> 0 | G11: =IF(Tabla_Horas_07[[#This Row],[Total Horas exigidas mes]]=0,"",IF(Tabla_Horas_07[[#This Row],[HORAS MES (FICHAJES)]]>=Tabla_Horas_07[[#This Row],[Total Horas exigidas mes]],"CUMPLE","INCUMPLIMIENTO")) | H11: =+Tabla_Horas_07[[#This Row],[HORAS MES (FICHAJES)]]-Tabla_Horas_07[[#This Row],[Total Horas exigidas mes]] -> 0

Sheet AGOSTO
A1: ="Año "&Tabla_Año[] -> Año 2027
B2: Total Plazas Ocupadas | C2: Total plazas ocupadas Dependiente | D2: Plazas Ocupadas ED | E2: Total plazas ocupadas No dependiente | G2: MES | H2: DIAS
G3: AGOSTO | H3: =DAY(EOMONTH(1&"/"&Tabla_Mes_08[MES]&"/"&Tabla_Año[],0)) -> 31
B7: CATEGORIA PROFESIONAL | C7: HORAS MES (FICHAJES) | D7: horas exigidas día Dependiente | E7: horas exi. Día No dependiente | F7: Total Horas exigidas mes | G7: CUMPLIMIENTO | H7: DIF.
B8: CUIDADOR | D8: =+IFERROR(INDEX(RATIO[DEP 26],MATCH(Tabla_Horas_08[[#This Row],[CATEGORIA PROFESIONAL]],RATIO[CATEGORIA PROFESIONAL],0)),0) -> 2.2191781 | E8: =+IFERROR(INDEX(RATIO[NO DEP 26],MATCH(Tabla_Horas_08[[#This Row],[CATEGORIA PROFESIONAL]],RATIO[CATEGORIA PROFESIONAL],0)),0) -> 0.73972603 | F8: =+(Tabla_Horas_08[[#This Row],[horas exigidas día Dependiente]]*Tabla_Ocup_08[Total plazas ocupadas Dependiente]+Tabla_Horas_08[[#This Row],[horas exi. Día No dependiente]]*Tabla_Ocup_08[Total plazas ocupadas No dependiente])*Tabla_Mes_08[DIAS] -> 0 | G8: =IF(Tabla_Horas_08[[#This Row],[Total Horas exigidas mes]]=0,"",IF(Tabla_Horas_08[[#This Row],[HORAS MES (FICHAJES)]]>=Tabla_Horas_08[[#This Row],[Total Horas exigidas mes]],"CUMPLE","INCUMPLIMIENTO")) | H8: =+Tabla_Horas_08[[#This Row],[HORAS MES (FICHAJES)]]-Tabla_Horas_08[[#This Row],[Total Horas exigidas mes]] -> 0
B9: TECNICOS | D9: =+IFERROR(INDEX(RATIO[DEP 26],MATCH(Tabla_Horas_08[[#This Row],[CATEGORIA PROFESIONAL]],RATIO[CATEGORIA PROFESIONAL],0)),0) -> 0.17808219 | E9: =+IFERROR(INDEX(RATIO[NO DEP 26],MATCH(Tabla_Horas_08[[#This Row],[CATEGORIA PROFESIONAL]],RATIO[CATEGORIA PROFESIONAL],0)),0) -> 0.067123288 | F9: =+(Tabla_Horas_08[[#This Row],[horas exigidas día Dependiente]]*Tabla_Ocup_08[Total plazas ocupadas Dependiente]+Tabla_Horas_08[[#This Row],[horas exi. Día No dependiente]]*Tabla_Ocup_08[Total plazas ocupadas No dependiente])*Tabla_Mes_08[DIAS] -> 0 | G9: =IF(Tabla_Horas_08[[#This Row],[Total Horas exigidas mes]]=0,"",IF(Tabla_Horas_08[[#This Row],[HORAS MES (FICHAJES)]]>=Tabla_Horas_08[[#This Row],[Total Horas exigidas mes]],"CUMPLE","INCUMPLIMIENTO")) | H9: =+Tabla_Horas_08[[#This Row],[HORAS MES (FICHAJES)]]-Tabla_Horas_08[[#This Row],[Total Horas exigidas mes]] -> 0
D10: =+IFERROR(INDEX(RATIO[DEP 26],MATCH(Tabla_Horas_08[[#This Row],[CATEGORIA PROFESIONAL]],RATIO[CATEGORIA PROFESIONAL],0)),0) -> 0 | E10: =+IFERROR(INDEX(RATIO[NO DEP 26],MATCH(Tabla_Horas_08[[#This Row],[CATEGORIA PROFESIONAL]],RATIO[CATEGORIA PROFESIONAL],0)),0) -> 0 | F10: =+(Tabla_Horas_08[[#This Row],[horas exigidas día Dependiente]]*Tabla_Ocup_08[Total plazas ocupadas Dependiente]+Tabla_Horas_08[[#This Row],[horas exi. Día No dependiente]]*Tabla_Ocup_08[Total plazas ocupadas No dependiente])*Tabla_Mes_08[DIAS] -> 0 | G10: =IF(Tabla_Horas_08[[#This Row],[Total Horas exigidas mes]]=0,"",IF(Tabla_Horas_08[[#This Row],[HORAS MES (FICHAJES)]]>=Tabla_Horas_08[[#This Row],[Total Horas exigidas mes]],"CUMPLE","INCUMPLIMIENTO")) | H10: =+Tabla_Horas_08[[#This Row],[HORAS MES (FICHAJES)]]-Tabla_Horas_08[[#This Row],[Total Horas exigidas mes]] -> 0
D11: =+IFERROR(INDEX(RATIO[DEP 26],MATCH(Tabla_Horas_08[[#This Row],[CATEGORIA PROFESIONAL]],RATIO[CATEGORIA PROFESIONAL],0)),0) -> 0 | E11: =+IFERROR(INDEX(RATIO[NO DEP 26],MATCH(Tabla_Horas_08[[#This Row],[CATEGORIA PROFESIONAL]],RATIO[CATEGORIA PROFESIONAL],0)),0) -> 0 | F11: =+(Tabla_Horas_08[[#This Row],[horas exigidas día Dependiente]]*Tabla_Ocup_08[Total plazas ocupadas Dependiente]+Tabla_Horas_08[[#This Row],[horas exi. Día No dependiente]]*Tabla_Ocup_08[Total plazas ocupadas No dependiente])*Tabla_Mes_08[DIAS] -> 0 | G11: =IF(Tabla_Horas_08[[#This Row],[Total Horas exigidas mes]]=0,"",IF(Tabla_Horas_08[[#This Row],[HORAS MES (FICHAJES)]]>=Tabla_Horas_08[[#This Row],[Total Horas exigidas mes]],"CUMPLE","INCUMPLIMIENTO")) | H11: =+Tabla_Horas_08[[#This Row],[HORAS MES (FICHAJES)]]-Tabla_Horas_08[[#This Row],[Total Horas exigidas mes]] -> 0

Sheet SEPTIEMBRE
A1: ="Año "&Tabla_Año[] -> Año 2027
B2: Total Plazas Ocupadas | C2: Total plazas ocupadas Dependiente | D2: Plazas Ocupadas ED | E2: Total plazas ocupadas No dependiente | G2: MES | H2: DIAS
B3: =Tabla_Ocup_09[Total plazas ocupadas Dependiente]+Tabla_Ocup_09[Plazas Ocupadas ED]*0.5*248/365+Tabla_Ocup_09[Total plazas ocupadas No dependiente] -> 0 | G3: SEPTIEMBRE | H3: =DAY(EOMONTH(1&"/"&Tabla_Mes_09[MES]&"/"&Tabla_Año[],0)) -> 30
B7: CATEGORIA PROFESIONAL | C7: HORAS MES (FICHAJES) | D7: horas exigidas día Dependiente | E7: horas exi. Día No dependiente | F7: Total Horas exigidas mes | G7: CUMPLIMIENTO | H7: DIF.
B8: CUIDADOR | D8: =+IFERROR(INDEX(RATIO[DEP 26],MATCH(Tabla_Horas_09[[#This Row],[CATEGORIA PROFESIONAL]],RATIO[CATEGORIA PROFESIONAL],0)),0) -> 2.2191781 | E8: =+IFERROR(INDEX(RATIO[NO DEP 26],MATCH(Tabla_Horas_09[[#This Row],[CATEGORIA PROFESIONAL]],RATIO[CATEGORIA PROFESIONAL],0)),0) -> 0.73972603 | F8: =+(Tabla_Horas_09[[#This Row],[horas exigidas día Dependiente]]*Tabla_Ocup_09[Total plazas ocupadas Dependiente]+Tabla_Horas_09[[#This Row],[horas exi. Día No dependiente]]*Tabla_Ocup_09[Total plazas ocupadas No dependiente])*Tabla_Mes_09[DIAS] -> 0 | G8: =IF(Tabla_Horas_09[[#This Row],[Total Horas exigidas mes]]=0,"",IF(Tabla_Horas_09[[#This Row],[HORAS MES (FICHAJES)]]>=Tabla_Horas_09[[#This Row],[Total Horas exigidas mes]],"CUMPLE","INCUMPLIMIENTO")) | H8: =+Tabla_Horas_09[[#This Row],[HORAS MES (FICHAJES)]]-Tabla_Horas_09[[#This Row],[Total Horas exigidas mes]] -> 0
B9: TECNICOS | D9: =+IFERROR(INDEX(RATIO[DEP 26],MATCH(Tabla_Horas_09[[#This Row],[CATEGORIA PROFESIONAL]],RATIO[CATEGORIA PROFESIONAL],0)),0) -> 0.17808219 | E9: =+IFERROR(INDEX(RATIO[NO DEP 26],MATCH(Tabla_Horas_09[[#This Row],[CATEGORIA PROFESIONAL]],RATIO[CATEGORIA PROFESIONAL],0)),0) -> 0.067123288 | F9: =+(Tabla_Horas_09[[#This Row],[horas exigidas día Dependiente]]*Tabla_Ocup_09[Total plazas ocupadas Dependiente]+Tabla_Horas_09[[#This Row],[horas exi. Día No dependiente]]*Tabla_Ocup_09[Total plazas ocupadas No dependiente])*Tabla_Mes_09[DIAS] -> 0 | G9: =IF(Tabla_Horas_09[[#This Row],[Total Horas exigidas mes]]=0,"",IF(Tabla_Horas_09[[#This Row],[HORAS MES (FICHAJES)]]>=Tabla_Horas_09[[#This Row],[Total Horas exigidas mes]],"CUMPLE","INCUMPLIMIENTO")) | H9: =+Tabla_Horas_09[[#This Row],[HORAS MES (FICHAJES)]]-Tabla_Horas_09[[#This Row],[Total Horas exigidas mes]] -> 0
D10: =+IFERROR(INDEX(RATIO[DEP 26],MATCH(Tabla_Horas_09[[#This Row],[CATEGORIA PROFESIONAL]],RATIO[CATEGORIA PROFESIONAL],0)),0) -> 0 | E10: =+IFERROR(INDEX(RATIO[NO DEP 26],MATCH(Tabla_Horas_09[[#This Row],[CATEGORIA PROFESIONAL]],RATIO[CATEGORIA PROFESIONAL],0)),0) -> 0 | F10: =+(Tabla_Horas_09[[#This Row],[horas exigidas día Dependiente]]*Tabla_Ocup_09[Total plazas ocupadas Dependiente]+Tabla_Horas_09[[#This Row],[horas exi. Día No dependiente]]*Tabla_Ocup_09[Total plazas ocupadas No dependiente])*Tabla_Mes_09[DIAS] -> 0 | G10: =IF(Tabla_Horas_09[[#This Row],[Total Horas exigidas mes]]=0,"",IF(Tabla_Horas_09[[#This Row],[HORAS MES (FICHAJES)]]>=Tabla_Horas_09[[#This Row],[Total Horas exigidas mes]],"CUMPLE","INCUMPLIMIENTO")) | H10: =+Tabla_Horas_09[[#This Row],[HORAS MES (FICHAJES)]]-Tabla_Horas_09[[#This Row],[Total Horas exigidas mes]] -> 0
D11: =+IFERROR(INDEX(RATIO[DEP 26],MATCH(Tabla_Horas_09[[#This Row],[CATEGORIA PROFESIONAL]],RATIO[CATEGORIA PROFESIONAL],0)),0) -> 0 | E11: =+IFERROR(INDEX(RATIO[NO DEP 26],MATCH(Tabla_Horas_09[[#This Row],[CATEGORIA PROFESIONAL]],RATIO[CATEGORIA PROFESIONAL],0)),0) -> 0 | F11: =+(Tabla_Horas_09[[#This Row],[horas exigidas día Dependiente]]*Tabla_Ocup_09[Total plazas ocupadas Dependiente]+Tabla_Horas_09[[#This Row],[horas exi. Día No dependiente]]*Tabla_Ocup_09[Total plazas ocupadas No dependiente])*Tabla_Mes_09[DIAS] -> 0 | G11: =IF(Tabla_Horas_09[[#This Row],[Total Horas exigidas mes]]=0,"",IF(Tabla_Horas_09[[#This Row],[HORAS MES (FICHAJES)]]>=Tabla_Horas_09[[#This Row],[Total Horas exigidas mes]],"CUMPLE","INCUMPLIMIENTO")) | H11: =+Tabla_Horas_09[[#This Row],[HORAS MES (FICHAJES)]]-Tabla_Horas_09[[#This Row],[Total Horas exigidas mes]] -> 0

Sheet OCTUBRE
A1: ="Año "&Tabla_Año[] -> Año 2027
B2: Total Plazas Ocupadas | C2: Total plazas ocupadas Dependiente | D2: Plazas Ocupadas ED | E2: Total plazas ocupadas No dependiente | G2: MES | H2: DIAS
B3: =Tabla_Ocup_10[Total plazas ocupadas Dependiente]+Tabla_Ocup_10[Plazas Ocupadas ED]*0.5*248/365+Tabla_Ocup_10[Total plazas ocupadas No dependiente] -> 0 | G3: OCTUBRE | H3: =DAY(EOMONTH(1&"/"&Tabla_Mes_10[MES]&"/"&Tabla_Año[],0)) -> 31
B7: CATEGORIA PROFESIONAL | C7: HORAS MES (FICHAJES) | D7: horas exigidas día Dependiente | E7: horas exi. Día No dependiente | F7: Total Horas exigidas mes | G7: CUMPLIMIENTO | H7: DIF.
B8: CUIDADOR | D8: =+IFERROR(INDEX(RATIO[DEP 26],MATCH(Tabla_Horas_10[[#This Row],[CATEGORIA PROFESIONAL]],RATIO[CATEGORIA PROFESIONAL],0)),0) -> 2.2191781 | E8: =+IFERROR(INDEX(RATIO[NO DEP 26],MATCH(Tabla_Horas_10[[#This Row],[CATEGORIA PROFESIONAL]],RATIO[CATEGORIA PROFESIONAL],0)),0) -> 0.73972603 | F8: =+(Tabla_Horas_10[[#This Row],[horas exigidas día Dependiente]]*Tabla_Ocup_10[Total plazas ocupadas Dependiente]+Tabla_Horas_10[[#This Row],[horas exi. Día No dependiente]]*Tabla_Ocup_10[Total plazas ocupadas No dependiente])*Tabla_Mes_10[DIAS] -> 0 | G8: =IF(Tabla_Horas_10[[#This Row],[Total Horas exigidas mes]]=0,"",IF(Tabla_Horas_10[[#This Row],[HORAS MES (FICHAJES)]]>=Tabla_Horas_10[[#This Row],[Total Horas exigidas mes]],"CUMPLE","INCUMPLIMIENTO")) | H8: =+Tabla_Horas_10[[#This Row],[HORAS MES (FICHAJES)]]-Tabla_Horas_10[[#This Row],[Total Horas exigidas mes]] -> 0
B9: TECNICOS | D9: =+IFERROR(INDEX(RATIO[DEP 26],MATCH(Tabla_Horas_10[[#This Row],[CATEGORIA PROFESIONAL]],RATIO[CATEGORIA PROFESIONAL],0)),0) -> 0.17808219 | E9: =+IFERROR(INDEX(RATIO[NO DEP 26],MATCH(Tabla_Horas_10[[#This Row],[CATEGORIA PROFESIONAL]],RATIO[CATEGORIA PROFESIONAL],0)),0) -> 0.067123288 | F9: =+(Tabla_Horas_10[[#This Row],[horas exigidas día Dependiente]]*Tabla_Ocup_10[Total plazas ocupadas Dependiente]+Tabla_Horas_10[[#This Row],[horas exi. Día No dependiente]]*Tabla_Ocup_10[Total plazas ocupadas No dependiente])*Tabla_Mes_10[DIAS] -> 0 | G9: =IF(Tabla_Horas_10[[#This Row],[Total Horas exigidas mes]]=0,"",IF(Tabla_Horas_10[[#This Row],[HORAS MES (FICHAJES)]]>=Tabla_Horas_10[[#This Row],[Total Horas exigidas mes]],"CUMPLE","INCUMPLIMIENTO")) | H9: =+Tabla_Horas_10[[#This Row],[HORAS MES (FICHAJES)]]-Tabla_Horas_10[[#This Row],[Total Horas exigidas mes]] -> 0
D10: =+IFERROR(INDEX(RATIO[DEP 26],MATCH(Tabla_Horas_10[[#This Row],[CATEGORIA PROFESIONAL]],RATIO[CATEGORIA PROFESIONAL],0)),0) -> 0 | E10: =+IFERROR(INDEX(RATIO[NO DEP 26],MATCH(Tabla_Horas_10[[#This Row],[CATEGORIA PROFESIONAL]],RATIO[CATEGORIA PROFESIONAL],0)),0) -> 0 | F10: =+(Tabla_Horas_10[[#This Row],[horas exigidas día Dependiente]]*Tabla_Ocup_10[Total plazas ocupadas Dependiente]+Tabla_Horas_10[[#This Row],[horas exi. Día No dependiente]]*Tabla_Ocup_10[Total plazas ocupadas No dependiente])*Tabla_Mes_10[DIAS] -> 0 | G10: =IF(Tabla_Horas_10[[#This Row],[Total Horas exigidas mes]]=0,"",IF(Tabla_Horas_10[[#This Row],[HORAS MES (FICHAJES)]]>=Tabla_Horas_10[[#This Row],[Total Horas exigidas mes]],"CUMPLE","INCUMPLIMIENTO")) | H10: =+Tabla_Horas_10[[#This Row],[HORAS MES (FICHAJES)]]-Tabla_Horas_10[[#This Row],[Total Horas exigidas mes]] -> 0
D11: =+IFERROR(INDEX(RATIO[DEP 26],MATCH(Tabla_Horas_10[[#This Row],[CATEGORIA PROFESIONAL]],RATIO[CATEGORIA PROFESIONAL],0)),0) -> 0 | E11: =+IFERROR(INDEX(RATIO[NO DEP 26],MATCH(Tabla_Horas_10[[#This Row],[CATEGORIA PROFESIONAL]],RATIO[CATEGORIA PROFESIONAL],0)),0) -> 0 | F11: =+(Tabla_Horas_10[[#This Row],[horas exigidas día Dependiente]]*Tabla_Ocup_10[Total plazas ocupadas Dependiente]+Tabla_Horas_10[[#This Row],[horas exi. Día No dependiente]]*Tabla_Ocup_10[Total plazas ocupadas No dependiente])*Tabla_Mes_10[DIAS] -> 0 | G11: =IF(Tabla_Horas_10[[#This Row],[Total Horas exigidas mes]]=0,"",IF(Tabla_Horas_10[[#This Row],[HORAS MES (FICHAJES)]]>=Tabla_Horas_10[[#This Row],[Total Horas exigidas mes]],"CUMPLE","INCUMPLIMIENTO")) | H11: =+Tabla_Horas_10[[#This Row],[HORAS MES (FICHAJES)]]-Tabla_Horas_10[[#This Row],[Total Horas exigidas mes]] -> 0

Sheet NOVIEMBRE
A1: ="Año "&Tabla_Año[] -> Año 2027
B2: Total Plazas Ocupadas | C2: Total plazas ocupadas Dependiente | D2: Plazas Ocupadas ED | E2: Total plazas ocupadas No dependiente | G2: MES | H2: DIAS
B3: =Tabla_Ocup_11[Total plazas ocupadas Dependiente]+Tabla_Ocup_11[Plazas Ocupadas ED]*0.5*248/365+Tabla_Ocup_11[Total plazas ocupadas No dependiente] -> 0 | G3: NOVIEMBRE | H3: =DAY(EOMONTH(1&"/"&Tabla_Mes_11[MES]&"/"&Tabla_Año[],0)) -> 30
B7: CATEGORIA PROFESIONAL | C7: HORAS MES (FICHAJES) | D7: horas exigidas día Dependiente | E7: horas exi. Día No dependiente | F7: Total Horas exigidas mes | G7: CUMPLIMIENTO | H7: DIF.
B8: CUIDADOR | D8: =+IFERROR(INDEX(RATIO[DEP 26],MATCH(Tabla_Horas_11[[#This Row],[CATEGORIA PROFESIONAL]],RATIO[CATEGORIA PROFESIONAL],0)),0) -> 2.2191781 | E8: =+IFERROR(INDEX(RATIO[NO DEP 26],MATCH(Tabla_Horas_11[[#This Row],[CATEGORIA PROFESIONAL]],RATIO[CATEGORIA PROFESIONAL],0)),0) -> 0.73972603 | F8: =+(Tabla_Horas_11[[#This Row],[horas exigidas día Dependiente]]*Tabla_Ocup_11[Total plazas ocupadas Dependiente]+Tabla_Horas_11[[#This Row],[horas exi. Día No dependiente]]*Tabla_Ocup_11[Total plazas ocupadas No dependiente])*Tabla_Mes_11[DIAS] -> 0 | G8: =IF(Tabla_Horas_11[[#This Row],[Total Horas exigidas mes]]=0,"",IF(Tabla_Horas_11[[#This Row],[HORAS MES (FICHAJES)]]>=Tabla_Horas_11[[#This Row],[Total Horas exigidas mes]],"CUMPLE","INCUMPLIMIENTO")) | H8: =+Tabla_Horas_11[[#This Row],[HORAS MES (FICHAJES)]]-Tabla_Horas_11[[#This Row],[Total Horas exigidas mes]] -> 0
B9: TECNICOS | D9: =+IFERROR(INDEX(RATIO[DEP 26],MATCH(Tabla_Horas_11[[#This Row],[CATEGORIA PROFESIONAL]],RATIO[CATEGORIA PROFESIONAL],0)),0) -> 0.17808219 | E9: =+IFERROR(INDEX(RATIO[NO DEP 26],MATCH(Tabla_Horas_11[[#This Row],[CATEGORIA PROFESIONAL]],RATIO[CATEGORIA PROFESIONAL],0)),0) -> 0.067123288 | F9: =+(Tabla_Horas_11[[#This Row],[horas exigidas día Dependiente]]*Tabla_Ocup_11[Total plazas ocupadas Dependiente]+Tabla_Horas_11[[#This Row],[horas exi. Día No dependiente]]*Tabla_Ocup_11[Total plazas ocupadas No dependiente])*Tabla_Mes_11[DIAS] -> 0 | G9: =IF(Tabla_Horas_11[[#This Row],[Total Horas exigidas mes]]=0,"",IF(Tabla_Horas_11[[#This Row],[HORAS MES (FICHAJES)]]>=Tabla_Horas_11[[#This Row],[Total Horas exigidas mes]],"CUMPLE","INCUMPLIMIENTO")) | H9: =+Tabla_Horas_11[[#This Row],[HORAS MES (FICHAJES)]]-Tabla_Horas_11[[#This Row],[Total Horas exigidas mes]] -> 0
D10: =+IFERROR(INDEX(RATIO[DEP 26],MATCH(Tabla_Horas_11[[#This Row],[CATEGORIA PROFESIONAL]],RATIO[CATEGORIA PROFESIONAL],0)),0) -> 0 | E10: =+IFERROR(INDEX(RATIO[NO DEP 26],MATCH(Tabla_Horas_11[[#This Row],[CATEGORIA PROFESIONAL]],RATIO[CATEGORIA PROFESIONAL],0)),0) -> 0 | F10: =+(Tabla_Horas_11[[#This Row],[horas exigidas día Dependiente]]*Tabla_Ocup_11[Total plazas ocupadas Dependiente]+Tabla_Horas_11[[#This Row],[horas exi. Día No dependiente]]*Tabla_Ocup_11[Total plazas ocupadas No dependiente])*Tabla_Mes_11[DIAS] -> 0 | G10: =IF(Tabla_Horas_11[[#This Row],[Total Horas exigidas mes]]=0,"",IF(Tabla_Horas_11[[#This Row],[HORAS MES (FICHAJES)]]>=Tabla_Horas_11[[#This Row],[Total Horas exigidas mes]],"CUMPLE","INCUMPLIMIENTO")) | H10: =+Tabla_Horas_11[[#This Row],[HORAS MES (FICHAJES)]]-Tabla_Horas_11[[#This Row],[Total Horas exigidas mes]] -> 0
D11: =+IFERROR(INDEX(RATIO[DEP 26],MATCH(Tabla_Horas_11[[#This Row],[CATEGORIA PROFESIONAL]],RATIO[CATEGORIA PROFESIONAL],0)),0) -> 0 | E11: =+IFERROR(INDEX(RATIO[NO DEP 26],MATCH(Tabla_Horas_11[[#This Row],[CATEGORIA PROFESIONAL]],RATIO[CATEGORIA PROFESIONAL],0)),0) -> 0 | F11: =+(Tabla_Horas_11[[#This Row],[horas exigidas día Dependiente]]*Tabla_Ocup_11[Total plazas ocupadas Dependiente]+Tabla_Horas_11[[#This Row],[horas exi. Día No dependiente]]*Tabla_Ocup_11[Total plazas ocupadas No dependiente])*Tabla_Mes_11[DIAS] -> 0 | G11: =IF(Tabla_Horas_11[[#This Row],[Total Horas exigidas mes]]=0,"",IF(Tabla_Horas_11[[#This Row],[HORAS MES (FICHAJES)]]>=Tabla_Horas_11[[#This Row],[Total Horas exigidas mes]],"CUMPLE","INCUMPLIMIENTO")) | H11: =+Tabla_Horas_11[[#This Row],[HORAS MES (FICHAJES)]]-Tabla_Horas_11[[#This Row],[Total Horas exigidas mes]] -> 0

Sheet DICIEMBRE
A1: ="Año "&Tabla_Año[] -> Año 2027
B2: Total Plazas Ocupadas | C2: Total plazas ocupadas Dependiente | D2: Plazas Ocupadas ED | E2: Total plazas ocupadas No dependiente | G2: MES | H2: DIAS
B3: =Tabla_Ocup_12[Total plazas ocupadas Dependiente]+Tabla_Ocup_12[Plazas Ocupadas ED]*0.5*248/365+Tabla_Ocup_12[Total plazas ocupadas No dependiente] -> 0 | G3: DICIEMBRE | H3: =DAY(EOMONTH(1&"/"&Tabla_Mes_12[MES]&"/"&Tabla_Año[],0)) -> 31
B7: CATEGORIA PROFESIONAL | C7: HORAS MES (FICHAJES) | D7: horas exigidas día Dependiente | E7: horas exi. Día No dependiente | F7: Total Horas exigidas mes | G7: CUMPLIMIENTO | H7: DIF.
B8: CUIDADOR | D8: =+IFERROR(INDEX(RATIO[DEP 26],MATCH(Tabla_Horas_12[[#This Row],[CATEGORIA PROFESIONAL]],RATIO[CATEGORIA PROFESIONAL],0)),0) -> 2.2191781 | E8: =+IFERROR(INDEX(RATIO[NO DEP 26],MATCH(Tabla_Horas_12[[#This Row],[CATEGORIA PROFESIONAL]],RATIO[CATEGORIA PROFESIONAL],0)),0) -> 0.73972603 | F8: =+(Tabla_Horas_12[[#This Row],[horas exigidas día Dependiente]]*Tabla_Ocup_12[Total plazas ocupadas Dependiente]+Tabla_Horas_12[[#This Row],[horas exi. Día No dependiente]]*Tabla_Ocup_12[Total plazas ocupadas No dependiente])*Tabla_Mes_12[DIAS] -> 0 | G8: =IF(Tabla_Horas_12[[#This Row],[Total Horas exigidas mes]]=0,"",IF(Tabla_Horas_12[[#This Row],[HORAS MES (FICHAJES)]]>=Tabla_Horas_12[[#This Row],[Total Horas exigidas mes]],"CUMPLE","INCUMPLIMIENTO")) | H8: =+Tabla_Horas_12[[#This Row],[HORAS MES (FICHAJES)]]-Tabla_Horas_12[[#This Row],[Total Horas exigidas mes]] -> 0
B9: TECNICOS | D9: =+IFERROR(INDEX(RATIO[DEP 26],MATCH(Tabla_Horas_12[[#This Row],[CATEGORIA PROFESIONAL]],RATIO[CATEGORIA PROFESIONAL],0)),0) -> 0.17808219 | E9: =+IFERROR(INDEX(RATIO[NO DEP 26],MATCH(Tabla_Horas_12[[#This Row],[CATEGORIA PROFESIONAL]],RATIO[CATEGORIA PROFESIONAL],0)),0) -> 0.067123288 | F9: =+(Tabla_Horas_12[[#This Row],[horas exigidas día Dependiente]]*Tabla_Ocup_12[Total plazas ocupadas Dependiente]+Tabla_Horas_12[[#This Row],[horas exi. Día No dependiente]]*Tabla_Ocup_12[Total plazas ocupadas No dependiente])*Tabla_Mes_12[DIAS] -> 0 | G9: =IF(Tabla_Horas_12[[#This Row],[Total Horas exigidas mes]]=0,"",IF(Tabla_Horas_12[[#This Row],[HORAS MES (FICHAJES)]]>=Tabla_Horas_12[[#This Row],[Total Horas exigidas mes]],"CUMPLE","INCUMPLIMIENTO")) | H9: =+Tabla_Horas_12[[#This Row],[HORAS MES (FICHAJES)]]-Tabla_Horas_12[[#This Row],[Total Horas exigidas mes]] -> 0
D10: =+IFERROR(INDEX(RATIO[DEP 26],MATCH(Tabla_Horas_12[[#This Row],[CATEGORIA PROFESIONAL]],RATIO[CATEGORIA PROFESIONAL],0)),0) -> 0 | E10: =+IFERROR(INDEX(RATIO[NO DEP 26],MATCH(Tabla_Horas_12[[#This Row],[CATEGORIA PROFESIONAL]],RATIO[CATEGORIA PROFESIONAL],0)),0) -> 0 | F10: =+(Tabla_Horas_12[[#This Row],[horas exigidas día Dependiente]]*Tabla_Ocup_12[Total plazas ocupadas Dependiente]+Tabla_Horas_12[[#This Row],[horas exi. Día No dependiente]]*Tabla_Ocup_12[Total plazas ocupadas No dependiente])*Tabla_Mes_12[DIAS] -> 0 | G10: =IF(Tabla_Horas_12[[#This Row],[Total Horas exigidas mes]]=0,"",IF(Tabla_Horas_12[[#This Row],[HORAS MES (FICHAJES)]]>=Tabla_Horas_12[[#This Row],[Total Horas exigidas mes]],"CUMPLE","INCUMPLIMIENTO")) | H10: =+Tabla_Horas_12[[#This Row],[HORAS MES (FICHAJES)]]-Tabla_Horas_12[[#This Row],[Total Horas exigidas mes]] -> 0
D11: =+IFERROR(INDEX(RATIO[DEP 26],MATCH(Tabla_Horas_12[[#This Row],[CATEGORIA PROFESIONAL]],RATIO[CATEGORIA PROFESIONAL],0)),0) -> 0 | E11: =+IFERROR(INDEX(RATIO[NO DEP 26],MATCH(Tabla_Horas_12[[#This Row],[CATEGORIA PROFESIONAL]],RATIO[CATEGORIA PROFESIONAL],0)),0) -> 0 | F11: =+(Tabla_Horas_12[[#This Row],[horas exigidas día Dependiente]]*Tabla_Ocup_12[Total plazas ocupadas Dependiente]+Tabla_Horas_12[[#This Row],[horas exi. Día No dependiente]]*Tabla_Ocup_12[Total plazas ocupadas No dependiente])*Tabla_Mes_12[DIAS] -> 0 | G11: =IF(Tabla_Horas_12[[#This Row],[Total Horas exigidas mes]]=0,"",IF(Tabla_Horas_12[[#This Row],[HORAS MES (FICHAJES)]]>=Tabla_Horas_12[[#This Row],[Total Horas exigidas mes]],"CUMPLE","INCUMPLIMIENTO")) | H11: =+Tabla_Horas_12[[#This Row],[HORAS MES (FICHAJES)]]-Tabla_Horas_12[[#This Row],[Total Horas exigidas mes]] -> 0

Sheet AÑO 2027
A1: ="Año "&Tabla_Año[] -> Año 2027 | G1: CUMPLIMIENTO
A2: MES | B2: OCUPACION | C2: DEPENDIENTES | D2: NO DEPENDIENTES | G2: RATIO | H2: ENERO | I2: FEBRERO | J2: MARZO | K2: ABRIL | L2: MAYO | M2: JUNIO | N2: JULIO | O2: AGOSTO | P2: SEPTIEMBRE | Q2: OCTUBRE | R2: NOVIEMBRE | S2: DICIEMBRE | T2: TOTAL
A3: ENERO | B3: =+Tabla_Ocup_01[Total Plazas Ocupadas] -> 0 | C3: =+Tabla_Ocup_01[Total plazas ocupadas Dependiente] -> 0 | D3: =+Tabla_Ocup_01[Total plazas ocupadas No dependiente] -> 0 | G3: CUIDADOR | H3: =+ENERO!$H$8 -> 0 | I3: =+FEBRERO!$H$8 -> 0 | J3: =+MARZO!$H$8 -> 0 | K3: =+ABRIL!$H$8 -> 0 | L3: =+MAYO!$H$8 -> 0 | M3: =+JUNIO!$H$8 -> 0 | N3: =+JULIO!$H$8 -> 0 | O3: =+AGOSTO!$H$8 -> 0 | P3: =+SEPTIEMBRE!$H$8 -> 0 | Q3: =+OCTUBRE!$H$8 -> 0 | R3: =+NOVIEMBRE!$H$8 -> 0 | S3: =+DICIEMBRE!$H$8 -> 0 | T3: =SUM(INCUMPLIMIENTOS[[#This Row],[ENERO]:[DICIEMBRE]]) -> 0
A4: FEBRERO | B4: =+Tabla_Ocup_02[Total Plazas Ocupadas] -> 0 | C4: =+Tabla_Ocup_02[Total plazas ocupadas Dependiente] -> 0 | D4: =+Tabla_Ocup_02[Total plazas ocupadas No dependiente] -> 0 | G4: TECNICOS | H4: =+ENERO!$H$9 -> 0 | I4: =+FEBRERO!$H$9 -> 0 | J4: =+MARZO!$H$9 -> 0 | K4: =+ABRIL!$H$9 -> 0 | L4: =+MAYO!$H$9 -> 0 | M4: =+JUNIO!$H$9 -> 0 | N4: =+JULIO!$H$9 -> 0 | O4: =+AGOSTO!$H$9 -> 0 | P4: =+SEPTIEMBRE!$H$9 -> 0 | Q4: =+OCTUBRE!$H$9 -> 0 | R4: =+NOVIEMBRE!$H$9 -> 0 | S4: =+DICIEMBRE!$H$9 -> 0 | T4: =SUM(INCUMPLIMIENTOS[[#This Row],[ENERO]:[DICIEMBRE]]) -> 0
A5: MARZO | B5: =+Tabla_Ocup_03[Total Plazas Ocupadas] -> 0 | C5: =+Tabla_Ocup_03[Total plazas ocupadas Dependiente] -> 0 | D5: =+Tabla_Ocup_03[Total plazas ocupadas No dependiente] -> 0 | G5: ENFERMERIA | H5: =+ENERO!$H$10 -> 0 | I5: =+FEBRERO!$H$10 -> 0 | J5: =+MARZO!$H$10 -> 0 | K5: =+ABRIL!$H$10 -> 0 | L5: =+MAYO!$H$10 -> 0 | M5: =+JUNIO!$H$10 -> 0 | N5: =+JULIO!$H$10 -> 0 | O5: =+AGOSTO!$H$10 -> 0 | P5: =+SEPTIEMBRE!$H$10 -> 0 | Q5: =+OCTUBRE!$H$10 -> 0 | R5: =+NOVIEMBRE!$H$10 -> 0 | S5: =+DICIEMBRE!$H$10 -> 0 | T5: =SUM(INCUMPLIMIENTOS[[#This Row],[ENERO]:[DICIEMBRE]]) -> 0
A6: ABRIL | B6: =+Tabla_Ocup_04[Total Plazas Ocupadas] -> 0 | C6: =+Tabla_Ocup_04[Total plazas ocupadas Dependiente] -> 0 | D6: =+Tabla_Ocup_04[Total plazas ocupadas No dependiente] -> 0 | G6: MEDICINA | H6: =+ENERO!$H$11 -> 0 | I6: =+FEBRERO!$H$11 -> 0 | J6: =+MARZO!$H$11 -> 0 | K6: =+ABRIL!$H$11 -> 0 | L6: =+MAYO!$H$11 -> 0 | M6: =+JUNIO!$H$11 -> 0 | N6: =+JULIO!$H$11 -> 0 | O6: =+AGOSTO!$H$11 -> 0 | P6: =+SEPTIEMBRE!$H$11 -> 0 | Q6: =+OCTUBRE!$H$11 -> 0 | R6: =+NOVIEMBRE!$H$11 -> 0 | S6: =+DICIEMBRE!$H$11 -> 0 | T6: =SUM(INCUMPLIMIENTOS[[#This Row],[ENERO]:[DICIEMBRE]]) -> 0
A7: MAYO | B7: =+Tabla_Ocup_05[Total Plazas Ocupadas] -> 0 | C7: =+Tabla_Ocup_05[Total plazas ocupadas Dependiente] -> 0 | D7: =+Tabla_Ocup_05[Total plazas ocupadas No dependiente] -> 0
A8: JUNIO | B8: =+Tabla_Ocup_06[Total Plazas Ocupadas] -> 0 | C8: =+Tabla_Ocup_06[Total plazas ocupadas Dependiente] -> 0 | D8: =+Tabla_Ocup_06[Total plazas ocupadas No dependiente] -> 0
A9: JULIO | B9: =+Tabla_Ocup_07[Total Plazas Ocupadas] -> 0 | C9: =+Tabla_Ocup_07[Total plazas ocupadas Dependiente] -> 0 | D9: =+Tabla_Ocup_07[Total plazas ocupadas No dependiente] -> 0 | G9: EXIGENCIAS MES
A10: AGOSTO | B10: =+Tabla_Ocup_08[Total Plazas Ocupadas] -> 0 | C10: =+Tabla_Ocup_08[Total plazas ocupadas Dependiente] -> 0 | D10: =+Tabla_Ocup_08[Total plazas ocupadas No dependiente] -> 0 | G10: RATIO | H10: ENERO | I10: FEBRERO | J10: MARZO | K10: ABRIL | L10: MAYO | M10: JUNIO | N10: JULIO | O10: AGOSTO | P10: SEPTIEMBRE | Q10: OCTUBRE | R10: NOVIEMBRE | S10: DICIEMBRE | T10: TOTAL
A11: SEPTIEMBRE | B11: =+Tabla_Ocup_09[Total Plazas Ocupadas] -> 0 | C11: =+Tabla_Ocup_09[Total plazas ocupadas Dependiente] -> 0 | D11: =+Tabla_Ocup_09[Total plazas ocupadas No dependiente] -> 0 | G11: CUIDADOR | H11: =+ENERO!$F$8 -> 0 | I11: =+FEBRERO!$F$8 -> 0 | J11: =+MARZO!$F$8 -> 0 | K11: =+ABRIL!$F$8 -> 0 | L11: =+MAYO!$F$8 -> 0 | M11: =+JUNIO!$F$8 -> 0 | N11: =+JULIO!$F$8 -> 0 | O11: =+AGOSTO!$F$8 -> 0 | P11: =+SEPTIEMBRE!$F$8 -> 0 | Q11: =+OCTUBRE!$F$8 -> 0 | R11: =+NOVIEMBRE!$F$8 -> 0 | S11: =+DICIEMBRE!$F$8 -> 0 | T11: =SUM(EXIGENCIAS[[#This Row],[ENERO]:[DICIEMBRE]]) -> 0
A12: OCTUBRE | B12: =+Tabla_Ocup_10[Total Plazas Ocupadas] -> 0 | C12: =+Tabla_Ocup_10[Total plazas ocupadas Dependiente] -> 0 | D12: =+Tabla_Ocup_10[Total plazas ocupadas No dependiente] -> 0 | G12: TECNICOS | H12: =+ENERO!$F$9 -> 0 | I12: =+FEBRERO!$F$9 -> 0 | J12: =+MARZO!$F$9 -> 0 | K12: =+ABRIL!$F$9 -> 0 | L12: =+MAYO!$F$9 -> 0 | M12: =+JUNIO!$F$9 -> 0 | N12: =+JULIO!$F$9 -> 0 | O12: =+AGOSTO!$F$9 -> 0 | P12: =+SEPTIEMBRE!$F$9 -> 0 | Q12: =+OCTUBRE!$F$9 -> 0 | R12: =+NOVIEMBRE!$F$9 -> 0 | S12: =+DICIEMBRE!$F$9 -> 0 | T12: =SUM(EXIGENCIAS[[#This Row],[ENERO]:[DICIEMBRE]]) -> 0
A13: NOVIEMBRE | B13: =+Tabla_Ocup_11[Total Plazas Ocupadas] -> 0 | C13: =+Tabla_Ocup_11[Total plazas ocupadas Dependiente] -> 0 | D13: =+Tabla_Ocup_11[Total plazas ocupadas No dependiente] -> 0 | G13: ENFERMERIA | H13: =+ENERO!$F$10 -> 0 | I13: =+FEBRERO!$F$10 -> 0 | J13: =+MARZO!$F$10 -> 0 | K13: =+ABRIL!$F$10 -> 0 | L13: =+MAYO!$F$10 -> 0 | M13: =+JUNIO!$F$10 -> 0 | N13: =+JULIO!$F$10 -> 0 | O13: =+AGOSTO!$F$10 -> 0 | P13: =+SEPTIEMBRE!$F$10 -> 0 | Q13: =+OCTUBRE!$F$10 -> 0 | R13: =+NOVIEMBRE!$F$10 -> 0 | S13: =+DICIEMBRE!$F$10 -> 0 | T13: =SUM(EXIGENCIAS[[#This Row],[ENERO]:[DICIEMBRE]]) -> 0
A14: DICIEMBRE | B14: =+Tabla_Ocup_12[Total Plazas Ocupadas] -> 0 | C14: =+Tabla_Ocup_12[Total plazas ocupadas Dependiente] -> 0 | D14: =+Tabla_Ocup_12[Total plazas ocupadas No dependiente] -> 0 | G14: MEDICINA | H14: =+ENERO!$F$11 -> 0 | I14: =+FEBRERO!$F$11 -> 0 | J14: =+MARZO!$F$11 -> 0 | K14: =+ABRIL!$F$11 -> 0 | L14: =+MAYO!$F$11 -> 0 | M14: =+JUNIO!$F$11 -> 0 | N14: =+JULIO!$F$11 -> 0 | O14: =+AGOSTO!$F$11 -> 0 | P14: =+SEPTIEMBRE!$F$11 -> 0 | Q14: =+OCTUBRE!$F$11 -> 0 | R14: =+NOVIEMBRE!$F$11 -> 0 | S14: =+DICIEMBRE!$F$11 -> 0 | T14: =SUM(EXIGENCIAS[[#This Row],[ENERO]:[DICIEMBRE]]) -> 0
G17: HORAS FICHAJES
G18: RATIO | H18: ENERO | I18: FEBRERO | J18: MARZO | K18: ABRIL | L18: MAYO | M18: JUNIO | N18: JULIO | O18: AGOSTO | P18: SEPTIEMBRE | Q18: OCTUBRE | R18: NOVIEMBRE | S18: DICIEMBRE | T18: TOTAL
G19: CUIDADOR | H19: =+ENERO!$C$8 -> 0 | I19: =+FEBRERO!$C$8 -> 0 | J19: =+MARZO!$C$8 -> 0 | K19: =+ABRIL!$C$8 -> 0 | L19: =+MAYO!$C$8 -> 0 | M19: =+JUNIO!$C$8 -> 0 | N19: =+JULIO!$C$8 -> 0 | O19: =+AGOSTO!$C$8 -> 0 | P19: =+SEPTIEMBRE!$C$8 -> 0 | Q19: =+OCTUBRE!$C$8 -> 0 | R19: =+NOVIEMBRE!$C$8 -> 0 | S19: =+DICIEMBRE!$C$8 -> 0 | T19: =SUM(EXIGENCIAS10[[#This Row],[ENERO]:[DICIEMBRE]]) -> 0
G20: TECNICOS | H20: =+ENERO!$C$9 -> 0 | I20: =+FEBRERO!$C$9 -> 0 | J20: =+MARZO!$C$9 -> 0 | K20: =+ABRIL!$C$9 -> 0 | L20: =+MAYO!$C$9 -> 0 | M20: =+JUNIO!$C$9 -> 0 | N20: =+JULIO!$C$9 -> 0 | O20: =+AGOSTO!$C$9 -> 0 | P20: =+SEPTIEMBRE!$C$9 -> 0 | Q20: =+OCTUBRE!$C$9 -> 0 | R20: =+NOVIEMBRE!$C$9 -> 0 | S20: =+DICIEMBRE!$C$9 -> 0 | T20: =SUM(EXIGENCIAS10[[#This Row],[ENERO]:[DICIEMBRE]]) -> 0
G21: ENFERMERIA | H21: =+ENERO!$C$10 -> 0 | I21: =+FEBRERO!$C$10 -> 0 | J21: =+MARZO!$C$10 -> 0 | K21: =+ABRIL!$C$10 -> 0 | L21: =+MAYO!$C$10 -> 0 | M21: =+JUNIO!$C$10 -> 0 | N21: =+JULIO!$C$10 -> 0 | O21: =+AGOSTO!$C$10 -> 0 | P21: =+SEPTIEMBRE!$C$10 -> 0 | Q21: =+OCTUBRE!$C$10 -> 0 | R21: =+NOVIEMBRE!$C$10 -> 0 | S21: =+DICIEMBRE!$C$10 -> 0 | T21: =SUM(EXIGENCIAS10[[#This Row],[ENERO]:[DICIEMBRE]]) -> 0
G22: MEDICINA | H22: =+ENERO!$C$11 -> 0 | I22: =+FEBRERO!$C$11 -> 0 | J22: =+MARZO!$C$11 -> 0 | K22: =+ABRIL!$C$11 -> 0 | L22: =+MAYO!$C$11 -> 0 | M22: =+JUNIO!$C$11 -> 0 | N22: =+JULIO!$C$11 -> 0 | O22: =+AGOSTO!$C$11 -> 0 | P22: =+SEPTIEMBRE!$C$11 -> 0 | Q22: =+OCTUBRE!$C$11 -> 0 | R22: =+NOVIEMBRE!$C$11 -> 0 | S22: =+DICIEMBRE!$C$11 -> 0 | T22: =SUM(EXIGENCIAS10[[#This Row],[ENERO]:[DICIEMBRE]]) -> 0
H24: =+H19-H11 -> 0 | I24: =+I19-I11 -> 0 | J24: =+J19-J11 -> 0 | K24: =+K19-K11 -> 0 | L24: =+L19-L11 -> 0 | M24: =+M19-M11 -> 0 | N24: =+N19-N11 -> 0 | O24: =+O19-O11 -> 0 | ... T24: =+T19-T11 -> 0
H25: =+H20-H12 -> 0 | I25: =+I20-I12 -> 0 | J25: =+J20-J12 -> 0 | K25: =+K20-K12 -> 0 | L25: =+L20-L12 -> 0 | M25: =+M20-M12 -> 0 | N25: =+N20-N12 -> 0 | O25: =+O20-O12 -> 0 | ... T25: =+T20-T12 -> 0
H26: =+H21-H13 -> 0 | I26: =+I21-I13 -> 0 | J26: =+J21-J13 -> 0 | K26: =+K21-K13 -> 0 | L26: =+L21-L13 -> 0 | M26: =+M21-M13 -> 0 | N26: =+N21-N13 -> 0 | O26: =+O21-O13 -> 0 | ... T26: =+T21-T13 -> 0
H27: =+H22-H14 -> 0 | I27: =+I22-I14 -> 0 | J27: =+J22-J14 -> 0 | K27: =+K22-K14 -> 0 | L27: =+L22-L14 -> 0 | M27: =+M22-M14 -> 0 | N27: =+N22-N14 -> 0 | O27: =+O22-O14 -> 0 | ... T27: =+T22-T14 -> 0
H28: =+H23-H15 -> 0 | I28: =+I23-I15 -> 0 | J28: =+J23-J15 -> 0 | K28: =+K23-K15 -> 0 | L28: =+L23-L15 -> 0 | M28: =+M23-M15 -> 0 | N28: =+N23-N15 -> 0 | O28: =+O23-O15 -> 0 | ... T28: =+T23-T15 -> 0

Sheet DATOS
A1: CATEGORIA PROFESIONAL | B1: DEP 26 | C1: NO DEP 26 | D1: DEP 27 | E1: NO DEP 27 | F1: DEP 28 | G1: NO DEP 28 | H1: DEP 29 | I1: NO DEP 29 | J1: DEP 30 | K1: NO DEP 30
A2: CUIDADOR | B2: 2.2191781 | C2: 0.73972603 | D2: 2.2191781 | E2: 0.73972603 | F2: 2.2191781 | G2: 0.73972603 | H2: 2.2191781 | I2: 0.73972603 | J2: 2.2191781 | K2: 0.73972603
A3: TECNICOS | B3: 0.17808219 | C3: 0.067123288 | D3: 0.17808219 | E3: 0.067123288 | F3: 0.17808219 | G3: 0.067123288 | H3: 0.17808219 | I3: 0.067123288 | J3: 0.17808219 | K3: 0.067123288
A4: SIN RATIO (Disposición Transitoria Tercera DF 92/2020) | B4: 0 | C4: 0 | D4: 0 | E4: 0 | F4: 0 | G4: 0 | H4: 0 | I4: 0 | J4: 0 | K4: 0
A5: ENFERMERIA RI | B5: 0.094246575 | C5: 0.094246575 | D5: 0.09260274 | E5: 0.09260274 | F5: 0.091780822 | G5: 0.091780822 | H5: 0.090684932 | I5: 0.090684932 | J5: 0.090356164 | K5: 0.090356164
A6: ENFERMERIA RII | B6: 0.16273973 | C6: 0.094246575 | D6: 0.16109589 | E6: 0.09260274 | F6: 0.16027397 | G6: 0.091780822 | H6: 0.15917808 | I6: 0.090684932 | J6: 0.15884932 | K6: 0.090356164
A7: ENFERMERIA RIII | B7: 0.23123288 | C7: 0.094246575 | D7: 0.22958904 | E7: 0.09260274 | F7: 0.22876712 | G7: 0.091780822 | H7: 0.22767123 | I7: 0.090684932 | J7: 0.22734247 | K7: 0.090356164
A8: MEDICINA | B8: 0.04109589 | C8: 0 | D8: 0.04109589 | E8: 0 | F8: 0.04109589 | G8: 0 | H8: 0.04109589 | I8: 0 | J8: 0.04109589 | K8: 0
A11: Año | E11: SI/NO | F11: RATIOS | G11: ASISTENCIAL | H11: MEDICINA
A12: 2027 | F12: SIN RATIO (Disposición Transitoria Tercera DF 92/2020)
E13: SI | F13: ENFERMERIA RI | G13: ASISTENCIAL | H13: MEDICINA
E14: NO | F14: ENFERMERIA RII | H14: NO
F15: ENFERMERIA RIII
