Workbook

Sheet NOVIEMBRE
A1: ="Año "&Tabla_Año[] -> Año 2026
B2: Total Plazas Ocupadas | C2: Total plazas ocupadas Dependiente | D2: Plazas Ocupadas ED | E2: Total plazas ocupadas No dependiente | G2: MES | H2: DIAS
B3: =+Tabla_Ocup_11[Total plazas ocupadas Dependiente]+Tabla_Ocup_11[Plazas Ocupadas ED]*0.5*248/365+Tabla_Ocup_11[Total plazas ocupadas No dependiente] -> 0 | G3: NOVIEMBRE | H3: =DAY(EOMONTH(1&"/"&Tabla_Mes_11[MES]&"/"&Tabla_Año[],0)) -> 30
B7: CATEGORIA PROFESIONAL | C7: HORAS MES (FICHAJES) | D7: horas exigidas día Dependiente | E7: horas exi. Día No dependiente | F7: Total Horas exigidas mes | G7: CUMPLIMIENTO | H7: DIF.
B8: CUIDADOR | D8: =+IFERROR(INDEX(RATIO[DEP 26],MATCH(Tabla_Horas_11[[#This Row],[CATEGORIA PROFESIONAL]],RATIO[CATEGORIA PROFESIONAL],0)),0) -> 2.2191781 | E8: =+IFERROR(INDEX(RATIO[NO DEP 26],MATCH(Tabla_Horas_11[[#This Row],[CATEGORIA PROFESIONAL]],RATIO[CATEGORIA PROFESIONAL],0)),0) -> 0.73972603 | F8: =+(Tabla_Horas_11[[#This Row],[horas exigidas día Dependiente]]*Tabla_Ocup_11[Total plazas ocupadas Dependiente]+Tabla_Horas_11[[#This Row],[horas exi. Día No dependiente]]*Tabla_Ocup_11[Total plazas ocupadas No dependiente])*Tabla_Mes_11[DIAS] -> 0 | G8: =IF(Tabla_Horas_11[[#This Row],[Total Horas exigidas mes]]=0,"",IF(Tabla_Horas_11[[#This Row],[HORAS MES (FICHAJES)]]>=Tabla_Horas_11[[#This Row],[Total Horas exigidas mes]],"CUMPLE","INCUMPLIMIENTO")) | H8: =+Tabla_Horas_11[[#This Row],[HORAS MES (FICHAJES)]]-Tabla_Horas_11[[#This Row],[Total Horas exigidas mes]] -> 0
B9: TECNICOS | D9: =+IFERROR(INDEX(RATIO[DEP 26],MATCH(Tabla_Horas_11[[#This Row],[CATEGORIA PROFESIONAL]],RATIO[CATEGORIA PROFESIONAL],0)),0) -> 0.17808219 | E9: =+IFERROR(INDEX(RATIO[NO DEP 26],MATCH(Tabla_Horas_11[[#This Row],[CATEGORIA PROFESIONAL]],RATIO[CATEGORIA PROFESIONAL],0)),0) -> 0.067123288 | F9: =+(Tabla_Horas_11[[#This Row],[horas exigidas día Dependiente]]*Tabla_Ocup_11[Total plazas ocupadas Dependiente]+Tabla_Horas_11[[#This Row],[horas exi. Día No dependiente]]*Tabla_Ocup_11[Total plazas ocupadas No dependiente])*Tabla_Mes_11[DIAS] -> 0 | G9: =IF(Tabla_Horas_11[[#This Row],[Total Horas exigidas mes]]=0,"",IF(Tabla_Horas_11[[#This Row],[HORAS MES (FICHAJES)]]>=Tabla_Horas_11[[#This Row],[Total Horas exigidas mes]],"CUMPLE","INCUMPLIMIENTO")) | H9: =+Tabla_Horas_11[[#This Row],[HORAS MES (FICHAJES)]]-Tabla_Horas_11[[#This Row],[Total Horas exigidas mes]] -> 0
D10: =+IFERROR(INDEX(RATIO[DEP 26],MATCH(Tabla_Horas_11[[#This Row],[CATEGORIA PROFESIONAL]],RATIO[CATEGORIA PROFESIONAL],0)),0) -> 0 | E10: =+IFERROR(INDEX(RATIO[NO DEP 26],MATCH(Tabla_Horas_11[[#This Row],[CATEGORIA PROFESIONAL]],RATIO[CATEGORIA PROFESIONAL],0)),0) -> 0 | F10: =+(Tabla_Horas_11[[#This Row],[horas exigidas día Dependiente]]*Tabla_Ocup_11[Total plazas ocupadas Dependiente]+Tabla_Horas_11[[#This Row],[horas exi. Día No dependiente]]*Tabla_Ocup_11[Total plazas ocupadas No dependiente])*Tabla_Mes_11[DIAS] -> 0 | G10: =IF(Tabla_Horas_11[[#This Row],[Total Horas exigidas mes]]=0,"",IF(Tabla_Horas_11[[#This Row],[HORAS MES (FICHAJES)]]>=Tabla_Horas_11[[#This Row],[Total Horas exigidas mes]],"CUMPLE","INCUMPLIMIENTO")) | H10: =+Tabla_Horas_11[[#This Row],[HORAS MES (FICHAJES)]]-Tabla_Horas_11[[#This Row],[Total Horas exigidas mes]] -> 0
D11: =+IFERROR(INDEX(RATIO[DEP 26],MATCH(Tabla_Horas_11[[#This Row],[CATEGORIA PROFESIONAL]],RATIO[CATEGORIA PROFESIONAL],0)),0) -> 0 | E11: =+IFERROR(INDEX(RATIO[NO DEP 26],MATCH(Tabla_Horas_11[[#This Row],[CATEGORIA PROFESIONAL]],RATIO[CATEGORIA PROFESIONAL],0)),0) -> 0 | F11: =+(Tabla_Horas_11[[#This Row],[horas exigidas día Dependiente]]*Tabla_Ocup_11[Total plazas ocupadas Dependiente]+Tabla_Horas_11[[#This Row],[horas exi. Día No dependiente]]*Tabla_Ocup_11[Total plazas ocupadas No dependiente])*Tabla_Mes_11[DIAS] -> 0 | G11: =IF(Tabla_Horas_11[[#This Row],[Total Horas exigidas mes]]=0,"",IF(Tabla_Horas_11[[#This Row],[HORAS MES (FICHAJES)]]>=Tabla_Horas_11[[#This Row],[Total Horas exigidas mes]],"CUMPLE","INCUMPLIMIENTO")) | H11: =+Tabla_Horas_11[[#This Row],[HORAS MES (FICHAJES)]]-Tabla_Horas_11[[#This Row],[Total Horas exigidas mes]] -> 0

Sheet DICIEMBRE
A1: ="Año "&Tabla_Año[] -> Año 2026
B2: Total Plazas Ocupadas | C2: Total plazas ocupadas Dependiente | D2: Plazas Ocupadas ED | E2: Total plazas ocupadas No dependiente | H2: MES | I2: DIAS
B3: =+Tabla_Ocup_12[Total plazas ocupadas Dependiente]+Tabla_Ocup_12[Plazas Ocupadas ED]*0.5*248/365+Tabla_Ocup_12[Total plazas ocupadas No dependiente] -> 0 | H3: DICIEMBRE | I3: =DAY(EOMONTH(1&"/"&Tabla_Mes_12[MES]&"/"&Tabla_Año[],0)) -> 31
B7: CATEGORIA PROFESIONAL | C7: HORAS MES (FICHAJES) | D7: horas exigidas día Dependiente | E7: horas exi. Día No dependiente | F7: Total Horas exigidas mes | G7: CUMPLIMIENTO | H7: DIF.
B8: CUIDADOR | D8: =+IFERROR(INDEX(RATIO[DEP 26],MATCH(Tabla_Horas_12[[#This Row],[CATEGORIA PROFESIONAL]],RATIO[CATEGORIA PROFESIONAL],0)),0) -> 2.2191781 | E8: =+IFERROR(INDEX(RATIO[NO DEP 26],MATCH(Tabla_Horas_12[[#This Row],[CATEGORIA PROFESIONAL]],RATIO[CATEGORIA PROFESIONAL],0)),0) -> 0.73972603 | F8: =+(Tabla_Horas_12[[#This Row],[horas exigidas día Dependiente]]*Tabla_Ocup_12[Total plazas ocupadas Dependiente]+Tabla_Horas_12[[#This Row],[horas exi. Día No dependiente]]*Tabla_Ocup_12[Total plazas ocupadas No dependiente])*Tabla_Mes_12[DIAS] -> 0 | G8: =IF(Tabla_Horas_12[[#This Row],[Total Horas exigidas mes]]=0,"",IF(Tabla_Horas_12[[#This Row],[HORAS MES (FICHAJES)]]>=Tabla_Horas_12[[#This Row],[Total Horas exigidas mes]],"CUMPLE","INCUMPLIMIENTO")) | H8: =+Tabla_Horas_12[[#This Row],[HORAS MES (FICHAJES)]]-Tabla_Horas_12[[#This Row],[Total Horas exigidas mes]] -> 0
B9: TECNICOS | D9: =+IFERROR(INDEX(RATIO[DEP 26],MATCH(Tabla_Horas_12[[#This Row],[CATEGORIA PROFESIONAL]],RATIO[CATEGORIA PROFESIONAL],0)),0) -> 0.17808219 | E9: =+IFERROR(INDEX(RATIO[NO DEP 26],MATCH(Tabla_Horas_12[[#This Row],[CATEGORIA PROFESIONAL]],RATIO[CATEGORIA PROFESIONAL],0)),0) -> 0.067123288 | F9: =+(Tabla_Horas_12[[#This Row],[horas exigidas día Dependiente]]*Tabla_Ocup_12[Total plazas ocupadas Dependiente]+Tabla_Horas_12[[#This Row],[horas exi. Día No dependiente]]*Tabla_Ocup_12[Total plazas ocupadas No dependiente])*Tabla_Mes_12[DIAS] -> 0 | G9: =IF(Tabla_Horas_12[[#This Row],[Total Horas exigidas mes]]=0,"",IF(Tabla_Horas_12[[#This Row],[HORAS MES (FICHAJES)]]>=Tabla_Horas_12[[#This Row],[Total Horas exigidas mes]],"CUMPLE","INCUMPLIMIENTO")) | H9: =+Tabla_Horas_12[[#This Row],[HORAS MES (FICHAJES)]]-Tabla_Horas_12[[#This Row],[Total Horas exigidas mes]] -> 0
D10: =+IFERROR(INDEX(RATIO[DEP 26],MATCH(Tabla_Horas_12[[#This Row],[CATEGORIA PROFESIONAL]],RATIO[CATEGORIA PROFESIONAL],0)),0) -> 0 | E10: =+IFERROR(INDEX(RATIO[NO DEP 26],MATCH(Tabla_Horas_12[[#This Row],[CATEGORIA PROFESIONAL]],RATIO[CATEGORIA PROFESIONAL],0)),0) -> 0 | F10: =+(Tabla_Horas_12[[#This Row],[horas exigidas día Dependiente]]*Tabla_Ocup_12[Total plazas ocupadas Dependiente]+Tabla_Horas_12[[#This Row],[horas exi. Día No dependiente]]*Tabla_Ocup_12[Total plazas ocupadas No dependiente])*Tabla_Mes_12[DIAS] -> 0 | G10: =IF(Tabla_Horas_12[[#This Row],[Total Horas exigidas mes]]=0,"",IF(Tabla_Horas_12[[#This Row],[HORAS MES (FICHAJES)]]>=Tabla_Horas_12[[#This Row],[Total Horas exigidas mes]],"CUMPLE","INCUMPLIMIENTO")) | H10: =+Tabla_Horas_12[[#This Row],[HORAS MES (FICHAJES)]]-Tabla_Horas_12[[#This Row],[Total Horas exigidas mes]] -> 0

Sheet AÑO 2026
A1: ="Año "&Tabla_Año[] -> Año 2026 | G1: CUMPLIMIENTO
A2: MES | B2: OCUPACION | C2: DEPENDIENTES | D2: NO DEPENDIENTES | G2: RATIO | H2: NOVIEMBRE | I2: DICIEMBRE | J2: TOTAL
A3: NOVIEMBRE | B3: =+Tabla_Ocup_11[Total Plazas Ocupadas] -> 0 | C3: =+Tabla_Ocup_11[Total plazas ocupadas Dependiente] -> 0 | D3: =+Tabla_Ocup_11[Total plazas ocupadas No dependiente] -> 0 | G3: CUIDADOR | H3: =+NOVIEMBRE!$H$8 -> 0 | I3: =+DICIEMBRE!$H$8 -> 0 | J3: =SUM(INCUMPLIMIENTOS[[#This Row],[NOVIEMBRE]:[DICIEMBRE]]) -> 0
A4: DICIEMBRE | B4: =+Tabla_Ocup_12[Total Plazas Ocupadas] -> 0 | C4: =+Tabla_Ocup_12[Total plazas ocupadas Dependiente] -> 0 | D4: =+Tabla_Ocup_12[Total plazas ocupadas No dependiente] -> 0 | G4: TECNICOS | H4: =+NOVIEMBRE!$H$9 -> 0 | I4: =+DICIEMBRE!$H$9 -> 0 | J4: =SUM(INCUMPLIMIENTOS[[#This Row],[NOVIEMBRE]:[DICIEMBRE]]) -> 0
G5: ENFERMERIA | H5: =+NOVIEMBRE!$H$10 -> 0 | I5: =+DICIEMBRE!$H$10 -> 0 | J5: =SUM(INCUMPLIMIENTOS[[#This Row],[NOVIEMBRE]:[DICIEMBRE]]) -> 0
G6: MEDICINA | H6: =+NOVIEMBRE!$H$11 -> 0 | I6: =+DICIEMBRE!$H$11 -> 0 | J6: =SUM(INCUMPLIMIENTOS[[#This Row],[NOVIEMBRE]:[DICIEMBRE]]) -> 0
G9: EXIGENCIAS MES
G10: RATIO | H10: NOVIEMBRE | I10: DICIEMBRE | J10: TOTAL
G11: CUIDADOR | H11: =+NOVIEMBRE!$F$8 -> 0 | I11: =+DICIEMBRE!$F$8 -> 0 | J11: =+SUM(EXIGENCIAS[[#This Row],[NOVIEMBRE]:[DICIEMBRE]]) -> 0
G12: TECNICOS | H12: =+NOVIEMBRE!$F$9 -> 0 | I12: =+DICIEMBRE!$F$9 -> 0 | J12: =+SUM(EXIGENCIAS[[#This Row],[NOVIEMBRE]:[DICIEMBRE]]) -> 0
G13: ENFERMERIA | H13: =+NOVIEMBRE!$F$10 -> 0 | I13: =+DICIEMBRE!$F$10 -> 0 | J13: =+SUM(EXIGENCIAS[[#This Row],[NOVIEMBRE]:[DICIEMBRE]]) -> 0
G14: MEDICINA | H14: =+NOVIEMBRE!$F$11 -> 0 | I14: =+DICIEMBRE!$F$11 -> 0 | J14: =+SUM(EXIGENCIAS[[#This Row],[NOVIEMBRE]:[DICIEMBRE]]) -> 0
G17: HORAS FICHAJES
G18: RATIO | H18: NOVIEMBRE | I18: DICIEMBRE | J18: TOTAL
G19: CUIDADOR | H19: =+NOVIEMBRE!$C$8 -> 0 | I19: =+DICIEMBRE!$C$8 -> 0 | J19: =+SUM(EXIGENCIAS10[[#This Row],[NOVIEMBRE]:[DICIEMBRE]]) -> 0
G20: TECNICOS | H20: =+NOVIEMBRE!$C$9 -> 0 | I20: =+DICIEMBRE!$C$9 -> 0 | J20: =+SUM(EXIGENCIAS10[[#This Row],[NOVIEMBRE]:[DICIEMBRE]]) -> 0
G21: ENFERMERIA | H21: =+NOVIEMBRE!$C$10 -> 0 | I21: =+DICIEMBRE!$C$10 -> 0 | J21: =+SUM(EXIGENCIAS10[[#This Row],[NOVIEMBRE]:[DICIEMBRE]]) -> 0
G22: MEDICINA | H22: =+NOVIEMBRE!$C$11 -> 0 | I22: =+DICIEMBRE!$C$11 -> 0 | J22: =+SUM(EXIGENCIAS10[[#This Row],[NOVIEMBRE]:[DICIEMBRE]]) -> 0

Sheet DATOS
A1: CATEGORIA PROFESIONAL | B1: DEP 26 | C1: NO DEP 26 | D1: DEP 27 | E1: NO DEP 27 | F1: DEP 28 | G1: NO DEP 28 | H1: DEP 29 | I1: NO DEP 29 | J1: DEP 30 | K1: NO DEP 30
A2: CUIDADOR | B2: 2.2191781 | C2: 0.73972603 | D2: 2.2191781 | E2: 0.73972603 | F2: 2.2191781 | G2: 0.73972603 | H2: 2.2191781 | I2: 0.73972603 | J2: 2.2191781 | K2: 0.73972603
A3: TECNICOS | B3: 0.17808219 | C3: 0.067123288 | D3: 0.17808219 | E3: 0.067123288 | F3: 0.17808219 | G3: 0.067123288 | H3: 0.17808219 | I3: 0.067123288 | J3: 0.17808219 | K3: 0.067123288
A4: SIN RATIO (Disposición Transitoria Tercera DF 92/2020) | B4: 0 | C4: 0 | D4: 0 | E4: 0 | F4: 0 | G4: 0 | H4: 0 | I4: 0 | J4: 0 | K4: 0
A5: ENFERMERIA RI | B5: 0.094246575 | C5: 0.094246575 | D5: 0.09260274 | E5: 0.09260274 | F5: 0.091780822 | G5: 0.091780822 | H5: 0.090684932 | I5: 0.090684932 | J5: 0.090356164 | K5: 0.090356164
A6: ENFERMERIA RII | B6: 0.16273973 | C6: 0.094246575 | D6: 0.16109589 | E6: 0.09260274 | F6: 0.16027397 | G6: 0.091780822 | H6: 0.15917808 | I6: 0.090684932 | J6: 0.15884932 | K6: 0.090356164
A7: ENFERMERIA RIII | B7: 0.23123288 | C7: 0.094246575 | D7: 0.22958904 | E7: 0.09260274 | F7: 0.22876712 | G7: 0.091780822 | H7: 0.22767123 | I7: 0.090684932 | J7: 0.22734247 | K7: 0.090356164
A8: MEDICINA | B8: 0.04109589 | C8: 0 | D8: 0.04109589 | E8: 0 | F8: 0.04109589 | G8: 0 | H8: 0.04109589 | I8: 0 | J8: 0.04109589 | K8: 0
A11: Año | E11: SI/NO | F11: RATIOS | G11: ASISTENCIAL | H11: MEDICINA
A12: 2026 | F12: SIN RATIO (Disposición Transitoria Tercera DF 92/2020)
E13: SI | F13: ENFERMERIA RI | G13: ASISTENCIAL | H13: MEDICINA
E14: NO | F14: ENFERMERIA RII | H14: NO
F15: ENFERMERIA RIII
