Workbook
Name CD_1: 'Anexo VIII (LOTE 4)'!$B$2
Name CD_10: 'Anexo VIII (LOTE 4)'!$B$11
Name CD_11: 'Anexo VIII (LOTE 4)'!$B$12
Name CD_12: 'Anexo VIII (LOTE 4)'!$B$13
Name CD_13: 'Anexo VIII (LOTE 4)'!$B$14
Name CD_14: 'Anexo VIII (LOTE 4)'!$B$15
Name CD_15: 'Anexo VIII (LOTE 4)'!$B$16
Name CD_2: 'Anexo VIII (LOTE 4)'!$B$3
Name CD_3: 'Anexo VIII (LOTE 4)'!$B$4
Name CD_4: 'Anexo VIII (LOTE 4)'!$B$5
Name CD_5: 'Anexo VIII (LOTE 4)'!$B$6
Name CD_6: 'Anexo VIII (LOTE 4)'!$B$7
Name CD_7: 'Anexo VIII (LOTE 4)'!$B$8
Name CD_8: 'Anexo VIII (LOTE 4)'!$B$9
Name CD_9: 'Anexo VIII (LOTE 4)'!$B$10
Name CENDESCRIP: RES!$B$2:$B$83
Name Entidad: 'CD (2)'!$H$50:$H$74
Name Entidad: RES!$D$104:INDEX(RES!$D$104:$D$204,COUNTIF(RES!$D$104:$D$204,">""")+1)
Name Entidades: 'CD (2)'!$D$50:INDEX('CD (2)'!$D$50:$D$89,MAX('CD (2)'!$A$50:$A$89)+1)
Name IVA_1: 'Anexo VIII (LOTE 4)'!$F$2
Name IVA_10: 'Anexo VIII (LOTE 4)'!$F$11
Name IVA_11: 'Anexo VIII (LOTE 4)'!$F$12
Name IVA_12: 'Anexo VIII (LOTE 4)'!$F$13
Name IVA_13: 'Anexo VIII (LOTE 4)'!$F$14
Name IVA_14: 'Anexo VIII (LOTE 4)'!$F$15
Name IVA_15: 'Anexo VIII (LOTE 4)'!$F$16
Name IVA_2: 'Anexo VIII (LOTE 4)'!$F$3
Name IVA_3: 'Anexo VIII (LOTE 4)'!$F$4
Name IVA_4: 'Anexo VIII (LOTE 4)'!$F$5
Name IVA_5: 'Anexo VIII (LOTE 4)'!$F$6
Name IVA_6: 'Anexo VIII (LOTE 4)'!$F$7
Name IVA_7: 'Anexo VIII (LOTE 4)'!$F$8
Name IVA_8: 'Anexo VIII (LOTE 4)'!$F$9
Name IVA_9: 'Anexo VIII (LOTE 4)'!$F$10
Name L3_Localidad: 'RES+CD'!$G$141:INDEX('RES+CD'!$G$141:$G$274,MAX('RES+CD'!$F$141:$F$274)+1)
Name L4_Localidad: 'RES+CD'!$G$141:INDEX('RES+CD'!$G$141:$G$274,MAX('RES+CD'!$F$141:$F$274)+1)
Name L4_TITULAR: 'RES+CD'!$D$141:INDEX('RES+CD'!$D$141:$D$274,MAX('RES+CD'!$C$141:$C$274)+1)
Name Localidad: 'CD (2)'!$H$50:INDEX('CD (2)'!$H$50:$H$89,MAX('CD (2)'!$G$50:$G$89)+1)
Name Localidad: RES!$G$105:INDEX(RES!$G$105:$G$205,COUNTIF(RES!$G$105:$G$205,">""")+1)

Sheet Anexo V y VI (lote 1 y 2)
B1: CENTRO | C1: LOCALIDAD | D1: ENTIDAD GESTORA | E1: TITULAR | F1: EXENTA IVA* | G1: CODIGO SIPPS
G2: =+IFERROR(INDEX(RESIDENCIAS[CENCODIGO],MATCH(CENTRO[CENTRO],RESIDENCIAS[CENDESCRIP],0)),"")
B5: OFERTA LOTE 1
B7: PLAZAS AUTORIZADAS RESIDENCIA | C7: PLAZAS OFERTADAS RESIDENCIA
B11: RATIO | C11: MODULOS DEPENDIENTE | D11: 2026 | E11: 2027 | F11: 2028 | G11: 2029 | H11: 2030
B12: ASISTENCIAL | C12: ASISTENCIAL | D12: =+IFERROR(IF(CENTRO[EXENTA IVA*]="SI",INDEX(DEP_SAL[2026],MATCH(Tabla27[[#This Row],[MODULOS DEPENDIENTE]],DEP_SAL[RATIO],0)),INDEX(DEP_L[2026],MATCH(Tabla27[[#This Row],[MODULOS DEPENDIENTE]],DEP_L[RATIO],0))*1.04),0) -> 3183.7874 | E12: =+IFERROR(IF(CENTRO[EXENTA IVA*]="SI",INDEX(DEP_SAL[2027],MATCH(Tabla27[[#This Row],[MODULOS DEPENDIENTE]],DEP_SAL[RATIO],0)),INDEX(DEP_L[2027],MATCH(Tabla27[[#This Row],[MODULOS DEPENDIENTE]],DEP_L[RATIO],0))*1.04),0) -> 3330.9399 | F12: =+IFERROR(IF(CENTRO[EXENTA IVA*]="SI",INDEX(DEP_SAL[2028],MATCH(Tabla27[[#This Row],[MODULOS DEPENDIENTE]],DEP_SAL[RATIO],0)),INDEX(DEP_L[2028],MATCH(Tabla27[[#This Row],[MODULOS DEPENDIENTE]],DEP_L[RATIO],0))*1.04),0) -> 3447.6168 | G12: =+IFERROR(IF(CENTRO[EXENTA IVA*]="SI",INDEX(DEP_SAL[2029],MATCH(Tabla27[[#This Row],[MODULOS DEPENDIENTE]],DEP_SAL[RATIO],0)),INDEX(DEP_L[2029],MATCH(Tabla27[[#This Row],[MODULOS DEPENDIENTE]],DEP_L[RATIO],0))*1.04),0) -> 3535.2536 | H12: =+IFERROR(IF(CENTRO[EXENTA IVA*]="SI",INDEX(DEP_SAL[2030],MATCH(Tabla27[[#This Row],[MODULOS DEPENDIENTE]],DEP_SAL[RATIO],0)),INDEX(DEP_L[2030],MATCH(Tabla27[[#This Row],[MODULOS DEPENDIENTE]],DEP_L[RATIO],0))*1.04),0) -> 3645.6449
B13: ENFERMERIA | D13: =+IFERROR(IF(CENTRO[EXENTA IVA*]="SI",INDEX(DEP_SAL[2026],MATCH(Tabla27[[#This Row],[MODULOS DEPENDIENTE]],DEP_SAL[RATIO],0)),INDEX(DEP_L[2026],MATCH(Tabla27[[#This Row],[MODULOS DEPENDIENTE]],DEP_L[RATIO],0))*1.04),0) -> 0 | E13: =+IFERROR(IF(CENTRO[EXENTA IVA*]="SI",INDEX(DEP_SAL[2027],MATCH(Tabla27[[#This Row],[MODULOS DEPENDIENTE]],DEP_SAL[RATIO],0)),INDEX(DEP_L[2027],MATCH(Tabla27[[#This Row],[MODULOS DEPENDIENTE]],DEP_L[RATIO],0))*1.04),0) -> 0 | F13: =+IFERROR(IF(CENTRO[EXENTA IVA*]="SI",INDEX(DEP_SAL[2028],MATCH(Tabla27[[#This Row],[MODULOS DEPENDIENTE]],DEP_SAL[RATIO],0)),INDEX(DEP_L[2028],MATCH(Tabla27[[#This Row],[MODULOS DEPENDIENTE]],DEP_L[RATIO],0))*1.04),0) -> 0 | G13: =+IFERROR(IF(CENTRO[EXENTA IVA*]="SI",INDEX(DEP_SAL[2029],MATCH(Tabla27[[#This Row],[MODULOS DEPENDIENTE]],DEP_SAL[RATIO],0)),INDEX(DEP_L[2029],MATCH(Tabla27[[#This Row],[MODULOS DEPENDIENTE]],DEP_L[RATIO],0))*1.04),0) -> 0 | H13: =+IFERROR(IF(CENTRO[EXENTA IVA*]="SI",INDEX(DEP_SAL[2030],MATCH(Tabla27[[#This Row],[MODULOS DEPENDIENTE]],DEP_SAL[RATIO],0)),INDEX(DEP_L[2030],MATCH(Tabla27[[#This Row],[MODULOS DEPENDIENTE]],DEP_L[RATIO],0))*1.04),0) -> 0
B14: MEDICINA | D14: =+IFERROR(IF(CENTRO[EXENTA IVA*]="SI",INDEX(DEP_SAL[2026],MATCH(Tabla27[[#This Row],[MODULOS DEPENDIENTE]],DEP_SAL[RATIO],0)),INDEX(DEP_L[2026],MATCH(Tabla27[[#This Row],[MODULOS DEPENDIENTE]],DEP_L[RATIO],0))*1.04),0) -> 0 | E14: =+IFERROR(IF(CENTRO[EXENTA IVA*]="SI",INDEX(DEP_SAL[2027],MATCH(Tabla27[[#This Row],[MODULOS DEPENDIENTE]],DEP_SAL[RATIO],0)),INDEX(DEP_L[2027],MATCH(Tabla27[[#This Row],[MODULOS DEPENDIENTE]],DEP_L[RATIO],0))*1.04),0) -> 0 | F14: =+IFERROR(IF(CENTRO[EXENTA IVA*]="SI",INDEX(DEP_SAL[2028],MATCH(Tabla27[[#This Row],[MODULOS DEPENDIENTE]],DEP_SAL[RATIO],0)),INDEX(DEP_L[2028],MATCH(Tabla27[[#This Row],[MODULOS DEPENDIENTE]],DEP_L[RATIO],0))*1.04),0) -> 0 | G14: =+IFERROR(IF(CENTRO[EXENTA IVA*]="SI",INDEX(DEP_SAL[2029],MATCH(Tabla27[[#This Row],[MODULOS DEPENDIENTE]],DEP_SAL[RATIO],0)),INDEX(DEP_L[2029],MATCH(Tabla27[[#This Row],[MODULOS DEPENDIENTE]],DEP_L[RATIO],0))*1.04),0) -> 0 | H14: =+IFERROR(IF(CENTRO[EXENTA IVA*]="SI",INDEX(DEP_SAL[2030],MATCH(Tabla27[[#This Row],[MODULOS DEPENDIENTE]],DEP_SAL[RATIO],0)),INDEX(DEP_L[2030],MATCH(Tabla27[[#This Row],[MODULOS DEPENDIENTE]],DEP_L[RATIO],0))*1.04),0) -> 0
B15: Total | D15: =SUBTOTAL(109,Tabla27[2026]) -> 3183.7874 | E15: =SUBTOTAL(109,Tabla27[2027]) -> 3330.9399 | F15: =SUBTOTAL(109,Tabla27[2028]) -> 3447.6168 | G15: =SUBTOTAL(109,Tabla27[2029]) -> 3535.2536 | H15: =SUBTOTAL(109,Tabla27[2030]) -> 3645.6449
B18: RATIO | C18: MODULOS NO DEPENDIENTE | D18: 2026 | E18: 2027 | F18: 2028 | G18: 2029 | H18: 2030
B19: ASISTENCIAL | C19: =+$C$12 -> ASISTENCIAL | D19: =+IFERROR(IF(CENTRO[EXENTA IVA*]="SI",INDEX(ND_SAL[2026],MATCH(Tabla2731[[#This Row],[MODULOS NO DEPENDIENTE]],ND_SAL[RATIO],0)),INDEX(ND_L[2026],MATCH(Tabla2731[[#This Row],[MODULOS NO DEPENDIENTE]],ND_L[RATIO],0))*1.04),0) -> 2158.192 | E19: =+IFERROR(IF(CENTRO[EXENTA IVA*]="SI",INDEX(ND_SAL[2027],MATCH(Tabla2731[[#This Row],[MODULOS NO DEPENDIENTE]],ND_SAL[RATIO],0)),INDEX(ND_L[2027],MATCH(Tabla2731[[#This Row],[MODULOS NO DEPENDIENTE]],ND_L[RATIO],0))*1.04),0) -> 2251.2948 | F19: =+IFERROR(IF(CENTRO[EXENTA IVA*]="SI",INDEX(ND_SAL[2028],MATCH(Tabla2731[[#This Row],[MODULOS NO DEPENDIENTE]],ND_SAL[RATIO],0)),INDEX(ND_L[2028],MATCH(Tabla2731[[#This Row],[MODULOS NO DEPENDIENTE]],ND_L[RATIO],0))*1.04),0) -> 2318.7431 | G19: =+IFERROR(IF(CENTRO[EXENTA IVA*]="SI",INDEX(ND_SAL[2029],MATCH(Tabla2731[[#This Row],[MODULOS NO DEPENDIENTE]],ND_SAL[RATIO],0)),INDEX(ND_L[2029],MATCH(Tabla2731[[#This Row],[MODULOS NO DEPENDIENTE]],ND_L[RATIO],0))*1.04),0) -> 2371.909 | H19: =+IFERROR(IF(CENTRO[EXENTA IVA*]="SI",INDEX(ND_SAL[2030],MATCH(Tabla2731[[#This Row],[MODULOS NO DEPENDIENTE]],ND_SAL[RATIO],0)),INDEX(ND_L[2030],MATCH(Tabla2731[[#This Row],[MODULOS NO DEPENDIENTE]],ND_L[RATIO],0))*1.04),0) -> 2440.6715
B20: ENFERMERIA | C20: =+$C$13 -> 0 | D20: =+IFERROR(IF(CENTRO[EXENTA IVA*]="SI",INDEX(ND_SAL[2026],MATCH(Tabla2731[[#This Row],[MODULOS NO DEPENDIENTE]],ND_SAL[RATIO],0)),INDEX(ND_L[2026],MATCH(Tabla2731[[#This Row],[MODULOS NO DEPENDIENTE]],ND_L[RATIO],0))*1.04),0) -> 0 | E20: =+IFERROR(IF(CENTRO[EXENTA IVA*]="SI",INDEX(ND_SAL[2027],MATCH(Tabla2731[[#This Row],[MODULOS NO DEPENDIENTE]],ND_SAL[RATIO],0)),INDEX(ND_L[2027],MATCH(Tabla2731[[#This Row],[MODULOS NO DEPENDIENTE]],ND_L[RATIO],0))*1.04),0) -> 0 | F20: =+IFERROR(IF(CENTRO[EXENTA IVA*]="SI",INDEX(ND_SAL[2028],MATCH(Tabla2731[[#This Row],[MODULOS NO DEPENDIENTE]],ND_SAL[RATIO],0)),INDEX(ND_L[2028],MATCH(Tabla2731[[#This Row],[MODULOS NO DEPENDIENTE]],ND_L[RATIO],0))*1.04),0) -> 0 | G20: =+IFERROR(IF(CENTRO[EXENTA IVA*]="SI",INDEX(ND_SAL[2029],MATCH(Tabla2731[[#This Row],[MODULOS NO DEPENDIENTE]],ND_SAL[RATIO],0)),INDEX(ND_L[2029],MATCH(Tabla2731[[#This Row],[MODULOS NO DEPENDIENTE]],ND_L[RATIO],0))*1.04),0) -> 0 | H20: =+IFERROR(IF(CENTRO[EXENTA IVA*]="SI",INDEX(ND_SAL[2030],MATCH(Tabla2731[[#This Row],[MODULOS NO DEPENDIENTE]],ND_SAL[RATIO],0)),INDEX(ND_L[2030],MATCH(Tabla2731[[#This Row],[MODULOS NO DEPENDIENTE]],ND_L[RATIO],0))*1.04),0) -> 0
B21: MEDICINA | C21: =+$C$14 -> 0 | D21: =+IFERROR(IF(CENTRO[EXENTA IVA*]="SI",INDEX(ND_SAL[2026],MATCH(Tabla2731[[#This Row],[MODULOS NO DEPENDIENTE]],ND_SAL[RATIO],0)),INDEX(ND_L[2026],MATCH(Tabla2731[[#This Row],[MODULOS NO DEPENDIENTE]],ND_L[RATIO],0))*1.04),0) -> 0 | E21: =+IFERROR(IF(CENTRO[EXENTA IVA*]="SI",INDEX(ND_SAL[2027],MATCH(Tabla2731[[#This Row],[MODULOS NO DEPENDIENTE]],ND_SAL[RATIO],0)),INDEX(ND_L[2027],MATCH(Tabla2731[[#This Row],[MODULOS NO DEPENDIENTE]],ND_L[RATIO],0))*1.04),0) -> 0 | F21: =+IFERROR(IF(CENTRO[EXENTA IVA*]="SI",INDEX(ND_SAL[2028],MATCH(Tabla2731[[#This Row],[MODULOS NO DEPENDIENTE]],ND_SAL[RATIO],0)),INDEX(ND_L[2028],MATCH(Tabla2731[[#This Row],[MODULOS NO DEPENDIENTE]],ND_L[RATIO],0))*1.04),0) -> 0 | G21: =+IFERROR(IF(CENTRO[EXENTA IVA*]="SI",INDEX(ND_SAL[2029],MATCH(Tabla2731[[#This Row],[MODULOS NO DEPENDIENTE]],ND_SAL[RATIO],0)),INDEX(ND_L[2029],MATCH(Tabla2731[[#This Row],[MODULOS NO DEPENDIENTE]],ND_L[RATIO],0))*1.04),0) -> 0 | H21: =+IFERROR(IF(CENTRO[EXENTA IVA*]="SI",INDEX(ND_SAL[2030],MATCH(Tabla2731[[#This Row],[MODULOS NO DEPENDIENTE]],ND_SAL[RATIO],0)),INDEX(ND_L[2030],MATCH(Tabla2731[[#This Row],[MODULOS NO DEPENDIENTE]],ND_L[RATIO],0))*1.04),0) -> 0
B22: Total | D22: =SUBTOTAL(109,Tabla2731[2026]) -> 2158.192 | E22: =SUBTOTAL(109,Tabla2731[2027]) -> 2251.2948 | F22: =SUBTOTAL(109,Tabla2731[2028]) -> 2318.7431 | G22: =SUBTOTAL(109,Tabla2731[2029]) -> 2371.909 | H22: =SUBTOTAL(109,Tabla2731[2030]) -> 2440.6715
B25: OFERTA LOTE 2
B27: PLAZAS AUTORIZADAS ESTANCIA DIURNA | C27: PLAZAS OFERTADAS ESTANCIA DIURNA
B30: RATIO | C30: MODULOS ED | D30: 2026 | E30: 2027 | F30: 2028 | G30: 2029 | H30: 2030
B31: ASISTENCIAL | C31: =+$C$12 -> ASISTENCIAL | D31: =+IFERROR(IF(CENTRO[EXENTA IVA*]="SI",INDEX(ED_SAL[2026],MATCH(Tabla2732[[#This Row],[MODULOS ED]],ED_SAL[RATIO],0)),INDEX(ED_L[2026],MATCH(Tabla2732[[#This Row],[MODULOS ED]],ED_L[RATIO],0))*1.04),0) -> 1081.6154 | E31: =+IFERROR(IF(CENTRO[EXENTA IVA*]="SI",INDEX(ED_SAL[2027],MATCH(Tabla2732[[#This Row],[MODULOS ED]],ED_SAL[RATIO],0)),INDEX(ED_L[2027],MATCH(Tabla2732[[#This Row],[MODULOS ED]],ED_L[RATIO],0))*1.04),0) -> 1131.607 | F31: =+IFERROR(IF(CENTRO[EXENTA IVA*]="SI",INDEX(ED_SAL[2028],MATCH(Tabla2732[[#This Row],[MODULOS ED]],ED_SAL[RATIO],0)),INDEX(ED_L[2028],MATCH(Tabla2732[[#This Row],[MODULOS ED]],ED_L[RATIO],0))*1.04),0) -> 1169.1254 | G31: =+IFERROR(IF(CENTRO[EXENTA IVA*]="SI",INDEX(ED_SAL[2029],MATCH(Tabla2732[[#This Row],[MODULOS ED]],ED_SAL[RATIO],0)),INDEX(ED_L[2029],MATCH(Tabla2732[[#This Row],[MODULOS ED]],ED_L[RATIO],0))*1.04),0) -> 1198.8329 | H31: =+IFERROR(IF(CENTRO[EXENTA IVA*]="SI",INDEX(ED_SAL[2030],MATCH(Tabla2732[[#This Row],[MODULOS ED]],ED_SAL[RATIO],0)),INDEX(ED_L[2030],MATCH(Tabla2732[[#This Row],[MODULOS ED]],ED_L[RATIO],0))*1.04),0) -> 1236.2552
B32: ENFERMERIA | C32: =+$C$13 -> 0 | D32: =+IFERROR(IF(CENTRO[EXENTA IVA*]="SI",INDEX(ED_SAL[2026],MATCH(Tabla2732[[#This Row],[MODULOS ED]],ED_SAL[RATIO],0)),INDEX(ED_L[2026],MATCH(Tabla2732[[#This Row],[MODULOS ED]],ED_L[RATIO],0))*1.04),0) -> 0 | E32: =+IFERROR(IF(CENTRO[EXENTA IVA*]="SI",INDEX(ED_SAL[2027],MATCH(Tabla2732[[#This Row],[MODULOS ED]],ED_SAL[RATIO],0)),INDEX(ED_L[2027],MATCH(Tabla2732[[#This Row],[MODULOS ED]],ED_L[RATIO],0))*1.04),0) -> 0 | F32: =+IFERROR(IF(CENTRO[EXENTA IVA*]="SI",INDEX(ED_SAL[2028],MATCH(Tabla2732[[#This Row],[MODULOS ED]],ED_SAL[RATIO],0)),INDEX(ED_L[2028],MATCH(Tabla2732[[#This Row],[MODULOS ED]],ED_L[RATIO],0))*1.04),0) -> 0 | G32: =+IFERROR(IF(CENTRO[EXENTA IVA*]="SI",INDEX(ED_SAL[2029],MATCH(Tabla2732[[#This Row],[MODULOS ED]],ED_SAL[RATIO],0)),INDEX(ED_L[2029],MATCH(Tabla2732[[#This Row],[MODULOS ED]],ED_L[RATIO],0))*1.04),0) -> 0 | H32: =+IFERROR(IF(CENTRO[EXENTA IVA*]="SI",INDEX(ED_SAL[2030],MATCH(Tabla2732[[#This Row],[MODULOS ED]],ED_SAL[RATIO],0)),INDEX(ED_L[2030],MATCH(Tabla2732[[#This Row],[MODULOS ED]],ED_L[RATIO],0))*1.04),0) -> 0
B33: MEDICINA | C33: =+$C$14 -> 0 | D33: =+IFERROR(IF(CENTRO[EXENTA IVA*]="SI",INDEX(ED_SAL[2026],MATCH(Tabla2732[[#This Row],[MODULOS ED]],ED_SAL[RATIO],0)),INDEX(ED_L[2026],MATCH(Tabla2732[[#This Row],[MODULOS ED]],ED_L[RATIO],0))*1.04),0) -> 0 | E33: =+IFERROR(IF(CENTRO[EXENTA IVA*]="SI",INDEX(ED_SAL[2027],MATCH(Tabla2732[[#This Row],[MODULOS ED]],ED_SAL[RATIO],0)),INDEX(ED_L[2027],MATCH(Tabla2732[[#This Row],[MODULOS ED]],ED_L[RATIO],0))*1.04),0) -> 0 | F33: =+IFERROR(IF(CENTRO[EXENTA IVA*]="SI",INDEX(ED_SAL[2028],MATCH(Tabla2732[[#This Row],[MODULOS ED]],ED_SAL[RATIO],0)),INDEX(ED_L[2028],MATCH(Tabla2732[[#This Row],[MODULOS ED]],ED_L[RATIO],0))*1.04),0) -> 0 | G33: =+IFERROR(IF(CENTRO[EXENTA IVA*]="SI",INDEX(ED_SAL[2029],MATCH(Tabla2732[[#This Row],[MODULOS ED]],ED_SAL[RATIO],0)),INDEX(ED_L[2029],MATCH(Tabla2732[[#This Row],[MODULOS ED]],ED_L[RATIO],0))*1.04),0) -> 0 | H33: =+IFERROR(IF(CENTRO[EXENTA IVA*]="SI",INDEX(ED_SAL[2030],MATCH(Tabla2732[[#This Row],[MODULOS ED]],ED_SAL[RATIO],0)),INDEX(ED_L[2030],MATCH(Tabla2732[[#This Row],[MODULOS ED]],ED_L[RATIO],0))*1.04),0) -> 0
B34: Total | D34: =SUBTOTAL(109,Tabla2732[2026]) -> 1081.6154 | E34: =SUBTOTAL(109,Tabla2732[2027]) -> 1131.607 | F34: =SUBTOTAL(109,Tabla2732[2028]) -> 1169.1254 | G34: =SUBTOTAL(109,Tabla2732[2029]) -> 1198.8329 | H34: =SUBTOTAL(109,Tabla2732[2030]) -> 1236.2552

Sheet Anexo VII (LOTE 3)
B2: OFERTA LOTE 3
B4: ENTIDAD GESTORA | C4: TITULAR | D4: EXENTA IVA TRANSPORTE | E4: OFERTA DE PLAZAS TRANSPORTE
B8: CENTRO | C8: LOCALIDAD
A25: Nº PLAZAS OFERTADAS | B25: MODULO TRANSPORTE | C25: 2026 | D25: 2027 | E25: 2028 | F25: 2029 | G25: 2030
A26: =+$E$5 -> 0 | B26: =+IF($D$5="SI", "TRANSPORTE SAL","TRANSPORTE LUCRO") -> TRANSPORTE LUCRO | C26: =+IFERROR(IF($D$5="SI",INDEX(T_SAL[2026],MATCH(Tabla2735[[#This Row],[MODULO TRANSPORTE]],T_SAL[MODULO],0)),INDEX(T_L[2026],MATCH(Tabla2735[[#This Row],[MODULO TRANSPORTE]],T_L[MODULO],0))*1.04),0) -> 238.57429 | D26: =+IFERROR(IF($D$5="SI",INDEX(T_SAL[2027],MATCH(Tabla2735[[#This Row],[MODULO TRANSPORTE]],T_SAL[MODULO],0)),INDEX(T_L[2027],MATCH(Tabla2735[[#This Row],[MODULO TRANSPORTE]],T_L[MODULO],0))*1.04),0) -> 246.72542 | E26: =+IFERROR(IF($D$5="SI",INDEX(T_SAL[2028],MATCH(Tabla2735[[#This Row],[MODULO TRANSPORTE]],T_SAL[MODULO],0)),INDEX(T_L[2028],MATCH(Tabla2735[[#This Row],[MODULO TRANSPORTE]],T_L[MODULO],0))*1.04),0) -> 253.31404 | F26: =+IFERROR(IF($D$5="SI",INDEX(T_SAL[2029],MATCH(Tabla2735[[#This Row],[MODULO TRANSPORTE]],T_SAL[MODULO],0)),INDEX(T_L[2029],MATCH(Tabla2735[[#This Row],[MODULO TRANSPORTE]],T_L[MODULO],0))*1.04),0) -> 258.3541 | G26: =+IFERROR(IF($D$5="SI",INDEX(T_SAL[2030],MATCH(Tabla2735[[#This Row],[MODULO TRANSPORTE]],T_SAL[MODULO],0)),INDEX(T_L[2030],MATCH(Tabla2735[[#This Row],[MODULO TRANSPORTE]],T_L[MODULO],0))*1.04),0) -> 264.66559
A27: Total | C27: =SUBTOTAL(109,Tabla2735[2026]) -> 238.57429 | D27: =SUBTOTAL(109,Tabla2735[2027]) -> 246.72542 | E27: =SUBTOTAL(109,Tabla2735[2028]) -> 253.31404 | F27: =SUBTOTAL(109,Tabla2735[2029]) -> 258.3541 | G27: =SUBTOTAL(109,Tabla2735[2030]) -> 264.66559

Sheet Anexo VIII (LOTE 4)
A1: NUMERO | B1: CENTRO | C1: LOCALIDAD | D1: ENTIDAD GESTORA | E1: TITULAR | F1: EXENTA IVA* | G1: CODIGO SIPPS
A2: 1 | G2: =+IFERROR(INDEX(CENTROS_DIA[CENCODIGO],MATCH(CENTRO_CD[CENTRO],CENTROS_DIA[CENDESCRIP],0)),"")
A3: 2 | G3: =+IFERROR(INDEX(CENTROS_DIA[CENCODIGO],MATCH(CENTRO_CD[CENTRO],CENTROS_DIA[CENDESCRIP],0)),"")
A4: 3 | G4: =+IFERROR(INDEX(CENTROS_DIA[CENCODIGO],MATCH(CENTRO_CD[CENTRO],CENTROS_DIA[CENDESCRIP],0)),"")
A5: 4 | G5: =+IFERROR(INDEX(CENTROS_DIA[CENCODIGO],MATCH(CENTRO_CD[CENTRO],CENTROS_DIA[CENDESCRIP],0)),"")
A6: 5 | G6: =+IFERROR(INDEX(CENTROS_DIA[CENCODIGO],MATCH(CENTRO_CD[CENTRO],CENTROS_DIA[CENDESCRIP],0)),"")
A7: 6 | G7: =+IFERROR(INDEX(CENTROS_DIA[CENCODIGO],MATCH(CENTRO_CD[CENTRO],CENTROS_DIA[CENDESCRIP],0)),"")
A8: 7 | G8: =+IFERROR(INDEX(CENTROS_DIA[CENCODIGO],MATCH(CENTRO_CD[CENTRO],CENTROS_DIA[CENDESCRIP],0)),"")
A9: 8 | G9: =+IFERROR(INDEX(CENTROS_DIA[CENCODIGO],MATCH(CENTRO_CD[CENTRO],CENTROS_DIA[CENDESCRIP],0)),"")
A10: 9 | G10: =+IFERROR(INDEX(CENTROS_DIA[CENCODIGO],MATCH(CENTRO_CD[CENTRO],CENTROS_DIA[CENDESCRIP],0)),"")
A11: 10 | G11: =+IFERROR(INDEX(CENTROS_DIA[CENCODIGO],MATCH(CENTRO_CD[CENTRO],CENTROS_DIA[CENDESCRIP],0)),"")
A12: 11 | G12: =+IFERROR(INDEX(CENTROS_DIA[CENCODIGO],MATCH(CENTRO_CD[CENTRO],CENTROS_DIA[CENDESCRIP],0)),"")
A13: 12 | G13: =+IFERROR(INDEX(CENTROS_DIA[CENCODIGO],MATCH(CENTRO_CD[CENTRO],CENTROS_DIA[CENDESCRIP],0)),"")
... A16: 15 | G16: =+IFERROR(INDEX(CENTROS_DIA[CENCODIGO],MATCH(CENTRO_CD[CENTRO],CENTROS_DIA[CENDESCRIP],0)),"")
A19: OFERTA LOTE 4 CENTROS DE DIA
A21: CENTRO | B21: PLAZAS AUTORIZADAS | C21: OFERTA L4 (JORNADA COMPLETA) | D21: CONCEPTO | E21: IVA | F21: 2026 | G21: 2027 | H21: 2028 | I21: 2029 | J21: 2030 | K21: TIPO | L21: CODIGO SIPPS
A22: =IF(B2="","",B2) | E22: =IF(F2=0,"",F2) | F22: =IF(RESULTADOS_CD[[#This Row],[IVA]]="","",IF(RESULTADOS_CD[[#This Row],[IVA]]="Si",'modulos PLIEGOS'!$W$42*1.04,'modulos PLIEGOS'!$P$42)) | G22: =IF(RESULTADOS_CD[[#This Row],[IVA]]="","",IF(RESULTADOS_CD[[#This Row],[IVA]]="Si",'modulos PLIEGOS'!$X$42*1.04,'modulos PLIEGOS'!$Q$42)) | H22: =IF(RESULTADOS_CD[[#This Row],[IVA]]="","",IF(RESULTADOS_CD[[#This Row],[IVA]]="Si",'modulos PLIEGOS'!$Y$42*1.04,'modulos PLIEGOS'!$R$42)) | I22: =IF(RESULTADOS_CD[[#This Row],[IVA]]="","",IF(RESULTADOS_CD[[#This Row],[IVA]]="Si",'modulos PLIEGOS'!$Z$42*1.04,'modulos PLIEGOS'!$S$42)) | J22: =IF(RESULTADOS_CD[[#This Row],[IVA]]="","",IF(RESULTADOS_CD[[#This Row],[IVA]]="Si",'modulos PLIEGOS'!$AA$42*1.04,'modulos PLIEGOS'!$T$42)) | K22: =+IF(RESULTADOS_CD[[#This Row],[2026]]="","",IF(RESULTADOS_CD[[#This Row],[IVA]]="SI","IVA INCLUIDO","IVA EXENTO")) | L22: =G2
A23: =IF(B3="","",B3) | E23: =IF(F3=0,"",F3) | F23: =IF(RESULTADOS_CD[[#This Row],[IVA]]="","",IF(RESULTADOS_CD[[#This Row],[IVA]]="Si",'modulos PLIEGOS'!$W$42*1.04,'modulos PLIEGOS'!$P$42)) | G23: =IF(RESULTADOS_CD[[#This Row],[IVA]]="","",IF(RESULTADOS_CD[[#This Row],[IVA]]="Si",'modulos PLIEGOS'!$X$42*1.04,'modulos PLIEGOS'!$Q$42)) | H23: =IF(RESULTADOS_CD[[#This Row],[IVA]]="","",IF(RESULTADOS_CD[[#This Row],[IVA]]="Si",'modulos PLIEGOS'!$Y$42*1.04,'modulos PLIEGOS'!$R$42)) | I23: =IF(RESULTADOS_CD[[#This Row],[IVA]]="","",IF(RESULTADOS_CD[[#This Row],[IVA]]="Si",'modulos PLIEGOS'!$Z$42*1.04,'modulos PLIEGOS'!$S$42)) | J23: =IF(RESULTADOS_CD[[#This Row],[IVA]]="","",IF(RESULTADOS_CD[[#This Row],[IVA]]="Si",'modulos PLIEGOS'!$AA$42*1.04,'modulos PLIEGOS'!$T$42)) | K23: =+IF(RESULTADOS_CD[[#This Row],[2026]]="","",IF(RESULTADOS_CD[[#This Row],[IVA]]="SI","IVA INCLUIDO","IVA EXENTO")) | L23: =G3
A24: =IF(B4="","",B4) | E24: =IF(F4=0,"",F4) | F24: =IF(RESULTADOS_CD[[#This Row],[IVA]]="","",IF(RESULTADOS_CD[[#This Row],[IVA]]="Si",'modulos PLIEGOS'!$W$42*1.04,'modulos PLIEGOS'!$P$42)) | G24: =IF(RESULTADOS_CD[[#This Row],[IVA]]="","",IF(RESULTADOS_CD[[#This Row],[IVA]]="Si",'modulos PLIEGOS'!$X$42*1.04,'modulos PLIEGOS'!$Q$42)) | H24: =IF(RESULTADOS_CD[[#This Row],[IVA]]="","",IF(RESULTADOS_CD[[#This Row],[IVA]]="Si",'modulos PLIEGOS'!$Y$42*1.04,'modulos PLIEGOS'!$R$42)) | I24: =IF(RESULTADOS_CD[[#This Row],[IVA]]="","",IF(RESULTADOS_CD[[#This Row],[IVA]]="Si",'modulos PLIEGOS'!$Z$42*1.04,'modulos PLIEGOS'!$S$42)) | J24: =IF(RESULTADOS_CD[[#This Row],[IVA]]="","",IF(RESULTADOS_CD[[#This Row],[IVA]]="Si",'modulos PLIEGOS'!$AA$42*1.04,'modulos PLIEGOS'!$T$42)) | K24: =+IF(RESULTADOS_CD[[#This Row],[2026]]="","",IF(RESULTADOS_CD[[#This Row],[IVA]]="SI","IVA INCLUIDO","IVA EXENTO")) | L24: =G4
A25: =IF(B5="","",B5) | E25: =IF(F5=0,"",F5) | F25: =IF(RESULTADOS_CD[[#This Row],[IVA]]="","",IF(RESULTADOS_CD[[#This Row],[IVA]]="Si",'modulos PLIEGOS'!$W$42*1.04,'modulos PLIEGOS'!$P$42)) | G25: =IF(RESULTADOS_CD[[#This Row],[IVA]]="","",IF(RESULTADOS_CD[[#This Row],[IVA]]="Si",'modulos PLIEGOS'!$X$42*1.04,'modulos PLIEGOS'!$Q$42)) | H25: =IF(RESULTADOS_CD[[#This Row],[IVA]]="","",IF(RESULTADOS_CD[[#This Row],[IVA]]="Si",'modulos PLIEGOS'!$Y$42*1.04,'modulos PLIEGOS'!$R$42)) | I25: =IF(RESULTADOS_CD[[#This Row],[IVA]]="","",IF(RESULTADOS_CD[[#This Row],[IVA]]="Si",'modulos PLIEGOS'!$Z$42*1.04,'modulos PLIEGOS'!$S$42)) | J25: =IF(RESULTADOS_CD[[#This Row],[IVA]]="","",IF(RESULTADOS_CD[[#This Row],[IVA]]="Si",'modulos PLIEGOS'!$AA$42*1.04,'modulos PLIEGOS'!$T$42)) | K25: =+IF(RESULTADOS_CD[[#This Row],[2026]]="","",IF(RESULTADOS_CD[[#This Row],[IVA]]="SI","IVA INCLUIDO","IVA EXENTO")) | L25: =G5
A26: =IF(B6="","",B6) | E26: =IF(F6=0,"",F6) | F26: =IF(RESULTADOS_CD[[#This Row],[IVA]]="","",IF(RESULTADOS_CD[[#This Row],[IVA]]="Si",'modulos PLIEGOS'!$W$42*1.04,'modulos PLIEGOS'!$P$42)) | G26: =IF(RESULTADOS_CD[[#This Row],[IVA]]="","",IF(RESULTADOS_CD[[#This Row],[IVA]]="Si",'modulos PLIEGOS'!$X$42*1.04,'modulos PLIEGOS'!$Q$42)) | H26: =IF(RESULTADOS_CD[[#This Row],[IVA]]="","",IF(RESULTADOS_CD[[#This Row],[IVA]]="Si",'modulos PLIEGOS'!$Y$42*1.04,'modulos PLIEGOS'!$R$42)) | I26: =IF(RESULTADOS_CD[[#This Row],[IVA]]="","",IF(RESULTADOS_CD[[#This Row],[IVA]]="Si",'modulos PLIEGOS'!$Z$42*1.04,'modulos PLIEGOS'!$S$42)) | J26: =IF(RESULTADOS_CD[[#This Row],[IVA]]="","",IF(RESULTADOS_CD[[#This Row],[IVA]]="Si",'modulos PLIEGOS'!$AA$42*1.04,'modulos PLIEGOS'!$T$42)) | K26: =+IF(RESULTADOS_CD[[#This Row],[2026]]="","",IF(RESULTADOS_CD[[#This Row],[IVA]]="SI","IVA INCLUIDO","IVA EXENTO")) | L26: =G6
A27: =IF(B7="","",B7) | E27: =IF(F7=0,"",F7) | F27: =IF(RESULTADOS_CD[[#This Row],[IVA]]="","",IF(RESULTADOS_CD[[#This Row],[IVA]]="Si",'modulos PLIEGOS'!$W$42*1.04,'modulos PLIEGOS'!$P$42)) | G27: =IF(RESULTADOS_CD[[#This Row],[IVA]]="","",IF(RESULTADOS_CD[[#This Row],[IVA]]="Si",'modulos PLIEGOS'!$X$42*1.04,'modulos PLIEGOS'!$Q$42)) | H27: =IF(RESULTADOS_CD[[#This Row],[IVA]]="","",IF(RESULTADOS_CD[[#This Row],[IVA]]="Si",'modulos PLIEGOS'!$Y$42*1.04,'modulos PLIEGOS'!$R$42)) | I27: =IF(RESULTADOS_CD[[#This Row],[IVA]]="","",IF(RESULTADOS_CD[[#This Row],[IVA]]="Si",'modulos PLIEGOS'!$Z$42*1.04,'modulos PLIEGOS'!$S$42)) | J27: =IF(RESULTADOS_CD[[#This Row],[IVA]]="","",IF(RESULTADOS_CD[[#This Row],[IVA]]="Si",'modulos PLIEGOS'!$AA$42*1.04,'modulos PLIEGOS'!$T$42)) | K27: =+IF(RESULTADOS_CD[[#This Row],[2026]]="","",IF(RESULTADOS_CD[[#This Row],[IVA]]="SI","IVA INCLUIDO","IVA EXENTO")) | L27: =G7
A28: =IF(B8="","",B8) | E28: =IF(F8=0,"",F8) | F28: =IF(RESULTADOS_CD[[#This Row],[IVA]]="","",IF(RESULTADOS_CD[[#This Row],[IVA]]="Si",'modulos PLIEGOS'!$W$42*1.04,'modulos PLIEGOS'!$P$42)) | G28: =IF(RESULTADOS_CD[[#This Row],[IVA]]="","",IF(RESULTADOS_CD[[#This Row],[IVA]]="Si",'modulos PLIEGOS'!$X$42*1.04,'modulos PLIEGOS'!$Q$42)) | H28: =IF(RESULTADOS_CD[[#This Row],[IVA]]="","",IF(RESULTADOS_CD[[#This Row],[IVA]]="Si",'modulos PLIEGOS'!$Y$42*1.04,'modulos PLIEGOS'!$R$42)) | I28: =IF(RESULTADOS_CD[[#This Row],[IVA]]="","",IF(RESULTADOS_CD[[#This Row],[IVA]]="Si",'modulos PLIEGOS'!$Z$42*1.04,'modulos PLIEGOS'!$S$42)) | J28: =IF(RESULTADOS_CD[[#This Row],[IVA]]="","",IF(RESULTADOS_CD[[#This Row],[IVA]]="Si",'modulos PLIEGOS'!$AA$42*1.04,'modulos PLIEGOS'!$T$42)) | K28: =+IF(RESULTADOS_CD[[#This Row],[2026]]="","",IF(RESULTADOS_CD[[#This Row],[IVA]]="SI","IVA INCLUIDO","IVA EXENTO")) | L28: =G8
A29: =IF(B9="","",B9) | E29: =IF(F9=0,"",F9) | F29: =IF(RESULTADOS_CD[[#This Row],[IVA]]="","",IF(RESULTADOS_CD[[#This Row],[IVA]]="Si",'modulos PLIEGOS'!$W$42*1.04,'modulos PLIEGOS'!$P$42)) | G29: =IF(RESULTADOS_CD[[#This Row],[IVA]]="","",IF(RESULTADOS_CD[[#This Row],[IVA]]="Si",'modulos PLIEGOS'!$X$42*1.04,'modulos PLIEGOS'!$Q$42)) | H29: =IF(RESULTADOS_CD[[#This Row],[IVA]]="","",IF(RESULTADOS_CD[[#This Row],[IVA]]="Si",'modulos PLIEGOS'!$Y$42*1.04,'modulos PLIEGOS'!$R$42)) | I29: =IF(RESULTADOS_CD[[#This Row],[IVA]]="","",IF(RESULTADOS_CD[[#This Row],[IVA]]="Si",'modulos PLIEGOS'!$Z$42*1.04,'modulos PLIEGOS'!$S$42)) | J29: =IF(RESULTADOS_CD[[#This Row],[IVA]]="","",IF(RESULTADOS_CD[[#This Row],[IVA]]="Si",'modulos PLIEGOS'!$AA$42*1.04,'modulos PLIEGOS'!$T$42)) | K29: =+IF(RESULTADOS_CD[[#This Row],[2026]]="","",IF(RESULTADOS_CD[[#This Row],[IVA]]="SI","IVA INCLUIDO","IVA EXENTO")) | L29: =G9
A30: =IF(B10="","",B10) | E30: =IF(F10=0,"",F10) | F30: =IF(RESULTADOS_CD[[#This Row],[IVA]]="","",IF(RESULTADOS_CD[[#This Row],[IVA]]="Si",'modulos PLIEGOS'!$W$42*1.04,'modulos PLIEGOS'!$P$42)) | G30: =IF(RESULTADOS_CD[[#This Row],[IVA]]="","",IF(RESULTADOS_CD[[#This Row],[IVA]]="Si",'modulos PLIEGOS'!$X$42*1.04,'modulos PLIEGOS'!$Q$42)) | H30: =IF(RESULTADOS_CD[[#This Row],[IVA]]="","",IF(RESULTADOS_CD[[#This Row],[IVA]]="Si",'modulos PLIEGOS'!$Y$42*1.04,'modulos PLIEGOS'!$R$42)) | I30: =IF(RESULTADOS_CD[[#This Row],[IVA]]="","",IF(RESULTADOS_CD[[#This Row],[IVA]]="Si",'modulos PLIEGOS'!$Z$42*1.04,'modulos PLIEGOS'!$S$42)) | J30: =IF(RESULTADOS_CD[[#This Row],[IVA]]="","",IF(RESULTADOS_CD[[#This Row],[IVA]]="Si",'modulos PLIEGOS'!$AA$42*1.04,'modulos PLIEGOS'!$T$42)) | K30: =+IF(RESULTADOS_CD[[#This Row],[2026]]="","",IF(RESULTADOS_CD[[#This Row],[IVA]]="SI","IVA INCLUIDO","IVA EXENTO")) | L30: =G10
A31: =IF(B11="","",B11) | E31: =IF(F11=0,"",F11) | F31: =IF(RESULTADOS_CD[[#This Row],[IVA]]="","",IF(RESULTADOS_CD[[#This Row],[IVA]]="Si",'modulos PLIEGOS'!$W$42*1.04,'modulos PLIEGOS'!$P$42)) | G31: =IF(RESULTADOS_CD[[#This Row],[IVA]]="","",IF(RESULTADOS_CD[[#This Row],[IVA]]="Si",'modulos PLIEGOS'!$X$42*1.04,'modulos PLIEGOS'!$Q$42)) | H31: =IF(RESULTADOS_CD[[#This Row],[IVA]]="","",IF(RESULTADOS_CD[[#This Row],[IVA]]="Si",'modulos PLIEGOS'!$Y$42*1.04,'modulos PLIEGOS'!$R$42)) | I31: =IF(RESULTADOS_CD[[#This Row],[IVA]]="","",IF(RESULTADOS_CD[[#This Row],[IVA]]="Si",'modulos PLIEGOS'!$Z$42*1.04,'modulos PLIEGOS'!$S$42)) | J31: =IF(RESULTADOS_CD[[#This Row],[IVA]]="","",IF(RESULTADOS_CD[[#This Row],[IVA]]="Si",'modulos PLIEGOS'!$AA$42*1.04,'modulos PLIEGOS'!$T$42)) | K31: =+IF(RESULTADOS_CD[[#This Row],[2026]]="","",IF(RESULTADOS_CD[[#This Row],[IVA]]="SI","IVA INCLUIDO","IVA EXENTO")) | L31: =G11
A32: =IF(B12="","",B12) | E32: =IF(F12=0,"",F12) | F32: =IF(RESULTADOS_CD[[#This Row],[IVA]]="","",IF(RESULTADOS_CD[[#This Row],[IVA]]="Si",'modulos PLIEGOS'!$W$42*1.04,'modulos PLIEGOS'!$P$42)) | G32: =IF(RESULTADOS_CD[[#This Row],[IVA]]="","",IF(RESULTADOS_CD[[#This Row],[IVA]]="Si",'modulos PLIEGOS'!$X$42*1.04,'modulos PLIEGOS'!$Q$42)) | H32: =IF(RESULTADOS_CD[[#This Row],[IVA]]="","",IF(RESULTADOS_CD[[#This Row],[IVA]]="Si",'modulos PLIEGOS'!$Y$42*1.04,'modulos PLIEGOS'!$R$42)) | I32: =IF(RESULTADOS_CD[[#This Row],[IVA]]="","",IF(RESULTADOS_CD[[#This Row],[IVA]]="Si",'modulos PLIEGOS'!$Z$42*1.04,'modulos PLIEGOS'!$S$42)) | J32: =IF(RESULTADOS_CD[[#This Row],[IVA]]="","",IF(RESULTADOS_CD[[#This Row],[IVA]]="Si",'modulos PLIEGOS'!$AA$42*1.04,'modulos PLIEGOS'!$T$42)) | K32: =+IF(RESULTADOS_CD[[#This Row],[2026]]="","",IF(RESULTADOS_CD[[#This Row],[IVA]]="SI","IVA INCLUIDO","IVA EXENTO")) | L32: =G12
A33: =IF(B13="","",B13) | E33: =IF(F13=0,"",F13) | F33: =IF(RESULTADOS_CD[[#This Row],[IVA]]="","",IF(RESULTADOS_CD[[#This Row],[IVA]]="Si",'modulos PLIEGOS'!$W$42*1.04,'modulos PLIEGOS'!$P$42)) | G33: =IF(RESULTADOS_CD[[#This Row],[IVA]]="","",IF(RESULTADOS_CD[[#This Row],[IVA]]="Si",'modulos PLIEGOS'!$X$42*1.04,'modulos PLIEGOS'!$Q$42)) | H33: =IF(RESULTADOS_CD[[#This Row],[IVA]]="","",IF(RESULTADOS_CD[[#This Row],[IVA]]="Si",'modulos PLIEGOS'!$Y$42*1.04,'modulos PLIEGOS'!$R$42)) | I33: =IF(RESULTADOS_CD[[#This Row],[IVA]]="","",IF(RESULTADOS_CD[[#This Row],[IVA]]="Si",'modulos PLIEGOS'!$Z$42*1.04,'modulos PLIEGOS'!$S$42)) | J33: =IF(RESULTADOS_CD[[#This Row],[IVA]]="","",IF(RESULTADOS_CD[[#This Row],[IVA]]="Si",'modulos PLIEGOS'!$AA$42*1.04,'modulos PLIEGOS'!$T$42)) | K33: =+IF(RESULTADOS_CD[[#This Row],[2026]]="","",IF(RESULTADOS_CD[[#This Row],[IVA]]="SI","IVA INCLUIDO","IVA EXENTO")) | L33: =G13
... A36: =IF(B16="","",B16) | E36: =IF(F16=0,"",F16) | F36: =IF(RESULTADOS_CD[[#This Row],[IVA]]="","",IF(RESULTADOS_CD[[#This Row],[IVA]]="Si",'modulos PLIEGOS'!$W$42*1.04,'modulos PLIEGOS'!$P$42)) | G36: =IF(RESULTADOS_CD[[#This Row],[IVA]]="","",IF(RESULTADOS_CD[[#This Row],[IVA]]="Si",'modulos PLIEGOS'!$X$42*1.04,'modulos PLIEGOS'!$Q$42)) | H36: =IF(RESULTADOS_CD[[#This Row],[IVA]]="","",IF(RESULTADOS_CD[[#This Row],[IVA]]="Si",'modulos PLIEGOS'!$Y$42*1.04,'modulos PLIEGOS'!$R$42)) | I36: =IF(RESULTADOS_CD[[#This Row],[IVA]]="","",IF(RESULTADOS_CD[[#This Row],[IVA]]="Si",'modulos PLIEGOS'!$Z$42*1.04,'modulos PLIEGOS'!$S$42)) | J36: =IF(RESULTADOS_CD[[#This Row],[IVA]]="","",IF(RESULTADOS_CD[[#This Row],[IVA]]="Si",'modulos PLIEGOS'!$AA$42*1.04,'modulos PLIEGOS'!$T$42)) | K36: =+IF(RESULTADOS_CD[[#This Row],[2026]]="","",IF(RESULTADOS_CD[[#This Row],[IVA]]="SI","IVA INCLUIDO","IVA EXENTO")) | L36: =G16

Sheet modulos PLIEGOS
A1: ANEXO 1: PROPUESTA MODULOS OPEN HOUSE 2026 (BORRADOR CONVENIO) 10/04/2026
A4: Los módulos incluyen seguridad social, absentismo, beneficio e Iva en su caso.
A6: DEPENDIENTE SAL | H6: NO DEPENDIENTE SAL | O6: DEPENDIENTE SAL | V6: NO DEPENDIENTE SAL
A8: RATIO | B8: 2026 | C8: 2027 | D8: 2028 | E8: 2029 | F8: 2030 | H8: RATIO | I8: 2026 | J8: 2027 | K8: 2028 | L8: 2029 | M8: 2030 | O8: RATIO | P8: 2026 | Q8: 2027 | R8: 2028 | S8: 2029 | T8: 2030 | V8: RATIO | W8: 2026 | X8: 2027 | Y8: 2028 | Z8: 2029 | AA8: 2030
A9: ASISTENCIAL | B9: 1488.175 | C9: 1566.6021 | D9: 1638.0342 | E9: 1688.0563 | F9: 1748.4533 | H9: ASISTENCIAL | I9: 502.02555 | J9: 528.48182 | K9: 552.57877 | L9: 569.45569 | M9: 589.82492 | O9: ASISTENCIAL | P9: =+SAL[[#This Row],[2026]]+B14+B15 -> 3205.6888 | Q9: =+SAL[[#This Row],[2027]]+C14+C15 -> 3352.0897 | R9: =+SAL[[#This Row],[2028]]+D14+D15 -> 3467.2642 | S9: =+SAL[[#This Row],[2029]]+E14+E15 -> 3554.5753 | T9: =+SAL[[#This Row],[2030]]+F14+F15 -> 3663.8267 | V9: ASISTENCIAL | W9: =+SAL_2[[#This Row],[2026]]+I14+I15 -> 2219.5393 | X9: =+SAL_2[[#This Row],[2027]]+J14+J15 -> 2313.9694 | Y9: =+SAL_2[[#This Row],[2028]]+K14+K15 -> 2381.8088 | Z9: =+SAL_2[[#This Row],[2029]]+L14+L15 -> 2435.9747 | AA9: =+SAL_2[[#This Row],[2030]]+M14+M15 -> 2505.1984
A10: ENFERMERIA RI | B10: 86.612533 | C10: 89.564023 | D10: 92.803552 | E10: 95.620585 | F10: 97.875437 | H10: ENFERMERIA RI | I10: 86.612533 | J10: 89.564023 | K10: 92.803552 | L10: 94.583247 | M10: 97.875437 | O10: ENFERMERIA RI | P10: 86.612533 | Q10: 89.564023 | R10: 92.803552 | S10: 95.620585 | T10: 97.875437 | V10: ENFERMERIA RI | W10: 86.612533 | X10: 89.564023 | Y10: 92.803552 | Z10: 94.583247 | AA10: 97.875437
A11: ENFERMERIA RII | B11: 149.55769 | C11: 155.8096 | D11: 162.05993 | E11: 165.94189 | F11: 171.77351 | H11: ENFERMERIA RII | I11: 86.612533 | J11: 89.564023 | K11: 92.803552 | L11: 94.583247 | M11: 97.875437 | O11: ENFERMERIA RII | P11: 149.55769 | Q11: 155.8096 | R11: 162.05993 | S11: 165.94189 | T11: 171.77351 | V11: ENFERMERIA RII | W11: 86.612533 | X11: 89.564023 | Y11: 92.803552 | Z11: 94.583247 | AA11: 97.875437
A12: ENFERMERIA RIII | B12: 212.50284 | C12: 222.05518 | D12: 231.31632 | E12: 237.30054 | F12: 245.67158 | H12: ENFERMERIA RIII | I12: 86.612533 | J12: 89.564023 | K12: 92.803552 | L12: 94.583247 | M12: 97.875437 | O12: ENFERMERIA RIII | P12: 212.50284 | Q12: 222.05518 | R12: 231.31632 | S12: 237.30054 | T12: 245.67158 | V12: ENFERMERIA RIII | W12: 86.612533 | X12: 89.564023 | Y12: 92.803552 | Z12: 94.583247 | AA12: 97.875437
A13: MEDICINA | B13: 47.776145 | C13: 50.28 | D13: 52.54385 | E13: 54.198037 | F13: 56.069718 | H13: MEDICINA | I13: 0 | J13: 0 | K13: 0 | L13: 0 | M13: 0 | O13: MEDICINA | P13: 47.776145 | Q13: 50.28 | R13: 52.54385 | S13: 54.198037 | T13: 56.069718 | V13: MEDICINA | W13: 0 | X13: 0 | Y13: 0 | Z13: 0 | AA13: 0
A14: PERSONAL INDIRECTO | B14: 506.90409 | C14: 533.71715 | D14: 557.85269 | E14: 575.14266 | F14: 598.16957 | H14: PERSONAL INDIRECTO | I14: 506.90409 | J14: 533.71715 | K14: 557.85269 | L14: 575.14266 | M14: 598.16957
A15: NUEVA PROPUESTA RESTO GASTOS | B15: 1210.6097 | C15: 1251.7704 | D15: 1271.3773 | E15: 1291.3764 | F15: 1317.2039 | H15: NUEVA PROPUESTA RESTO GASTOS | I15: 1210.6097 | J15: 1251.7704 | K15: 1271.3773 | L15: 1291.3764 | M15: 1317.2039
A17: Minimo modulo | B17: =+B9+B10+B14+B15 -> 3292.3013 | C17: =+C9+C10+C14+C15 -> 3441.6537 | D17: =+D9+D10+D14+D15 -> 3560.0678 | E17: =+E9+E10+E14+E15 -> 3650.1959 | F17: =+F9+F10+F14+F15 -> 3761.7021 | H17: Minimo modulo | I17: =+I9+I10+I14+I15 -> 2306.1519 | J17: =+J9+J10+J14+J15 -> 2403.5334 | K17: =+K9+K10+K14+K15 -> 2474.6123 | L17: =+L9+L10+L14+L15 -> 2530.558 | M17: =+M9+M10+M14+M15 -> 2603.0738
A18: Maximo módulo | B18: =+B9+B12+B13+B14+B15 -> 3465.9678 | C18: =+C9+C12+C13+C14+C15 -> 3624.4248 | D18: =+D9+D12+D13+D14+D15 -> 3751.1244 | E18: =+E9+E12+E13+E14+E15 -> 3846.0739 | F18: =+F9+F12+F13+F14+F15 -> 3965.568 | H18: Maximo módulo | I18: =+I9+I12+I13+I14+I15 -> 2306.1519 | J18: =+J9+J12+J13+J14+J15 -> 2403.5334 | K18: =+K9+K12+K13+K14+K15 -> 2474.6123 | L18: =+L9+L12+L13+L14+L15 -> 2530.558 | M18: =+M9+M12+M13+M14+M15 -> 2603.0738
A20: DEPENDIENTE LUCRO | H20: NO DEPENDIENTE LUCRO | O20: DEPENDIENTE LUCRO (IVA EXCLUIDO) | V20: NO DEPENDIENTE LUCRO ( IVA EXCLUIDO)
A22: RATIO | B22: 2026 | C22: 2027 | D22: 2028 | E22: 2029 | F22: 2030 | H22: RATIO | I22: 2026 | J22: 2027 | K22: 2028 | L22: 2029 | M22: 2030 | O22: RATIO | P22: 2026 | Q22: 2027 | R22: 2028 | S22: 2029 | T22: 2030 | V22: RATIO | W22: 2026 | X22: 2027 | Y22: 2028 | Z22: 2029 | AA22: 2030
A23: ASISTENCIAL | B23: 1547.702 | C23: 1629.2662 | D23: 1703.5556 | E23: 1755.5786 | F23: 1818.3914 | H23: ASISTENCIAL | I23: 522.10657 | J23: 549.62109 | K23: 574.68193 | L23: 592.23392 | M23: 613.41792 | O23: ASISTENCIAL | P23: =+(L[[#This Row],[2026]]+B28+B29)/1.04 -> 3061.334 | Q23: =+(L[[#This Row],[2027]]+C28+C29)/1.04 -> 3202.8268 | R23: =+(L[[#This Row],[2028]]+D28+D29)/1.04 -> 3315.0162 | S23: =+(L[[#This Row],[2029]]+E28+E29)/1.04 -> 3399.2823 | T23: =+(L[[#This Row],[2030]]+F28+F29)/1.04 -> 3505.4278 | V23: ASISTENCIAL | W23: =+(LND[[#This Row],[2026]]+I28+I29)/1.04 -> 2075.1846 | X23: =+(LND[[#This Row],[2027]]+J28+J29)/1.04 -> 2164.7066 | Y23: =+(LND[[#This Row],[2028]]+K28+K29)/1.04 -> 2229.5607 | Z23: =+(LND[[#This Row],[2029]]+L28+L29)/1.04 -> 2280.6817 | AA23: =+(LND[[#This Row],[2030]]+M28+M29)/1.04 -> 2346.7995
A24: ENFERMERIA RI | B24: 90.077035 | C24: 93.146584 | D24: 96.515694 | E24: 99.445408 | F24: 101.79045 | H24: ENFERMERIA RI | I24: 90.077035 | J24: 93.146584 | K24: 96.515694 | L24: 98.366577 | M24: 101.79045 | O24: ENFERMERIA RI | P24: =+L[[#This Row],[2026]]/1.04 -> 86.612533 | Q24: =+L[[#This Row],[2027]]/1.04 -> 89.564023 | R24: =+L[[#This Row],[2028]]/1.04 -> 92.803552 | S24: =+L[[#This Row],[2029]]/1.04 -> 95.620585 | T24: =+L[[#This Row],[2030]]/1.04 -> 97.875437 | V24: ENFERMERIA RI | W24: =+LND[[#This Row],[2026]]/1.04 -> 86.612533 | X24: =+LND[[#This Row],[2027]]/1.04 -> 89.564023 | Y24: =+LND[[#This Row],[2028]]/1.04 -> 92.803552 | Z24: =+LND[[#This Row],[2029]]/1.04 -> 94.583247 | AA24: =+LND[[#This Row],[2030]]/1.04 -> 97.875437
A25: ENFERMERIA RII | B25: 155.54 | C25: 162.04199 | D25: 168.54233 | E25: 172.57957 | F25: 178.64445 | H25: ENFERMERIA RII | I25: 90.077035 | J25: 93.146584 | K25: 96.515694 | L25: 98.366577 | M25: 101.79045 | O25: ENFERMERIA RII | P25: =+L[[#This Row],[2026]]/1.04 -> 149.55769 | Q25: =+L[[#This Row],[2027]]/1.04 -> 155.8096 | R25: =+L[[#This Row],[2028]]/1.04 -> 162.05993 | S25: =+L[[#This Row],[2029]]/1.04 -> 165.94189 | T25: =+L[[#This Row],[2030]]/1.04 -> 171.77351 | V25: ENFERMERIA RII | W25: =+LND[[#This Row],[2026]]/1.04 -> 86.612533 | X25: =+LND[[#This Row],[2027]]/1.04 -> 89.564023 | Y25: =+LND[[#This Row],[2028]]/1.04 -> 92.803552 | Z25: =+LND[[#This Row],[2029]]/1.04 -> 94.583247 | AA25: =+LND[[#This Row],[2030]]/1.04 -> 97.875437
A26: ENFERMERIA RIII | B26: 221.00296 | C26: 230.93739 | D26: 240.56897 | E26: 246.79256 | F26: 255.49845 | H26: ENFERMERIA RIII | I26: 90.077035 | J26: 93.146584 | K26: 96.515694 | L26: 98.366577 | M26: 101.79045 | O26: ENFERMERIA RIII | P26: =+L[[#This Row],[2026]]/1.04 -> 212.50284 | Q26: =+L[[#This Row],[2027]]/1.04 -> 222.05518 | R26: =+L[[#This Row],[2028]]/1.04 -> 231.31632 | S26: =+L[[#This Row],[2029]]/1.04 -> 237.30054 | T26: =+L[[#This Row],[2030]]/1.04 -> 245.67158 | V26: ENFERMERIA RIII | W26: =+LND[[#This Row],[2026]]/1.04 -> 86.612533 | X26: =+LND[[#This Row],[2027]]/1.04 -> 89.564023 | Y26: =+LND[[#This Row],[2028]]/1.04 -> 92.803552 | Z26: =+LND[[#This Row],[2029]]/1.04 -> 94.583247 | AA26: =+LND[[#This Row],[2030]]/1.04 -> 97.875437
A27: MEDICINA | B27: 49.687191 | C27: 52.2912 | D27: 54.645604 | E27: 56.365958 | F27: 58.312507 | H27: MEDICINA | I27: 0 | J27: 0 | K27: 0 | L27: 0 | M27: 0 | O27: MEDICINA | P27: =+L[[#This Row],[2026]]/1.04 -> 47.776145 | Q27: =+L[[#This Row],[2027]]/1.04 -> 50.28 | R27: =+L[[#This Row],[2028]]/1.04 -> 52.54385 | S27: =+L[[#This Row],[2029]]/1.04 -> 54.198037 | T27: =+L[[#This Row],[2030]]/1.04 -> 56.069718 | V27: MEDICINA | W27: =+LND[[#This Row],[2026]]/1.04 -> 0 | X27: =+LND[[#This Row],[2027]]/1.04 -> 0 | Y27: =+LND[[#This Row],[2028]]/1.04 -> 0 | Z27: =+LND[[#This Row],[2029]]/1.04 -> 0 | AA27: =+LND[[#This Row],[2030]]/1.04 -> 0
A28: PERSONAL INDIRECTO | B28: 527.18026 | C28: 555.06583 | D28: 580.1668 | E28: 598.14837 | F28: 622.09635 | H28: PERSONAL INDIRECTO | I28: 527.18026 | J28: 555.06583 | K28: 580.1668 | L28: 598.14837 | M28: 622.09635
A29: NUEVA PROPUESTA RESTO DE GASTOS | B29: 1108.9051 | C29: 1146.6079 | D29: 1163.8944 | E29: 1181.5267 | F29: 1205.1572 | H29: NUEVA PROPUESTA RESTO DE GASTOS | I29: 1108.9051 | J29: 1146.6079 | K29: 1163.8944 | L29: 1181.5267 | M29: 1205.1572
N30: ,
A31: Minimo modulo | B31: =+B23+B24+B28+B29 -> 3273.8644 | C31: =+C23+C24+C28+C29 -> 3424.0865 | D31: =+D23+D24+D28+D29 -> 3544.1325 | E31: =+E23+E24+E28+E29 -> 3634.699 | F31: =+F23+F24+F28+F29 -> 3747.4354 | H31: Minimo modulo | I31: =+I23+I24+I28+I29 -> 2248.269 | J31: =+J23+J24+J28+J29 -> 2344.4414 | K31: =+K23+K24+K28+K29 -> 2415.2588 | L31: =+L23+L24+L28+L29 -> 2470.2755 | M31: =+M23+M24+M28+M29 -> 2542.4619 | O31: Minimo modulo | P31: 3273.8644 | Q31: 3424.0865 | R31: 3544.1325 | S31: 3634.699 | T31: 3747.4354 | V31: Minimo modulo | W31: 2248.269 | X31: 2344.4414 | Y31: 2415.2588 | Z31: 2470.2755 | AA31: 2542.4619
A32: Maximo módulo | B32: =+B23+B26+B27+B28+B29 -> 3454.4775 | C32: =+C23+C26+C27+C28+C29 -> 3614.1685 | D32: =+D23+D26+D27+D28+D29 -> 3742.8314 | E32: =+E23+E26+E27+E28+E29 -> 3838.4121 | F32: =+F23+F26+F27+F28+F29 -> 3959.4559 | H32: Maximo módulo | I32: =+I23+I26+I27+I28+I29 -> 2248.269 | J32: =+J23+J26+J27+J28+J29 -> 2344.4414 | K32: =+K23+K26+K27+K28+K29 -> 2415.2588 | L32: =+L23+L26+L27+L28+L29 -> 2470.2755 | M32: =+M23+M26+M27+M28+M29 -> 2542.4619 | O32: Maximo módulo | P32: 3454.4775 | Q32: 3614.1685 | R32: 3742.8314 | S32: 3838.4121 | T32: 3959.4559 | V32: Maximo módulo | W32: 2248.269 | X32: 2344.4414 | Y32: 2415.2588 | Z32: 2470.2755 | AA32: 2542.4619
A35: CD SAL | H35: CD LUCRO | O35: CD SAL | V35: CD LUCRO (IVA EXCLUIDO)
A37: RATIO | B37: 2026 | C37: 2027 | D37: 2028 | E37: 2029 | F37: 2030 | H37: RATIO | I37: 2026 | J37: 2027 | K37: 2028 | L37: 2029 | M37: 2030 | O37: RATIO | P37: 2026 | Q37: 2027 | R37: 2028 | S37: 2029 | T37: 2030 | V37: RATIO | W37: 2026 | X37: 2027 | Y37: 2028 | Z37: 2029 | AA37: 2030
A38: ATT.DIRECTA CD | B38: 744.44832 | C38: 770.02626 | D38: 797.99578 | E38: 813.60403 | F38: 838.58388 | H38: ATT.DIRECTA CD | I38: 774.22625 | J38: 800.82731 | K38: 829.91562 | L38: 846.14819 | M38: 872.12724 | O38: ATT.DIRECTA CD | P38: 744.44832 | Q38: 770.02626 | R38: 797.99578 | S38: 813.60403 | T38: 838.58388 | V38: ATT.DIRECTA CD | W38: =+Tabla6[[#This Row],[2026]]/1.04 -> 744.44832 | X38: =+Tabla6[[#This Row],[2027]]/1.04 -> 770.02626 | Y38: =+Tabla6[[#This Row],[2028]]/1.04 -> 797.99578 | Z38: =+Tabla6[[#This Row],[2029]]/1.04 -> 813.60403 | AA38: =+Tabla6[[#This Row],[2030]]/1.04 -> 838.58388
A39: PERSONAL INDIRECTO _CD | B39: 272.75068 | C39: 284.67371 | D39: 296.33393 | E39: 304.11671 | F39: 314.91568 | H39: PERSONAL INDIRECTO _CD | I39: 283.66071 | J39: 296.06066 | K39: 308.18729 | L39: 316.28138 | M39: 327.51231 | O39: PERSONAL INDIRECTO _CD | P39: 272.75068 | Q39: 284.67371 | R39: 296.33393 | S39: 304.11671 | T39: 314.91568 | V39: PERSONAL INDIRECTO _CD | W39: =+Tabla6[[#This Row],[2026]]/1.04 -> 272.75068 | X39: =+Tabla6[[#This Row],[2027]]/1.04 -> 284.67371 | Y39: =+Tabla6[[#This Row],[2028]]/1.04 -> 296.33393 | Z39: =+Tabla6[[#This Row],[2029]]/1.04 -> 304.11671 | AA39: =+Tabla6[[#This Row],[2030]]/1.04 -> 314.91568
A40: Total Personal CD | B40: 1017.199 | C40: 1054.7 | D40: 1094.3297 | E40: 1117.7207 | F40: 1153.4996 | H40: Total general | I40: 1057.887 | J40: 1096.888 | K40: 1138.1029 | L40: 1162.4296 | M40: 1199.6395 | O40: Total Personal CD | P40: 1017.199 | Q40: 1054.7 | R40: 1094.3297 | S40: 1117.7207 | T40: 1153.4996 | V40: Total general | W40: =+Tabla6[[#This Row],[2026]]/1.04 -> 1017.199 | X40: =+Tabla6[[#This Row],[2027]]/1.04 -> 1054.7 | Y40: =+Tabla6[[#This Row],[2028]]/1.04 -> 1094.3297 | Z40: =+Tabla6[[#This Row],[2029]]/1.04 -> 1117.7207 | AA40: =+Tabla6[[#This Row],[2030]]/1.04 -> 1153.4996
A41: NUEVA PROPUESTA RG CD | B41: 815.74056 | C41: 843.47574 | D41: 857.631 | E41: 872.06937 | F41: 889.51076 | H41: NUEVA PROPUESTA RG CD | I41: 735.32293 | J41: 760.32391 | K41: 772.70757 | L41: 785.3389 | M41: 801.04568 | O41: NUEVA PROPUESTA RG CD | P41: 815.74056 | Q41: 843.47574 | R41: 857.631 | S41: 872.06937 | T41: 889.51076 | V41: NUEVA PROPUESTA RG CD | W41: =+I41/1.04 -> 707.04128 | X41: =+J41/1.04 -> 731.08069 | Y41: =+K41/1.04 -> 742.98805 | Z41: =+L41/1.04 -> 755.13356 | AA41: =+M41/1.04 -> 770.23623
A42: MODULO TOTAL CD SAL | B42: =+B40+B41 -> 1832.9396 | C42: =+C40+C41 -> 1898.1757 | D42: =+D40+D41 -> 1951.9607 | E42: =+E40+E41 -> 1989.7901 | F42: =+F40+F41 -> 2043.0103 | H42: MODULO TOTAL CD LUCRO | I42: =+I40+I41 -> 1793.2099 | J42: =+J40+J41 -> 1857.2119 | K42: =+K40+K41 -> 1910.8105 | L42: =+L40+L41 -> 1947.7685 | M42: =+M40+M41 -> 2000.6852 | O42: MODULO CD SAL | P42: =+P40+P41 -> 1832.9396 | Q42: =+Q40+Q41 -> 1898.1757 | R42: =+R40+R41 -> 1951.9607 | S42: =+S40+S41 -> 1989.7901 | T42: =+T40+T41 -> 2043.0103 | V42: MODULO CD LUCRO | W42: =+W40+W41 -> 1724.2403 | X42: =+X40+X41 -> 1785.7807 | Y42: =+Y40+Y41 -> 1837.3178 | Z42: =+Z40+Z41 -> 1872.8543 | AA42: =+AA40+AA41 -> 1923.7358
W43: =+I42/1.04 -> 1724.2403 | X43: =+J42/1.04 -> 1785.7807 | Y43: =+K42/1.04 -> 1837.3178 | Z43: =+L42/1.04 -> 1872.8543 | AA43: =+M42/1.04 -> 1923.7358 | AC43: =+W42*1.04 -> 1793.2099 | AD43: =+X42*1.04 -> 1857.2119 | AE43: =+Y42*1.04 -> 1910.8105 | AF43: =+Z42*1.04 -> 1947.7685 | AG43: =+AA42*1.04 -> 2000.6852
A45: TRANSPORTE SAL | H45: CD TRANSPORTE | O45: TRANSPORTE SAL | V45: CD TRANSPORTE LUCRO IVA EXCLUIDO
A48: RATIO | B48: 2026 | C48: 2027 | D48: 2028 | E48: 2029 | F48: 2030 | H48: RATIO | I48: 2026 | J48: 2027 | K48: 2028 | L48: 2029 | M48: 2030 | O48: MODULO | P48: 2026 | Q48: 2027 | R48: 2028 | S48: 2029 | T48: 2030 | V48: MODULO | W48: 2026 | X48: 2027 | Y48: 2028 | Z48: 2029 | AA48: 2030
A49: PERSONAL TRANSPORTE | B49: 94.12524 | C49: 97.36358 | D49: 100.90134 | E49: 102.89415 | F49: 106.05243 | H49: PERSONAL TRANSPORTE | I49: 97.89025 | J49: 101.25812 | K49: 104.93739 | L49: 107.00992 | M49: 110.29453 | O49: TRANSPORTE SAL | P49: =+B51 -> 249.67901 | Q49: =+C51 -> 258.20618 | R49: =+D51 -> 264.96079 | S49: =+E51 -> 270.23479 | T49: =+F51 -> 276.73989 | V49: TRANSPORTE LUCRO | W49: =+I51/1.04 -> 229.39836 | X49: =+J51/1.04 -> 237.23598 | Y49: =+K51/1.04 -> 243.57119 | Z49: =+L51/1.04 -> 248.4174 | AA49: =+M51/1.04 -> 254.48615
A50: NUEVO RG TRASPORTE | B50: 155.55377 | C50: 160.8426 | D50: 164.05945 | E50: 167.34064 | F50: 170.68746 | H50: NUEVO RG TRASPORTE | I50: 140.68404 | J50: 145.4673 | K50: 148.37665 | L50: 151.34418 | M50: 154.37106
A51: TOTALMODULO TRANSPorte SAL | B51: =+Tabla756[2026]+B50 -> 249.67901 | C51: =+Tabla756[2027]+C50 -> 258.20618 | D51: =+Tabla756[2028]+D50 -> 264.96079 | E51: =+Tabla756[2029]+E50 -> 270.23479 | F51: =+Tabla756[2030]+F50 -> 276.73989 | H51: TOTAL MODULO TRANSPORTE LUCRO | I51: =+Tabla89[2026]+I50 -> 238.57429 | J51: =+Tabla89[2027]+J50 -> 246.72542 | K51: =+Tabla89[2028]+K50 -> 253.31404 | L51: =+Tabla89[2029]+L50 -> 258.3541 | M51: =+Tabla89[2030]+M50 -> 264.66559 | W51: =+T_L[2026]*1.04 -> 238.57429 | X51: =+T_L[2027]*1.04 -> 246.72542 | Y51: =+T_L[2028]*1.04 -> 253.31404 | Z51: =+T_L[2029]*1.04 -> 258.3541 | AA51: =+T_L[2030]*1.04 -> 264.66559
A54: ED SAL | H54: ED LUCRO | O54: ED SAL | V54: ED LUCRO
A56: RATIO | B56: 2026 | C56: 2027 | D56: 2028 | E56: 2029 | F56: 2030 | H56: RATIO | I56: 2026 | J56: 2027 | K56: 2028 | L56: 2029 | M56: 2030 | O56: RATIO | P56: 2026 | Q56: 2027 | R56: 2028 | S56: 2029 | T56: 2030 | V56: RATIO | W56: 2026 | X56: 2027 | Y56: 2028 | Z56: 2029 | AA56: 2030
A57: ASISTENCIAL | B57: 505.57178 | C57: 532.21551 | D57: 556.48286 | E57: 573.47666 | F57: 593.99508 | H57: ASISTENCIAL | I57: 525.79465 | J57: 553.50413 | K57: 577.16091 | L57: 594.78618 | M57: 616.06703 | O57: ASISTENCIAL | P57: =+Tabla9[[#This Row],[2026]]+B62+B63 -> 1089.0559 | Q57: =+Tabla9[[#This Row],[2027]]+C62+C63 -> 1138.7921 | R57: =+Tabla9[[#This Row],[2028]]+D62+D63 -> 1177.9199 | S57: =+Tabla9[[#This Row],[2029]]+E62+E63 -> 1207.5818 | T57: =+Tabla9[[#This Row],[2030]]+F62+F63 -> 1244.6973 | V57: ASISTENCIAL | W57: =+(TABLA[[#This Row],[2026]]+I62+I63)/1.04 -> 1040.0148 | X57: =+(TABLA[[#This Row],[2027]]+J62+J63)/1.04 -> 1088.0836 | Y57: =+(TABLA[[#This Row],[2028]]+K62+K63)/1.04 -> 1124.159 | Z57: =+(TABLA[[#This Row],[2029]]+L62+L63)/1.04 -> 1152.7239 | AA57: =+(TABLA[[#This Row],[2030]]+M62+M63)/1.04 -> 1188.7069
A58: ENFERMERIA RI | B58: 29.424532 | C58: 30.42723 | D58: 31.527782 | E58: 32.484801 | F58: 33.250833 | H58: ENFERMERIA RI | I58: 30.601513 | J58: 31.644319 | K58: 32.699306 | L58: 33.691887 | M58: 34.486384 | O58: ENFERMERIA RI | P58: 29.424532 | Q58: 30.42723 | R58: 31.527782 | S58: 32.484801 | T58: 33.250833 | V58: ENFERMERIA RI | W58: =+TABLA[[#This Row],[2026]]/1.04 -> 29.424532 | X58: =+TABLA[[#This Row],[2027]]/1.04 -> 30.42723 | Y58: =+TABLA[[#This Row],[2028]]/1.04 -> 31.441641 | Z58: =+TABLA[[#This Row],[2029]]/1.04 -> 32.396045 | AA58: =+TABLA[[#This Row],[2030]]/1.04 -> 33.159984
A59: ENFERMERIA RII | B59: 50.808639 | C59: 52.932577 | D59: 55.055978 | E59: 56.37478 | F59: 58.355932 | H59: ENFERMERIA RII | I59: 52.840985 | J59: 55.04988 | K59: 57.101773 | L59: 58.46958 | M59: 60.52435 | O59: ENFERMERIA RII | P59: 50.808639 | Q59: 52.932577 | R59: 55.055978 | S59: 56.37478 | T59: 58.355932 | V59: ENFERMERIA RII | W59: =+TABLA[[#This Row],[2026]]/1.04 -> 50.808639 | X59: =+TABLA[[#This Row],[2027]]/1.04 -> 52.932577 | Y59: =+TABLA[[#This Row],[2028]]/1.04 -> 54.905551 | Z59: =+TABLA[[#This Row],[2029]]/1.04 -> 56.22075 | AA59: =+TABLA[[#This Row],[2030]]/1.04 -> 58.19649
A60: ENFERMERIA RIII | B60: 72.192747 | C60: 75.437924 | D60: 78.584173 | E60: 80.617169 | F60: 83.461031 | H60: ENFERMERIA RIII | I60: 75.080457 | J60: 78.455441 | K60: 81.504241 | L60: 83.61278 | M60: 86.562316 | O60: ENFERMERIA RIII | P60: 72.192747 | Q60: 75.437924 | R60: 78.584173 | S60: 80.617169 | T60: 83.461031 | V60: ENFERMERIA RIII | W60: =+TABLA[[#This Row],[2026]]/1.04 -> 72.192747 | X60: =+TABLA[[#This Row],[2027]]/1.04 -> 75.437924 | Y60: =+TABLA[[#This Row],[2028]]/1.04 -> 78.369462 | Z60: =+TABLA[[#This Row],[2029]]/1.04 -> 80.396903 | AA60: =+TABLA[[#This Row],[2030]]/1.04 -> 83.232996
A61: MEDICINA | B61: 16.2308 | C61: 17.081425 | D61: 17.850514 | E61: 18.412484 | F61: 19.048343 | H61: MEDICINA | I61: 16.880032 | J61: 17.764682 | K61: 18.513811 | L61: 19.096663 | M61: 19.75615 | O61: MEDICINA | P61: 16.2308 | Q61: 17.081425 | R61: 17.850514 | S61: 18.412484 | T61: 19.048343 | V61: MEDICINA | W61: =+TABLA[[#This Row],[2026]]/1.04 -> 16.2308 | X61: =+TABLA[[#This Row],[2027]]/1.04 -> 17.081425 | Y61: =+TABLA[[#This Row],[2028]]/1.04 -> 17.801742 | Z61: =+TABLA[[#This Row],[2029]]/1.04 -> 18.362176 | AA61: =+TABLA[[#This Row],[2030]]/1.04 -> 18.996298
A62: PERSONAL INDIRECTO | B62: 172.20851 | C62: 181.31761 | D62: 189.51708 | E62: 195.39093 | F62: 203.21377 | H62: PERSONAL INDIRECTO | I62: 179.09685 | J62: 188.57031 | K62: 196.55924 | L62: 202.65136 | M62: 210.76488
A63: NUEVO RESTO DE GASTOS ED | B63: 411.27562 | C63: 425.25899 | D63: 431.91996 | E63: 438.71416 | F63: 447.48844 | H63: NUEVO RESTO DE GASTOS ED | I63: 376.72393 | J63: 389.53255 | K63: 395.40523 | L63: 401.39536 | M63: 409.42327
P64: =+P57+P58 -> 1118.4804 | Q64: =+Q57+Q58 -> 1169.2193 | R64: =+R57+R58 -> 1209.4477 | S64: =+S57+S58 -> 1240.0666 | T64: =+T57+T58 -> 1277.9481
A65: Minimo modulo | B65: =+B57+B58+B62+B63 -> 1118.4804 | C65: =+C57+C58+C62+C63 -> 1169.2193 | D65: =+D57+D58+D62+D63 -> 1209.4477 | E65: =+E57+E58+E62+E63 -> 1240.0666 | F65: =+F57+F58+F62+F63 -> 1277.9481 | H65: Minimo modulo | I65: =+I57+I58+I62+I63 -> 1112.217 | J65: =+J57+J58+J62+J63 -> 1163.2513 | K65: =+K57+K58+K62+K63 -> 1201.8247 | L65: =+L57+L58+L62+L63 -> 1232.5248 | M65: =+M57+M58+M62+M63 -> 1270.7416 | P65: =+P57+P60+P61 -> 1177.4795 | Q65: =+Q57+Q60+Q61 -> 1231.3115 | R65: =+R57+R60+R61 -> 1274.3546 | S65: =+S57+S60+S61 -> 1306.6114 | T65: =+T57+T60+T61 -> 1347.2067 | W65: =+W57+W58 -> 1069.4394 | X65: =+X57+X58 -> 1118.5109 | Y65: =+Y57+Y58 -> 1155.6007 | Z65: =+Z57+Z58 -> 1185.12 | AA65: =+AA57+AA58 -> 1221.8669
A66: Maximo módulo | B66: =+B57+B60+B61+B62+B63 -> 1177.4795 | C66: =+C57+C60+C61+C62+C63 -> 1231.3115 | D66: =+D57+D60+D61+D62+D63 -> 1274.3546 | E66: =+E57+E60+E61+E62+E63 -> 1306.6114 | F66: =+F57+F60+F61+F62+F63 -> 1347.2067 | H66: Maximo módulo | I66: =+I57+I60+I61+I62+I63 -> 1173.5759 | J66: =+J57+J60+J61+J62+J63 -> 1227.8271 | K66: =+K57+K60+K61+K62+K63 -> 1269.1434 | L66: =+L57+L60+L61+L62+L63 -> 1301.5423 | M66: =+M57+M60+M61+M62+M63 -> 1342.5736 | W66: =+W65*1.04 -> 1112.217 | X66: =+X65*1.04 -> 1163.2513 | Y66: =+Y65*1.04 -> 1201.8247 | Z66: =+Z65*1.04 -> 1232.5248 | AA66: =+AA65*1.04 -> 1270.7416
W67: =+W57+W60+W61 -> 1128.4384 | X67: =+X57+X60+X61 -> 1180.603 | Y67: =+Y57+Y60+Y61 -> 1220.3302 | Z67: =+Z57+Z60+Z61 -> 1251.483 | AA67: =+AA57+AA60+AA61 -> 1290.9362
W68: =+W67*1.04 -> 1173.5759 | X68: =+X67*1.04 -> 1227.8271 | Y68: =+Y67*1.04 -> 1269.1434 | Z68: =+Z67*1.04 -> 1301.5423 | AA68: =+AA67*1.04 -> 1342.5736

Sheet RES+CD
A1: CENCODIGO | B1: CENDESCRIP | C1: ENTNOMBREENTIDAD | D1: CENLOCALIDAD
A2: C0030 | B2: AITA BARANDIARAN | C2: PATRONATO DE LA RESIDENCIA DE ANCIANOS DE ALSASUA | D2: ALTSASU / ALSASUA
A3: 559 | B3: AMAVIR ARGARAY | C3: PLANIGER, S.A. | D3: PAMPLONA / IRUÑA
A4: 554 | B4: AMAVIR BETELU | C4: ASISTENCIAL VILLA DE BETELU, S.A. | D4: BETELU
A5: 533 | B5: AMAVIR IBAÑETA | C5: ASISTENCIAL IBAÑETA, S.A. | D5: ERRO
A6: C0111 | B6: AMAVIR MUTILVA | C6: PLANIGER, S.A. | D6: MUTILVA / MUTILOA
A7: 543 | B7: AMAVIR OBLATAS | C7: PLANIGER, S.A. | D7: PAMPLONA / IRUÑA
A8: 12479 | B8: AMAVIR VALLE DE EGÜES | C8: PLANIGER, S.A. | D8: SARRIGUREN
A9: C0066 | B9: BENITO MENNI | C9: FUNDACION HOSPITALARIAS | D9: ELIZONDO
A10: C0108 | B10: CASA EQUIZA RESIDENCIA ANCIANOS | C10: CASA EQUIZA S.A. | D10: USCARRÉS / USKARTZE
A11: C0074 | B11: CASA MISERICORDIA | C11: CASA MISERICORDIA DE PAMPLONA | D11: PAMPLONA / IRUÑA
A12: 909 | B12: CASER MONTESORIA | C12: CASER RESIDENCIAL, S.A.U. | D12: LOGROÑO
... A113: C0045 | B113: SAN JOSE ZAHAR ETXEA | C113: FUNDACION HOSPITAL ASILO SAN JOSE | D113: BERA
D136: =COUNTA('RES+CD'!$D$141:INDEX('RES+CD'!$D$141:$D$274,MAX('RES+CD'!$C$141:$C$274)+1)) -> 94 | F136: =COUNTA('RES+CD'!$G$141:INDEX('RES+CD'!$G$141:$G$274,MAX('RES+CD'!$F$141:$F$274)+1)) -> 77
B140: ENTNOMBREENTIDAD Unico | C140: Orden Entidad | D140: ENTNOMBREENTIDAD ordenado | E140: CENLOCALIDAD unico | F140: Orden localidad | G140: CENLOCALIDAD
A141: 0 | B141: {=IFERROR(INDEX($C$2:$C$113,MATCH(0,COUNTIF($B$140:B140,$C$2:$C$113),0)),"")} -> PATRONATO DE LA RESIDENCIA DE ANCIANOS DE ALSASUA | C141: =IF(B141="",0,COUNTIF($B$141:$B$273,"<"&B141)+1-COUNTIF($B$141:$B$273,"")) -> 66 | D141: =IFERROR(INDEX($B$141:$B$273,MATCH(A141,$C$141:$C$273,0)),"") | E141: {=IFERROR(INDEX($D$2:$D$113,MATCH(0,COUNTIF($E$140:E140,$D$2:$D$113),0)),"")} -> ALTSASU / ALSASUA | F141: =IF(E141="",0,COUNTIF($E$141:$E$273,"<"&E141)+1-COUNTIF($E$141:$E$273,"")) -> 4 | G141: =IFERROR(INDEX($E$141:$E$273,MATCH(A141,$F$141:$F$273,0)),"")
A142: 1 | B142: {=IFERROR(INDEX($C$2:$C$113,MATCH(0,COUNTIF($B$140:B141,$C$2:$C$113),0)),"")} -> PLANIGER, S.A. | C142: =IF(B142="",0,COUNTIF($B$141:$B$273,"<"&B142)+1-COUNTIF($B$141:$B$273,"")) -> 71 | D142: =IFERROR(INDEX($B$141:$B$273,MATCH(A142,$C$141:$C$273,0)),"") -> ASILO DE ANCIANOS NUESTRA SEÑORA DEL PILAR | E142: {=IFERROR(INDEX($D$2:$D$113,MATCH(0,COUNTIF($E$140:E141,$D$2:$D$113),0)),"")} -> PAMPLONA / IRUÑA | F142: =IF(E142="",0,COUNTIF($E$141:$E$273,"<"&E142)+1-COUNTIF($E$141:$E$273,"")) -> 60 | G142: =IFERROR(INDEX($E$141:$E$273,MATCH(A142,$F$141:$F$273,0)),"") -> ABLITAS
A143: 2 | B143: {=IFERROR(INDEX($C$2:$C$113,MATCH(0,COUNTIF($B$140:B142,$C$2:$C$113),0)),"")} -> ASISTENCIAL VILLA DE BETELU, S.A. | C143: =IF(B143="",0,COUNTIF($B$141:$B$273,"<"&B143)+1-COUNTIF($B$141:$B$273,"")) -> 4 | D143: =IFERROR(INDEX($B$141:$B$273,MATCH(A143,$C$141:$C$273,0)),"") -> ASILO DE ANCIANOS SAN JOSE | E143: {=IFERROR(INDEX($D$2:$D$113,MATCH(0,COUNTIF($E$140:E142,$D$2:$D$113),0)),"")} -> BETELU | F143: =IF(E143="",0,COUNTIF($E$141:$E$273,"<"&E143)+1-COUNTIF($E$141:$E$273,"")) -> 15 | G143: =IFERROR(INDEX($E$141:$E$273,MATCH(A143,$F$141:$F$273,0)),"") -> ACEDO
A144: 3 | B144: {=IFERROR(INDEX($C$2:$C$113,MATCH(0,COUNTIF($B$140:B143,$C$2:$C$113),0)),"")} -> ASISTENCIAL IBAÑETA, S.A. | C144: =IF(B144="",0,COUNTIF($B$141:$B$273,"<"&B144)+1-COUNTIF($B$141:$B$273,"")) -> 3 | D144: =IFERROR(INDEX($B$141:$B$273,MATCH(A144,$C$141:$C$273,0)),"") -> ASISTENCIAL IBAÑETA, S.A. | E144: {=IFERROR(INDEX($D$2:$D$113,MATCH(0,COUNTIF($E$140:E143,$D$2:$D$113),0)),"")} -> ERRO | F144: =IF(E144="",0,COUNTIF($E$141:$E$273,"<"&E144)+1-COUNTIF($E$141:$E$273,"")) -> 30 | G144: =IFERROR(INDEX($E$141:$E$273,MATCH(A144,$F$141:$F$273,0)),"") -> AIBAR / OIBAR
A145: 4 | B145: {=IFERROR(INDEX($C$2:$C$113,MATCH(0,COUNTIF($B$140:B144,$C$2:$C$113),0)),"")} -> FUNDACION HOSPITALARIAS | C145: =IF(B145="",0,COUNTIF($B$141:$B$273,"<"&B145)+1-COUNTIF($B$141:$B$273,"")) -> 49 | D145: =IFERROR(INDEX($B$141:$B$273,MATCH(A145,$C$141:$C$273,0)),"") -> ASISTENCIAL VILLA DE BETELU, S.A. | E145: {=IFERROR(INDEX($D$2:$D$113,MATCH(0,COUNTIF($E$140:E144,$D$2:$D$113),0)),"")} -> MUTILVA / MUTILOA | F145: =IF(E145="",0,COUNTIF($E$141:$E$273,"<"&E145)+1-COUNTIF($E$141:$E$273,"")) -> 55 | G145: =IFERROR(INDEX($E$141:$E$273,MATCH(A145,$F$141:$F$273,0)),"") -> ALTSASU / ALSASUA
A146: 5 | B146: {=IFERROR(INDEX($C$2:$C$113,MATCH(0,COUNTIF($B$140:B145,$C$2:$C$113),0)),"")} -> CASA EQUIZA S.A. | C146: =IF(B146="",0,COUNTIF($B$141:$B$273,"<"&B146)+1-COUNTIF($B$141:$B$273,"")) -> 33 | D146: =IFERROR(INDEX($B$141:$B$273,MATCH(A146,$C$141:$C$273,0)),"") -> ASOCIACION VESTA SALUD Y VIDA | E146: {=IFERROR(INDEX($D$2:$D$113,MATCH(0,COUNTIF($E$140:E145,$D$2:$D$113),0)),"")} -> SARRIGUREN | F146: =IF(E146="",0,COUNTIF($E$141:$E$273,"<"&E146)+1-COUNTIF($E$141:$E$273,"")) -> 66 | G146: =IFERROR(INDEX($E$141:$E$273,MATCH(A146,$F$141:$F$273,0)),"") -> ANDOSILLA
A147: 6 | B147: {=IFERROR(INDEX($C$2:$C$113,MATCH(0,COUNTIF($B$140:B146,$C$2:$C$113),0)),"")} -> CASA MISERICORDIA DE PAMPLONA | C147: =IF(B147="",0,COUNTIF($B$141:$B$273,"<"&B147)+1-COUNTIF($B$141:$B$273,"")) -> 34 | D147: =IFERROR(INDEX($B$141:$B$273,MATCH(A147,$C$141:$C$273,0)),"") -> AYUNTAMIENTO DE AIBAR/OIBAR | E147: {=IFERROR(INDEX($D$2:$D$113,MATCH(0,COUNTIF($E$140:E146,$D$2:$D$113),0)),"")} -> ELIZONDO | F147: =IF(E147="",0,COUNTIF($E$141:$E$273,"<"&E147)+1-COUNTIF($E$141:$E$273,"")) -> 29 | G147: =IFERROR(INDEX($E$141:$E$273,MATCH(A147,$F$141:$F$273,0)),"") -> ANSOÁIN / ANTSOAIN
A148: 7 | B148: {=IFERROR(INDEX($C$2:$C$113,MATCH(0,COUNTIF($B$140:B147,$C$2:$C$113),0)),"")} -> CASER RESIDENCIAL, S.A.U. | C148: =IF(B148="",0,COUNTIF($B$141:$B$273,"<"&B148)+1-COUNTIF($B$141:$B$273,"")) -> 35 | D148: =IFERROR(INDEX($B$141:$B$273,MATCH(A148,$C$141:$C$273,0)),"") -> AYUNTAMIENTO DE ANDOSILLA | E148: {=IFERROR(INDEX($D$2:$D$113,MATCH(0,COUNTIF($E$140:E147,$D$2:$D$113),0)),"")} -> USCARRÉS / USKARTZE | F148: =IF(E148="",0,COUNTIF($E$141:$E$273,"<"&E148)+1-COUNTIF($E$141:$E$273,"")) -> 71 | G148: =IFERROR(INDEX($E$141:$E$273,MATCH(A148,$F$141:$F$273,0)),"") -> AOIZ / AGOITZ
A149: 8 | B149: {=IFERROR(INDEX($C$2:$C$113,MATCH(0,COUNTIF($B$140:B148,$C$2:$C$113),0)),"")} -> WELLDER ALFA SAU | C149: =IF(B149="",0,COUNTIF($B$141:$B$273,"<"&B149)+1-COUNTIF($B$141:$B$273,"")) -> 93 | D149: =IFERROR(INDEX($B$141:$B$273,MATCH(A149,$C$141:$C$273,0)),"") -> AYUNTAMIENTO DE AZAGRA | E149: {=IFERROR(INDEX($D$2:$D$113,MATCH(0,COUNTIF($E$140:E148,$D$2:$D$113),0)),"")} -> LOGROÑO | F149: =IF(E149="",0,COUNTIF($E$141:$E$273,"<"&E149)+1-COUNTIF($E$141:$E$273,"")) -> 44 | G149: =IFERROR(INDEX($E$141:$E$273,MATCH(A149,$F$141:$F$273,0)),"") -> ARTAJONA
A150: 9 | B150: {=IFERROR(INDEX($C$2:$C$113,MATCH(0,COUNTIF($B$140:B149,$C$2:$C$113),0)),"")} -> CENTRO DE DIA ALPA, S.L.U. | C150: =IF(B150="",0,COUNTIF($B$141:$B$273,"<"&B150)+1-COUNTIF($B$141:$B$273,"")) -> 36 | D150: =IFERROR(INDEX($B$141:$B$273,MATCH(A150,$C$141:$C$273,0)),"") -> AYUNTAMIENTO DE BERRIOZAR | E150: {=IFERROR(INDEX($D$2:$D$113,MATCH(0,COUNTIF($E$140:E149,$D$2:$D$113),0)),"")} -> HUARTE / UHARTE | F150: =IF(E150="",0,COUNTIF($E$141:$E$273,"<"&E150)+1-COUNTIF($E$141:$E$273,"")) -> 39 | G150: =IFERROR(INDEX($E$141:$E$273,MATCH(A150,$F$141:$F$273,0)),"") -> AVILA
A151: 10 | B151: {=IFERROR(INDEX($C$2:$C$113,MATCH(0,COUNTIF($B$140:B150,$C$2:$C$113),0)),"")} -> AYUNTAMIENTO DE LARRAGA | C151: =IF(B151="",0,COUNTIF($B$141:$B$273,"<"&B151)+1-COUNTIF($B$141:$B$273,"")) -> 19 | D151: =IFERROR(INDEX($B$141:$B$273,MATCH(A151,$C$141:$C$273,0)),"") -> AYUNTAMIENTO DE BUÑUEL | E151: {=IFERROR(INDEX($D$2:$D$113,MATCH(0,COUNTIF($E$140:E150,$D$2:$D$113),0)),"")} -> LARRAGA | F151: =IF(E151="",0,COUNTIF($E$141:$E$273,"<"&E151)+1-COUNTIF($E$141:$E$273,"")) -> 40 | G151: =IFERROR(INDEX($E$141:$E$273,MATCH(A151,$F$141:$F$273,0)),"") -> AZAGRA
A152: 11 | B152: {=IFERROR(INDEX($C$2:$C$113,MATCH(0,COUNTIF($B$140:B151,$C$2:$C$113),0)),"")} -> FUNDACION CARMEN UGUET DE RESAYRE | C152: =IF(B152="",0,COUNTIF($B$141:$B$273,"<"&B152)+1-COUNTIF($B$141:$B$273,"")) -> 44 | D152: =IFERROR(INDEX($B$141:$B$273,MATCH(A152,$C$141:$C$273,0)),"") -> AYUNTAMIENTO DE CADREITA | E152: {=IFERROR(INDEX($D$2:$D$113,MATCH(0,COUNTIF($E$140:E151,$D$2:$D$113),0)),"")} -> ABLITAS | F152: =IF(E152="",0,COUNTIF($E$141:$E$273,"<"&E152)+1-COUNTIF($E$141:$E$273,"")) -> 1 | G152: =IFERROR(INDEX($E$141:$E$273,MATCH(A152,$F$141:$F$273,0)),"") -> BARÁSOAIN
... A274: 133 | B274: {=IFERROR(INDEX($C$2:$C$113,MATCH(0,COUNTIF($B$140:B273,$C$2:$C$113),0)),"")} | C274: =IF(B274="",0,COUNTIF($B$141:$B$273,"<"&B274)+1-COUNTIF($B$141:$B$273,"")) -> 0 | D274: =IFERROR(INDEX($B$141:$B$273,MATCH(A274,$C$141:$C$273,0)),"") | E274: {=IFERROR(INDEX($D$2:$D$113,MATCH(0,COUNTIF($E$140:E273,$D$2:$D$113),0)),"")} | F274: =IF(E274="",0,COUNTIF($E$141:$E$273,"<"&E274)+1-COUNTIF($E$141:$E$273,"")) -> 0 | G274: =IFERROR(INDEX($E$141:$E$273,MATCH(A274,$F$141:$F$273,0)),"")

Sheet cumplimiento mensual res (2)
B2: Total Plazas Ocupadas | C2: Total plazas ocupadas Dependiente | D2: Total plazas ocupadas No dependiente
B16: Categoria Profesional | C16: horas mes X | D16: horas exigidas Dependiente | E16: Horas exigidas no dependiente | F16: Cumlimiento Ratio/mes
B17: Cuidador
B18: Técnicos
B19: Enfermeria
B20: Medicina
B25: EXIGENCIA DIARIA/USUARIO
B27: CATEGORIA PROFESIONAL | C27: DEP 26 | D27: NO DEP 26 | E27: DEP 27 | F27: NO DEP 27 | G27: DEP 28 | H27: NO DEP 28 | I27: DEP 29 | J27: NO DEP 29 | K27: DEP 30 | L27: NO DEP 30
B28: CUIDADOR | C28: 2.2191781 | D28: 0.73972603 | E28: 2.2191781 | F28: 0.73972603 | G28: 2.2191781 | H28: 0.73972603 | I28: 2.2191781 | J28: 0.73972603 | K28: 2.2191781 | L28: 0.73972603
B29: TECNICOS | C29: 0.17808219 | D29: 0.067123288 | E29: 0.17808219 | F29: 0.067123288 | G29: 0.17808219 | H29: 0.067123288 | I29: 0.17808219 | J29: 0.067123288 | K29: 0.17808219 | L29: 0.067123288
B30: ENFERMERIA RI | C30: 0.094246575 | D30: 0.094246575 | E30: 0.09260274 | F30: 0.09260274 | G30: 0.091780822 | H30: 0.091780822 | I30: 0.090684932 | J30: 0.090684932 | K30: 0.090356164 | L30: 0.090356164
B31: ENFERMERIA RII | C31: 0.16273973 | D31: 0.094246575 | E31: 0.16109589 | F31: 0.09260274 | G31: 0.16027397 | H31: 0.091780822 | I31: 0.15917808 | J31: 0.090684932 | K31: 0.15884932 | L31: 0.090356164
B32: ENFERMERIA RIII | C32: 0.23123288 | D32: 0.094246575 | E32: 0.22958904 | F32: 0.09260274 | G32: 0.22876712 | H32: 0.091780822 | I32: 0.22767123 | J32: 0.090684932 | K32: 0.22734247 | L32: 0.090356164
B33: MEDICINA | C33: 0.04109589 | D33: 0 | E33: 0.04109589 | F33: 0 | G33: 0.04109589 | H33: 0 | I33: 0.04109589 | J33: 0 | K33: 0.04109589 | L33: 0
B34: INCTO_ENF_DEP_II | C34: 0.068493151 | D34: 0 | E34: 0.068493151 | F34: 0 | G34: 0.068493151 | H34: 0 | I34: 0.068493151 | J34: 0 | K34: 0.068493151 | L34: 0
B35: INCTO_ENF_DEP_III | C35: 0.1369863 | D35: 0 | E35: 0.1369863 | F35: 0 | G35: 0.1369863 | H35: 0 | I35: 0.1369863 | J35: 0 | K35: 0.1369863 | L35: 0
B36: DIRECCION | C36: 0.054246575 | D36: 0 | E36: 0 | F36: 0 | G36: 0 | H36: 0 | I36: 0 | J36: 0 | K36: 0 | L36: 0
B37: MANTENIMIENTO | C37: 0.049571899 | D37: 0 | E37: 0 | F37: 0 | G37: 0 | H37: 0 | I37: 0 | J37: 0 | K37: 0 | L37: 0
B38: LIMPIEZA -LAVANDERIA | C38: 0.49315068 | D38: 0 | E38: 0 | F38: 0 | G38: 0 | H38: 0 | I38: 0 | J38: 0 | K38: 0 | L38: 0
B39: COCINA | C39: 0.24657534 | D39: 0 | E39: 0 | F39: 0 | G39: 0 | H39: 0 | I39: 0 | J39: 0 | K39: 0 | L39: 0
... B46: CONDUCTOR | C46: 0.16829746 | D46: 0 | E46: 0.16536204 | F46: 0 | G46: 0.16389432 | H46: 0 | I46: 0.16193738 | J46: 0 | K46: 0.16135029 | L46: 0

Sheet cumplimiento mensual res
B2: CATEGORIA PROFESIONAL | C2: DEP 26 | D2: NO DEP 26 | E2: DEP 27 | F2: NO DEP 27 | G2: DEP 28 | H2: NO DEP 28 | I2: DEP 29 | J2: NO DEP 29 | K2: DEP 30 | L2: NO DEP 30 | O2: MES | P2: DIAS
B3: CUIDADOR | C3: 2.2191781 | D3: 0.73972603 | E3: 2.2191781 | F3: 0.73972603 | G3: 2.2191781 | H3: 0.73972603 | I3: 2.2191781 | J3: 0.73972603 | K3: 2.2191781 | L3: 0.73972603 | O3: ENERO | P3: 31
B4: TECNICOS | C4: 0.17808219 | D4: 0.067123288 | E4: 0.17808219 | F4: 0.067123288 | G4: 0.17808219 | H4: 0.067123288 | I4: 0.17808219 | J4: 0.067123288 | K4: 0.17808219 | L4: 0.067123288 | O4: FEBRERO | P4: 28
B5: ENFERMERIA RI | C5: 0.094246575 | D5: 0.094246575 | E5: 0.09260274 | F5: 0.09260274 | G5: 0.091780822 | H5: 0.091780822 | I5: 0.090684932 | J5: 0.090684932 | K5: 0.090356164 | L5: 0.090356164 | O5: MARZO | P5: 31
B6: ENFERMERIA RII | C6: 0.16273973 | D6: 0.094246575 | E6: 0.16109589 | F6: 0.09260274 | G6: 0.16027397 | H6: 0.091780822 | I6: 0.15917808 | J6: 0.090684932 | K6: 0.15884932 | L6: 0.090356164 | O6: ABRIL | P6: 30
B7: ENFERMERIA RIII | C7: 0.23123288 | D7: 0.094246575 | E7: 0.22958904 | F7: 0.09260274 | G7: 0.22876712 | H7: 0.091780822 | I7: 0.22767123 | J7: 0.090684932 | K7: 0.22734247 | L7: 0.090356164 | O7: MAYO | P7: 31
B8: MEDICINA | C8: 0.04109589 | D8: 0 | E8: 0.04109589 | F8: 0 | G8: 0.04109589 | H8: 0 | I8: 0.04109589 | J8: 0 | K8: 0.04109589 | L8: 0 | O8: JUNIO | P8: 30
O9: JULIO | P9: 31
O10: AGOSTO | P10: 31
B11: Total Plazas Ocupadas | C11: Total plazas ocupadas Dependiente | D11: Total plazas ocupadas No dependiente | F11: MES | G11: DIAS | O11: SEPTIEMBRE | P11: 30
B12: 50 | C12: 35 | D12: =+Tabla23[Total Plazas Ocupadas]-Tabla23[Total plazas ocupadas Dependiente] -> 15 | F12: JUNIO | G12: =+INDEX(DIAS[DIAS],MATCH(MES[MES],DIAS[MES],0)) -> 30 | O12: OCTUBRE | P12: 31
O13: NOVIEMBRE | P13: 30
O14: DICIEMBRE | P14: 31
B16: Categoria Profesional | C16: horas mes X | D16: horas exigidas Dependiente | E16: Horas exigidas no dependiente | F16: Cumlimiento Ratio/mes | G16: MES D INCUMPLIMIENTO
B17: CUIDADOR | C17: 70 | D17: =+INDEX(RATIO[DEP 26],MATCH(Tabla18[[#This Row],[Categoria Profesional]],RATIO[CATEGORIA PROFESIONAL],0)) -> 2.2191781 | E17: =+Tabla18[[#This Row],[horas exigidas Dependiente]]*MES[DIAS] -> 66.575342 | F17: =+IF(Tabla18[[#This Row],[horas mes X]]>Tabla18[[#This Row],[Horas exigidas no dependiente]],"CUMPLE","INCUMPLIMIENTO") -> CUMPLE
B18: TECNICOS | C18: 4.5 | D18: =+INDEX(RATIO[DEP 26],MATCH(Tabla18[[#This Row],[Categoria Profesional]],RATIO[CATEGORIA PROFESIONAL],0)) -> 0.17808219 | E18: =+Tabla18[[#This Row],[horas exigidas Dependiente]]*MES[DIAS] -> 5.3424658 | F18: =+IF(Tabla18[[#This Row],[horas mes X]]>Tabla18[[#This Row],[Horas exigidas no dependiente]],"CUMPLE","INCUMPLIMIENTO") -> INCUMPLIMIENTO
B19: ENFERMERIA RII | C19: 5 | D19: =+INDEX(RATIO[DEP 26],MATCH(Tabla18[[#This Row],[Categoria Profesional]],RATIO[CATEGORIA PROFESIONAL],0)) -> 0.16273973 | E19: =+Tabla18[[#This Row],[horas exigidas Dependiente]]*MES[DIAS] -> 4.8821918 | F19: =+IF(Tabla18[[#This Row],[horas mes X]]>Tabla18[[#This Row],[Horas exigidas no dependiente]],"CUMPLE","INCUMPLIMIENTO") -> CUMPLE
B20: MEDICINA | C20: 3 | D20: =+INDEX(RATIO[DEP 26],MATCH(Tabla18[[#This Row],[Categoria Profesional]],RATIO[CATEGORIA PROFESIONAL],0)) -> 0.04109589 | E20: =+Tabla18[[#This Row],[horas exigidas Dependiente]]*MES[DIAS] -> 1.2328767 | F20: =+IF(Tabla18[[#This Row],[horas mes X]]>Tabla18[[#This Row],[Horas exigidas no dependiente]],"CUMPLE","INCUMPLIMIENTO") -> CUMPLE
B25: EXIGENCIA DIARIA/USUARIO

Sheet RES
A1: CENCODIGO | B1: CENDESCRIP | C1: ENTNOMBREENTIDAD | D1: CENLOCALIDAD
A2: C0030 | B2: AITA BARANDIARAN | C2: PATRONATO DE LA RESIDENCIA DE ANCIANOS DE ALSASUA | D2: ALTSASU / ALSASUA
A3: 559 | B3: AMAVIR ARGARAY | C3: PLANIGER, S.A. | D3: PAMPLONA / IRUÑA
A4: 554 | B4: AMAVIR BETELU | C4: ASISTENCIAL VILLA DE BETELU, S.A. | D4: BETELU | F4: SI/NO | G4: RATIOS | H4: ASISTENCIAL | I4: MEDICINA
A5: 533 | B5: AMAVIR IBAÑETA | C5: ASISTENCIAL IBAÑETA, S.A. | D5: ERRO | G5: SIN RATIO (Disposición Transitoria Tercera DF 92/2020)
A6: C0111 | B6: AMAVIR MUTILVA | C6: PLANIGER, S.A. | D6: MUTILVA / MUTILOA | F6: SI | G6: ENFERMERIA RI | H6: ASISTENCIAL | I6: MEDICINA
A7: 543 | B7: AMAVIR OBLATAS | C7: PLANIGER, S.A. | D7: PAMPLONA / IRUÑA | F7: NO | G7: ENFERMERIA RII | I7: NO
A8: 12479 | B8: AMAVIR VALLE DE EGÜES | C8: PLANIGER, S.A. | D8: SARRIGUREN | G8: ENFERMERIA RIII
A9: C0066 | B9: BENITO MENNI | C9: FUNDACION HOSPITALARIAS | D9: ELIZONDO
A10: C0108 | B10: CASA EQUIZA RESIDENCIA ANCIANOS | C10: CASA EQUIZA S.A. | D10: USCARRÉS / USKARTZE
A11: C0074 | B11: CASA MISERICORDIA | C11: CASA MISERICORDIA DE PAMPLONA | D11: PAMPLONA / IRUÑA
A12: 909 | B12: CASER MONTESORIA | C12: CASER RESIDENCIAL, S.A.U. | D12: LOGROÑO
A13: 645 | B13: CENTRO RESIDENCIAL CLINICA UNIVERSIDAD DE NAVARRA | C13: CLINICA UNIVERSIDAD DE NAVARRA | D13: PAMPLONA / IRUÑA
A14: 564 | B14: CENTRO RESIDENCIAL SANYRES | C14: CENTRO RESIDENCIAL SANYRES | D14: LOGROÑO
A15: 12457 | B15: CENTRO SOCIOSANITARIO BIDEALDE | C15: PERU GESTION, S.L. | D15: CIZUR MENOR
A16: A0901 | B16: CENTROS LOS ROBLES Y LOS DELFINES (BURGOS) | C16: HOGADEMA | D16: MERINDAD DE MONTIJA-VILLASANTE
A17: C0082 | B17: CLINICA SAN FERMIN | C17: CLINICA SAN FERMIN SA | D17: PAMPLONA / IRUÑA
A18: C0080 | B18: HERMANITAS DE LOS POBRES | C18: HERMANITAS DE LOS POBRES | D18: PAMPLONA / IRUÑA
A19: C0044 | B19: HOGAR SAN JOSE | C19: PATRONATO HOGAR DE SAN JOSE DE CORELLA | D19: CORELLA
A20: A0903 | B20: LOS DELFINES (BURGOS) | C20: HOGADEMA | D20: MEDINA DE POMAR
... A83: C0045 | B83: SAN JOSE ZAHAR ETXEA | C83: FUNDACION HOSPITAL ASILO SAN JOSE | D83: BERA
A84: Total | C84: =SUBTOTAL(103,RESIDENCIAS[ENTNOMBREENTIDAD]) -> 82
B103: ENTNOMBREENTIDAD Unico | C103: Orden Entidad | D103: ENTNOMBREENTIDAD ordenado | E103: CENLOCALIDAD unico
A104: 0 | B104: {=IFERROR(INDEX(RESIDENCIAS[ENTNOMBREENTIDAD],MATCH(0,COUNTIF($B$103:B103,RESIDENCIAS[ENTNOMBREENTIDAD]),0)),"")} -> PATRONATO DE LA RESIDENCIA DE ANCIANOS DE ALSASUA | C104: =IF(B104="",0,COUNTIF($B$104:$B$204,"<"&B104)+1-COUNTIF($B$104:$B$204,"")) -> 48 | D104: =IFERROR(INDEX($B$104:$B$204,MATCH(A104,$C$104:$C$204,0)),"") | E104: {=IFERROR(INDEX(RESIDENCIAS[CENLOCALIDAD],MATCH(0,COUNTIF($E$103:E103,RESIDENCIAS[CENLOCALIDAD]),0)),"")} -> ALTSASU / ALSASUA | F104: Orden localidad | G104: CENLOCALIDAD
A105: 1 | B105: {=IFERROR(INDEX(RESIDENCIAS[ENTNOMBREENTIDAD],MATCH(0,COUNTIF($B$103:B104,RESIDENCIAS[ENTNOMBREENTIDAD]),0)),"")} -> PLANIGER, S.A. | C105: =IF(B105="",0,COUNTIF($B$104:$B$204,"<"&B105)+1-COUNTIF($B$104:$B$204,"")) -> 53 | D105: =IFERROR(INDEX($B$104:$B$204,MATCH(A105,$C$104:$C$204,0)),"") -> ASILO DE ANCIANOS NUESTRA SEÑORA DEL PILAR | E105: {=IFERROR(INDEX(RESIDENCIAS[CENLOCALIDAD],MATCH(0,COUNTIF($E$103:E104,RESIDENCIAS[CENLOCALIDAD]),0)),"")} -> PAMPLONA / IRUÑA | F105: =IF(E104="",0,COUNTIF($E$104:$E$204,"<"&E104)+1-COUNTIF($E$104:$E$204,"")) -> 1 | G105: =IFERROR(INDEX($E$104:$E$204,MATCH(A104,$F$105:$F$205,0)),"")
A106: 2 | B106: {=IFERROR(INDEX(RESIDENCIAS[ENTNOMBREENTIDAD],MATCH(0,COUNTIF($B$103:B105,RESIDENCIAS[ENTNOMBREENTIDAD]),0)),"")} -> ASISTENCIAL VILLA DE BETELU, S.A. | C106: =IF(B106="",0,COUNTIF($B$104:$B$204,"<"&B106)+1-COUNTIF($B$104:$B$204,"")) -> 4 | D106: =IFERROR(INDEX($B$104:$B$204,MATCH(A106,$C$104:$C$204,0)),"") -> ASILO DE ANCIANOS SAN JOSE | E106: {=IFERROR(INDEX(RESIDENCIAS[CENLOCALIDAD],MATCH(0,COUNTIF($E$103:E105,RESIDENCIAS[CENLOCALIDAD]),0)),"")} -> BETELU | F106: =IF(E105="",0,COUNTIF($E$104:$E$204,"<"&E105)+1-COUNTIF($E$104:$E$204,"")) -> 47 | G106: =IFERROR(INDEX($E$104:$E$204,MATCH(A105,$F$105:$F$205,0)),"") -> ALTSASU / ALSASUA
A107: 3 | B107: {=IFERROR(INDEX(RESIDENCIAS[ENTNOMBREENTIDAD],MATCH(0,COUNTIF($B$103:B106,RESIDENCIAS[ENTNOMBREENTIDAD]),0)),"")} -> ASISTENCIAL IBAÑETA, S.A. | C107: =IF(B107="",0,COUNTIF($B$104:$B$204,"<"&B107)+1-COUNTIF($B$104:$B$204,"")) -> 3 | D107: =IFERROR(INDEX($B$104:$B$204,MATCH(A107,$C$104:$C$204,0)),"") -> ASISTENCIAL IBAÑETA, S.A. | E107: {=IFERROR(INDEX(RESIDENCIAS[CENLOCALIDAD],MATCH(0,COUNTIF($E$103:E106,RESIDENCIAS[CENLOCALIDAD]),0)),"")} -> ERRO | F107: =IF(E106="",0,COUNTIF($E$104:$E$204,"<"&E106)+1-COUNTIF($E$104:$E$204,"")) -> 8 | G107: =IFERROR(INDEX($E$104:$E$204,MATCH(A106,$F$105:$F$205,0)),"") -> ANDOSILLA
A108: 4 | B108: {=IFERROR(INDEX(RESIDENCIAS[ENTNOMBREENTIDAD],MATCH(0,COUNTIF($B$103:B107,RESIDENCIAS[ENTNOMBREENTIDAD]),0)),"")} -> FUNDACION HOSPITALARIAS | C108: =IF(B108="",0,COUNTIF($B$104:$B$204,"<"&B108)+1-COUNTIF($B$104:$B$204,"")) -> 32 | D108: =IFERROR(INDEX($B$104:$B$204,MATCH(A108,$C$104:$C$204,0)),"") -> ASISTENCIAL VILLA DE BETELU, S.A. | E108: {=IFERROR(INDEX(RESIDENCIAS[CENLOCALIDAD],MATCH(0,COUNTIF($E$103:E107,RESIDENCIAS[CENLOCALIDAD]),0)),"")} -> MUTILVA / MUTILOA | F108: =IF(E107="",0,COUNTIF($E$104:$E$204,"<"&E107)+1-COUNTIF($E$104:$E$204,"")) -> 22 | G108: =IFERROR(INDEX($E$104:$E$204,MATCH(A107,$F$105:$F$205,0)),"") -> AOIZ / AGOITZ
A109: 5 | B109: {=IFERROR(INDEX(RESIDENCIAS[ENTNOMBREENTIDAD],MATCH(0,COUNTIF($B$103:B108,RESIDENCIAS[ENTNOMBREENTIDAD]),0)),"")} -> CASA EQUIZA S.A. | C109: =IF(B109="",0,COUNTIF($B$104:$B$204,"<"&B109)+1-COUNTIF($B$104:$B$204,"")) -> 21 | D109: =IFERROR(INDEX($B$104:$B$204,MATCH(A109,$C$104:$C$204,0)),"") -> ASOCIACION VESTA SALUD Y VIDA | E109: {=IFERROR(INDEX(RESIDENCIAS[CENLOCALIDAD],MATCH(0,COUNTIF($E$103:E108,RESIDENCIAS[CENLOCALIDAD]),0)),"")} -> SARRIGUREN | F109: =IF(E108="",0,COUNTIF($E$104:$E$204,"<"&E108)+1-COUNTIF($E$104:$E$204,"")) -> 43 | G109: =IFERROR(INDEX($E$104:$E$204,MATCH(A108,$F$105:$F$205,0)),"") -> ARTAJONA
A110: 6 | B110: {=IFERROR(INDEX(RESIDENCIAS[ENTNOMBREENTIDAD],MATCH(0,COUNTIF($B$103:B109,RESIDENCIAS[ENTNOMBREENTIDAD]),0)),"")} -> CASA MISERICORDIA DE PAMPLONA | C110: =IF(B110="",0,COUNTIF($B$104:$B$204,"<"&B110)+1-COUNTIF($B$104:$B$204,"")) -> 22 | D110: =IFERROR(INDEX($B$104:$B$204,MATCH(A110,$C$104:$C$204,0)),"") -> AYUNTAMIENTO DE ANDOSILLA | E110: {=IFERROR(INDEX(RESIDENCIAS[CENLOCALIDAD],MATCH(0,COUNTIF($E$103:E109,RESIDENCIAS[CENLOCALIDAD]),0)),"")} -> ELIZONDO | F110: =IF(E109="",0,COUNTIF($E$104:$E$204,"<"&E109)+1-COUNTIF($E$104:$E$204,"")) -> 52 | G110: =IFERROR(INDEX($E$104:$E$204,MATCH(A109,$F$105:$F$205,0)),"") -> AVILA
A111: 7 | B111: {=IFERROR(INDEX(RESIDENCIAS[ENTNOMBREENTIDAD],MATCH(0,COUNTIF($B$103:B110,RESIDENCIAS[ENTNOMBREENTIDAD]),0)),"")} -> CASER RESIDENCIAL, S.A.U. | C111: =IF(B111="",0,COUNTIF($B$104:$B$204,"<"&B111)+1-COUNTIF($B$104:$B$204,"")) -> 23 | D111: =IFERROR(INDEX($B$104:$B$204,MATCH(A111,$C$104:$C$204,0)),"") -> AYUNTAMIENTO DE BUÑUEL | E111: {=IFERROR(INDEX(RESIDENCIAS[CENLOCALIDAD],MATCH(0,COUNTIF($E$103:E110,RESIDENCIAS[CENLOCALIDAD]),0)),"")} -> USCARRÉS / USKARTZE | F111: =IF(E110="",0,COUNTIF($E$104:$E$204,"<"&E110)+1-COUNTIF($E$104:$E$204,"")) -> 21 | G111: =IFERROR(INDEX($E$104:$E$204,MATCH(A110,$F$105:$F$205,0)),"") -> BARÁSOAIN
A112: 8 | B112: {=IFERROR(INDEX(RESIDENCIAS[ENTNOMBREENTIDAD],MATCH(0,COUNTIF($B$103:B111,RESIDENCIAS[ENTNOMBREENTIDAD]),0)),"")} -> CLINICA UNIVERSIDAD DE NAVARRA | C112: =IF(B112="",0,COUNTIF($B$104:$B$204,"<"&B112)+1-COUNTIF($B$104:$B$204,"")) -> 27 | D112: =IFERROR(INDEX($B$104:$B$204,MATCH(A112,$C$104:$C$204,0)),"") -> AYUNTAMIENTO DE CAPARROSO | E112: {=IFERROR(INDEX(RESIDENCIAS[CENLOCALIDAD],MATCH(0,COUNTIF($E$103:E111,RESIDENCIAS[CENLOCALIDAD]),0)),"")} -> LOGROÑO | F112: =IF(E111="",0,COUNTIF($E$104:$E$204,"<"&E111)+1-COUNTIF($E$104:$E$204,"")) -> 56 | G112: =IFERROR(INDEX($E$104:$E$204,MATCH(A111,$F$105:$F$205,0)),"") -> BERA
A113: 9 | B113: {=IFERROR(INDEX(RESIDENCIAS[ENTNOMBREENTIDAD],MATCH(0,COUNTIF($B$103:B112,RESIDENCIAS[ENTNOMBREENTIDAD]),0)),"")} -> CENTRO RESIDENCIAL SANYRES | C113: =IF(B113="",0,COUNTIF($B$104:$B$204,"<"&B113)+1-COUNTIF($B$104:$B$204,"")) -> 25 | D113: =IFERROR(INDEX($B$104:$B$204,MATCH(A113,$C$104:$C$204,0)),"") -> AYUNTAMIENTO DE CARCASTILLO | E113: {=IFERROR(INDEX(RESIDENCIAS[CENLOCALIDAD],MATCH(0,COUNTIF($E$103:E112,RESIDENCIAS[CENLOCALIDAD]),0)),"")} -> CIZUR MENOR | F113: =IF(E112="",0,COUNTIF($E$104:$E$204,"<"&E112)+1-COUNTIF($E$104:$E$204,"")) -> 33 | G113: =IFERROR(INDEX($E$104:$E$204,MATCH(A112,$F$105:$F$205,0)),"") -> BETELU
A114: 10 | B114: {=IFERROR(INDEX(RESIDENCIAS[ENTNOMBREENTIDAD],MATCH(0,COUNTIF($B$103:B113,RESIDENCIAS[ENTNOMBREENTIDAD]),0)),"")} -> PERU GESTION, S.L. | C114: =IF(B114="",0,COUNTIF($B$104:$B$204,"<"&B114)+1-COUNTIF($B$104:$B$204,"")) -> 52 | D114: =IFERROR(INDEX($B$104:$B$204,MATCH(A114,$C$104:$C$204,0)),"") -> AYUNTAMIENTO DE CASEDA | E114: {=IFERROR(INDEX(RESIDENCIAS[CENLOCALIDAD],MATCH(0,COUNTIF($E$103:E113,RESIDENCIAS[CENLOCALIDAD]),0)),"")} -> MERINDAD DE MONTIJA-VILLASANTE | F114: =IF(E113="",0,COUNTIF($E$104:$E$204,"<"&E113)+1-COUNTIF($E$104:$E$204,"")) -> 18 | G114: =IFERROR(INDEX($E$104:$E$204,MATCH(A113,$F$105:$F$205,0)),"") -> BUÑUEL
A115: 11 | B115: {=IFERROR(INDEX(RESIDENCIAS[ENTNOMBREENTIDAD],MATCH(0,COUNTIF($B$103:B114,RESIDENCIAS[ENTNOMBREENTIDAD]),0)),"")} -> HOGADEMA | C115: =IF(B115="",0,COUNTIF($B$104:$B$204,"<"&B115)+1-COUNTIF($B$104:$B$204,"")) -> 43 | D115: =IFERROR(INDEX($B$104:$B$204,MATCH(A115,$C$104:$C$204,0)),"") -> AYUNTAMIENTO DE CASTEJON | E115: {=IFERROR(INDEX(RESIDENCIAS[CENLOCALIDAD],MATCH(0,COUNTIF($E$103:E114,RESIDENCIAS[CENLOCALIDAD]),0)),"")} -> CORELLA | F115: =IF(E114="",0,COUNTIF($E$104:$E$204,"<"&E114)+1-COUNTIF($E$104:$E$204,"")) -> 39 | G115: =IFERROR(INDEX($E$104:$E$204,MATCH(A114,$F$105:$F$205,0)),"") -> BURLADA / BURLATA
A116: 12 | B116: {=IFERROR(INDEX(RESIDENCIAS[ENTNOMBREENTIDAD],MATCH(0,COUNTIF($B$103:B115,RESIDENCIAS[ENTNOMBREENTIDAD]),0)),"")} -> CLINICA SAN FERMIN SA | C116: =IF(B116="",0,COUNTIF($B$104:$B$204,"<"&B116)+1-COUNTIF($B$104:$B$204,"")) -> 26 | D116: =IFERROR(INDEX($B$104:$B$204,MATCH(A116,$C$104:$C$204,0)),"") -> AYUNTAMIENTO DE EULATE | E116: {=IFERROR(INDEX(RESIDENCIAS[CENLOCALIDAD],MATCH(0,COUNTIF($E$103:E115,RESIDENCIAS[CENLOCALIDAD]),0)),"")} -> MEDINA DE POMAR | F116: =IF(E115="",0,COUNTIF($E$104:$E$204,"<"&E115)+1-COUNTIF($E$104:$E$204,"")) -> 19 | G116: =IFERROR(INDEX($E$104:$E$204,MATCH(A115,$F$105:$F$205,0)),"") -> CAPARROSO
... A204: 100 | B204: {=IFERROR(INDEX(RESIDENCIAS[ENTNOMBREENTIDAD],MATCH(0,COUNTIF($B$103:B203,RESIDENCIAS[ENTNOMBREENTIDAD]),0)),"")} | C204: =IF(B204="",0,COUNTIF($B$104:$B$204,"<"&B204)+1-COUNTIF($B$104:$B$204,"")) -> 0 | D204: =IFERROR(INDEX($B$104:$B$204,MATCH(A204,$C$104:$C$204,0)),"") | E204: {=IFERROR(INDEX(RESIDENCIAS[CENLOCALIDAD],MATCH(0,COUNTIF($E$103:E203,RESIDENCIAS[CENLOCALIDAD]),0)),"")} | F204: =IF(E203="",0,COUNTIF($E$104:$E$204,"<"&E203)+1-COUNTIF($E$104:$E$204,"")) -> 0 | G204: =IFERROR(INDEX($E$104:$E$204,MATCH(A203,$F$105:$F$205,0)),"")
F205: =IF(E204="",0,COUNTIF($E$104:$E$204,"<"&E204)+1-COUNTIF($E$104:$E$204,"")) -> 0 | G205: =IFERROR(INDEX($E$104:$E$204,MATCH(A204,$F$105:$F$205,0)),"")

Sheet CD (2)
A1: CENCODIGO | B1: CENDESCRIP | C1: ENTNOMBREENTIDAD | D1: CENLOCALIDAD
A2: 12584 | B2: CENTRO DE DIA ALBERTIA | C2: WELLDER ALFA SAU | D2: PAMPLONA / IRUÑA
A3: 9905 | B3: CENTRO DE DIA ALPA PARA PERSONAS MAYORES (DEPENDIENTES) | C3: CENTRO DE DIA ALPA, S.L.U. | D3: HUARTE / UHARTE
A4: 938 | B4: CENTRO DE DIA DE LARRAGA | C4: AYUNTAMIENTO DE LARRAGA | D4: LARRAGA
A5: 12456 | B5: CENTRO DE DIA EL PORTICO | C5: FUNDACION CARMEN UGUET DE RESAYRE | D5: ABLITAS
A6: 12517 | B6: CENTRO DE DIA IRUÑALDE | C6: AYUNTAMIENTO DE BERRIOZAR | D6: BERRIOZAR
A7: 12569 | B7: CENTRO DE DIA NOAIN | C7: MANCOMUNIDAD DE SERVICIOS SOCIALES DE BASE DE LA ZONA DE NOAIN | D7: NOÁIN / NOAIN
A8: 12372 | B8: CENTRO DE DIA PARA MAYORES DE LA MANCOMUNIDAD DE SS.SS. DE BASE DE LA ZONA DE NOAIN | C8: MANCOMUNIDAD DE SERVICIOS SOCIALES DE BASE DE LA ZONA DE NOAIN | D8: BERIÁIN
A9: 672 | B9: CENTRO DE DIA PARA MAYORES DE RIBAFORADA | C9: AYUNTAMIENTO DE RIBAFORADA | D9: RIBAFORADA
A10: 949 | B10: CENTRO DE DIA PARA MAYORES FUNDACION ADACEN | C10: FUNDACION ADACEN | D10: PAMPLONA / IRUÑA
A11: 12588 | B11: CENTRO DE DIA PARA PERSONAS MAYORES ZIZUR | C11: AYUNTAMIENTO DE ZIZUR MAYOR/ZIZUR NAGUSIA | D11: ZIZUR MAYOR / ZIZUR NAGUSIA
A12: C0073 | B12: CENTRO DE DIA PSICOGERIATRICO JOSEFINA ARREGUI | C12: FUNDACION FELIPE LECEA | D12: ALTSASU / ALSASUA
... A34: 576 | B34: RESIDENCIA TORRE MONREAL | C34: RESIDENCIA TORRE MONREAL, S.L. | D34: TUDELA
D35: =SUBTOTAL(103,CENTROS_DIA[CENLOCALIDAD]) -> 33
B49: ENTNOMBREENTIDAD Únicos | C49: Orden | D49: ENTNOMBREENTIDAD | E49: CENLOCALIDAD Unicos | F49: Orden | H49: CENLOCALIDAD
A50: 0 | B50: {=IFERROR(INDEX(CENTROS_DIA[ENTNOMBREENTIDAD],MATCH(0,COUNTIF($B$49:B49,CENTROS_DIA[ENTNOMBREENTIDAD]),0)),"")} -> WELLDER ALFA SAU | C50: =IF(B50="",0,COUNTIF($B$50:$B$90,"<"&B50)+1-COUNTIF($B$50:$B$90,"")) -> 25 | D50: =IFERROR(INDEX($B$50:$B$90,MATCH(A50,$C$50:$C$90,0)),"") | E50: {=IFERROR(INDEX(CENTROS_DIA[CENLOCALIDAD],MATCH(0,COUNTIF($E$49:E49,CENTROS_DIA[CENLOCALIDAD]),0)),"")} -> PAMPLONA / IRUÑA | F50: =IF(E50="",0,COUNTIF($E$50:$E$90,"<"&E50)+1-COUNTIF($E$50:$E$90,"")) -> 16 | G50: 0 | H50: =IFERROR(INDEX($E$50:$E$90,MATCH(G50,$F$50:$F$90,0)),"")
A51: =IFERROR(IF(A50+1<=COUNTIF($C$50:$C$90,">0"),A50+1,""),"") -> 1 | B51: {=IFERROR(INDEX(CENTROS_DIA[ENTNOMBREENTIDAD],MATCH(0,COUNTIF($B$49:B50,CENTROS_DIA[ENTNOMBREENTIDAD]),0)),"")} -> CENTRO DE DIA ALPA, S.L.U. | C51: =IF(B51="",0,COUNTIF($B$50:$B$90,"<"&B51)+1-COUNTIF($B$50:$B$90,"")) -> 13 | D51: =IFERROR(INDEX($B$50:$B$90,MATCH(A51,$C$50:$C$90,0)),"") -> AYUNTAMIENTO DE AIBAR/OIBAR | E51: {=IFERROR(INDEX(CENTROS_DIA[CENLOCALIDAD],MATCH(0,COUNTIF($E$49:E50,CENTROS_DIA[CENLOCALIDAD]),0)),"")} -> HUARTE / UHARTE | F51: =IF(E51="",0,COUNTIF($E$50:$E$90,"<"&E51)+1-COUNTIF($E$50:$E$90,"")) -> 12 | G51: =IFERROR(IF(G50+1<=COUNTIF($F$50:$F$90,">0"),G50+1,""),"") -> 1 | H51: =IFERROR(INDEX($E$50:$E$90,MATCH(G51,$F$50:$F$90,0)),"") -> ABLITAS
A52: =IFERROR(IF(A51+1<=COUNTIF($C$50:$C$90,">0"),A51+1,""),"") -> 2 | B52: {=IFERROR(INDEX(CENTROS_DIA[ENTNOMBREENTIDAD],MATCH(0,COUNTIF($B$49:B51,CENTROS_DIA[ENTNOMBREENTIDAD]),0)),"")} -> AYUNTAMIENTO DE LARRAGA | C52: =IF(B52="",0,COUNTIF($B$50:$B$90,"<"&B52)+1-COUNTIF($B$50:$B$90,"")) -> 7 | D52: =IFERROR(INDEX($B$50:$B$90,MATCH(A52,$C$50:$C$90,0)),"") -> AYUNTAMIENTO DE AZAGRA | E52: {=IFERROR(INDEX(CENTROS_DIA[CENLOCALIDAD],MATCH(0,COUNTIF($E$49:E51,CENTROS_DIA[CENLOCALIDAD]),0)),"")} -> LARRAGA | F52: =IF(E52="",0,COUNTIF($E$50:$E$90,"<"&E52)+1-COUNTIF($E$50:$E$90,"")) -> 13 | G52: =IFERROR(IF(G51+1<=COUNTIF($F$50:$F$90,">0"),G51+1,""),"") -> 2 | H52: =IFERROR(INDEX($E$50:$E$90,MATCH(G52,$F$50:$F$90,0)),"") -> ACEDO
A53: =IFERROR(IF(A52+1<=COUNTIF($C$50:$C$90,">0"),A52+1,""),"") -> 3 | B53: {=IFERROR(INDEX(CENTROS_DIA[ENTNOMBREENTIDAD],MATCH(0,COUNTIF($B$49:B52,CENTROS_DIA[ENTNOMBREENTIDAD]),0)),"")} -> FUNDACION CARMEN UGUET DE RESAYRE | C53: =IF(B53="",0,COUNTIF($B$50:$B$90,"<"&B53)+1-COUNTIF($B$50:$B$90,"")) -> 16 | D53: =IFERROR(INDEX($B$50:$B$90,MATCH(A53,$C$50:$C$90,0)),"") -> AYUNTAMIENTO DE BERRIOZAR | E53: {=IFERROR(INDEX(CENTROS_DIA[CENLOCALIDAD],MATCH(0,COUNTIF($E$49:E52,CENTROS_DIA[CENLOCALIDAD]),0)),"")} -> ABLITAS | F53: =IF(E53="",0,COUNTIF($E$50:$E$90,"<"&E53)+1-COUNTIF($E$50:$E$90,"")) -> 1 | G53: =IFERROR(IF(G52+1<=COUNTIF($F$50:$F$90,">0"),G52+1,""),"") -> 3 | H53: =IFERROR(INDEX($E$50:$E$90,MATCH(G53,$F$50:$F$90,0)),"") -> AIBAR / OIBAR
A54: =IFERROR(IF(A53+1<=COUNTIF($C$50:$C$90,">0"),A53+1,""),"") -> 4 | B54: {=IFERROR(INDEX(CENTROS_DIA[ENTNOMBREENTIDAD],MATCH(0,COUNTIF($B$49:B53,CENTROS_DIA[ENTNOMBREENTIDAD]),0)),"")} -> AYUNTAMIENTO DE BERRIOZAR | C54: =IF(B54="",0,COUNTIF($B$50:$B$90,"<"&B54)+1-COUNTIF($B$50:$B$90,"")) -> 3 | D54: =IFERROR(INDEX($B$50:$B$90,MATCH(A54,$C$50:$C$90,0)),"") -> AYUNTAMIENTO DE CADREITA | E54: {=IFERROR(INDEX(CENTROS_DIA[CENLOCALIDAD],MATCH(0,COUNTIF($E$49:E53,CENTROS_DIA[CENLOCALIDAD]),0)),"")} -> BERRIOZAR | F54: =IF(E54="",0,COUNTIF($E$50:$E$90,"<"&E54)+1-COUNTIF($E$50:$E$90,"")) -> 8 | G54: =IFERROR(IF(G53+1<=COUNTIF($F$50:$F$90,">0"),G53+1,""),"") -> 4 | H54: =IFERROR(INDEX($E$50:$E$90,MATCH(G54,$F$50:$F$90,0)),"") -> ALTSASU / ALSASUA
A55: =IFERROR(IF(A54+1<=COUNTIF($C$50:$C$90,">0"),A54+1,""),"") -> 5 | B55: {=IFERROR(INDEX(CENTROS_DIA[ENTNOMBREENTIDAD],MATCH(0,COUNTIF($B$49:B54,CENTROS_DIA[ENTNOMBREENTIDAD]),0)),"")} -> MANCOMUNIDAD DE SERVICIOS SOCIALES DE BASE DE LA ZONA DE NOAIN | C55: =IF(B55="",0,COUNTIF($B$50:$B$90,"<"&B55)+1-COUNTIF($B$50:$B$90,"")) -> 19 | D55: =IFERROR(INDEX($B$50:$B$90,MATCH(A55,$C$50:$C$90,0)),"") -> AYUNTAMIENTO DE ESTERIBAR | E55: {=IFERROR(INDEX(CENTROS_DIA[CENLOCALIDAD],MATCH(0,COUNTIF($E$49:E54,CENTROS_DIA[CENLOCALIDAD]),0)),"")} -> NOÁIN / NOAIN | F55: =IF(E55="",0,COUNTIF($E$50:$E$90,"<"&E55)+1-COUNTIF($E$50:$E$90,"")) -> 15 | G55: =IFERROR(IF(G54+1<=COUNTIF($F$50:$F$90,">0"),G54+1,""),"") -> 5 | H55: =IFERROR(INDEX($E$50:$E$90,MATCH(G55,$F$50:$F$90,0)),"") -> ANSOÁIN / ANTSOAIN
A56: =IFERROR(IF(A55+1<=COUNTIF($C$50:$C$90,">0"),A55+1,""),"") -> 6 | B56: {=IFERROR(INDEX(CENTROS_DIA[ENTNOMBREENTIDAD],MATCH(0,COUNTIF($B$49:B55,CENTROS_DIA[ENTNOMBREENTIDAD]),0)),"")} -> AYUNTAMIENTO DE RIBAFORADA | C56: =IF(B56="",0,COUNTIF($B$50:$B$90,"<"&B56)+1-COUNTIF($B$50:$B$90,"")) -> 10 | D56: =IFERROR(INDEX($B$50:$B$90,MATCH(A56,$C$50:$C$90,0)),"") -> AYUNTAMIENTO DE FONTELLAS | E56: {=IFERROR(INDEX(CENTROS_DIA[CENLOCALIDAD],MATCH(0,COUNTIF($E$49:E55,CENTROS_DIA[CENLOCALIDAD]),0)),"")} -> BERIÁIN | F56: =IF(E56="",0,COUNTIF($E$50:$E$90,"<"&E56)+1-COUNTIF($E$50:$E$90,"")) -> 7 | G56: =IFERROR(IF(G55+1<=COUNTIF($F$50:$F$90,">0"),G55+1,""),"") -> 6 | H56: =IFERROR(INDEX($E$50:$E$90,MATCH(G56,$F$50:$F$90,0)),"") -> AZAGRA
A57: =IFERROR(IF(A56+1<=COUNTIF($C$50:$C$90,">0"),A56+1,""),"") -> 7 | B57: {=IFERROR(INDEX(CENTROS_DIA[ENTNOMBREENTIDAD],MATCH(0,COUNTIF($B$49:B56,CENTROS_DIA[ENTNOMBREENTIDAD]),0)),"")} -> FUNDACION ADACEN | C57: =IF(B57="",0,COUNTIF($B$50:$B$90,"<"&B57)+1-COUNTIF($B$50:$B$90,"")) -> 15 | D57: =IFERROR(INDEX($B$50:$B$90,MATCH(A57,$C$50:$C$90,0)),"") -> AYUNTAMIENTO DE LARRAGA | E57: {=IFERROR(INDEX(CENTROS_DIA[CENLOCALIDAD],MATCH(0,COUNTIF($E$49:E56,CENTROS_DIA[CENLOCALIDAD]),0)),"")} -> RIBAFORADA | F57: =IF(E57="",0,COUNTIF($E$50:$E$90,"<"&E57)+1-COUNTIF($E$50:$E$90,"")) -> 17 | G57: =IFERROR(IF(G56+1<=COUNTIF($F$50:$F$90,">0"),G56+1,""),"") -> 7 | H57: =IFERROR(INDEX($E$50:$E$90,MATCH(G57,$F$50:$F$90,0)),"") -> BERIÁIN
A58: =IFERROR(IF(A57+1<=COUNTIF($C$50:$C$90,">0"),A57+1,""),"") -> 8 | B58: {=IFERROR(INDEX(CENTROS_DIA[ENTNOMBREENTIDAD],MATCH(0,COUNTIF($B$49:B57,CENTROS_DIA[ENTNOMBREENTIDAD]),0)),"")} -> AYUNTAMIENTO DE ZIZUR MAYOR/ZIZUR NAGUSIA | C58: =IF(B58="",0,COUNTIF($B$50:$B$90,"<"&B58)+1-COUNTIF($B$50:$B$90,"")) -> 12 | D58: =IFERROR(INDEX($B$50:$B$90,MATCH(A58,$C$50:$C$90,0)),"") -> AYUNTAMIENTO DE MENDAZA | E58: {=IFERROR(INDEX(CENTROS_DIA[CENLOCALIDAD],MATCH(0,COUNTIF($E$49:E57,CENTROS_DIA[CENLOCALIDAD]),0)),"")} -> ZIZUR MAYOR / ZIZUR NAGUSIA | F58: =IF(E58="",0,COUNTIF($E$50:$E$90,"<"&E58)+1-COUNTIF($E$50:$E$90,"")) -> 20 | G58: =IFERROR(IF(G57+1<=COUNTIF($F$50:$F$90,">0"),G57+1,""),"") -> 8 | H58: =IFERROR(INDEX($E$50:$E$90,MATCH(G58,$F$50:$F$90,0)),"") -> BERRIOZAR
A59: =IFERROR(IF(A58+1<=COUNTIF($C$50:$C$90,">0"),A58+1,""),"") -> 9 | B59: {=IFERROR(INDEX(CENTROS_DIA[ENTNOMBREENTIDAD],MATCH(0,COUNTIF($B$49:B58,CENTROS_DIA[ENTNOMBREENTIDAD]),0)),"")} -> FUNDACION FELIPE LECEA | C59: =IF(B59="",0,COUNTIF($B$50:$B$90,"<"&B59)+1-COUNTIF($B$50:$B$90,"")) -> 17 | D59: =IFERROR(INDEX($B$50:$B$90,MATCH(A59,$C$50:$C$90,0)),"") -> AYUNTAMIENTO DE MURCHANTE | E59: {=IFERROR(INDEX(CENTROS_DIA[CENLOCALIDAD],MATCH(0,COUNTIF($E$49:E58,CENTROS_DIA[CENLOCALIDAD]),0)),"")} -> ALTSASU / ALSASUA | F59: =IF(E59="",0,COUNTIF($E$50:$E$90,"<"&E59)+1-COUNTIF($E$50:$E$90,"")) -> 4 | G59: =IFERROR(IF(G58+1<=COUNTIF($F$50:$F$90,">0"),G58+1,""),"") -> 9 | H59: =IFERROR(INDEX($E$50:$E$90,MATCH(G59,$F$50:$F$90,0)),"") -> BURLADA / BURLATA
A60: =IFERROR(IF(A59+1<=COUNTIF($C$50:$C$90,">0"),A59+1,""),"") -> 10 | B60: {=IFERROR(INDEX(CENTROS_DIA[ENTNOMBREENTIDAD],MATCH(0,COUNTIF($B$49:B59,CENTROS_DIA[ENTNOMBREENTIDAD]),0)),"")} -> REAL CASA MISERICORDIA DE TUDELA | C60: =IF(B60="",0,COUNTIF($B$50:$B$90,"<"&B60)+1-COUNTIF($B$50:$B$90,"")) -> 20 | D60: =IFERROR(INDEX($B$50:$B$90,MATCH(A60,$C$50:$C$90,0)),"") -> AYUNTAMIENTO DE RIBAFORADA | E60: {=IFERROR(INDEX(CENTROS_DIA[CENLOCALIDAD],MATCH(0,COUNTIF($E$49:E59,CENTROS_DIA[CENLOCALIDAD]),0)),"")} -> TUDELA | F60: =IF(E60="",0,COUNTIF($E$50:$E$90,"<"&E60)+1-COUNTIF($E$50:$E$90,"")) -> 19 | G60: =IFERROR(IF(G59+1<=COUNTIF($F$50:$F$90,">0"),G59+1,""),"") -> 10 | H60: =IFERROR(INDEX($E$50:$E$90,MATCH(G60,$F$50:$F$90,0)),"") -> CADREITA
A61: =IFERROR(IF(A60+1<=COUNTIF($C$50:$C$90,">0"),A60+1,""),"") -> 11 | B61: {=IFERROR(INDEX(CENTROS_DIA[ENTNOMBREENTIDAD],MATCH(0,COUNTIF($B$49:B60,CENTROS_DIA[ENTNOMBREENTIDAD]),0)),"")} -> AYUNTAMIENTO DE MENDAZA | C61: =IF(B61="",0,COUNTIF($B$50:$B$90,"<"&B61)+1-COUNTIF($B$50:$B$90,"")) -> 8 | D61: =IFERROR(INDEX($B$50:$B$90,MATCH(A61,$C$50:$C$90,0)),"") -> AYUNTAMIENTO DE SARTAGUDA | E61: {=IFERROR(INDEX(CENTROS_DIA[CENLOCALIDAD],MATCH(0,COUNTIF($E$49:E60,CENTROS_DIA[CENLOCALIDAD]),0)),"")} -> ACEDO | F61: =IF(E61="",0,COUNTIF($E$50:$E$90,"<"&E61)+1-COUNTIF($E$50:$E$90,"")) -> 2 | G61: =IFERROR(IF(G60+1<=COUNTIF($F$50:$F$90,">0"),G60+1,""),"") -> 11 | H61: =IFERROR(INDEX($E$50:$E$90,MATCH(G61,$F$50:$F$90,0)),"") -> FONTELLAS
A62: =IFERROR(IF(A61+1<=COUNTIF($C$50:$C$90,">0"),A61+1,""),"") -> 12 | B62: {=IFERROR(INDEX(CENTROS_DIA[ENTNOMBREENTIDAD],MATCH(0,COUNTIF($B$49:B61,CENTROS_DIA[ENTNOMBREENTIDAD]),0)),"")} -> AYUNTAMIENTO DE AZAGRA | C62: =IF(B62="",0,COUNTIF($B$50:$B$90,"<"&B62)+1-COUNTIF($B$50:$B$90,"")) -> 2 | D62: =IFERROR(INDEX($B$50:$B$90,MATCH(A62,$C$50:$C$90,0)),"") -> AYUNTAMIENTO DE ZIZUR MAYOR/ZIZUR NAGUSIA | E62: {=IFERROR(INDEX(CENTROS_DIA[CENLOCALIDAD],MATCH(0,COUNTIF($E$49:E61,CENTROS_DIA[CENLOCALIDAD]),0)),"")} -> AZAGRA | F62: =IF(E62="",0,COUNTIF($E$50:$E$90,"<"&E62)+1-COUNTIF($E$50:$E$90,"")) -> 6 | G62: =IFERROR(IF(G61+1<=COUNTIF($F$50:$F$90,">0"),G61+1,""),"") -> 12 | H62: =IFERROR(INDEX($E$50:$E$90,MATCH(G62,$F$50:$F$90,0)),"") -> HUARTE / UHARTE
... A89: =IFERROR(IF(A88+1<=COUNTIF($C$50:$C$90,">0"),A88+1,""),"") | B89: {=IFERROR(INDEX(CENTROS_DIA[ENTNOMBREENTIDAD],MATCH(0,COUNTIF($B$49:B88,CENTROS_DIA[ENTNOMBREENTIDAD]),0)),"")} | C89: =IF(B89="",0,COUNTIF($B$50:$B$90,"<"&B89)+1-COUNTIF($B$50:$B$90,"")) -> 0 | D89: =IFERROR(INDEX($B$50:$B$90,MATCH(A89,$C$50:$C$90,0)),"") | E89: {=IFERROR(INDEX(CENTROS_DIA[CENLOCALIDAD],MATCH(0,COUNTIF($E$49:E88,CENTROS_DIA[CENLOCALIDAD]),0)),"")} | F89: =IF(E89="",0,COUNTIF($E$50:$E$90,"<"&E89)+1-COUNTIF($E$50:$E$90,"")) -> 0 | G89: =IFERROR(IF(G88+1<=COUNTIF($F$50:$F$90,">0"),G88+1,""),"") | H89: =IFERROR(INDEX($E$50:$E$90,MATCH(G89,$F$50:$F$90,0)),"")
B90: {=IFERROR(INDEX(CENTROS_DIA[ENTNOMBREENTIDAD],MATCH(0,COUNTIF($B$49:B89,CENTROS_DIA[ENTNOMBREENTIDAD]),0)),"")} | C90: =IF(B90="",0,COUNTIF($B$50:$B$90,"<"&B90)+1-COUNTIF($B$50:$B$90,"")) -> 0 | E90: {=IFERROR(INDEX(CENTROS_DIA[CENLOCALIDAD],MATCH(0,COUNTIF($E$49:E89,CENTROS_DIA[CENLOCALIDAD]),0)),"")} | F90: =IF(E90="",0,COUNTIF($E$50:$E$90,"<"&E90)+1-COUNTIF($E$50:$E$90,"")) -> 0

Sheet Hoja1
