Workbook

Sheet Enero
A1: Periodo | B1: 46388
B2: =EOMONTH(B1,0) -> 46418
B3: OCUPACION ENERO
B4: mes | C4: DNI de la persona usuaria | D4: Fecha alta centro | E4: FECHA FIN | F4: Tipo de Recurso | G4: DEPENDIENTE/NO DEPENDIENTE Según valoración oficial | H4: DIAS
B5: Enero | H5: =IF(ENERO[[#This Row],[Tipo de Recurso]]="Residencia",IF(OR(ENERO[[#This Row],[Fecha alta centro]]=0,AND(ENERO[[#This Row],[FECHA FIN]]<$B$1,ENERO[[#This Row],[FECHA FIN]]<>0),ENERO[[#This Row],[Fecha alta centro]]>$B$2),0,IF(OR(ENERO[[#This Row],[FECHA FIN]]=0,ENERO[[#This Row],[FECHA FIN]]>$B$2),$B$2,ENERO[[#This Row],[FECHA FIN]])-IF(ENERO[[#This Row],[Fecha alta centro]]<$B$1,$B$1,ENERO[[#This Row],[Fecha alta centro]])+1),IF(OR(ENERO[[#This Row],[Fecha alta centro]]=0,AND(ENERO[[#This Row],[FECHA FIN]]<$B$1,ENERO[[#This Row],[FECHA FIN]]<>0),ENERO[[#This Row],[Fecha alta centro]]>$B$2),0,IF(OR(ENERO[[#This Row],[FECHA FIN]]=0,ENERO[[#This Row],[FECHA FIN]]>$B$2),$B$2,ENERO[[#This Row],[FECHA FIN]])-IF(ENERO[[#This Row],[Fecha alta centro]]<$B$1,$B$1,ENERO[[#This Row],[Fecha alta centro]])+1)*0.5*IF(LEFT(ENERO[[#This Row],[Tipo de Recurso]],3)="1/3",1/3,IF(LEFT(ENERO[[#This Row],[Tipo de Recurso]],3)="2/3",2/3,1))*248/365) -> 0
B6: Enero | H6: =IF(ENERO[[#This Row],[Tipo de Recurso]]="Residencia",IF(OR(ENERO[[#This Row],[Fecha alta centro]]=0,AND(ENERO[[#This Row],[FECHA FIN]]<$B$1,ENERO[[#This Row],[FECHA FIN]]<>0),ENERO[[#This Row],[Fecha alta centro]]>$B$2),0,IF(OR(ENERO[[#This Row],[FECHA FIN]]=0,ENERO[[#This Row],[FECHA FIN]]>$B$2),$B$2,ENERO[[#This Row],[FECHA FIN]])-IF(ENERO[[#This Row],[Fecha alta centro]]<$B$1,$B$1,ENERO[[#This Row],[Fecha alta centro]])+1),IF(OR(ENERO[[#This Row],[Fecha alta centro]]=0,AND(ENERO[[#This Row],[FECHA FIN]]<$B$1,ENERO[[#This Row],[FECHA FIN]]<>0),ENERO[[#This Row],[Fecha alta centro]]>$B$2),0,IF(OR(ENERO[[#This Row],[FECHA FIN]]=0,ENERO[[#This Row],[FECHA FIN]]>$B$2),$B$2,ENERO[[#This Row],[FECHA FIN]])-IF(ENERO[[#This Row],[Fecha alta centro]]<$B$1,$B$1,ENERO[[#This Row],[Fecha alta centro]])+1)*0.5*IF(LEFT(ENERO[[#This Row],[Tipo de Recurso]],3)="1/3",1/3,IF(LEFT(ENERO[[#This Row],[Tipo de Recurso]],3)="2/3",2/3,1))*248/365) -> 0
B7: Enero | H7: =IF(ENERO[[#This Row],[Tipo de Recurso]]="Residencia",IF(OR(ENERO[[#This Row],[Fecha alta centro]]=0,AND(ENERO[[#This Row],[FECHA FIN]]<$B$1,ENERO[[#This Row],[FECHA FIN]]<>0),ENERO[[#This Row],[Fecha alta centro]]>$B$2),0,IF(OR(ENERO[[#This Row],[FECHA FIN]]=0,ENERO[[#This Row],[FECHA FIN]]>$B$2),$B$2,ENERO[[#This Row],[FECHA FIN]])-IF(ENERO[[#This Row],[Fecha alta centro]]<$B$1,$B$1,ENERO[[#This Row],[Fecha alta centro]])+1),IF(OR(ENERO[[#This Row],[Fecha alta centro]]=0,AND(ENERO[[#This Row],[FECHA FIN]]<$B$1,ENERO[[#This Row],[FECHA FIN]]<>0),ENERO[[#This Row],[Fecha alta centro]]>$B$2),0,IF(OR(ENERO[[#This Row],[FECHA FIN]]=0,ENERO[[#This Row],[FECHA FIN]]>$B$2),$B$2,ENERO[[#This Row],[FECHA FIN]])-IF(ENERO[[#This Row],[Fecha alta centro]]<$B$1,$B$1,ENERO[[#This Row],[Fecha alta centro]])+1)*0.5*IF(LEFT(ENERO[[#This Row],[Tipo de Recurso]],3)="1/3",1/3,IF(LEFT(ENERO[[#This Row],[Tipo de Recurso]],3)="2/3",2/3,1))*248/365) -> 0
B8: Enero | H8: =IF(ENERO[[#This Row],[Tipo de Recurso]]="Residencia",IF(OR(ENERO[[#This Row],[Fecha alta centro]]=0,AND(ENERO[[#This Row],[FECHA FIN]]<$B$1,ENERO[[#This Row],[FECHA FIN]]<>0),ENERO[[#This Row],[Fecha alta centro]]>$B$2),0,IF(OR(ENERO[[#This Row],[FECHA FIN]]=0,ENERO[[#This Row],[FECHA FIN]]>$B$2),$B$2,ENERO[[#This Row],[FECHA FIN]])-IF(ENERO[[#This Row],[Fecha alta centro]]<$B$1,$B$1,ENERO[[#This Row],[Fecha alta centro]])+1),IF(OR(ENERO[[#This Row],[Fecha alta centro]]=0,AND(ENERO[[#This Row],[FECHA FIN]]<$B$1,ENERO[[#This Row],[FECHA FIN]]<>0),ENERO[[#This Row],[Fecha alta centro]]>$B$2),0,IF(OR(ENERO[[#This Row],[FECHA FIN]]=0,ENERO[[#This Row],[FECHA FIN]]>$B$2),$B$2,ENERO[[#This Row],[FECHA FIN]])-IF(ENERO[[#This Row],[Fecha alta centro]]<$B$1,$B$1,ENERO[[#This Row],[Fecha alta centro]])+1)*0.5*IF(LEFT(ENERO[[#This Row],[Tipo de Recurso]],3)="1/3",1/3,IF(LEFT(ENERO[[#This Row],[Tipo de Recurso]],3)="2/3",2/3,1))*248/365) -> 0
B9: Enero | H9: =IF(ENERO[[#This Row],[Tipo de Recurso]]="Residencia",IF(OR(ENERO[[#This Row],[Fecha alta centro]]=0,AND(ENERO[[#This Row],[FECHA FIN]]<$B$1,ENERO[[#This Row],[FECHA FIN]]<>0),ENERO[[#This Row],[Fecha alta centro]]>$B$2),0,IF(OR(ENERO[[#This Row],[FECHA FIN]]=0,ENERO[[#This Row],[FECHA FIN]]>$B$2),$B$2,ENERO[[#This Row],[FECHA FIN]])-IF(ENERO[[#This Row],[Fecha alta centro]]<$B$1,$B$1,ENERO[[#This Row],[Fecha alta centro]])+1),IF(OR(ENERO[[#This Row],[Fecha alta centro]]=0,AND(ENERO[[#This Row],[FECHA FIN]]<$B$1,ENERO[[#This Row],[FECHA FIN]]<>0),ENERO[[#This Row],[Fecha alta centro]]>$B$2),0,IF(OR(ENERO[[#This Row],[FECHA FIN]]=0,ENERO[[#This Row],[FECHA FIN]]>$B$2),$B$2,ENERO[[#This Row],[FECHA FIN]])-IF(ENERO[[#This Row],[Fecha alta centro]]<$B$1,$B$1,ENERO[[#This Row],[Fecha alta centro]])+1)*0.5*IF(LEFT(ENERO[[#This Row],[Tipo de Recurso]],3)="1/3",1/3,IF(LEFT(ENERO[[#This Row],[Tipo de Recurso]],3)="2/3",2/3,1))*248/365) -> 0
B10: Enero | H10: =IF(ENERO[[#This Row],[Tipo de Recurso]]="Residencia",IF(OR(ENERO[[#This Row],[Fecha alta centro]]=0,AND(ENERO[[#This Row],[FECHA FIN]]<$B$1,ENERO[[#This Row],[FECHA FIN]]<>0),ENERO[[#This Row],[Fecha alta centro]]>$B$2),0,IF(OR(ENERO[[#This Row],[FECHA FIN]]=0,ENERO[[#This Row],[FECHA FIN]]>$B$2),$B$2,ENERO[[#This Row],[FECHA FIN]])-IF(ENERO[[#This Row],[Fecha alta centro]]<$B$1,$B$1,ENERO[[#This Row],[Fecha alta centro]])+1),IF(OR(ENERO[[#This Row],[Fecha alta centro]]=0,AND(ENERO[[#This Row],[FECHA FIN]]<$B$1,ENERO[[#This Row],[FECHA FIN]]<>0),ENERO[[#This Row],[Fecha alta centro]]>$B$2),0,IF(OR(ENERO[[#This Row],[FECHA FIN]]=0,ENERO[[#This Row],[FECHA FIN]]>$B$2),$B$2,ENERO[[#This Row],[FECHA FIN]])-IF(ENERO[[#This Row],[Fecha alta centro]]<$B$1,$B$1,ENERO[[#This Row],[Fecha alta centro]])+1)*0.5*IF(LEFT(ENERO[[#This Row],[Tipo de Recurso]],3)="1/3",1/3,IF(LEFT(ENERO[[#This Row],[Tipo de Recurso]],3)="2/3",2/3,1))*248/365) -> 0
B11: Enero | H11: =IF(ENERO[[#This Row],[Tipo de Recurso]]="Residencia",IF(OR(ENERO[[#This Row],[Fecha alta centro]]=0,AND(ENERO[[#This Row],[FECHA FIN]]<$B$1,ENERO[[#This Row],[FECHA FIN]]<>0),ENERO[[#This Row],[Fecha alta centro]]>$B$2),0,IF(OR(ENERO[[#This Row],[FECHA FIN]]=0,ENERO[[#This Row],[FECHA FIN]]>$B$2),$B$2,ENERO[[#This Row],[FECHA FIN]])-IF(ENERO[[#This Row],[Fecha alta centro]]<$B$1,$B$1,ENERO[[#This Row],[Fecha alta centro]])+1),IF(OR(ENERO[[#This Row],[Fecha alta centro]]=0,AND(ENERO[[#This Row],[FECHA FIN]]<$B$1,ENERO[[#This Row],[FECHA FIN]]<>0),ENERO[[#This Row],[Fecha alta centro]]>$B$2),0,IF(OR(ENERO[[#This Row],[FECHA FIN]]=0,ENERO[[#This Row],[FECHA FIN]]>$B$2),$B$2,ENERO[[#This Row],[FECHA FIN]])-IF(ENERO[[#This Row],[Fecha alta centro]]<$B$1,$B$1,ENERO[[#This Row],[Fecha alta centro]])+1)*0.5*IF(LEFT(ENERO[[#This Row],[Tipo de Recurso]],3)="1/3",1/3,IF(LEFT(ENERO[[#This Row],[Tipo de Recurso]],3)="2/3",2/3,1))*248/365) -> 0
B12: Enero | H12: =IF(ENERO[[#This Row],[Tipo de Recurso]]="Residencia",IF(OR(ENERO[[#This Row],[Fecha alta centro]]=0,AND(ENERO[[#This Row],[FECHA FIN]]<$B$1,ENERO[[#This Row],[FECHA FIN]]<>0),ENERO[[#This Row],[Fecha alta centro]]>$B$2),0,IF(OR(ENERO[[#This Row],[FECHA FIN]]=0,ENERO[[#This Row],[FECHA FIN]]>$B$2),$B$2,ENERO[[#This Row],[FECHA FIN]])-IF(ENERO[[#This Row],[Fecha alta centro]]<$B$1,$B$1,ENERO[[#This Row],[Fecha alta centro]])+1),IF(OR(ENERO[[#This Row],[Fecha alta centro]]=0,AND(ENERO[[#This Row],[FECHA FIN]]<$B$1,ENERO[[#This Row],[FECHA FIN]]<>0),ENERO[[#This Row],[Fecha alta centro]]>$B$2),0,IF(OR(ENERO[[#This Row],[FECHA FIN]]=0,ENERO[[#This Row],[FECHA FIN]]>$B$2),$B$2,ENERO[[#This Row],[FECHA FIN]])-IF(ENERO[[#This Row],[Fecha alta centro]]<$B$1,$B$1,ENERO[[#This Row],[Fecha alta centro]])+1)*0.5*IF(LEFT(ENERO[[#This Row],[Tipo de Recurso]],3)="1/3",1/3,IF(LEFT(ENERO[[#This Row],[Tipo de Recurso]],3)="2/3",2/3,1))*248/365) -> 0
B13: Enero | H13: =IF(ENERO[[#This Row],[Tipo de Recurso]]="Residencia",IF(OR(ENERO[[#This Row],[Fecha alta centro]]=0,AND(ENERO[[#This Row],[FECHA FIN]]<$B$1,ENERO[[#This Row],[FECHA FIN]]<>0),ENERO[[#This Row],[Fecha alta centro]]>$B$2),0,IF(OR(ENERO[[#This Row],[FECHA FIN]]=0,ENERO[[#This Row],[FECHA FIN]]>$B$2),$B$2,ENERO[[#This Row],[FECHA FIN]])-IF(ENERO[[#This Row],[Fecha alta centro]]<$B$1,$B$1,ENERO[[#This Row],[Fecha alta centro]])+1),IF(OR(ENERO[[#This Row],[Fecha alta centro]]=0,AND(ENERO[[#This Row],[FECHA FIN]]<$B$1,ENERO[[#This Row],[FECHA FIN]]<>0),ENERO[[#This Row],[Fecha alta centro]]>$B$2),0,IF(OR(ENERO[[#This Row],[FECHA FIN]]=0,ENERO[[#This Row],[FECHA FIN]]>$B$2),$B$2,ENERO[[#This Row],[FECHA FIN]])-IF(ENERO[[#This Row],[Fecha alta centro]]<$B$1,$B$1,ENERO[[#This Row],[Fecha alta centro]])+1)*0.5*IF(LEFT(ENERO[[#This Row],[Tipo de Recurso]],3)="1/3",1/3,IF(LEFT(ENERO[[#This Row],[Tipo de Recurso]],3)="2/3",2/3,1))*248/365) -> 0
B14: Enero | H14: =IF(ENERO[[#This Row],[Tipo de Recurso]]="Residencia",IF(OR(ENERO[[#This Row],[Fecha alta centro]]=0,AND(ENERO[[#This Row],[FECHA FIN]]<$B$1,ENERO[[#This Row],[FECHA FIN]]<>0),ENERO[[#This Row],[Fecha alta centro]]>$B$2),0,IF(OR(ENERO[[#This Row],[FECHA FIN]]=0,ENERO[[#This Row],[FECHA FIN]]>$B$2),$B$2,ENERO[[#This Row],[FECHA FIN]])-IF(ENERO[[#This Row],[Fecha alta centro]]<$B$1,$B$1,ENERO[[#This Row],[Fecha alta centro]])+1),IF(OR(ENERO[[#This Row],[Fecha alta centro]]=0,AND(ENERO[[#This Row],[FECHA FIN]]<$B$1,ENERO[[#This Row],[FECHA FIN]]<>0),ENERO[[#This Row],[Fecha alta centro]]>$B$2),0,IF(OR(ENERO[[#This Row],[FECHA FIN]]=0,ENERO[[#This Row],[FECHA FIN]]>$B$2),$B$2,ENERO[[#This Row],[FECHA FIN]])-IF(ENERO[[#This Row],[Fecha alta centro]]<$B$1,$B$1,ENERO[[#This Row],[Fecha alta centro]])+1)*0.5*IF(LEFT(ENERO[[#This Row],[Tipo de Recurso]],3)="1/3",1/3,IF(LEFT(ENERO[[#This Row],[Tipo de Recurso]],3)="2/3",2/3,1))*248/365) -> 0
B15: Enero | H15: =IF(ENERO[[#This Row],[Tipo de Recurso]]="Residencia",IF(OR(ENERO[[#This Row],[Fecha alta centro]]=0,AND(ENERO[[#This Row],[FECHA FIN]]<$B$1,ENERO[[#This Row],[FECHA FIN]]<>0),ENERO[[#This Row],[Fecha alta centro]]>$B$2),0,IF(OR(ENERO[[#This Row],[FECHA FIN]]=0,ENERO[[#This Row],[FECHA FIN]]>$B$2),$B$2,ENERO[[#This Row],[FECHA FIN]])-IF(ENERO[[#This Row],[Fecha alta centro]]<$B$1,$B$1,ENERO[[#This Row],[Fecha alta centro]])+1),IF(OR(ENERO[[#This Row],[Fecha alta centro]]=0,AND(ENERO[[#This Row],[FECHA FIN]]<$B$1,ENERO[[#This Row],[FECHA FIN]]<>0),ENERO[[#This Row],[Fecha alta centro]]>$B$2),0,IF(OR(ENERO[[#This Row],[FECHA FIN]]=0,ENERO[[#This Row],[FECHA FIN]]>$B$2),$B$2,ENERO[[#This Row],[FECHA FIN]])-IF(ENERO[[#This Row],[Fecha alta centro]]<$B$1,$B$1,ENERO[[#This Row],[Fecha alta centro]])+1)*0.5*IF(LEFT(ENERO[[#This Row],[Tipo de Recurso]],3)="1/3",1/3,IF(LEFT(ENERO[[#This Row],[Tipo de Recurso]],3)="2/3",2/3,1))*248/365) -> 0
B16: Enero | H16: =IF(ENERO[[#This Row],[Tipo de Recurso]]="Residencia",IF(OR(ENERO[[#This Row],[Fecha alta centro]]=0,AND(ENERO[[#This Row],[FECHA FIN]]<$B$1,ENERO[[#This Row],[FECHA FIN]]<>0),ENERO[[#This Row],[Fecha alta centro]]>$B$2),0,IF(OR(ENERO[[#This Row],[FECHA FIN]]=0,ENERO[[#This Row],[FECHA FIN]]>$B$2),$B$2,ENERO[[#This Row],[FECHA FIN]])-IF(ENERO[[#This Row],[Fecha alta centro]]<$B$1,$B$1,ENERO[[#This Row],[Fecha alta centro]])+1),IF(OR(ENERO[[#This Row],[Fecha alta centro]]=0,AND(ENERO[[#This Row],[FECHA FIN]]<$B$1,ENERO[[#This Row],[FECHA FIN]]<>0),ENERO[[#This Row],[Fecha alta centro]]>$B$2),0,IF(OR(ENERO[[#This Row],[FECHA FIN]]=0,ENERO[[#This Row],[FECHA FIN]]>$B$2),$B$2,ENERO[[#This Row],[FECHA FIN]])-IF(ENERO[[#This Row],[Fecha alta centro]]<$B$1,$B$1,ENERO[[#This Row],[Fecha alta centro]])+1)*0.5*IF(LEFT(ENERO[[#This Row],[Tipo de Recurso]],3)="1/3",1/3,IF(LEFT(ENERO[[#This Row],[Tipo de Recurso]],3)="2/3",2/3,1))*248/365) -> 0
... B704: Enero | H704: =IF(ENERO[[#This Row],[Tipo de Recurso]]="Residencia",IF(OR(ENERO[[#This Row],[Fecha alta centro]]=0,AND(ENERO[[#This Row],[FECHA FIN]]<$B$1,ENERO[[#This Row],[FECHA FIN]]<>0),ENERO[[#This Row],[Fecha alta centro]]>$B$2),0,IF(OR(ENERO[[#This Row],[FECHA FIN]]=0,ENERO[[#This Row],[FECHA FIN]]>$B$2),$B$2,ENERO[[#This Row],[FECHA FIN]])-IF(ENERO[[#This Row],[Fecha alta centro]]<$B$1,$B$1,ENERO[[#This Row],[Fecha alta centro]])+1),IF(OR(ENERO[[#This Row],[Fecha alta centro]]=0,AND(ENERO[[#This Row],[FECHA FIN]]<$B$1,ENERO[[#This Row],[FECHA FIN]]<>0),ENERO[[#This Row],[Fecha alta centro]]>$B$2),0,IF(OR(ENERO[[#This Row],[FECHA FIN]]=0,ENERO[[#This Row],[FECHA FIN]]>$B$2),$B$2,ENERO[[#This Row],[FECHA FIN]])-IF(ENERO[[#This Row],[Fecha alta centro]]<$B$1,$B$1,ENERO[[#This Row],[Fecha alta centro]])+1)*0.5*IF(LEFT(ENERO[[#This Row],[Tipo de Recurso]],3)="1/3",1/3,IF(LEFT(ENERO[[#This Row],[Tipo de Recurso]],3)="2/3",2/3,1))*248/365) -> 0
B705: Total | H705: =SUBTOTAL(109,ENERO[DIAS]) -> 0

Sheet Febrero
A1: Periodo | B1: =EDATE(Enero!B1,1) -> 46419
B2: =EOMONTH(B1,0) -> 46446
B3: OCUPACION FEBRERO
B4: mes | C4: DNI de la persona usuaria | D4: Fecha alta centro | E4: FECHA FIN | F4: Tipo de Recurso | G4: DEPENDIENTE/NO DEPENDIENTE Según valoración oficial | H4: DIAS
B5: Febrero | H5: =IF(FEBRERO[[#This Row],[Tipo de Recurso]]="Residencia",IF(OR(FEBRERO[[#This Row],[Fecha alta centro]]=0,AND(FEBRERO[[#This Row],[FECHA FIN]]<$B$1,FEBRERO[[#This Row],[FECHA FIN]]<>0),FEBRERO[[#This Row],[Fecha alta centro]]>$B$2),0,IF(OR(FEBRERO[[#This Row],[FECHA FIN]]=0,FEBRERO[[#This Row],[FECHA FIN]]>$B$2),$B$2,FEBRERO[[#This Row],[FECHA FIN]])-IF(FEBRERO[[#This Row],[Fecha alta centro]]<$B$1,$B$1,FEBRERO[[#This Row],[Fecha alta centro]])+1),IF(OR(FEBRERO[[#This Row],[Fecha alta centro]]=0,AND(FEBRERO[[#This Row],[FECHA FIN]]<$B$1,FEBRERO[[#This Row],[FECHA FIN]]<>0),FEBRERO[[#This Row],[Fecha alta centro]]>$B$2),0,IF(OR(FEBRERO[[#This Row],[FECHA FIN]]=0,FEBRERO[[#This Row],[FECHA FIN]]>$B$2),$B$2,FEBRERO[[#This Row],[FECHA FIN]])-IF(FEBRERO[[#This Row],[Fecha alta centro]]<$B$1,$B$1,FEBRERO[[#This Row],[Fecha alta centro]])+1)*0.5*IF(LEFT(FEBRERO[[#This Row],[Tipo de Recurso]],3)="1/3",1/3,IF(LEFT(FEBRERO[[#This Row],[Tipo de Recurso]],3)="2/3",2/3,1))*248/365) -> 0
B6: Febrero | H6: =IF(FEBRERO[[#This Row],[Tipo de Recurso]]="Residencia",IF(OR(FEBRERO[[#This Row],[Fecha alta centro]]=0,AND(FEBRERO[[#This Row],[FECHA FIN]]<$B$1,FEBRERO[[#This Row],[FECHA FIN]]<>0),FEBRERO[[#This Row],[Fecha alta centro]]>$B$2),0,IF(OR(FEBRERO[[#This Row],[FECHA FIN]]=0,FEBRERO[[#This Row],[FECHA FIN]]>$B$2),$B$2,FEBRERO[[#This Row],[FECHA FIN]])-IF(FEBRERO[[#This Row],[Fecha alta centro]]<$B$1,$B$1,FEBRERO[[#This Row],[Fecha alta centro]])+1),IF(OR(FEBRERO[[#This Row],[Fecha alta centro]]=0,AND(FEBRERO[[#This Row],[FECHA FIN]]<$B$1,FEBRERO[[#This Row],[FECHA FIN]]<>0),FEBRERO[[#This Row],[Fecha alta centro]]>$B$2),0,IF(OR(FEBRERO[[#This Row],[FECHA FIN]]=0,FEBRERO[[#This Row],[FECHA FIN]]>$B$2),$B$2,FEBRERO[[#This Row],[FECHA FIN]])-IF(FEBRERO[[#This Row],[Fecha alta centro]]<$B$1,$B$1,FEBRERO[[#This Row],[Fecha alta centro]])+1)*0.5*IF(LEFT(FEBRERO[[#This Row],[Tipo de Recurso]],3)="1/3",1/3,IF(LEFT(FEBRERO[[#This Row],[Tipo de Recurso]],3)="2/3",2/3,1))*248/365) -> 0
B7: Febrero | H7: =IF(FEBRERO[[#This Row],[Tipo de Recurso]]="Residencia",IF(OR(FEBRERO[[#This Row],[Fecha alta centro]]=0,AND(FEBRERO[[#This Row],[FECHA FIN]]<$B$1,FEBRERO[[#This Row],[FECHA FIN]]<>0),FEBRERO[[#This Row],[Fecha alta centro]]>$B$2),0,IF(OR(FEBRERO[[#This Row],[FECHA FIN]]=0,FEBRERO[[#This Row],[FECHA FIN]]>$B$2),$B$2,FEBRERO[[#This Row],[FECHA FIN]])-IF(FEBRERO[[#This Row],[Fecha alta centro]]<$B$1,$B$1,FEBRERO[[#This Row],[Fecha alta centro]])+1),IF(OR(FEBRERO[[#This Row],[Fecha alta centro]]=0,AND(FEBRERO[[#This Row],[FECHA FIN]]<$B$1,FEBRERO[[#This Row],[FECHA FIN]]<>0),FEBRERO[[#This Row],[Fecha alta centro]]>$B$2),0,IF(OR(FEBRERO[[#This Row],[FECHA FIN]]=0,FEBRERO[[#This Row],[FECHA FIN]]>$B$2),$B$2,FEBRERO[[#This Row],[FECHA FIN]])-IF(FEBRERO[[#This Row],[Fecha alta centro]]<$B$1,$B$1,FEBRERO[[#This Row],[Fecha alta centro]])+1)*0.5*IF(LEFT(FEBRERO[[#This Row],[Tipo de Recurso]],3)="1/3",1/3,IF(LEFT(FEBRERO[[#This Row],[Tipo de Recurso]],3)="2/3",2/3,1))*248/365) -> 0
B8: Febrero | H8: =IF(FEBRERO[[#This Row],[Tipo de Recurso]]="Residencia",IF(OR(FEBRERO[[#This Row],[Fecha alta centro]]=0,AND(FEBRERO[[#This Row],[FECHA FIN]]<$B$1,FEBRERO[[#This Row],[FECHA FIN]]<>0),FEBRERO[[#This Row],[Fecha alta centro]]>$B$2),0,IF(OR(FEBRERO[[#This Row],[FECHA FIN]]=0,FEBRERO[[#This Row],[FECHA FIN]]>$B$2),$B$2,FEBRERO[[#This Row],[FECHA FIN]])-IF(FEBRERO[[#This Row],[Fecha alta centro]]<$B$1,$B$1,FEBRERO[[#This Row],[Fecha alta centro]])+1),IF(OR(FEBRERO[[#This Row],[Fecha alta centro]]=0,AND(FEBRERO[[#This Row],[FECHA FIN]]<$B$1,FEBRERO[[#This Row],[FECHA FIN]]<>0),FEBRERO[[#This Row],[Fecha alta centro]]>$B$2),0,IF(OR(FEBRERO[[#This Row],[FECHA FIN]]=0,FEBRERO[[#This Row],[FECHA FIN]]>$B$2),$B$2,FEBRERO[[#This Row],[FECHA FIN]])-IF(FEBRERO[[#This Row],[Fecha alta centro]]<$B$1,$B$1,FEBRERO[[#This Row],[Fecha alta centro]])+1)*0.5*IF(LEFT(FEBRERO[[#This Row],[Tipo de Recurso]],3)="1/3",1/3,IF(LEFT(FEBRERO[[#This Row],[Tipo de Recurso]],3)="2/3",2/3,1))*248/365) -> 0
B9: Febrero | H9: =IF(FEBRERO[[#This Row],[Tipo de Recurso]]="Residencia",IF(OR(FEBRERO[[#This Row],[Fecha alta centro]]=0,AND(FEBRERO[[#This Row],[FECHA FIN]]<$B$1,FEBRERO[[#This Row],[FECHA FIN]]<>0),FEBRERO[[#This Row],[Fecha alta centro]]>$B$2),0,IF(OR(FEBRERO[[#This Row],[FECHA FIN]]=0,FEBRERO[[#This Row],[FECHA FIN]]>$B$2),$B$2,FEBRERO[[#This Row],[FECHA FIN]])-IF(FEBRERO[[#This Row],[Fecha alta centro]]<$B$1,$B$1,FEBRERO[[#This Row],[Fecha alta centro]])+1),IF(OR(FEBRERO[[#This Row],[Fecha alta centro]]=0,AND(FEBRERO[[#This Row],[FECHA FIN]]<$B$1,FEBRERO[[#This Row],[FECHA FIN]]<>0),FEBRERO[[#This Row],[Fecha alta centro]]>$B$2),0,IF(OR(FEBRERO[[#This Row],[FECHA FIN]]=0,FEBRERO[[#This Row],[FECHA FIN]]>$B$2),$B$2,FEBRERO[[#This Row],[FECHA FIN]])-IF(FEBRERO[[#This Row],[Fecha alta centro]]<$B$1,$B$1,FEBRERO[[#This Row],[Fecha alta centro]])+1)*0.5*IF(LEFT(FEBRERO[[#This Row],[Tipo de Recurso]],3)="1/3",1/3,IF(LEFT(FEBRERO[[#This Row],[Tipo de Recurso]],3)="2/3",2/3,1))*248/365) -> 0
B10: Febrero | H10: =IF(FEBRERO[[#This Row],[Tipo de Recurso]]="Residencia",IF(OR(FEBRERO[[#This Row],[Fecha alta centro]]=0,AND(FEBRERO[[#This Row],[FECHA FIN]]<$B$1,FEBRERO[[#This Row],[FECHA FIN]]<>0),FEBRERO[[#This Row],[Fecha alta centro]]>$B$2),0,IF(OR(FEBRERO[[#This Row],[FECHA FIN]]=0,FEBRERO[[#This Row],[FECHA FIN]]>$B$2),$B$2,FEBRERO[[#This Row],[FECHA FIN]])-IF(FEBRERO[[#This Row],[Fecha alta centro]]<$B$1,$B$1,FEBRERO[[#This Row],[Fecha alta centro]])+1),IF(OR(FEBRERO[[#This Row],[Fecha alta centro]]=0,AND(FEBRERO[[#This Row],[FECHA FIN]]<$B$1,FEBRERO[[#This Row],[FECHA FIN]]<>0),FEBRERO[[#This Row],[Fecha alta centro]]>$B$2),0,IF(OR(FEBRERO[[#This Row],[FECHA FIN]]=0,FEBRERO[[#This Row],[FECHA FIN]]>$B$2),$B$2,FEBRERO[[#This Row],[FECHA FIN]])-IF(FEBRERO[[#This Row],[Fecha alta centro]]<$B$1,$B$1,FEBRERO[[#This Row],[Fecha alta centro]])+1)*0.5*IF(LEFT(FEBRERO[[#This Row],[Tipo de Recurso]],3)="1/3",1/3,IF(LEFT(FEBRERO[[#This Row],[Tipo de Recurso]],3)="2/3",2/3,1))*248/365) -> 0
B11: Febrero | H11: =IF(FEBRERO[[#This Row],[Tipo de Recurso]]="Residencia",IF(OR(FEBRERO[[#This Row],[Fecha alta centro]]=0,AND(FEBRERO[[#This Row],[FECHA FIN]]<$B$1,FEBRERO[[#This Row],[FECHA FIN]]<>0),FEBRERO[[#This Row],[Fecha alta centro]]>$B$2),0,IF(OR(FEBRERO[[#This Row],[FECHA FIN]]=0,FEBRERO[[#This Row],[FECHA FIN]]>$B$2),$B$2,FEBRERO[[#This Row],[FECHA FIN]])-IF(FEBRERO[[#This Row],[Fecha alta centro]]<$B$1,$B$1,FEBRERO[[#This Row],[Fecha alta centro]])+1),IF(OR(FEBRERO[[#This Row],[Fecha alta centro]]=0,AND(FEBRERO[[#This Row],[FECHA FIN]]<$B$1,FEBRERO[[#This Row],[FECHA FIN]]<>0),FEBRERO[[#This Row],[Fecha alta centro]]>$B$2),0,IF(OR(FEBRERO[[#This Row],[FECHA FIN]]=0,FEBRERO[[#This Row],[FECHA FIN]]>$B$2),$B$2,FEBRERO[[#This Row],[FECHA FIN]])-IF(FEBRERO[[#This Row],[Fecha alta centro]]<$B$1,$B$1,FEBRERO[[#This Row],[Fecha alta centro]])+1)*0.5*IF(LEFT(FEBRERO[[#This Row],[Tipo de Recurso]],3)="1/3",1/3,IF(LEFT(FEBRERO[[#This Row],[Tipo de Recurso]],3)="2/3",2/3,1))*248/365) -> 0
B12: Febrero | H12: =IF(FEBRERO[[#This Row],[Tipo de Recurso]]="Residencia",IF(OR(FEBRERO[[#This Row],[Fecha alta centro]]=0,AND(FEBRERO[[#This Row],[FECHA FIN]]<$B$1,FEBRERO[[#This Row],[FECHA FIN]]<>0),FEBRERO[[#This Row],[Fecha alta centro]]>$B$2),0,IF(OR(FEBRERO[[#This Row],[FECHA FIN]]=0,FEBRERO[[#This Row],[FECHA FIN]]>$B$2),$B$2,FEBRERO[[#This Row],[FECHA FIN]])-IF(FEBRERO[[#This Row],[Fecha alta centro]]<$B$1,$B$1,FEBRERO[[#This Row],[Fecha alta centro]])+1),IF(OR(FEBRERO[[#This Row],[Fecha alta centro]]=0,AND(FEBRERO[[#This Row],[FECHA FIN]]<$B$1,FEBRERO[[#This Row],[FECHA FIN]]<>0),FEBRERO[[#This Row],[Fecha alta centro]]>$B$2),0,IF(OR(FEBRERO[[#This Row],[FECHA FIN]]=0,FEBRERO[[#This Row],[FECHA FIN]]>$B$2),$B$2,FEBRERO[[#This Row],[FECHA FIN]])-IF(FEBRERO[[#This Row],[Fecha alta centro]]<$B$1,$B$1,FEBRERO[[#This Row],[Fecha alta centro]])+1)*0.5*IF(LEFT(FEBRERO[[#This Row],[Tipo de Recurso]],3)="1/3",1/3,IF(LEFT(FEBRERO[[#This Row],[Tipo de Recurso]],3)="2/3",2/3,1))*248/365) -> 0
B13: Febrero | H13: =IF(FEBRERO[[#This Row],[Tipo de Recurso]]="Residencia",IF(OR(FEBRERO[[#This Row],[Fecha alta centro]]=0,AND(FEBRERO[[#This Row],[FECHA FIN]]<$B$1,FEBRERO[[#This Row],[FECHA FIN]]<>0),FEBRERO[[#This Row],[Fecha alta centro]]>$B$2),0,IF(OR(FEBRERO[[#This Row],[FECHA FIN]]=0,FEBRERO[[#This Row],[FECHA FIN]]>$B$2),$B$2,FEBRERO[[#This Row],[FECHA FIN]])-IF(FEBRERO[[#This Row],[Fecha alta centro]]<$B$1,$B$1,FEBRERO[[#This Row],[Fecha alta centro]])+1),IF(OR(FEBRERO[[#This Row],[Fecha alta centro]]=0,AND(FEBRERO[[#This Row],[FECHA FIN]]<$B$1,FEBRERO[[#This Row],[FECHA FIN]]<>0),FEBRERO[[#This Row],[Fecha alta centro]]>$B$2),0,IF(OR(FEBRERO[[#This Row],[FECHA FIN]]=0,FEBRERO[[#This Row],[FECHA FIN]]>$B$2),$B$2,FEBRERO[[#This Row],[FECHA FIN]])-IF(FEBRERO[[#This Row],[Fecha alta centro]]<$B$1,$B$1,FEBRERO[[#This Row],[Fecha alta centro]])+1)*0.5*IF(LEFT(FEBRERO[[#This Row],[Tipo de Recurso]],3)="1/3",1/3,IF(LEFT(FEBRERO[[#This Row],[Tipo de Recurso]],3)="2/3",2/3,1))*248/365) -> 0
B14: Febrero | H14: =IF(FEBRERO[[#This Row],[Tipo de Recurso]]="Residencia",IF(OR(FEBRERO[[#This Row],[Fecha alta centro]]=0,AND(FEBRERO[[#This Row],[FECHA FIN]]<$B$1,FEBRERO[[#This Row],[FECHA FIN]]<>0),FEBRERO[[#This Row],[Fecha alta centro]]>$B$2),0,IF(OR(FEBRERO[[#This Row],[FECHA FIN]]=0,FEBRERO[[#This Row],[FECHA FIN]]>$B$2),$B$2,FEBRERO[[#This Row],[FECHA FIN]])-IF(FEBRERO[[#This Row],[Fecha alta centro]]<$B$1,$B$1,FEBRERO[[#This Row],[Fecha alta centro]])+1),IF(OR(FEBRERO[[#This Row],[Fecha alta centro]]=0,AND(FEBRERO[[#This Row],[FECHA FIN]]<$B$1,FEBRERO[[#This Row],[FECHA FIN]]<>0),FEBRERO[[#This Row],[Fecha alta centro]]>$B$2),0,IF(OR(FEBRERO[[#This Row],[FECHA FIN]]=0,FEBRERO[[#This Row],[FECHA FIN]]>$B$2),$B$2,FEBRERO[[#This Row],[FECHA FIN]])-IF(FEBRERO[[#This Row],[Fecha alta centro]]<$B$1,$B$1,FEBRERO[[#This Row],[Fecha alta centro]])+1)*0.5*IF(LEFT(FEBRERO[[#This Row],[Tipo de Recurso]],3)="1/3",1/3,IF(LEFT(FEBRERO[[#This Row],[Tipo de Recurso]],3)="2/3",2/3,1))*248/365) -> 0
B15: Febrero | H15: =IF(FEBRERO[[#This Row],[Tipo de Recurso]]="Residencia",IF(OR(FEBRERO[[#This Row],[Fecha alta centro]]=0,AND(FEBRERO[[#This Row],[FECHA FIN]]<$B$1,FEBRERO[[#This Row],[FECHA FIN]]<>0),FEBRERO[[#This Row],[Fecha alta centro]]>$B$2),0,IF(OR(FEBRERO[[#This Row],[FECHA FIN]]=0,FEBRERO[[#This Row],[FECHA FIN]]>$B$2),$B$2,FEBRERO[[#This Row],[FECHA FIN]])-IF(FEBRERO[[#This Row],[Fecha alta centro]]<$B$1,$B$1,FEBRERO[[#This Row],[Fecha alta centro]])+1),IF(OR(FEBRERO[[#This Row],[Fecha alta centro]]=0,AND(FEBRERO[[#This Row],[FECHA FIN]]<$B$1,FEBRERO[[#This Row],[FECHA FIN]]<>0),FEBRERO[[#This Row],[Fecha alta centro]]>$B$2),0,IF(OR(FEBRERO[[#This Row],[FECHA FIN]]=0,FEBRERO[[#This Row],[FECHA FIN]]>$B$2),$B$2,FEBRERO[[#This Row],[FECHA FIN]])-IF(FEBRERO[[#This Row],[Fecha alta centro]]<$B$1,$B$1,FEBRERO[[#This Row],[Fecha alta centro]])+1)*0.5*IF(LEFT(FEBRERO[[#This Row],[Tipo de Recurso]],3)="1/3",1/3,IF(LEFT(FEBRERO[[#This Row],[Tipo de Recurso]],3)="2/3",2/3,1))*248/365) -> 0
B16: Febrero | H16: =IF(FEBRERO[[#This Row],[Tipo de Recurso]]="Residencia",IF(OR(FEBRERO[[#This Row],[Fecha alta centro]]=0,AND(FEBRERO[[#This Row],[FECHA FIN]]<$B$1,FEBRERO[[#This Row],[FECHA FIN]]<>0),FEBRERO[[#This Row],[Fecha alta centro]]>$B$2),0,IF(OR(FEBRERO[[#This Row],[FECHA FIN]]=0,FEBRERO[[#This Row],[FECHA FIN]]>$B$2),$B$2,FEBRERO[[#This Row],[FECHA FIN]])-IF(FEBRERO[[#This Row],[Fecha alta centro]]<$B$1,$B$1,FEBRERO[[#This Row],[Fecha alta centro]])+1),IF(OR(FEBRERO[[#This Row],[Fecha alta centro]]=0,AND(FEBRERO[[#This Row],[FECHA FIN]]<$B$1,FEBRERO[[#This Row],[FECHA FIN]]<>0),FEBRERO[[#This Row],[Fecha alta centro]]>$B$2),0,IF(OR(FEBRERO[[#This Row],[FECHA FIN]]=0,FEBRERO[[#This Row],[FECHA FIN]]>$B$2),$B$2,FEBRERO[[#This Row],[FECHA FIN]])-IF(FEBRERO[[#This Row],[Fecha alta centro]]<$B$1,$B$1,FEBRERO[[#This Row],[Fecha alta centro]])+1)*0.5*IF(LEFT(FEBRERO[[#This Row],[Tipo de Recurso]],3)="1/3",1/3,IF(LEFT(FEBRERO[[#This Row],[Tipo de Recurso]],3)="2/3",2/3,1))*248/365) -> 0
... B704: Febrero | H704: =IF(FEBRERO[[#This Row],[Tipo de Recurso]]="Residencia",IF(OR(FEBRERO[[#This Row],[Fecha alta centro]]=0,AND(FEBRERO[[#This Row],[FECHA FIN]]<$B$1,FEBRERO[[#This Row],[FECHA FIN]]<>0),FEBRERO[[#This Row],[Fecha alta centro]]>$B$2),0,IF(OR(FEBRERO[[#This Row],[FECHA FIN]]=0,FEBRERO[[#This Row],[FECHA FIN]]>$B$2),$B$2,FEBRERO[[#This Row],[FECHA FIN]])-IF(FEBRERO[[#This Row],[Fecha alta centro]]<$B$1,$B$1,FEBRERO[[#This Row],[Fecha alta centro]])+1),IF(OR(FEBRERO[[#This Row],[Fecha alta centro]]=0,AND(FEBRERO[[#This Row],[FECHA FIN]]<$B$1,FEBRERO[[#This Row],[FECHA FIN]]<>0),FEBRERO[[#This Row],[Fecha alta centro]]>$B$2),0,IF(OR(FEBRERO[[#This Row],[FECHA FIN]]=0,FEBRERO[[#This Row],[FECHA FIN]]>$B$2),$B$2,FEBRERO[[#This Row],[FECHA FIN]])-IF(FEBRERO[[#This Row],[Fecha alta centro]]<$B$1,$B$1,FEBRERO[[#This Row],[Fecha alta centro]])+1)*0.5*IF(LEFT(FEBRERO[[#This Row],[Tipo de Recurso]],3)="1/3",1/3,IF(LEFT(FEBRERO[[#This Row],[Tipo de Recurso]],3)="2/3",2/3,1))*248/365) -> 0
B705: Total | G705: =SUBTOTAL(103,FEBRERO[DEPENDIENTE/NO DEPENDIENTE Según valoración oficial]) -> 0 | H705: =SUBTOTAL(109,FEBRERO[DIAS]) -> 0

Sheet Marzo
A1: Periodo | B1: =EDATE(Febrero!B1,1) -> 46447
B2: =EOMONTH(B1,0) -> 46477
B3: OCUPACION MARZO
B4: mes | C4: DNI de la persona usuaria | D4: Fecha alta centro | E4: FECHA FIN | F4: Tipo de Recurso | G4: DEPENDIENTE/NO DEPENDIENTE Según valoración oficial | H4: DIAS
B5: Marzo | H5: =IF(MARZO[[#This Row],[Tipo de Recurso]]="Residencia",IF(OR(MARZO[[#This Row],[Fecha alta centro]]=0,AND(MARZO[[#This Row],[FECHA FIN]]<$B$1,MARZO[[#This Row],[FECHA FIN]]<>0),MARZO[[#This Row],[Fecha alta centro]]>$B$2),0,IF(OR(MARZO[[#This Row],[FECHA FIN]]=0,MARZO[[#This Row],[FECHA FIN]]>$B$2),$B$2,MARZO[[#This Row],[FECHA FIN]])-IF(MARZO[[#This Row],[Fecha alta centro]]<$B$1,$B$1,MARZO[[#This Row],[Fecha alta centro]])+1),IF(OR(MARZO[[#This Row],[Fecha alta centro]]=0,AND(MARZO[[#This Row],[FECHA FIN]]<$B$1,MARZO[[#This Row],[FECHA FIN]]<>0),MARZO[[#This Row],[Fecha alta centro]]>$B$2),0,IF(OR(MARZO[[#This Row],[FECHA FIN]]=0,MARZO[[#This Row],[FECHA FIN]]>$B$2),$B$2,MARZO[[#This Row],[FECHA FIN]])-IF(MARZO[[#This Row],[Fecha alta centro]]<$B$1,$B$1,MARZO[[#This Row],[Fecha alta centro]])+1)*0.5*IF(LEFT(MARZO[[#This Row],[Tipo de Recurso]],3)="1/3",1/3,IF(LEFT(MARZO[[#This Row],[Tipo de Recurso]],3)="2/3",2/3,1))*248/365) -> 0
B6: Marzo | H6: =IF(MARZO[[#This Row],[Tipo de Recurso]]="Residencia",IF(OR(MARZO[[#This Row],[Fecha alta centro]]=0,AND(MARZO[[#This Row],[FECHA FIN]]<$B$1,MARZO[[#This Row],[FECHA FIN]]<>0),MARZO[[#This Row],[Fecha alta centro]]>$B$2),0,IF(OR(MARZO[[#This Row],[FECHA FIN]]=0,MARZO[[#This Row],[FECHA FIN]]>$B$2),$B$2,MARZO[[#This Row],[FECHA FIN]])-IF(MARZO[[#This Row],[Fecha alta centro]]<$B$1,$B$1,MARZO[[#This Row],[Fecha alta centro]])+1),IF(OR(MARZO[[#This Row],[Fecha alta centro]]=0,AND(MARZO[[#This Row],[FECHA FIN]]<$B$1,MARZO[[#This Row],[FECHA FIN]]<>0),MARZO[[#This Row],[Fecha alta centro]]>$B$2),0,IF(OR(MARZO[[#This Row],[FECHA FIN]]=0,MARZO[[#This Row],[FECHA FIN]]>$B$2),$B$2,MARZO[[#This Row],[FECHA FIN]])-IF(MARZO[[#This Row],[Fecha alta centro]]<$B$1,$B$1,MARZO[[#This Row],[Fecha alta centro]])+1)*0.5*IF(LEFT(MARZO[[#This Row],[Tipo de Recurso]],3)="1/3",1/3,IF(LEFT(MARZO[[#This Row],[Tipo de Recurso]],3)="2/3",2/3,1))*248/365) -> 0
B7: Marzo | H7: =IF(MARZO[[#This Row],[Tipo de Recurso]]="Residencia",IF(OR(MARZO[[#This Row],[Fecha alta centro]]=0,AND(MARZO[[#This Row],[FECHA FIN]]<$B$1,MARZO[[#This Row],[FECHA FIN]]<>0),MARZO[[#This Row],[Fecha alta centro]]>$B$2),0,IF(OR(MARZO[[#This Row],[FECHA FIN]]=0,MARZO[[#This Row],[FECHA FIN]]>$B$2),$B$2,MARZO[[#This Row],[FECHA FIN]])-IF(MARZO[[#This Row],[Fecha alta centro]]<$B$1,$B$1,MARZO[[#This Row],[Fecha alta centro]])+1),IF(OR(MARZO[[#This Row],[Fecha alta centro]]=0,AND(MARZO[[#This Row],[FECHA FIN]]<$B$1,MARZO[[#This Row],[FECHA FIN]]<>0),MARZO[[#This Row],[Fecha alta centro]]>$B$2),0,IF(OR(MARZO[[#This Row],[FECHA FIN]]=0,MARZO[[#This Row],[FECHA FIN]]>$B$2),$B$2,MARZO[[#This Row],[FECHA FIN]])-IF(MARZO[[#This Row],[Fecha alta centro]]<$B$1,$B$1,MARZO[[#This Row],[Fecha alta centro]])+1)*0.5*IF(LEFT(MARZO[[#This Row],[Tipo de Recurso]],3)="1/3",1/3,IF(LEFT(MARZO[[#This Row],[Tipo de Recurso]],3)="2/3",2/3,1))*248/365) -> 0
B8: Marzo | H8: =IF(MARZO[[#This Row],[Tipo de Recurso]]="Residencia",IF(OR(MARZO[[#This Row],[Fecha alta centro]]=0,AND(MARZO[[#This Row],[FECHA FIN]]<$B$1,MARZO[[#This Row],[FECHA FIN]]<>0),MARZO[[#This Row],[Fecha alta centro]]>$B$2),0,IF(OR(MARZO[[#This Row],[FECHA FIN]]=0,MARZO[[#This Row],[FECHA FIN]]>$B$2),$B$2,MARZO[[#This Row],[FECHA FIN]])-IF(MARZO[[#This Row],[Fecha alta centro]]<$B$1,$B$1,MARZO[[#This Row],[Fecha alta centro]])+1),IF(OR(MARZO[[#This Row],[Fecha alta centro]]=0,AND(MARZO[[#This Row],[FECHA FIN]]<$B$1,MARZO[[#This Row],[FECHA FIN]]<>0),MARZO[[#This Row],[Fecha alta centro]]>$B$2),0,IF(OR(MARZO[[#This Row],[FECHA FIN]]=0,MARZO[[#This Row],[FECHA FIN]]>$B$2),$B$2,MARZO[[#This Row],[FECHA FIN]])-IF(MARZO[[#This Row],[Fecha alta centro]]<$B$1,$B$1,MARZO[[#This Row],[Fecha alta centro]])+1)*0.5*IF(LEFT(MARZO[[#This Row],[Tipo de Recurso]],3)="1/3",1/3,IF(LEFT(MARZO[[#This Row],[Tipo de Recurso]],3)="2/3",2/3,1))*248/365) -> 0
B9: Marzo | H9: =IF(MARZO[[#This Row],[Tipo de Recurso]]="Residencia",IF(OR(MARZO[[#This Row],[Fecha alta centro]]=0,AND(MARZO[[#This Row],[FECHA FIN]]<$B$1,MARZO[[#This Row],[FECHA FIN]]<>0),MARZO[[#This Row],[Fecha alta centro]]>$B$2),0,IF(OR(MARZO[[#This Row],[FECHA FIN]]=0,MARZO[[#This Row],[FECHA FIN]]>$B$2),$B$2,MARZO[[#This Row],[FECHA FIN]])-IF(MARZO[[#This Row],[Fecha alta centro]]<$B$1,$B$1,MARZO[[#This Row],[Fecha alta centro]])+1),IF(OR(MARZO[[#This Row],[Fecha alta centro]]=0,AND(MARZO[[#This Row],[FECHA FIN]]<$B$1,MARZO[[#This Row],[FECHA FIN]]<>0),MARZO[[#This Row],[Fecha alta centro]]>$B$2),0,IF(OR(MARZO[[#This Row],[FECHA FIN]]=0,MARZO[[#This Row],[FECHA FIN]]>$B$2),$B$2,MARZO[[#This Row],[FECHA FIN]])-IF(MARZO[[#This Row],[Fecha alta centro]]<$B$1,$B$1,MARZO[[#This Row],[Fecha alta centro]])+1)*0.5*IF(LEFT(MARZO[[#This Row],[Tipo de Recurso]],3)="1/3",1/3,IF(LEFT(MARZO[[#This Row],[Tipo de Recurso]],3)="2/3",2/3,1))*248/365) -> 0
B10: Marzo | H10: =IF(MARZO[[#This Row],[Tipo de Recurso]]="Residencia",IF(OR(MARZO[[#This Row],[Fecha alta centro]]=0,AND(MARZO[[#This Row],[FECHA FIN]]<$B$1,MARZO[[#This Row],[FECHA FIN]]<>0),MARZO[[#This Row],[Fecha alta centro]]>$B$2),0,IF(OR(MARZO[[#This Row],[FECHA FIN]]=0,MARZO[[#This Row],[FECHA FIN]]>$B$2),$B$2,MARZO[[#This Row],[FECHA FIN]])-IF(MARZO[[#This Row],[Fecha alta centro]]<$B$1,$B$1,MARZO[[#This Row],[Fecha alta centro]])+1),IF(OR(MARZO[[#This Row],[Fecha alta centro]]=0,AND(MARZO[[#This Row],[FECHA FIN]]<$B$1,MARZO[[#This Row],[FECHA FIN]]<>0),MARZO[[#This Row],[Fecha alta centro]]>$B$2),0,IF(OR(MARZO[[#This Row],[FECHA FIN]]=0,MARZO[[#This Row],[FECHA FIN]]>$B$2),$B$2,MARZO[[#This Row],[FECHA FIN]])-IF(MARZO[[#This Row],[Fecha alta centro]]<$B$1,$B$1,MARZO[[#This Row],[Fecha alta centro]])+1)*0.5*IF(LEFT(MARZO[[#This Row],[Tipo de Recurso]],3)="1/3",1/3,IF(LEFT(MARZO[[#This Row],[Tipo de Recurso]],3)="2/3",2/3,1))*248/365) -> 0
B11: Marzo | H11: =IF(MARZO[[#This Row],[Tipo de Recurso]]="Residencia",IF(OR(MARZO[[#This Row],[Fecha alta centro]]=0,AND(MARZO[[#This Row],[FECHA FIN]]<$B$1,MARZO[[#This Row],[FECHA FIN]]<>0),MARZO[[#This Row],[Fecha alta centro]]>$B$2),0,IF(OR(MARZO[[#This Row],[FECHA FIN]]=0,MARZO[[#This Row],[FECHA FIN]]>$B$2),$B$2,MARZO[[#This Row],[FECHA FIN]])-IF(MARZO[[#This Row],[Fecha alta centro]]<$B$1,$B$1,MARZO[[#This Row],[Fecha alta centro]])+1),IF(OR(MARZO[[#This Row],[Fecha alta centro]]=0,AND(MARZO[[#This Row],[FECHA FIN]]<$B$1,MARZO[[#This Row],[FECHA FIN]]<>0),MARZO[[#This Row],[Fecha alta centro]]>$B$2),0,IF(OR(MARZO[[#This Row],[FECHA FIN]]=0,MARZO[[#This Row],[FECHA FIN]]>$B$2),$B$2,MARZO[[#This Row],[FECHA FIN]])-IF(MARZO[[#This Row],[Fecha alta centro]]<$B$1,$B$1,MARZO[[#This Row],[Fecha alta centro]])+1)*0.5*IF(LEFT(MARZO[[#This Row],[Tipo de Recurso]],3)="1/3",1/3,IF(LEFT(MARZO[[#This Row],[Tipo de Recurso]],3)="2/3",2/3,1))*248/365) -> 0
B12: Marzo | H12: =IF(MARZO[[#This Row],[Tipo de Recurso]]="Residencia",IF(OR(MARZO[[#This Row],[Fecha alta centro]]=0,AND(MARZO[[#This Row],[FECHA FIN]]<$B$1,MARZO[[#This Row],[FECHA FIN]]<>0),MARZO[[#This Row],[Fecha alta centro]]>$B$2),0,IF(OR(MARZO[[#This Row],[FECHA FIN]]=0,MARZO[[#This Row],[FECHA FIN]]>$B$2),$B$2,MARZO[[#This Row],[FECHA FIN]])-IF(MARZO[[#This Row],[Fecha alta centro]]<$B$1,$B$1,MARZO[[#This Row],[Fecha alta centro]])+1),IF(OR(MARZO[[#This Row],[Fecha alta centro]]=0,AND(MARZO[[#This Row],[FECHA FIN]]<$B$1,MARZO[[#This Row],[FECHA FIN]]<>0),MARZO[[#This Row],[Fecha alta centro]]>$B$2),0,IF(OR(MARZO[[#This Row],[FECHA FIN]]=0,MARZO[[#This Row],[FECHA FIN]]>$B$2),$B$2,MARZO[[#This Row],[FECHA FIN]])-IF(MARZO[[#This Row],[Fecha alta centro]]<$B$1,$B$1,MARZO[[#This Row],[Fecha alta centro]])+1)*0.5*IF(LEFT(MARZO[[#This Row],[Tipo de Recurso]],3)="1/3",1/3,IF(LEFT(MARZO[[#This Row],[Tipo de Recurso]],3)="2/3",2/3,1))*248/365) -> 0
B13: Marzo | H13: =IF(MARZO[[#This Row],[Tipo de Recurso]]="Residencia",IF(OR(MARZO[[#This Row],[Fecha alta centro]]=0,AND(MARZO[[#This Row],[FECHA FIN]]<$B$1,MARZO[[#This Row],[FECHA FIN]]<>0),MARZO[[#This Row],[Fecha alta centro]]>$B$2),0,IF(OR(MARZO[[#This Row],[FECHA FIN]]=0,MARZO[[#This Row],[FECHA FIN]]>$B$2),$B$2,MARZO[[#This Row],[FECHA FIN]])-IF(MARZO[[#This Row],[Fecha alta centro]]<$B$1,$B$1,MARZO[[#This Row],[Fecha alta centro]])+1),IF(OR(MARZO[[#This Row],[Fecha alta centro]]=0,AND(MARZO[[#This Row],[FECHA FIN]]<$B$1,MARZO[[#This Row],[FECHA FIN]]<>0),MARZO[[#This Row],[Fecha alta centro]]>$B$2),0,IF(OR(MARZO[[#This Row],[FECHA FIN]]=0,MARZO[[#This Row],[FECHA FIN]]>$B$2),$B$2,MARZO[[#This Row],[FECHA FIN]])-IF(MARZO[[#This Row],[Fecha alta centro]]<$B$1,$B$1,MARZO[[#This Row],[Fecha alta centro]])+1)*0.5*IF(LEFT(MARZO[[#This Row],[Tipo de Recurso]],3)="1/3",1/3,IF(LEFT(MARZO[[#This Row],[Tipo de Recurso]],3)="2/3",2/3,1))*248/365) -> 0
B14: Marzo | H14: =IF(MARZO[[#This Row],[Tipo de Recurso]]="Residencia",IF(OR(MARZO[[#This Row],[Fecha alta centro]]=0,AND(MARZO[[#This Row],[FECHA FIN]]<$B$1,MARZO[[#This Row],[FECHA FIN]]<>0),MARZO[[#This Row],[Fecha alta centro]]>$B$2),0,IF(OR(MARZO[[#This Row],[FECHA FIN]]=0,MARZO[[#This Row],[FECHA FIN]]>$B$2),$B$2,MARZO[[#This Row],[FECHA FIN]])-IF(MARZO[[#This Row],[Fecha alta centro]]<$B$1,$B$1,MARZO[[#This Row],[Fecha alta centro]])+1),IF(OR(MARZO[[#This Row],[Fecha alta centro]]=0,AND(MARZO[[#This Row],[FECHA FIN]]<$B$1,MARZO[[#This Row],[FECHA FIN]]<>0),MARZO[[#This Row],[Fecha alta centro]]>$B$2),0,IF(OR(MARZO[[#This Row],[FECHA FIN]]=0,MARZO[[#This Row],[FECHA FIN]]>$B$2),$B$2,MARZO[[#This Row],[FECHA FIN]])-IF(MARZO[[#This Row],[Fecha alta centro]]<$B$1,$B$1,MARZO[[#This Row],[Fecha alta centro]])+1)*0.5*IF(LEFT(MARZO[[#This Row],[Tipo de Recurso]],3)="1/3",1/3,IF(LEFT(MARZO[[#This Row],[Tipo de Recurso]],3)="2/3",2/3,1))*248/365) -> 0
B15: Marzo | H15: =IF(MARZO[[#This Row],[Tipo de Recurso]]="Residencia",IF(OR(MARZO[[#This Row],[Fecha alta centro]]=0,AND(MARZO[[#This Row],[FECHA FIN]]<$B$1,MARZO[[#This Row],[FECHA FIN]]<>0),MARZO[[#This Row],[Fecha alta centro]]>$B$2),0,IF(OR(MARZO[[#This Row],[FECHA FIN]]=0,MARZO[[#This Row],[FECHA FIN]]>$B$2),$B$2,MARZO[[#This Row],[FECHA FIN]])-IF(MARZO[[#This Row],[Fecha alta centro]]<$B$1,$B$1,MARZO[[#This Row],[Fecha alta centro]])+1),IF(OR(MARZO[[#This Row],[Fecha alta centro]]=0,AND(MARZO[[#This Row],[FECHA FIN]]<$B$1,MARZO[[#This Row],[FECHA FIN]]<>0),MARZO[[#This Row],[Fecha alta centro]]>$B$2),0,IF(OR(MARZO[[#This Row],[FECHA FIN]]=0,MARZO[[#This Row],[FECHA FIN]]>$B$2),$B$2,MARZO[[#This Row],[FECHA FIN]])-IF(MARZO[[#This Row],[Fecha alta centro]]<$B$1,$B$1,MARZO[[#This Row],[Fecha alta centro]])+1)*0.5*IF(LEFT(MARZO[[#This Row],[Tipo de Recurso]],3)="1/3",1/3,IF(LEFT(MARZO[[#This Row],[Tipo de Recurso]],3)="2/3",2/3,1))*248/365) -> 0
B16: Marzo | H16: =IF(MARZO[[#This Row],[Tipo de Recurso]]="Residencia",IF(OR(MARZO[[#This Row],[Fecha alta centro]]=0,AND(MARZO[[#This Row],[FECHA FIN]]<$B$1,MARZO[[#This Row],[FECHA FIN]]<>0),MARZO[[#This Row],[Fecha alta centro]]>$B$2),0,IF(OR(MARZO[[#This Row],[FECHA FIN]]=0,MARZO[[#This Row],[FECHA FIN]]>$B$2),$B$2,MARZO[[#This Row],[FECHA FIN]])-IF(MARZO[[#This Row],[Fecha alta centro]]<$B$1,$B$1,MARZO[[#This Row],[Fecha alta centro]])+1),IF(OR(MARZO[[#This Row],[Fecha alta centro]]=0,AND(MARZO[[#This Row],[FECHA FIN]]<$B$1,MARZO[[#This Row],[FECHA FIN]]<>0),MARZO[[#This Row],[Fecha alta centro]]>$B$2),0,IF(OR(MARZO[[#This Row],[FECHA FIN]]=0,MARZO[[#This Row],[FECHA FIN]]>$B$2),$B$2,MARZO[[#This Row],[FECHA FIN]])-IF(MARZO[[#This Row],[Fecha alta centro]]<$B$1,$B$1,MARZO[[#This Row],[Fecha alta centro]])+1)*0.5*IF(LEFT(MARZO[[#This Row],[Tipo de Recurso]],3)="1/3",1/3,IF(LEFT(MARZO[[#This Row],[Tipo de Recurso]],3)="2/3",2/3,1))*248/365) -> 0
... B704: Marzo | H704: =IF(MARZO[[#This Row],[Tipo de Recurso]]="Residencia",IF(OR(MARZO[[#This Row],[Fecha alta centro]]=0,AND(MARZO[[#This Row],[FECHA FIN]]<$B$1,MARZO[[#This Row],[FECHA FIN]]<>0),MARZO[[#This Row],[Fecha alta centro]]>$B$2),0,IF(OR(MARZO[[#This Row],[FECHA FIN]]=0,MARZO[[#This Row],[FECHA FIN]]>$B$2),$B$2,MARZO[[#This Row],[FECHA FIN]])-IF(MARZO[[#This Row],[Fecha alta centro]]<$B$1,$B$1,MARZO[[#This Row],[Fecha alta centro]])+1),IF(OR(MARZO[[#This Row],[Fecha alta centro]]=0,AND(MARZO[[#This Row],[FECHA FIN]]<$B$1,MARZO[[#This Row],[FECHA FIN]]<>0),MARZO[[#This Row],[Fecha alta centro]]>$B$2),0,IF(OR(MARZO[[#This Row],[FECHA FIN]]=0,MARZO[[#This Row],[FECHA FIN]]>$B$2),$B$2,MARZO[[#This Row],[FECHA FIN]])-IF(MARZO[[#This Row],[Fecha alta centro]]<$B$1,$B$1,MARZO[[#This Row],[Fecha alta centro]])+1)*0.5*IF(LEFT(MARZO[[#This Row],[Tipo de Recurso]],3)="1/3",1/3,IF(LEFT(MARZO[[#This Row],[Tipo de Recurso]],3)="2/3",2/3,1))*248/365) -> 0
B705: Total | G705: =SUBTOTAL(103,MARZO[DEPENDIENTE/NO DEPENDIENTE Según valoración oficial]) -> 0 | H705: =SUBTOTAL(109,MARZO[DIAS]) -> 0

Sheet Abril
A1: Periodo | B1: =EDATE(Marzo!B1,1) -> 46478
B2: =EOMONTH(B1,0) -> 46507
B3: OCUPACION ABRIL
B4: mes | C4: DNI de la persona usuaria | D4: Fecha alta centro | E4: FECHA FIN | F4: Tipo de Recurso | G4: DEPENDIENTE/NO DEPENDIENTE Según valoración oficial | H4: DIAS
B5: Abril | H5: =IF(ABRIL[[#This Row],[Tipo de Recurso]]="Residencia",IF(OR(ABRIL[[#This Row],[Fecha alta centro]]=0,AND(ABRIL[[#This Row],[FECHA FIN]]<$B$1,ABRIL[[#This Row],[FECHA FIN]]<>0),ABRIL[[#This Row],[Fecha alta centro]]>$B$2),0,IF(OR(ABRIL[[#This Row],[FECHA FIN]]=0,ABRIL[[#This Row],[FECHA FIN]]>$B$2),$B$2,ABRIL[[#This Row],[FECHA FIN]])-IF(ABRIL[[#This Row],[Fecha alta centro]]<$B$1,$B$1,ABRIL[[#This Row],[Fecha alta centro]])+1),IF(OR(ABRIL[[#This Row],[Fecha alta centro]]=0,AND(ABRIL[[#This Row],[FECHA FIN]]<$B$1,ABRIL[[#This Row],[FECHA FIN]]<>0),ABRIL[[#This Row],[Fecha alta centro]]>$B$2),0,IF(OR(ABRIL[[#This Row],[FECHA FIN]]=0,ABRIL[[#This Row],[FECHA FIN]]>$B$2),$B$2,ABRIL[[#This Row],[FECHA FIN]])-IF(ABRIL[[#This Row],[Fecha alta centro]]<$B$1,$B$1,ABRIL[[#This Row],[Fecha alta centro]])+1)*0.5*IF(LEFT(ABRIL[[#This Row],[Tipo de Recurso]],3)="1/3",1/3,IF(LEFT(ABRIL[[#This Row],[Tipo de Recurso]],3)="2/3",2/3,1))*248/365) -> 0
B6: Abril | H6: =IF(ABRIL[[#This Row],[Tipo de Recurso]]="Residencia",IF(OR(ABRIL[[#This Row],[Fecha alta centro]]=0,AND(ABRIL[[#This Row],[FECHA FIN]]<$B$1,ABRIL[[#This Row],[FECHA FIN]]<>0),ABRIL[[#This Row],[Fecha alta centro]]>$B$2),0,IF(OR(ABRIL[[#This Row],[FECHA FIN]]=0,ABRIL[[#This Row],[FECHA FIN]]>$B$2),$B$2,ABRIL[[#This Row],[FECHA FIN]])-IF(ABRIL[[#This Row],[Fecha alta centro]]<$B$1,$B$1,ABRIL[[#This Row],[Fecha alta centro]])+1),IF(OR(ABRIL[[#This Row],[Fecha alta centro]]=0,AND(ABRIL[[#This Row],[FECHA FIN]]<$B$1,ABRIL[[#This Row],[FECHA FIN]]<>0),ABRIL[[#This Row],[Fecha alta centro]]>$B$2),0,IF(OR(ABRIL[[#This Row],[FECHA FIN]]=0,ABRIL[[#This Row],[FECHA FIN]]>$B$2),$B$2,ABRIL[[#This Row],[FECHA FIN]])-IF(ABRIL[[#This Row],[Fecha alta centro]]<$B$1,$B$1,ABRIL[[#This Row],[Fecha alta centro]])+1)*0.5*IF(LEFT(ABRIL[[#This Row],[Tipo de Recurso]],3)="1/3",1/3,IF(LEFT(ABRIL[[#This Row],[Tipo de Recurso]],3)="2/3",2/3,1))*248/365) -> 0
B7: Abril | H7: =IF(ABRIL[[#This Row],[Tipo de Recurso]]="Residencia",IF(OR(ABRIL[[#This Row],[Fecha alta centro]]=0,AND(ABRIL[[#This Row],[FECHA FIN]]<$B$1,ABRIL[[#This Row],[FECHA FIN]]<>0),ABRIL[[#This Row],[Fecha alta centro]]>$B$2),0,IF(OR(ABRIL[[#This Row],[FECHA FIN]]=0,ABRIL[[#This Row],[FECHA FIN]]>$B$2),$B$2,ABRIL[[#This Row],[FECHA FIN]])-IF(ABRIL[[#This Row],[Fecha alta centro]]<$B$1,$B$1,ABRIL[[#This Row],[Fecha alta centro]])+1),IF(OR(ABRIL[[#This Row],[Fecha alta centro]]=0,AND(ABRIL[[#This Row],[FECHA FIN]]<$B$1,ABRIL[[#This Row],[FECHA FIN]]<>0),ABRIL[[#This Row],[Fecha alta centro]]>$B$2),0,IF(OR(ABRIL[[#This Row],[FECHA FIN]]=0,ABRIL[[#This Row],[FECHA FIN]]>$B$2),$B$2,ABRIL[[#This Row],[FECHA FIN]])-IF(ABRIL[[#This Row],[Fecha alta centro]]<$B$1,$B$1,ABRIL[[#This Row],[Fecha alta centro]])+1)*0.5*IF(LEFT(ABRIL[[#This Row],[Tipo de Recurso]],3)="1/3",1/3,IF(LEFT(ABRIL[[#This Row],[Tipo de Recurso]],3)="2/3",2/3,1))*248/365) -> 0
B8: Abril | H8: =IF(ABRIL[[#This Row],[Tipo de Recurso]]="Residencia",IF(OR(ABRIL[[#This Row],[Fecha alta centro]]=0,AND(ABRIL[[#This Row],[FECHA FIN]]<$B$1,ABRIL[[#This Row],[FECHA FIN]]<>0),ABRIL[[#This Row],[Fecha alta centro]]>$B$2),0,IF(OR(ABRIL[[#This Row],[FECHA FIN]]=0,ABRIL[[#This Row],[FECHA FIN]]>$B$2),$B$2,ABRIL[[#This Row],[FECHA FIN]])-IF(ABRIL[[#This Row],[Fecha alta centro]]<$B$1,$B$1,ABRIL[[#This Row],[Fecha alta centro]])+1),IF(OR(ABRIL[[#This Row],[Fecha alta centro]]=0,AND(ABRIL[[#This Row],[FECHA FIN]]<$B$1,ABRIL[[#This Row],[FECHA FIN]]<>0),ABRIL[[#This Row],[Fecha alta centro]]>$B$2),0,IF(OR(ABRIL[[#This Row],[FECHA FIN]]=0,ABRIL[[#This Row],[FECHA FIN]]>$B$2),$B$2,ABRIL[[#This Row],[FECHA FIN]])-IF(ABRIL[[#This Row],[Fecha alta centro]]<$B$1,$B$1,ABRIL[[#This Row],[Fecha alta centro]])+1)*0.5*IF(LEFT(ABRIL[[#This Row],[Tipo de Recurso]],3)="1/3",1/3,IF(LEFT(ABRIL[[#This Row],[Tipo de Recurso]],3)="2/3",2/3,1))*248/365) -> 0
B9: Abril | H9: =IF(ABRIL[[#This Row],[Tipo de Recurso]]="Residencia",IF(OR(ABRIL[[#This Row],[Fecha alta centro]]=0,AND(ABRIL[[#This Row],[FECHA FIN]]<$B$1,ABRIL[[#This Row],[FECHA FIN]]<>0),ABRIL[[#This Row],[Fecha alta centro]]>$B$2),0,IF(OR(ABRIL[[#This Row],[FECHA FIN]]=0,ABRIL[[#This Row],[FECHA FIN]]>$B$2),$B$2,ABRIL[[#This Row],[FECHA FIN]])-IF(ABRIL[[#This Row],[Fecha alta centro]]<$B$1,$B$1,ABRIL[[#This Row],[Fecha alta centro]])+1),IF(OR(ABRIL[[#This Row],[Fecha alta centro]]=0,AND(ABRIL[[#This Row],[FECHA FIN]]<$B$1,ABRIL[[#This Row],[FECHA FIN]]<>0),ABRIL[[#This Row],[Fecha alta centro]]>$B$2),0,IF(OR(ABRIL[[#This Row],[FECHA FIN]]=0,ABRIL[[#This Row],[FECHA FIN]]>$B$2),$B$2,ABRIL[[#This Row],[FECHA FIN]])-IF(ABRIL[[#This Row],[Fecha alta centro]]<$B$1,$B$1,ABRIL[[#This Row],[Fecha alta centro]])+1)*0.5*IF(LEFT(ABRIL[[#This Row],[Tipo de Recurso]],3)="1/3",1/3,IF(LEFT(ABRIL[[#This Row],[Tipo de Recurso]],3)="2/3",2/3,1))*248/365) -> 0
B10: Abril | H10: =IF(ABRIL[[#This Row],[Tipo de Recurso]]="Residencia",IF(OR(ABRIL[[#This Row],[Fecha alta centro]]=0,AND(ABRIL[[#This Row],[FECHA FIN]]<$B$1,ABRIL[[#This Row],[FECHA FIN]]<>0),ABRIL[[#This Row],[Fecha alta centro]]>$B$2),0,IF(OR(ABRIL[[#This Row],[FECHA FIN]]=0,ABRIL[[#This Row],[FECHA FIN]]>$B$2),$B$2,ABRIL[[#This Row],[FECHA FIN]])-IF(ABRIL[[#This Row],[Fecha alta centro]]<$B$1,$B$1,ABRIL[[#This Row],[Fecha alta centro]])+1),IF(OR(ABRIL[[#This Row],[Fecha alta centro]]=0,AND(ABRIL[[#This Row],[FECHA FIN]]<$B$1,ABRIL[[#This Row],[FECHA FIN]]<>0),ABRIL[[#This Row],[Fecha alta centro]]>$B$2),0,IF(OR(ABRIL[[#This Row],[FECHA FIN]]=0,ABRIL[[#This Row],[FECHA FIN]]>$B$2),$B$2,ABRIL[[#This Row],[FECHA FIN]])-IF(ABRIL[[#This Row],[Fecha alta centro]]<$B$1,$B$1,ABRIL[[#This Row],[Fecha alta centro]])+1)*0.5*IF(LEFT(ABRIL[[#This Row],[Tipo de Recurso]],3)="1/3",1/3,IF(LEFT(ABRIL[[#This Row],[Tipo de Recurso]],3)="2/3",2/3,1))*248/365) -> 0
B11: Abril | H11: =IF(ABRIL[[#This Row],[Tipo de Recurso]]="Residencia",IF(OR(ABRIL[[#This Row],[Fecha alta centro]]=0,AND(ABRIL[[#This Row],[FECHA FIN]]<$B$1,ABRIL[[#This Row],[FECHA FIN]]<>0),ABRIL[[#This Row],[Fecha alta centro]]>$B$2),0,IF(OR(ABRIL[[#This Row],[FECHA FIN]]=0,ABRIL[[#This Row],[FECHA FIN]]>$B$2),$B$2,ABRIL[[#This Row],[FECHA FIN]])-IF(ABRIL[[#This Row],[Fecha alta centro]]<$B$1,$B$1,ABRIL[[#This Row],[Fecha alta centro]])+1),IF(OR(ABRIL[[#This Row],[Fecha alta centro]]=0,AND(ABRIL[[#This Row],[FECHA FIN]]<$B$1,ABRIL[[#This Row],[FECHA FIN]]<>0),ABRIL[[#This Row],[Fecha alta centro]]>$B$2),0,IF(OR(ABRIL[[#This Row],[FECHA FIN]]=0,ABRIL[[#This Row],[FECHA FIN]]>$B$2),$B$2,ABRIL[[#This Row],[FECHA FIN]])-IF(ABRIL[[#This Row],[Fecha alta centro]]<$B$1,$B$1,ABRIL[[#This Row],[Fecha alta centro]])+1)*0.5*IF(LEFT(ABRIL[[#This Row],[Tipo de Recurso]],3)="1/3",1/3,IF(LEFT(ABRIL[[#This Row],[Tipo de Recurso]],3)="2/3",2/3,1))*248/365) -> 0
B12: Abril | H12: =IF(ABRIL[[#This Row],[Tipo de Recurso]]="Residencia",IF(OR(ABRIL[[#This Row],[Fecha alta centro]]=0,AND(ABRIL[[#This Row],[FECHA FIN]]<$B$1,ABRIL[[#This Row],[FECHA FIN]]<>0),ABRIL[[#This Row],[Fecha alta centro]]>$B$2),0,IF(OR(ABRIL[[#This Row],[FECHA FIN]]=0,ABRIL[[#This Row],[FECHA FIN]]>$B$2),$B$2,ABRIL[[#This Row],[FECHA FIN]])-IF(ABRIL[[#This Row],[Fecha alta centro]]<$B$1,$B$1,ABRIL[[#This Row],[Fecha alta centro]])+1),IF(OR(ABRIL[[#This Row],[Fecha alta centro]]=0,AND(ABRIL[[#This Row],[FECHA FIN]]<$B$1,ABRIL[[#This Row],[FECHA FIN]]<>0),ABRIL[[#This Row],[Fecha alta centro]]>$B$2),0,IF(OR(ABRIL[[#This Row],[FECHA FIN]]=0,ABRIL[[#This Row],[FECHA FIN]]>$B$2),$B$2,ABRIL[[#This Row],[FECHA FIN]])-IF(ABRIL[[#This Row],[Fecha alta centro]]<$B$1,$B$1,ABRIL[[#This Row],[Fecha alta centro]])+1)*0.5*IF(LEFT(ABRIL[[#This Row],[Tipo de Recurso]],3)="1/3",1/3,IF(LEFT(ABRIL[[#This Row],[Tipo de Recurso]],3)="2/3",2/3,1))*248/365) -> 0
B13: Abril | H13: =IF(ABRIL[[#This Row],[Tipo de Recurso]]="Residencia",IF(OR(ABRIL[[#This Row],[Fecha alta centro]]=0,AND(ABRIL[[#This Row],[FECHA FIN]]<$B$1,ABRIL[[#This Row],[FECHA FIN]]<>0),ABRIL[[#This Row],[Fecha alta centro]]>$B$2),0,IF(OR(ABRIL[[#This Row],[FECHA FIN]]=0,ABRIL[[#This Row],[FECHA FIN]]>$B$2),$B$2,ABRIL[[#This Row],[FECHA FIN]])-IF(ABRIL[[#This Row],[Fecha alta centro]]<$B$1,$B$1,ABRIL[[#This Row],[Fecha alta centro]])+1),IF(OR(ABRIL[[#This Row],[Fecha alta centro]]=0,AND(ABRIL[[#This Row],[FECHA FIN]]<$B$1,ABRIL[[#This Row],[FECHA FIN]]<>0),ABRIL[[#This Row],[Fecha alta centro]]>$B$2),0,IF(OR(ABRIL[[#This Row],[FECHA FIN]]=0,ABRIL[[#This Row],[FECHA FIN]]>$B$2),$B$2,ABRIL[[#This Row],[FECHA FIN]])-IF(ABRIL[[#This Row],[Fecha alta centro]]<$B$1,$B$1,ABRIL[[#This Row],[Fecha alta centro]])+1)*0.5*IF(LEFT(ABRIL[[#This Row],[Tipo de Recurso]],3)="1/3",1/3,IF(LEFT(ABRIL[[#This Row],[Tipo de Recurso]],3)="2/3",2/3,1))*248/365) -> 0
B14: Abril | H14: =IF(ABRIL[[#This Row],[Tipo de Recurso]]="Residencia",IF(OR(ABRIL[[#This Row],[Fecha alta centro]]=0,AND(ABRIL[[#This Row],[FECHA FIN]]<$B$1,ABRIL[[#This Row],[FECHA FIN]]<>0),ABRIL[[#This Row],[Fecha alta centro]]>$B$2),0,IF(OR(ABRIL[[#This Row],[FECHA FIN]]=0,ABRIL[[#This Row],[FECHA FIN]]>$B$2),$B$2,ABRIL[[#This Row],[FECHA FIN]])-IF(ABRIL[[#This Row],[Fecha alta centro]]<$B$1,$B$1,ABRIL[[#This Row],[Fecha alta centro]])+1),IF(OR(ABRIL[[#This Row],[Fecha alta centro]]=0,AND(ABRIL[[#This Row],[FECHA FIN]]<$B$1,ABRIL[[#This Row],[FECHA FIN]]<>0),ABRIL[[#This Row],[Fecha alta centro]]>$B$2),0,IF(OR(ABRIL[[#This Row],[FECHA FIN]]=0,ABRIL[[#This Row],[FECHA FIN]]>$B$2),$B$2,ABRIL[[#This Row],[FECHA FIN]])-IF(ABRIL[[#This Row],[Fecha alta centro]]<$B$1,$B$1,ABRIL[[#This Row],[Fecha alta centro]])+1)*0.5*IF(LEFT(ABRIL[[#This Row],[Tipo de Recurso]],3)="1/3",1/3,IF(LEFT(ABRIL[[#This Row],[Tipo de Recurso]],3)="2/3",2/3,1))*248/365) -> 0
B15: Abril | H15: =IF(ABRIL[[#This Row],[Tipo de Recurso]]="Residencia",IF(OR(ABRIL[[#This Row],[Fecha alta centro]]=0,AND(ABRIL[[#This Row],[FECHA FIN]]<$B$1,ABRIL[[#This Row],[FECHA FIN]]<>0),ABRIL[[#This Row],[Fecha alta centro]]>$B$2),0,IF(OR(ABRIL[[#This Row],[FECHA FIN]]=0,ABRIL[[#This Row],[FECHA FIN]]>$B$2),$B$2,ABRIL[[#This Row],[FECHA FIN]])-IF(ABRIL[[#This Row],[Fecha alta centro]]<$B$1,$B$1,ABRIL[[#This Row],[Fecha alta centro]])+1),IF(OR(ABRIL[[#This Row],[Fecha alta centro]]=0,AND(ABRIL[[#This Row],[FECHA FIN]]<$B$1,ABRIL[[#This Row],[FECHA FIN]]<>0),ABRIL[[#This Row],[Fecha alta centro]]>$B$2),0,IF(OR(ABRIL[[#This Row],[FECHA FIN]]=0,ABRIL[[#This Row],[FECHA FIN]]>$B$2),$B$2,ABRIL[[#This Row],[FECHA FIN]])-IF(ABRIL[[#This Row],[Fecha alta centro]]<$B$1,$B$1,ABRIL[[#This Row],[Fecha alta centro]])+1)*0.5*IF(LEFT(ABRIL[[#This Row],[Tipo de Recurso]],3)="1/3",1/3,IF(LEFT(ABRIL[[#This Row],[Tipo de Recurso]],3)="2/3",2/3,1))*248/365) -> 0
B16: Abril | H16: =IF(ABRIL[[#This Row],[Tipo de Recurso]]="Residencia",IF(OR(ABRIL[[#This Row],[Fecha alta centro]]=0,AND(ABRIL[[#This Row],[FECHA FIN]]<$B$1,ABRIL[[#This Row],[FECHA FIN]]<>0),ABRIL[[#This Row],[Fecha alta centro]]>$B$2),0,IF(OR(ABRIL[[#This Row],[FECHA FIN]]=0,ABRIL[[#This Row],[FECHA FIN]]>$B$2),$B$2,ABRIL[[#This Row],[FECHA FIN]])-IF(ABRIL[[#This Row],[Fecha alta centro]]<$B$1,$B$1,ABRIL[[#This Row],[Fecha alta centro]])+1),IF(OR(ABRIL[[#This Row],[Fecha alta centro]]=0,AND(ABRIL[[#This Row],[FECHA FIN]]<$B$1,ABRIL[[#This Row],[FECHA FIN]]<>0),ABRIL[[#This Row],[Fecha alta centro]]>$B$2),0,IF(OR(ABRIL[[#This Row],[FECHA FIN]]=0,ABRIL[[#This Row],[FECHA FIN]]>$B$2),$B$2,ABRIL[[#This Row],[FECHA FIN]])-IF(ABRIL[[#This Row],[Fecha alta centro]]<$B$1,$B$1,ABRIL[[#This Row],[Fecha alta centro]])+1)*0.5*IF(LEFT(ABRIL[[#This Row],[Tipo de Recurso]],3)="1/3",1/3,IF(LEFT(ABRIL[[#This Row],[Tipo de Recurso]],3)="2/3",2/3,1))*248/365) -> 0
... B704: Abril | H704: =IF(ABRIL[[#This Row],[Tipo de Recurso]]="Residencia",IF(OR(ABRIL[[#This Row],[Fecha alta centro]]=0,AND(ABRIL[[#This Row],[FECHA FIN]]<$B$1,ABRIL[[#This Row],[FECHA FIN]]<>0),ABRIL[[#This Row],[Fecha alta centro]]>$B$2),0,IF(OR(ABRIL[[#This Row],[FECHA FIN]]=0,ABRIL[[#This Row],[FECHA FIN]]>$B$2),$B$2,ABRIL[[#This Row],[FECHA FIN]])-IF(ABRIL[[#This Row],[Fecha alta centro]]<$B$1,$B$1,ABRIL[[#This Row],[Fecha alta centro]])+1),IF(OR(ABRIL[[#This Row],[Fecha alta centro]]=0,AND(ABRIL[[#This Row],[FECHA FIN]]<$B$1,ABRIL[[#This Row],[FECHA FIN]]<>0),ABRIL[[#This Row],[Fecha alta centro]]>$B$2),0,IF(OR(ABRIL[[#This Row],[FECHA FIN]]=0,ABRIL[[#This Row],[FECHA FIN]]>$B$2),$B$2,ABRIL[[#This Row],[FECHA FIN]])-IF(ABRIL[[#This Row],[Fecha alta centro]]<$B$1,$B$1,ABRIL[[#This Row],[Fecha alta centro]])+1)*0.5*IF(LEFT(ABRIL[[#This Row],[Tipo de Recurso]],3)="1/3",1/3,IF(LEFT(ABRIL[[#This Row],[Tipo de Recurso]],3)="2/3",2/3,1))*248/365) -> 0
B705: Total | G705: =SUBTOTAL(103,ABRIL[DEPENDIENTE/NO DEPENDIENTE Según valoración oficial]) -> 0 | H705: =SUBTOTAL(109,ABRIL[DIAS]) -> 0

Sheet Mayo
A1: Periodo | B1: 46508
B2: =EOMONTH(B1,0) -> 46538
B3: OCUPACION MAYO
B4: mes | C4: DNI de la persona usuaria | D4: Fecha alta centro | E4: FECHA FIN | F4: Tipo de Recurso | G4: DEPENDIENTE/NO DEPENDIENTE Según valoración oficial | H4: DIAS
B5: Mayo | H5: =IF(MAYO[[#This Row],[Tipo de Recurso]]="Residencia",IF(OR(MAYO[[#This Row],[Fecha alta centro]]=0,AND(MAYO[[#This Row],[FECHA FIN]]<$B$1,MAYO[[#This Row],[FECHA FIN]]<>0),MAYO[[#This Row],[Fecha alta centro]]>$B$2),0,IF(OR(MAYO[[#This Row],[FECHA FIN]]=0,MAYO[[#This Row],[FECHA FIN]]>$B$2),$B$2,MAYO[[#This Row],[FECHA FIN]])-IF(MAYO[[#This Row],[Fecha alta centro]]<$B$1,$B$1,MAYO[[#This Row],[Fecha alta centro]])+1),IF(OR(MAYO[[#This Row],[Fecha alta centro]]=0,AND(MAYO[[#This Row],[FECHA FIN]]<$B$1,MAYO[[#This Row],[FECHA FIN]]<>0),MAYO[[#This Row],[Fecha alta centro]]>$B$2),0,IF(OR(MAYO[[#This Row],[FECHA FIN]]=0,MAYO[[#This Row],[FECHA FIN]]>$B$2),$B$2,MAYO[[#This Row],[FECHA FIN]])-IF(MAYO[[#This Row],[Fecha alta centro]]<$B$1,$B$1,MAYO[[#This Row],[Fecha alta centro]])+1)*0.5*IF(LEFT(MAYO[[#This Row],[Tipo de Recurso]],3)="1/3",1/3,IF(LEFT(MAYO[[#This Row],[Tipo de Recurso]],3)="2/3",2/3,1))*248/365) -> 0
B6: Mayo | H6: =IF(MAYO[[#This Row],[Tipo de Recurso]]="Residencia",IF(OR(MAYO[[#This Row],[Fecha alta centro]]=0,AND(MAYO[[#This Row],[FECHA FIN]]<$B$1,MAYO[[#This Row],[FECHA FIN]]<>0),MAYO[[#This Row],[Fecha alta centro]]>$B$2),0,IF(OR(MAYO[[#This Row],[FECHA FIN]]=0,MAYO[[#This Row],[FECHA FIN]]>$B$2),$B$2,MAYO[[#This Row],[FECHA FIN]])-IF(MAYO[[#This Row],[Fecha alta centro]]<$B$1,$B$1,MAYO[[#This Row],[Fecha alta centro]])+1),IF(OR(MAYO[[#This Row],[Fecha alta centro]]=0,AND(MAYO[[#This Row],[FECHA FIN]]<$B$1,MAYO[[#This Row],[FECHA FIN]]<>0),MAYO[[#This Row],[Fecha alta centro]]>$B$2),0,IF(OR(MAYO[[#This Row],[FECHA FIN]]=0,MAYO[[#This Row],[FECHA FIN]]>$B$2),$B$2,MAYO[[#This Row],[FECHA FIN]])-IF(MAYO[[#This Row],[Fecha alta centro]]<$B$1,$B$1,MAYO[[#This Row],[Fecha alta centro]])+1)*0.5*IF(LEFT(MAYO[[#This Row],[Tipo de Recurso]],3)="1/3",1/3,IF(LEFT(MAYO[[#This Row],[Tipo de Recurso]],3)="2/3",2/3,1))*248/365) -> 0
B7: Mayo | H7: =IF(MAYO[[#This Row],[Tipo de Recurso]]="Residencia",IF(OR(MAYO[[#This Row],[Fecha alta centro]]=0,AND(MAYO[[#This Row],[FECHA FIN]]<$B$1,MAYO[[#This Row],[FECHA FIN]]<>0),MAYO[[#This Row],[Fecha alta centro]]>$B$2),0,IF(OR(MAYO[[#This Row],[FECHA FIN]]=0,MAYO[[#This Row],[FECHA FIN]]>$B$2),$B$2,MAYO[[#This Row],[FECHA FIN]])-IF(MAYO[[#This Row],[Fecha alta centro]]<$B$1,$B$1,MAYO[[#This Row],[Fecha alta centro]])+1),IF(OR(MAYO[[#This Row],[Fecha alta centro]]=0,AND(MAYO[[#This Row],[FECHA FIN]]<$B$1,MAYO[[#This Row],[FECHA FIN]]<>0),MAYO[[#This Row],[Fecha alta centro]]>$B$2),0,IF(OR(MAYO[[#This Row],[FECHA FIN]]=0,MAYO[[#This Row],[FECHA FIN]]>$B$2),$B$2,MAYO[[#This Row],[FECHA FIN]])-IF(MAYO[[#This Row],[Fecha alta centro]]<$B$1,$B$1,MAYO[[#This Row],[Fecha alta centro]])+1)*0.5*IF(LEFT(MAYO[[#This Row],[Tipo de Recurso]],3)="1/3",1/3,IF(LEFT(MAYO[[#This Row],[Tipo de Recurso]],3)="2/3",2/3,1))*248/365) -> 0
B8: Mayo | H8: =IF(MAYO[[#This Row],[Tipo de Recurso]]="Residencia",IF(OR(MAYO[[#This Row],[Fecha alta centro]]=0,AND(MAYO[[#This Row],[FECHA FIN]]<$B$1,MAYO[[#This Row],[FECHA FIN]]<>0),MAYO[[#This Row],[Fecha alta centro]]>$B$2),0,IF(OR(MAYO[[#This Row],[FECHA FIN]]=0,MAYO[[#This Row],[FECHA FIN]]>$B$2),$B$2,MAYO[[#This Row],[FECHA FIN]])-IF(MAYO[[#This Row],[Fecha alta centro]]<$B$1,$B$1,MAYO[[#This Row],[Fecha alta centro]])+1),IF(OR(MAYO[[#This Row],[Fecha alta centro]]=0,AND(MAYO[[#This Row],[FECHA FIN]]<$B$1,MAYO[[#This Row],[FECHA FIN]]<>0),MAYO[[#This Row],[Fecha alta centro]]>$B$2),0,IF(OR(MAYO[[#This Row],[FECHA FIN]]=0,MAYO[[#This Row],[FECHA FIN]]>$B$2),$B$2,MAYO[[#This Row],[FECHA FIN]])-IF(MAYO[[#This Row],[Fecha alta centro]]<$B$1,$B$1,MAYO[[#This Row],[Fecha alta centro]])+1)*0.5*IF(LEFT(MAYO[[#This Row],[Tipo de Recurso]],3)="1/3",1/3,IF(LEFT(MAYO[[#This Row],[Tipo de Recurso]],3)="2/3",2/3,1))*248/365) -> 0
B9: Mayo | H9: =IF(MAYO[[#This Row],[Tipo de Recurso]]="Residencia",IF(OR(MAYO[[#This Row],[Fecha alta centro]]=0,AND(MAYO[[#This Row],[FECHA FIN]]<$B$1,MAYO[[#This Row],[FECHA FIN]]<>0),MAYO[[#This Row],[Fecha alta centro]]>$B$2),0,IF(OR(MAYO[[#This Row],[FECHA FIN]]=0,MAYO[[#This Row],[FECHA FIN]]>$B$2),$B$2,MAYO[[#This Row],[FECHA FIN]])-IF(MAYO[[#This Row],[Fecha alta centro]]<$B$1,$B$1,MAYO[[#This Row],[Fecha alta centro]])+1),IF(OR(MAYO[[#This Row],[Fecha alta centro]]=0,AND(MAYO[[#This Row],[FECHA FIN]]<$B$1,MAYO[[#This Row],[FECHA FIN]]<>0),MAYO[[#This Row],[Fecha alta centro]]>$B$2),0,IF(OR(MAYO[[#This Row],[FECHA FIN]]=0,MAYO[[#This Row],[FECHA FIN]]>$B$2),$B$2,MAYO[[#This Row],[FECHA FIN]])-IF(MAYO[[#This Row],[Fecha alta centro]]<$B$1,$B$1,MAYO[[#This Row],[Fecha alta centro]])+1)*0.5*IF(LEFT(MAYO[[#This Row],[Tipo de Recurso]],3)="1/3",1/3,IF(LEFT(MAYO[[#This Row],[Tipo de Recurso]],3)="2/3",2/3,1))*248/365) -> 0
B10: Mayo | H10: =IF(MAYO[[#This Row],[Tipo de Recurso]]="Residencia",IF(OR(MAYO[[#This Row],[Fecha alta centro]]=0,AND(MAYO[[#This Row],[FECHA FIN]]<$B$1,MAYO[[#This Row],[FECHA FIN]]<>0),MAYO[[#This Row],[Fecha alta centro]]>$B$2),0,IF(OR(MAYO[[#This Row],[FECHA FIN]]=0,MAYO[[#This Row],[FECHA FIN]]>$B$2),$B$2,MAYO[[#This Row],[FECHA FIN]])-IF(MAYO[[#This Row],[Fecha alta centro]]<$B$1,$B$1,MAYO[[#This Row],[Fecha alta centro]])+1),IF(OR(MAYO[[#This Row],[Fecha alta centro]]=0,AND(MAYO[[#This Row],[FECHA FIN]]<$B$1,MAYO[[#This Row],[FECHA FIN]]<>0),MAYO[[#This Row],[Fecha alta centro]]>$B$2),0,IF(OR(MAYO[[#This Row],[FECHA FIN]]=0,MAYO[[#This Row],[FECHA FIN]]>$B$2),$B$2,MAYO[[#This Row],[FECHA FIN]])-IF(MAYO[[#This Row],[Fecha alta centro]]<$B$1,$B$1,MAYO[[#This Row],[Fecha alta centro]])+1)*0.5*IF(LEFT(MAYO[[#This Row],[Tipo de Recurso]],3)="1/3",1/3,IF(LEFT(MAYO[[#This Row],[Tipo de Recurso]],3)="2/3",2/3,1))*248/365) -> 0
B11: Mayo | H11: =IF(MAYO[[#This Row],[Tipo de Recurso]]="Residencia",IF(OR(MAYO[[#This Row],[Fecha alta centro]]=0,AND(MAYO[[#This Row],[FECHA FIN]]<$B$1,MAYO[[#This Row],[FECHA FIN]]<>0),MAYO[[#This Row],[Fecha alta centro]]>$B$2),0,IF(OR(MAYO[[#This Row],[FECHA FIN]]=0,MAYO[[#This Row],[FECHA FIN]]>$B$2),$B$2,MAYO[[#This Row],[FECHA FIN]])-IF(MAYO[[#This Row],[Fecha alta centro]]<$B$1,$B$1,MAYO[[#This Row],[Fecha alta centro]])+1),IF(OR(MAYO[[#This Row],[Fecha alta centro]]=0,AND(MAYO[[#This Row],[FECHA FIN]]<$B$1,MAYO[[#This Row],[FECHA FIN]]<>0),MAYO[[#This Row],[Fecha alta centro]]>$B$2),0,IF(OR(MAYO[[#This Row],[FECHA FIN]]=0,MAYO[[#This Row],[FECHA FIN]]>$B$2),$B$2,MAYO[[#This Row],[FECHA FIN]])-IF(MAYO[[#This Row],[Fecha alta centro]]<$B$1,$B$1,MAYO[[#This Row],[Fecha alta centro]])+1)*0.5*IF(LEFT(MAYO[[#This Row],[Tipo de Recurso]],3)="1/3",1/3,IF(LEFT(MAYO[[#This Row],[Tipo de Recurso]],3)="2/3",2/3,1))*248/365) -> 0
