Workbook

Sheet Enero
A1: Periodo | B1: 46388
B2: =EOMONTH(B1,0) -> 46418
B3: OCUPACION ENERO
B4: mes | C4: DNI de la persona usuaria | D4: Fecha alta centro | E4: FECHA FIN | F4: Tipo de Recurso | G4: DEPENDIENTE/NO DEPENDIENTE Según valoración oficial | H4: DIAS
B5: Enero | H5: =IF(ENERO[[#This Row],[Tipo de Recurso]]="Residencia",IF(OR(ENERO[[#This Row],[Fecha alta centro]]=0,AND(ENERO[[#This Row],[FECHA FIN]]<$B$1,ENERO[[#This Row],[FECHA FIN]]<>0),ENERO[[#This Row],[Fecha alta centro]]>$B$2),0,IF(OR(ENERO[[#This Row],[FECHA FIN]]=0,ENERO[[#This Row],[FECHA FIN]]>$B$2),$B$2,ENERO[[#This Row],[FECHA FIN]])-IF(ENERO[[#This Row],[Fecha alta centro]]<$B$1,$B$1,ENERO[[#This Row],[Fecha alta centro]])+1),IF(OR(ENERO[[#This Row],[Fecha alta centro]]=0,AND(ENERO[[#This Row],[FECHA FIN]]<$B$1,ENERO[[#This Row],[FECHA FIN]]<>0),ENERO[[#This Row],[Fecha alta centro]]>$B$2),0,IF(OR(ENERO[[#This Row],[FECHA FIN]]=0,ENERO[[#This Row],[FECHA FIN]]>$B$2),$B$2,ENERO[[#This Row],[FECHA FIN]])-IF(ENERO[[#This Row],[Fecha alta centro]]<$B$1,$B$1,ENERO[[#This Row],[Fecha alta centro]])+1)*0.5*IF(LEFT(ENERO[[#This Row],[Tipo de Recurso]],3)="1/3",1/3,IF(LEFT(ENERO[[#This Row],[Tipo de Recurso]],3)="2/3",2/3,1))*248/365) -> 0
B6: Enero | H6: =IF(ENERO[[#This Row],[Tipo de Recurso]]="Residencia",IF(OR(ENERO[[#This Row],[Fecha alta centro]]=0,AND(ENERO[[#This Row],[FECHA FIN]]<$B$1,ENERO[[#This Row],[FECHA FIN]]<>0),ENERO[[#This Row],[Fecha alta centro]]>$B$2),0,IF(OR(ENERO[[#This Row],[FECHA FIN]]=0,ENERO[[#This Row],[FECHA FIN]]>$B$2),$B$2,ENERO[[#This Row],[FECHA FIN]])-IF(ENERO[[#This Row],[Fecha alta centro]]<$B$1,$B$1,ENERO[[#This Row],[Fecha alta centro]])+1),IF(OR(ENERO[[#This Row],[Fecha alta centro]]=0,AND(ENERO[[#This Row],[FECHA FIN]]<$B$1,ENERO[[#This Row],[FECHA FIN]]<>0),ENERO[[#This Row],[Fecha alta centro]]>$B$2),0,IF(OR(ENERO[[#This Row],[FECHA FIN]]=0,ENERO[[#This Row],[FECHA FIN]]>$B$2),$B$2,ENERO[[#This Row],[FECHA FIN]])-IF(ENERO[[#This Row],[Fecha alta centro]]<$B$1,$B$1,ENERO[[#This Row],[Fecha alta centro]])+1)*0.5*IF(LEFT(ENERO[[#This Row],[Tipo de Recurso]],3)="1/3",1/3,IF(LEFT(ENERO[[#This Row],[Tipo de Recurso]],3)="2/3",2/3,1))*248/365) -> 0
B7: Enero | H7: =IF(ENERO[[#This Row],[Tipo de Recurso]]="Residencia",IF(OR(ENERO[[#This Row],[Fecha alta centro]]=0,AND(ENERO[[#This Row],[FECHA FIN]]<$B$1,ENERO[[#This Row],[FECHA FIN]]<>0),ENERO[[#This Row],[Fecha alta centro]]>$B$2),0,IF(OR(ENERO[[#This Row],[FECHA FIN]]=0,ENERO[[#This Row],[FECHA FIN]]>$B$2),$B$2,ENERO[[#This Row],[FECHA FIN]])-IF(ENERO[[#This Row],[Fecha alta centro]]<$B$1,$B$1,ENERO[[#This Row],[Fecha alta centro]])+1),IF(OR(ENERO[[#This Row],[Fecha alta centro]]=0,AND(ENERO[[#This Row],[FECHA FIN]]<$B$1,ENERO[[#This Row],[FECHA FIN]]<>0),ENERO[[#This Row],[Fecha alta centro]]>$B$2),0,IF(OR(ENERO[[#This Row],[FECHA FIN]]=0,ENERO[[#This Row],[FECHA FIN]]>$B$2),$B$2,ENERO[[#This Row],[FECHA FIN]])-IF(ENERO[[#This Row],[Fecha alta centro]]<$B$1,$B$1,ENERO[[#This Row],[Fecha alta centro]])+1)*0.5*IF(LEFT(ENERO[[#This Row],[Tipo de Recurso]],3)="1/3",1/3,IF(LEFT(ENERO[[#This Row],[Tipo de Recurso]],3)="2/3",2/3,1))*248/365) -> 0
B8: Enero | H8: =IF(ENERO[[#This Row],[Tipo de Recurso]]="Residencia",IF(OR(ENERO[[#This Row],[Fecha alta centro]]=0,AND(ENERO[[#This Row],[FECHA FIN]]<$B$1,ENERO[[#This Row],[FECHA FIN]]<>0),ENERO[[#This Row],[Fecha alta centro]]>$B$2),0,IF(OR(ENERO[[#This Row],[FECHA FIN]]=0,ENERO[[#This Row],[FECHA FIN]]>$B$2),$B$2,ENERO[[#This Row],[FECHA FIN]])-IF(ENERO[[#This Row],[Fecha alta centro]]<$B$1,$B$1,ENERO[[#This Row],[Fecha alta centro]])+1),IF(OR(ENERO[[#This Row],[Fecha alta centro]]=0,AND(ENERO[[#This Row],[FECHA FIN]]<$B$1,ENERO[[#This Row],[FECHA FIN]]<>0),ENERO[[#This Row],[Fecha alta centro]]>$B$2),0,IF(OR(ENERO[[#This Row],[FECHA FIN]]=0,ENERO[[#This Row],[FECHA FIN]]>$B$2),$B$2,ENERO[[#This Row],[FECHA FIN]])-IF(ENERO[[#This Row],[Fecha alta centro]]<$B$1,$B$1,ENERO[[#This Row],[Fecha alta centro]])+1)*0.5*IF(LEFT(ENERO[[#This Row],[Tipo de Recurso]],3)="1/3",1/3,IF(LEFT(ENERO[[#This Row],[Tipo de Recurso]],3)="2/3",2/3,1))*248/365) -> 0
B9: Enero | H9: =IF(ENERO[[#This Row],[Tipo de Recurso]]="Residencia",IF(OR(ENERO[[#This Row],[Fecha alta centro]]=0,AND(ENERO[[#This Row],[FECHA FIN]]<$B$1,ENERO[[#This Row],[FECHA FIN]]<>0),ENERO[[#This Row],[Fecha alta centro]]>$B$2),0,IF(OR(ENERO[[#This Row],[FECHA FIN]]=0,ENERO[[#This Row],[FECHA FIN]]>$B$2),$B$2,ENERO[[#This Row],[FECHA FIN]])-IF(ENERO[[#This Row],[Fecha alta centro]]<$B$1,$B$1,ENERO[[#This Row],[Fecha alta centro]])+1),IF(OR(ENERO[[#This Row],[Fecha alta centro]]=0,AND(ENERO[[#This Row],[FECHA FIN]]<$B$1,ENERO[[#This Row],[FECHA FIN]]<>0),ENERO[[#This Row],[Fecha alta centro]]>$B$2),0,IF(OR(ENERO[[#This Row],[FECHA FIN]]=0,ENERO[[#This Row],[FECHA FIN]]>$B$2),$B$2,ENERO[[#This Row],[FECHA FIN]])-IF(ENERO[[#This Row],[Fecha alta centro]]<$B$1,$B$1,ENERO[[#This Row],[Fecha alta centro]])+1)*0.5*IF(LEFT(ENERO[[#This Row],[Tipo de Recurso]],3)="1/3",1/3,IF(LEFT(ENERO[[#This Row],[Tipo de Recurso]],3)="2/3",2/3,1))*248/365) -> 0
B10: Enero | H10: =IF(ENERO[[#This Row],[Tipo de Recurso]]="Residencia",IF(OR(ENERO[[#This Row],[Fecha alta centro]]=0,AND(ENERO[[#This Row],[FECHA FIN]]<$B$1,ENERO[[#This Row],[FECHA FIN]]<>0),ENERO[[#This Row],[Fecha alta centro]]>$B$2),0,IF(OR(ENERO[[#This Row],[FECHA FIN]]=0,ENERO[[#This Row],[FECHA FIN]]>$B$2),$B$2,ENERO[[#This Row],[FECHA FIN]])-IF(ENERO[[#This Row],[Fecha alta centro]]<$B$1,$B$1,ENERO[[#This Row],[Fecha alta centro]])+1),IF(OR(ENERO[[#This Row],[Fecha alta centro]]=0,AND(ENERO[[#This Row],[FECHA FIN]]<$B$1,ENERO[[#This Row],[FECHA FIN]]<>0),ENERO[[#This Row],[Fecha alta centro]]>$B$2),0,IF(OR(ENERO[[#This Row],[FECHA FIN]]=0,ENERO[[#This Row],[FECHA FIN]]>$B$2),$B$2,ENERO[[#This Row],[FECHA FIN]])-IF(ENERO[[#This Row],[Fecha alta centro]]<$B$1,$B$1,ENERO[[#This Row],[Fecha alta centro]])+1)*0.5*IF(LEFT(ENERO[[#This Row],[Tipo de Recurso]],3)="1/3",1/3,IF(LEFT(ENERO[[#This Row],[Tipo de Recurso]],3)="2/3",2/3,1))*248/365) -> 0
B11: Enero | H11: =IF(ENERO[[#This Row],[Tipo de Recurso]]="Residencia",IF(OR(ENERO[[#This Row],[Fecha alta centro]]=0,AND(ENERO[[#This Row],[FECHA FIN]]<$B$1,ENERO[[#This Row],[FECHA FIN]]<>0),ENERO[[#This Row],[Fecha alta centro]]>$B$2),0,IF(OR(ENERO[[#This Row],[FECHA FIN]]=0,ENERO[[#This Row],[FECHA FIN]]>$B$2),$B$2,ENERO[[#This Row],[FECHA FIN]])-IF(ENERO[[#This Row],[Fecha alta centro]]<$B$1,$B$1,ENERO[[#This Row],[Fecha alta centro]])+1),IF(OR(ENERO[[#This Row],[Fecha alta centro]]=0,AND(ENERO[[#This Row],[FECHA FIN]]<$B$1,ENERO[[#This Row],[FECHA FIN]]<>0),ENERO[[#This Row],[Fecha alta centro]]>$B$2),0,IF(OR(ENERO[[#This Row],[FECHA FIN]]=0,ENERO[[#This Row],[FECHA FIN]]>$B$2),$B$2,ENERO[[#This Row],[FECHA FIN]])-IF(ENERO[[#This Row],[Fecha alta centro]]<$B$1,$B$1,ENERO[[#This Row],[Fecha alta centro]])+1)*0.5*IF(LEFT(ENERO[[#This Row],[Tipo de Recurso]],3)="1/3",1/3,IF(LEFT(ENERO[[#This Row],[Tipo de Recurso]],3)="2/3",2/3,1))*248/365) -> 0
B12: Enero | H12: =IF(ENERO[[#This Row],[Tipo de Recurso]]="Residencia",IF(OR(ENERO[[#This Row],[Fecha alta centro]]=0,AND(ENERO[[#This Row],[FECHA FIN]]<$B$1,ENERO[[#This Row],[FECHA FIN]]<>0),ENERO[[#This Row],[Fecha alta centro]]>$B$2),0,IF(OR(ENERO[[#This Row],[FECHA FIN]]=0,ENERO[[#This Row],[FECHA FIN]]>$B$2),$B$2,ENERO[[#This Row],[FECHA FIN]])-IF(ENERO[[#This Row],[Fecha alta centro]]<$B$1,$B$1,ENERO[[#This Row],[Fecha alta centro]])+1),IF(OR(ENERO[[#This Row],[Fecha alta centro]]=0,AND(ENERO[[#This Row],[FECHA FIN]]<$B$1,ENERO[[#This Row],[FECHA FIN]]<>0),ENERO[[#This Row],[Fecha alta centro]]>$B$2),0,IF(OR(ENERO[[#This Row],[FECHA FIN]]=0,ENERO[[#This Row],[FECHA FIN]]>$B$2),$B$2,ENERO[[#This Row],[FECHA FIN]])-IF(ENERO[[#This Row],[Fecha alta centro]]<$B$1,$B$1,ENERO[[#This Row],[Fecha alta centro]])+1)*0.5*IF(LEFT(ENERO[[#This Row],[Tipo de Recurso]],3)="1/3",1/3,IF(LEFT(ENERO[[#This Row],[Tipo de Recurso]],3)="2/3",2/3,1))*248/365) -> 0
B13: Enero | H13: =IF(ENERO[[#This Row],[Tipo de Recurso]]="Residencia",IF(OR(ENERO[[#This Row],[Fecha alta centro]]=0,AND(ENERO[[#This Row],[FECHA FIN]]<$B$1,ENERO[[#This Row],[FECHA FIN]]<>0),ENERO[[#This Row],[Fecha alta centro]]>$B$2),0,IF(OR(ENERO[[#This Row],[FECHA FIN]]=0,ENERO[[#This Row],[FECHA FIN]]>$B$2),$B$2,ENERO[[#This Row],[FECHA FIN]])-IF(ENERO[[#This Row],[Fecha alta centro]]<$B$1,$B$1,ENERO[[#This Row],[Fecha alta centro]])+1),IF(OR(ENERO[[#This Row],[Fecha alta centro]]=0,AND(ENERO[[#This Row],[FECHA FIN]]<$B$1,ENERO[[#This Row],[FECHA FIN]]<>0),ENERO[[#This Row],[Fecha alta centro]]>$B$2),0,IF(OR(ENERO[[#This Row],[FECHA FIN]]=0,ENERO[[#This Row],[FECHA FIN]]>$B$2),$B$2,ENERO[[#This Row],[FECHA FIN]])-IF(ENERO[[#This Row],[Fecha alta centro]]<$B$1,$B$1,ENERO[[#This Row],[Fecha alta centro]])+1)*0.5*IF(LEFT(ENERO[[#This Row],[Tipo de Recurso]],3)="1/3",1/3,IF(LEFT(ENERO[[#This Row],[Tipo de Recurso]],3)="2/3",2/3,1))*248/365) -> 0
B14: Enero | H14: =IF(ENERO[[#This Row],[Tipo de Recurso]]="Residencia",IF(OR(ENERO[[#This Row],[Fecha alta centro]]=0,AND(ENERO[[#This Row],[FECHA FIN]]<$B$1,ENERO[[#This Row],[FECHA FIN]]<>0),ENERO[[#This Row],[Fecha alta centro]]>$B$2),0,IF(OR(ENERO[[#This Row],[FECHA FIN]]=0,ENERO[[#This Row],[FECHA FIN]]>$B$2),$B$2,ENERO[[#This Row],[FECHA FIN]])-IF(ENERO[[#This Row],[Fecha alta centro]]<$B$1,$B$1,ENERO[[#This Row],[Fecha alta centro]])+1),IF(OR(ENERO[[#This Row],[Fecha alta centro]]=0,AND(ENERO[[#This Row],[FECHA FIN]]<$B$1,ENERO[[#This Row],[FECHA FIN]]<>0),ENERO[[#This Row],[Fecha alta centro]]>$B$2),0,IF(OR(ENERO[[#This Row],[FECHA FIN]]=0,ENERO[[#This Row],[FECHA FIN]]>$B$2),$B$2,ENERO[[#This Row],[FECHA FIN]])-IF(ENERO[[#This Row],[Fecha alta centro]]<$B$1,$B$1,ENERO[[#This Row],[Fecha alta centro]])+1)*0.5*IF(LEFT(ENERO[[#This Row],[Tipo de Recurso]],3)="1/3",1/3,IF(LEFT(ENERO[[#This Row],[Tipo de Recurso]],3)="2/3",2/3,1))*248/365) -> 0
B15: Enero | H15: =IF(ENERO[[#This Row],[Tipo de Recurso]]="Residencia",IF(OR(ENERO[[#This Row],[Fecha alta centro]]=0,AND(ENERO[[#This Row],[FECHA FIN]]<$B$1,ENERO[[#This Row],[FECHA FIN]]<>0),ENERO[[#This Row],[Fecha alta centro]]>$B$2),0,IF(OR(ENERO[[#This Row],[FECHA FIN]]=0,ENERO[[#This Row],[FECHA FIN]]>$B$2),$B$2,ENERO[[#This Row],[FECHA FIN]])-IF(ENERO[[#This Row],[Fecha alta centro]]<$B$1,$B$1,ENERO[[#This Row],[Fecha alta centro]])+1),IF(OR(ENERO[[#This Row],[Fecha alta centro]]=0,AND(ENERO[[#This Row],[FECHA FIN]]<$B$1,ENERO[[#This Row],[FECHA FIN]]<>0),ENERO[[#This Row],[Fecha alta centro]]>$B$2),0,IF(OR(ENERO[[#This Row],[FECHA FIN]]=0,ENERO[[#This Row],[FECHA FIN]]>$B$2),$B$2,ENERO[[#This Row],[FECHA FIN]])-IF(ENERO[[#This Row],[Fecha alta centro]]<$B$1,$B$1,ENERO[[#This Row],[Fecha alta centro]])+1)*0.5*IF(LEFT(ENERO[[#This Row],[Tipo de Recurso]],3)="1/3",1/3,IF(LEFT(ENERO[[#This Row],[Tipo de Recurso]],3)="2/3",2/3,1))*248/365) -> 0
B16: Enero | H16: =IF(ENERO[[#This Row],[Tipo de Recurso]]="Residencia",IF(OR(ENERO[[#This Row],[Fecha alta centro]]=0,AND(ENERO[[#This Row],[FECHA FIN]]<$B$1,ENERO[[#This Row],[FECHA FIN]]<>0),ENERO[[#This Row],[Fecha alta centro]]>$B$2),0,IF(OR(ENERO[[#This Row],[FECHA FIN]]=0,ENERO[[#This Row],[FECHA FIN]]>$B$2),$B$2,ENERO[[#This Row],[FECHA FIN]])-IF(ENERO[[#This Row],[Fecha alta centro]]<$B$1,$B$1,ENERO[[#This Row],[Fecha alta centro]])+1),IF(OR(ENERO[[#This Row],[Fecha alta centro]]=0,AND(ENERO[[#This Row],[FECHA FIN]]<$B$1,ENERO[[#This Row],[FECHA FIN]]<>0),ENERO[[#This Row],[Fecha alta centro]]>$B$2),0,IF(OR(ENERO[[#This Row],[FECHA FIN]]=0,ENERO[[#This Row],[FECHA FIN]]>$B$2),$B$2,ENERO[[#This Row],[FECHA FIN]])-IF(ENERO[[#This Row],[Fecha alta centro]]<$B$1,$B$1,ENERO[[#This Row],[Fecha alta centro]])+1)*0.5*IF(LEFT(ENERO[[#This Row],[Tipo de Recurso]],3)="1/3",1/3,IF(LEFT(ENERO[[#This Row],[Tipo de Recurso]],3)="2/3",2/3,1))*248/365) -> 0
... B704: Enero | H704: =IF(ENERO[[#This Row],[Tipo de Recurso]]="Residencia",IF(OR(ENERO[[#This Row],[Fecha alta centro]]=0,AND(ENERO[[#This Row],[FECHA FIN]]<$B$1,ENERO[[#This Row],[FECHA FIN]]<>0),ENERO[[#This Row],[Fecha alta centro]]>$B$2),0,IF(OR(ENERO[[#This Row],[FECHA FIN]]=0,ENERO[[#This Row],[FECHA FIN]]>$B$2),$B$2,ENERO[[#This Row],[FECHA FIN]])-IF(ENERO[[#This Row],[Fecha alta centro]]<$B$1,$B$1,ENERO[[#This Row],[Fecha alta centro]])+1),IF(OR(ENERO[[#This Row],[Fecha alta centro]]=0,AND(ENERO[[#This Row],[FECHA FIN]]<$B$1,ENERO[[#This Row],[FECHA FIN]]<>0),ENERO[[#This Row],[Fecha alta centro]]>$B$2),0,IF(OR(ENERO[[#This Row],[FECHA FIN]]=0,ENERO[[#This Row],[FECHA FIN]]>$B$2),$B$2,ENERO[[#This Row],[FECHA FIN]])-IF(ENERO[[#This Row],[Fecha alta centro]]<$B$1,$B$1,ENERO[[#This Row],[Fecha alta centro]])+1)*0.5*IF(LEFT(ENERO[[#This Row],[Tipo de Recurso]],3)="1/3",1/3,IF(LEFT(ENERO[[#This Row],[Tipo de Recurso]],3)="2/3",2/3,1))*248/365) -> 0
B705: Total | H705: =SUBTOTAL(109,ENERO[DIAS]) -> 0

Sheet Febrero
A1: Periodo | B1: =EDATE(Enero!B1,1) -> 46419
B2: =EOMONTH(B1,0) -> 46446
B3: OCUPACION FEBRERO
B4: mes | C4: DNI de la persona usuaria | D4: Fecha alta centro | E4: FECHA FIN | F4: Tipo de Recurso | G4: DEPENDIENTE/NO DEPENDIENTE Según valoración oficial | H4: DIAS
B5: Febrero | H5: =IF(FEBRERO[[#This Row],[Tipo de Recurso]]="Residencia",IF(OR(FEBRERO[[#This Row],[Fecha alta centro]]=0,AND(FEBRERO[[#This Row],[FECHA FIN]]<$B$1,FEBRERO[[#This Row],[FECHA FIN]]<>0),FEBRERO[[#This Row],[Fecha alta centro]]>$B$2),0,IF(OR(FEBRERO[[#This Row],[FECHA FIN]]=0,FEBRERO[[#This Row],[FECHA FIN]]>$B$2),$B$2,FEBRERO[[#This Row],[FECHA FIN]])-IF(FEBRERO[[#This Row],[Fecha alta centro]]<$B$1,$B$1,FEBRERO[[#This Row],[Fecha alta centro]])+1),IF(OR(FEBRERO[[#This Row],[Fecha alta centro]]=0,AND(FEBRERO[[#This Row],[FECHA FIN]]<$B$1,FEBRERO[[#This Row],[FECHA FIN]]<>0),FEBRERO[[#This Row],[Fecha alta centro]]>$B$2),0,IF(OR(FEBRERO[[#This Row],[FECHA FIN]]=0,FEBRERO[[#This Row],[FECHA FIN]]>$B$2),$B$2,FEBRERO[[#This Row],[FECHA FIN]])-IF(FEBRERO[[#This Row],[Fecha alta centro]]<$B$1,$B$1,FEBRERO[[#This Row],[Fecha alta centro]])+1)*0.5*IF(LEFT(FEBRERO[[#This Row],[Tipo de Recurso]],3)="1/3",1/3,IF(LEFT(FEBRERO[[#This Row],[Tipo de Recurso]],3)="2/3",2/3,1))*248/365) -> 0
B6: Febrero | H6: =IF(FEBRERO[[#This Row],[Tipo de Recurso]]="Residencia",IF(OR(FEBRERO[[#This Row],[Fecha alta centro]]=0,AND(FEBRERO[[#This Row],[FECHA FIN]]<$B$1,FEBRERO[[#This Row],[FECHA FIN]]<>0),FEBRERO[[#This Row],[Fecha alta centro]]>$B$2),0,IF(OR(FEBRERO[[#This Row],[FECHA FIN]]=0,FEBRERO[[#This Row],[FECHA FIN]]>$B$2),$B$2,FEBRERO[[#This Row],[FECHA FIN]])-IF(FEBRERO[[#This Row],[Fecha alta centro]]<$B$1,$B$1,FEBRERO[[#This Row],[Fecha alta centro]])+1),IF(OR(FEBRERO[[#This Row],[Fecha alta centro]]=0,AND(FEBRERO[[#This Row],[FECHA FIN]]<$B$1,FEBRERO[[#This Row],[FECHA FIN]]<>0),FEBRERO[[#This Row],[Fecha alta centro]]>$B$2),0,IF(OR(FEBRERO[[#This Row],[FECHA FIN]]=0,FEBRERO[[#This Row],[FECHA FIN]]>$B$2),$B$2,FEBRERO[[#This Row],[FECHA FIN]])-IF(FEBRERO[[#This Row],[Fecha alta centro]]<$B$1,$B$1,FEBRERO[[#This Row],[Fecha alta centro]])+1)*0.5*IF(LEFT(FEBRERO[[#This Row],[Tipo de Recurso]],3)="1/3",1/3,IF(LEFT(FEBRERO[[#This Row],[Tipo de Recurso]],3)="2/3",2/3,1))*248/365) -> 0
B7: Febrero | H7: =IF(FEBRERO[[#This Row],[Tipo de Recurso]]="Residencia",IF(OR(FEBRERO[[#This Row],[Fecha alta centro]]=0,AND(FEBRERO[[#This Row],[FECHA FIN]]<$B$1,FEBRERO[[#This Row],[FECHA FIN]]<>0),FEBRERO[[#This Row],[Fecha alta centro]]>$B$2),0,IF(OR(FEBRERO[[#This Row],[FECHA FIN]]=0,FEBRERO[[#This Row],[FECHA FIN]]>$B$2),$B$2,FEBRERO[[#This Row],[FECHA FIN]])-IF(FEBRERO[[#This Row],[Fecha alta centro]]<$B$1,$B$1,FEBRERO[[#This Row],[Fecha alta centro]])+1),IF(OR(FEBRERO[[#This Row],[Fecha alta centro]]=0,AND(FEBRERO[[#This Row],[FECHA FIN]]<$B$1,FEBRERO[[#This Row],[FECHA FIN]]<>0),FEBRERO[[#This Row],[Fecha alta centro]]>$B$2),0,IF(OR(FEBRERO[[#This Row],[FECHA FIN]]=0,FEBRERO[[#This Row],[FECHA FIN]]>$B$2),$B$2,FEBRERO[[#This Row],[FECHA FIN]])-IF(FEBRERO[[#This Row],[Fecha alta centro]]<$B$1,$B$1,FEBRERO[[#This Row],[Fecha alta centro]])+1)*0.5*IF(LEFT(FEBRERO[[#This Row],[Tipo de Recurso]],3)="1/3",1/3,IF(LEFT(FEBRERO[[#This Row],[Tipo de Recurso]],3)="2/3",2/3,1))*248/365) -> 0
B8: Febrero | H8: =IF(FEBRERO[[#This Row],[Tipo de Recurso]]="Residencia",IF(OR(FEBRERO[[#This Row],[Fecha alta centro]]=0,AND(FEBRERO[[#This Row],[FECHA FIN]]<$B$1,FEBRERO[[#This Row],[FECHA FIN]]<>0),FEBRERO[[#This Row],[Fecha alta centro]]>$B$2),0,IF(OR(FEBRERO[[#This Row],[FECHA FIN]]=0,FEBRERO[[#This Row],[FECHA FIN]]>$B$2),$B$2,FEBRERO[[#This Row],[FECHA FIN]])-IF(FEBRERO[[#This Row],[Fecha alta centro]]<$B$1,$B$1,FEBRERO[[#This Row],[Fecha alta centro]])+1),IF(OR(FEBRERO[[#This Row],[Fecha alta centro]]=0,AND(FEBRERO[[#This Row],[FECHA FIN]]<$B$1,FEBRERO[[#This Row],[FECHA FIN]]<>0),FEBRERO[[#This Row],[Fecha alta centro]]>$B$2),0,IF(OR(FEBRERO[[#This Row],[FECHA FIN]]=0,FEBRERO[[#This Row],[FECHA FIN]]>$B$2),$B$2,FEBRERO[[#This Row],[FECHA FIN]])-IF(FEBRERO[[#This Row],[Fecha alta centro]]<$B$1,$B$1,FEBRERO[[#This Row],[Fecha alta centro]])+1)*0.5*IF(LEFT(FEBRERO[[#This Row],[Tipo de Recurso]],3)="1/3",1/3,IF(LEFT(FEBRERO[[#This Row],[Tipo de Recurso]],3)="2/3",2/3,1))*248/365) -> 0
B9: Febrero | H9: =IF(FEBRERO[[#This Row],[Tipo de Recurso]]="Residencia",IF(OR(FEBRERO[[#This Row],[Fecha alta centro]]=0,AND(FEBRERO[[#This Row],[FECHA FIN]]<$B$1,FEBRERO[[#This Row],[FECHA FIN]]<>0),FEBRERO[[#This Row],[Fecha alta centro]]>$B$2),0,IF(OR(FEBRERO[[#This Row],[FECHA FIN]]=0,FEBRERO[[#This Row],[FECHA FIN]]>$B$2),$B$2,FEBRERO[[#This Row],[FECHA FIN]])-IF(FEBRERO[[#This Row],[Fecha alta centro]]<$B$1,$B$1,FEBRERO[[#This Row],[Fecha alta centro]])+1),IF(OR(FEBRERO[[#This Row],[Fecha alta centro]]=0,AND(FEBRERO[[#This Row],[FECHA FIN]]<$B$1,FEBRERO[[#This Row],[FECHA FIN]]<>0),FEBRERO[[#This Row],[Fecha alta centro]]>$B$2),0,IF(OR(FEBRERO[[#This Row],[FECHA FIN]]=0,FEBRERO[[#This Row],[FECHA FIN]]>$B$2),$B$2,FEBRERO[[#This Row],[FECHA FIN]])-IF(FEBRERO[[#This Row],[Fecha alta centro]]<$B$1,$B$1,FEBRERO[[#This Row],[Fecha alta centro]])+1)*0.5*IF(LEFT(FEBRERO[[#This Row],[Tipo de Recurso]],3)="1/3",1/3,IF(LEFT(FEBRERO[[#This Row],[Tipo de Recurso]],3)="2/3",2/3,1))*248/365) -> 0
B10: Febrero | H10: =IF(FEBRERO[[#This Row],[Tipo de Recurso]]="Residencia",IF(OR(FEBRERO[[#This Row],[Fecha alta centro]]=0,AND(FEBRERO[[#This Row],[FECHA FIN]]<$B$1,FEBRERO[[#This Row],[FECHA FIN]]<>0),FEBRERO[[#This Row],[Fecha alta centro]]>$B$2),0,IF(OR(FEBRERO[[#This Row],[FECHA FIN]]=0,FEBRERO[[#This Row],[FECHA FIN]]>$B$2),$B$2,FEBRERO[[#This Row],[FECHA FIN]])-IF(FEBRERO[[#This Row],[Fecha alta centro]]<$B$1,$B$1,FEBRERO[[#This Row],[Fecha alta centro]])+1),IF(OR(FEBRERO[[#This Row],[Fecha alta centro]]=0,AND(FEBRERO[[#This Row],[FECHA FIN]]<$B$1,FEBRERO[[#This Row],[FECHA FIN]]<>0),FEBRERO[[#This Row],[Fecha alta centro]]>$B$2),0,IF(OR(FEBRERO[[#This Row],[FECHA FIN]]=0,FEBRERO[[#This Row],[FECHA FIN]]>$B$2),$B$2,FEBRERO[[#This Row],[FECHA FIN]])-IF(FEBRERO[[#This Row],[Fecha alta centro]]<$B$1,$B$1,FEBRERO[[#This Row],[Fecha alta centro]])+1)*0.5*IF(LEFT(FEBRERO[[#This Row],[Tipo de Recurso]],3)="1/3",1/3,IF(LEFT(FEBRERO[[#This Row],[Tipo de Recurso]],3)="2/3",2/3,1))*248/365) -> 0
B11: Febrero | H11: =IF(FEBRERO[[#This Row],[Tipo de Recurso]]="Residencia",IF(OR(FEBRERO[[#This Row],[Fecha alta centro]]=0,AND(FEBRERO[[#This Row],[FECHA FIN]]<$B$1,FEBRERO[[#This Row],[FECHA FIN]]<>0),FEBRERO[[#This Row],[Fecha alta centro]]>$B$2),0,IF(OR(FEBRERO[[#This Row],[FECHA FIN]]=0,FEBRERO[[#This Row],[FECHA FIN]]>$B$2),$B$2,FEBRERO[[#This Row],[FECHA FIN]])-IF(FEBRERO[[#This Row],[Fecha alta centro]]<$B$1,$B$1,FEBRERO[[#This Row],[Fecha alta centro]])+1),IF(OR(FEBRERO[[#This Row],[Fecha alta centro]]=0,AND(FEBRERO[[#This Row],[FECHA FIN]]<$B$1,FEBRERO[[#This Row],[FECHA FIN]]<>0),FEBRERO[[#This Row],[Fecha alta centro]]>$B$2),0,IF(OR(FEBRERO[[#This Row],[FECHA FIN]]=0,FEBRERO[[#This Row],[FECHA FIN]]>$B$2),$B$2,FEBRERO[[#This Row],[FECHA FIN]])-IF(FEBRERO[[#This Row],[Fecha alta centro]]<$B$1,$B$1,FEBRERO[[#This Row],[Fecha alta centro]])+1)*0.5*IF(LEFT(FEBRERO[[#This Row],[Tipo de Recurso]],3)="1/3",1/3,IF(LEFT(FEBRERO[[#This Row],[Tipo de Recurso]],3)="2/3",2/3,1))*248/365) -> 0
B12: Febrero | H12: =IF(FEBRERO[[#This Row],[Tipo de Recurso]]="Residencia",IF(OR(FEBRERO[[#This Row],[Fecha alta centro]]=0,AND(FEBRERO[[#This Row],[FECHA FIN]]<$B$1,FEBRERO[[#This Row],[FECHA FIN]]<>0),FEBRERO[[#This Row],[Fecha alta centro]]>$B$2),0,IF(OR(FEBRERO[[#This Row],[FECHA FIN]]=0,FEBRERO[[#This Row],[FECHA FIN]]>$B$2),$B$2,FEBRERO[[#This Row],[FECHA FIN]])-IF(FEBRERO[[#This Row],[Fecha alta centro]]<$B$1,$B$1,FEBRERO[[#This Row],[Fecha alta centro]])+1),IF(OR(FEBRERO[[#This Row],[Fecha alta centro]]=0,AND(FEBRERO[[#This Row],[FECHA FIN]]<$B$1,FEBRERO[[#This Row],[FECHA FIN]]<>0),FEBRERO[[#This Row],[Fecha alta centro]]>$B$2),0,IF(OR(FEBRERO[[#This Row],[FECHA FIN]]=0,FEBRERO[[#This Row],[FECHA FIN]]>$B$2),$B$2,FEBRERO[[#This Row],[FECHA FIN]])-IF(FEBRERO[[#This Row],[Fecha alta centro]]<$B$1,$B$1,FEBRERO[[#This Row],[Fecha alta centro]])+1)*0.5*IF(LEFT(FEBRERO[[#This Row],[Tipo de Recurso]],3)="1/3",1/3,IF(LEFT(FEBRERO[[#This Row],[Tipo de Recurso]],3)="2/3",2/3,1))*248/365) -> 0
B13: Febrero | H13: =IF(FEBRERO[[#This Row],[Tipo de Recurso]]="Residencia",IF(OR(FEBRERO[[#This Row],[Fecha alta centro]]=0,AND(FEBRERO[[#This Row],[FECHA FIN]]<$B$1,FEBRERO[[#This Row],[FECHA FIN]]<>0),FEBRERO[[#This Row],[Fecha alta centro]]>$B$2),0,IF(OR(FEBRERO[[#This Row],[FECHA FIN]]=0,FEBRERO[[#This Row],[FECHA FIN]]>$B$2),$B$2,FEBRERO[[#This Row],[FECHA FIN]])-IF(FEBRERO[[#This Row],[Fecha alta centro]]<$B$1,$B$1,FEBRERO[[#This Row],[Fecha alta centro]])+1),IF(OR(FEBRERO[[#This Row],[Fecha alta centro]]=0,AND(FEBRERO[[#This Row],[FECHA FIN]]<$B$1,FEBRERO[[#This Row],[FECHA FIN]]<>0),FEBRERO[[#This Row],[Fecha alta centro]]>$B$2),0,IF(OR(FEBRERO[[#This Row],[FECHA FIN]]=0,FEBRERO[[#This Row],[FECHA FIN]]>$B$2),$B$2,FEBRERO[[#This Row],[FECHA FIN]])-IF(FEBRERO[[#This Row],[Fecha alta centro]]<$B$1,$B$1,FEBRERO[[#This Row],[Fecha alta centro]])+1)*0.5*IF(LEFT(FEBRERO[[#This Row],[Tipo de Recurso]],3)="1/3",1/3,IF(LEFT(FEBRERO[[#This Row],[Tipo de Recurso]],3)="2/3",2/3,1))*248/365) -> 0
B14: Febrero | H14: =IF(FEBRERO[[#This Row],[Tipo de Recurso]]="Residencia",IF(OR(FEBRERO[[#This Row],[Fecha alta centro]]=0,AND(FEBRERO[[#This Row],[FECHA FIN]]<$B$1,FEBRERO[[#This Row],[FECHA FIN]]<>0),FEBRERO[[#This Row],[Fecha alta centro]]>$B$2),0,IF(OR(FEBRERO[[#This Row],[FECHA FIN]]=0,FEBRERO[[#This Row],[FECHA FIN]]>$B$2),$B$2,FEBRERO[[#This Row],[FECHA FIN]])-IF(FEBRERO[[#This Row],[Fecha alta centro]]<$B$1,$B$1,FEBRERO[[#This Row],[Fecha alta centro]])+1),IF(OR(FEBRERO[[#This Row],[Fecha alta centro]]=0,AND(FEBRERO[[#This Row],[FECHA FIN]]<$B$1,FEBRERO[[#This Row],[FECHA FIN]]<>0),FEBRERO[[#This Row],[Fecha alta centro]]>$B$2),0,IF(OR(FEBRERO[[#This Row],[FECHA FIN]]=0,FEBRERO[[#This Row],[FECHA FIN]]>$B$2),$B$2,FEBRERO[[#This Row],[FECHA FIN]])-IF(FEBRERO[[#This Row],[Fecha alta centro]]<$B$1,$B$1,FEBRERO[[#This Row],[Fecha alta centro]])+1)*0.5*IF(LEFT(FEBRERO[[#This Row],[Tipo de Recurso]],3)="1/3",1/3,IF(LEFT(FEBRERO[[#This Row],[Tipo de Recurso]],3)="2/3",2/3,1))*248/365) -> 0
B15: Febrero | H15: =IF(FEBRERO[[#This Row],[Tipo de Recurso]]="Residencia",IF(OR(FEBRERO[[#This Row],[Fecha alta centro]]=0,AND(FEBRERO[[#This Row],[FECHA FIN]]<$B$1,FEBRERO[[#This Row],[FECHA FIN]]<>0),FEBRERO[[#This Row],[Fecha alta centro]]>$B$2),0,IF(OR(FEBRERO[[#This Row],[FECHA FIN]]=0,FEBRERO[[#This Row],[FECHA FIN]]>$B$2),$B$2,FEBRERO[[#This Row],[FECHA FIN]])-IF(FEBRERO[[#This Row],[Fecha alta centro]]<$B$1,$B$1,FEBRERO[[#This Row],[Fecha alta centro]])+1),IF(OR(FEBRERO[[#This Row],[Fecha alta centro]]=0,AND(FEBRERO[[#This Row],[FECHA FIN]]<$B$1,FEBRERO[[#This Row],[FECHA FIN]]<>0),FEBRERO[[#This Row],[Fecha alta centro]]>$B$2),0,IF(OR(FEBRERO[[#This Row],[FECHA FIN]]=0,FEBRERO[[#This Row],[FECHA FIN]]>$B$2),$B$2,FEBRERO[[#This Row],[FECHA FIN]])-IF(FEBRERO[[#This Row],[Fecha alta centro]]<$B$1,$B$1,FEBRERO[[#This Row],[Fecha alta centro]])+1)*0.5*IF(LEFT(FEBRERO[[#This Row],[Tipo de Recurso]],3)="1/3",1/3,IF(LEFT(FEBRERO[[#This Row],[Tipo de Recurso]],3)="2/3",2/3,1))*248/365) -> 0
B16: Febrero | H16: =IF(FEBRERO[[#This Row],[Tipo de Recurso]]="Residencia",IF(OR(FEBRERO[[#This Row],[Fecha alta centro]]=0,AND(FEBRERO[[#This Row],[FECHA FIN]]<$B$1,FEBRERO[[#This Row],[FECHA FIN]]<>0),FEBRERO[[#This Row],[Fecha alta centro]]>$B$2),0,IF(OR(FEBRERO[[#This Row],[FECHA FIN]]=0,FEBRERO[[#This Row],[FECHA FIN]]>$B$2),$B$2,FEBRERO[[#This Row],[FECHA FIN]])-IF(FEBRERO[[#This Row],[Fecha alta centro]]<$B$1,$B$1,FEBRERO[[#This Row],[Fecha alta centro]])+1),IF(OR(FEBRERO[[#This Row],[Fecha alta centro]]=0,AND(FEBRERO[[#This Row],[FECHA FIN]]<$B$1,FEBRERO[[#This Row],[FECHA FIN]]<>0),FEBRERO[[#This Row],[Fecha alta centro]]>$B$2),0,IF(OR(FEBRERO[[#This Row],[FECHA FIN]]=0,FEBRERO[[#This Row],[FECHA FIN]]>$B$2),$B$2,FEBRERO[[#This Row],[FECHA FIN]])-IF(FEBRERO[[#This Row],[Fecha alta centro]]<$B$1,$B$1,FEBRERO[[#This Row],[Fecha alta centro]])+1)*0.5*IF(LEFT(FEBRERO[[#This Row],[Tipo de Recurso]],3)="1/3",1/3,IF(LEFT(FEBRERO[[#This Row],[Tipo de Recurso]],3)="2/3",2/3,1))*248/365) -> 0
... B704: Febrero | H704: =IF(FEBRERO[[#This Row],[Tipo de Recurso]]="Residencia",IF(OR(FEBRERO[[#This Row],[Fecha alta centro]]=0,AND(FEBRERO[[#This Row],[FECHA FIN]]<$B$1,FEBRERO[[#This Row],[FECHA FIN]]<>0),FEBRERO[[#This Row],[Fecha alta centro]]>$B$2),0,IF(OR(FEBRERO[[#This Row],[FECHA FIN]]=0,FEBRERO[[#This Row],[FECHA FIN]]>$B$2),$B$2,FEBRERO[[#This Row],[FECHA FIN]])-IF(FEBRERO[[#This Row],[Fecha alta centro]]<$B$1,$B$1,FEBRERO[[#This Row],[Fecha alta centro]])+1),IF(OR(FEBRERO[[#This Row],[Fecha alta centro]]=0,AND(FEBRERO[[#This Row],[FECHA FIN]]<$B$1,FEBRERO[[#This Row],[FECHA FIN]]<>0),FEBRERO[[#This Row],[Fecha alta centro]]>$B$2),0,IF(OR(FEBRERO[[#This Row],[FECHA FIN]]=0,FEBRERO[[#This Row],[FECHA FIN]]>$B$2),$B$2,FEBRERO[[#This Row],[FECHA FIN]])-IF(FEBRERO[[#This Row],[Fecha alta centro]]<$B$1,$B$1,FEBRERO[[#This Row],[Fecha alta centro]])+1)*0.5*IF(LEFT(FEBRERO[[#This Row],[Tipo de Recurso]],3)="1/3",1/3,IF(LEFT(FEBRERO[[#This Row],[Tipo de Recurso]],3)="2/3",2/3,1))*248/365) -> 0
B705: Total | G705: =SUBTOTAL(103,FEBRERO[DEPENDIENTE/NO DEPENDIENTE Según valoración oficial]) -> 0 | H705: =SUBTOTAL(109,FEBRERO[DIAS]) -> 0

Sheet Marzo
A1: Periodo | B1: =EDATE(Febrero!B1,1) -> 46447
B2: =EOMONTH(B1,0) -> 46477
B3: OCUPACION MARZO
B4: mes | C4: DNI de la persona usuaria | D4: Fecha alta centro | E4: FECHA FIN | F4: Tipo de Recurso | G4: DEPENDIENTE/NO DEPENDIENTE Según valoración oficial | H4: DIAS
B5: Marzo | H5: =IF(MARZO[[#This Row],[Tipo de Recurso]]="Residencia",IF(OR(MARZO[[#This Row],[Fecha alta centro]]=0,AND(MARZO[[#This Row],[FECHA FIN]]<$B$1,MARZO[[#This Row],[FECHA FIN]]<>0),MARZO[[#This Row],[Fecha alta centro]]>$B$2),0,IF(OR(MARZO[[#This Row],[FECHA FIN]]=0,MARZO[[#This Row],[FECHA FIN]]>$B$2),$B$2,MARZO[[#This Row],[FECHA FIN]])-IF(MARZO[[#This Row],[Fecha alta centro]]<$B$1,$B$1,MARZO[[#This Row],[Fecha alta centro]])+1),IF(OR(MARZO[[#This Row],[Fecha alta centro]]=0,AND(MARZO[[#This Row],[FECHA FIN]]<$B$1,MARZO[[#This Row],[FECHA FIN]]<>0),MARZO[[#This Row],[Fecha alta centro]]>$B$2),0,IF(OR(MARZO[[#This Row],[FECHA FIN]]=0,MARZO[[#This Row],[FECHA FIN]]>$B$2),$B$2,MARZO[[#This Row],[FECHA FIN]])-IF(MARZO[[#This Row],[Fecha alta centro]]<$B$1,$B$1,MARZO[[#This Row],[Fecha alta centro]])+1)*0.5*IF(LEFT(MARZO[[#This Row],[Tipo de Recurso]],3)="1/3",1/3,IF(LEFT(MARZO[[#This Row],[Tipo de Recurso]],3)="2/3",2/3,1))*248/365) -> 0
B6: Marzo | H6: =IF(MARZO[[#This Row],[Tipo de Recurso]]="Residencia",IF(OR(MARZO[[#This Row],[Fecha alta centro]]=0,AND(MARZO[[#This Row],[FECHA FIN]]<$B$1,MARZO[[#This Row],[FECHA FIN]]<>0),MARZO[[#This Row],[Fecha alta centro]]>$B$2),0,IF(OR(MARZO[[#This Row],[FECHA FIN]]=0,MARZO[[#This Row],[FECHA FIN]]>$B$2),$B$2,MARZO[[#This Row],[FECHA FIN]])-IF(MARZO[[#This Row],[Fecha alta centro]]<$B$1,$B$1,MARZO[[#This Row],[Fecha alta centro]])+1),IF(OR(MARZO[[#This Row],[Fecha alta centro]]=0,AND(MARZO[[#This Row],[FECHA FIN]]<$B$1,MARZO[[#This Row],[FECHA FIN]]<>0),MARZO[[#This Row],[Fecha alta centro]]>$B$2),0,IF(OR(MARZO[[#This Row],[FECHA FIN]]=0,MARZO[[#This Row],[FECHA FIN]]>$B$2),$B$2,MARZO[[#This Row],[FECHA FIN]])-IF(MARZO[[#This Row],[Fecha alta centro]]<$B$1,$B$1,MARZO[[#This Row],[Fecha alta centro]])+1)*0.5*IF(LEFT(MARZO[[#This Row],[Tipo de Recurso]],3)="1/3",1/3,IF(LEFT(MARZO[[#This Row],[Tipo de Recurso]],3)="2/3",2/3,1))*248/365) -> 0
B7: Marzo | H7: =IF(MARZO[[#This Row],[Tipo de Recurso]]="Residencia",IF(OR(MARZO[[#This Row],[Fecha alta centro]]=0,AND(MARZO[[#This Row],[FECHA FIN]]<$B$1,MARZO[[#This Row],[FECHA FIN]]<>0),MARZO[[#This Row],[Fecha alta centro]]>$B$2),0,IF(OR(MARZO[[#This Row],[FECHA FIN]]=0,MARZO[[#This Row],[FECHA FIN]]>$B$2),$B$2,MARZO[[#This Row],[FECHA FIN]])-IF(MARZO[[#This Row],[Fecha alta centro]]<$B$1,$B$1,MARZO[[#This Row],[Fecha alta centro]])+1),IF(OR(MARZO[[#This Row],[Fecha alta centro]]=0,AND(MARZO[[#This Row],[FECHA FIN]]<$B$1,MARZO[[#This Row],[FECHA FIN]]<>0),MARZO[[#This Row],[Fecha alta centro]]>$B$2),0,IF(OR(MARZO[[#This Row],[FECHA FIN]]=0,MARZO[[#This Row],[FECHA FIN]]>$B$2),$B$2,MARZO[[#This Row],[FECHA FIN]])-IF(MARZO[[#This Row],[Fecha alta centro]]<$B$1,$B$1,MARZO[[#This Row],[Fecha alta centro]])+1)*0.5*IF(LEFT(MARZO[[#This Row],[Tipo de Recurso]],3)="1/3",1/3,IF(LEFT(MARZO[[#This Row],[Tipo de Recurso]],3)="2/3",2/3,1))*248/365) -> 0
B8: Marzo | H8: =IF(MARZO[[#This Row],[Tipo de Recurso]]="Residencia",IF(OR(MARZO[[#This Row],[Fecha alta centro]]=0,AND(MARZO[[#This Row],[FECHA FIN]]<$B$1,MARZO[[#This Row],[FECHA FIN]]<>0),MARZO[[#This Row],[Fecha alta centro]]>$B$2),0,IF(OR(MARZO[[#This Row],[FECHA FIN]]=0,MARZO[[#This Row],[FECHA FIN]]>$B$2),$B$2,MARZO[[#This Row],[FECHA FIN]])-IF(MARZO[[#This Row],[Fecha alta centro]]<$B$1,$B$1,MARZO[[#This Row],[Fecha alta centro]])+1),IF(OR(MARZO[[#This Row],[Fecha alta centro]]=0,AND(MARZO[[#This Row],[FECHA FIN]]<$B$1,MARZO[[#This Row],[FECHA FIN]]<>0),MARZO[[#This Row],[Fecha alta centro]]>$B$2),0,IF(OR(MARZO[[#This Row],[FECHA FIN]]=0,MARZO[[#This Row],[FECHA FIN]]>$B$2),$B$2,MARZO[[#This Row],[FECHA FIN]])-IF(MARZO[[#This Row],[Fecha alta centro]]<$B$1,$B$1,MARZO[[#This Row],[Fecha alta centro]])+1)*0.5*IF(LEFT(MARZO[[#This Row],[Tipo de Recurso]],3)="1/3",1/3,IF(LEFT(MARZO[[#This Row],[Tipo de Recurso]],3)="2/3",2/3,1))*248/365) -> 0
B9: Marzo | H9: =IF(MARZO[[#This Row],[Tipo de Recurso]]="Residencia",IF(OR(MARZO[[#This Row],[Fecha alta centro]]=0,AND(MARZO[[#This Row],[FECHA FIN]]<$B$1,MARZO[[#This Row],[FECHA FIN]]<>0),MARZO[[#This Row],[Fecha alta centro]]>$B$2),0,IF(OR(MARZO[[#This Row],[FECHA FIN]]=0,MARZO[[#This Row],[FECHA FIN]]>$B$2),$B$2,MARZO[[#This Row],[FECHA FIN]])-IF(MARZO[[#This Row],[Fecha alta centro]]<$B$1,$B$1,MARZO[[#This Row],[Fecha alta centro]])+1),IF(OR(MARZO[[#This Row],[Fecha alta centro]]=0,AND(MARZO[[#This Row],[FECHA FIN]]<$B$1,MARZO[[#This Row],[FECHA FIN]]<>0),MARZO[[#This Row],[Fecha alta centro]]>$B$2),0,IF(OR(MARZO[[#This Row],[FECHA FIN]]=0,MARZO[[#This Row],[FECHA FIN]]>$B$2),$B$2,MARZO[[#This Row],[FECHA FIN]])-IF(MARZO[[#This Row],[Fecha alta centro]]<$B$1,$B$1,MARZO[[#This Row],[Fecha alta centro]])+1)*0.5*IF(LEFT(MARZO[[#This Row],[Tipo de Recurso]],3)="1/3",1/3,IF(LEFT(MARZO[[#This Row],[Tipo de Recurso]],3)="2/3",2/3,1))*248/365) -> 0
B10: Marzo | H10: =IF(MARZO[[#This Row],[Tipo de Recurso]]="Residencia",IF(OR(MARZO[[#This Row],[Fecha alta centro]]=0,AND(MARZO[[#This Row],[FECHA FIN]]<$B$1,MARZO[[#This Row],[FECHA FIN]]<>0),MARZO[[#This Row],[Fecha alta centro]]>$B$2),0,IF(OR(MARZO[[#This Row],[FECHA FIN]]=0,MARZO[[#This Row],[FECHA FIN]]>$B$2),$B$2,MARZO[[#This Row],[FECHA FIN]])-IF(MARZO[[#This Row],[Fecha alta centro]]<$B$1,$B$1,MARZO[[#This Row],[Fecha alta centro]])+1),IF(OR(MARZO[[#This Row],[Fecha alta centro]]=0,AND(MARZO[[#This Row],[FECHA FIN]]<$B$1,MARZO[[#This Row],[FECHA FIN]]<>0),MARZO[[#This Row],[Fecha alta centro]]>$B$2),0,IF(OR(MARZO[[#This Row],[FECHA FIN]]=0,MARZO[[#This Row],[FECHA FIN]]>$B$2),$B$2,MARZO[[#This Row],[FECHA FIN]])-IF(MARZO[[#This Row],[Fecha alta centro]]<$B$1,$B$1,MARZO[[#This Row],[Fecha alta centro]])+1)*0.5*IF(LEFT(MARZO[[#This Row],[Tipo de Recurso]],3)="1/3",1/3,IF(LEFT(MARZO[[#This Row],[Tipo de Recurso]],3)="2/3",2/3,1))*248/365) -> 0
B11: Marzo | H11: =IF(MARZO[[#This Row],[Tipo de Recurso]]="Residencia",IF(OR(MARZO[[#This Row],[Fecha alta centro]]=0,AND(MARZO[[#This Row],[FECHA FIN]]<$B$1,MARZO[[#This Row],[FECHA FIN]]<>0),MARZO[[#This Row],[Fecha alta centro]]>$B$2),0,IF(OR(MARZO[[#This Row],[FECHA FIN]]=0,MARZO[[#This Row],[FECHA FIN]]>$B$2),$B$2,MARZO[[#This Row],[FECHA FIN]])-IF(MARZO[[#This Row],[Fecha alta centro]]<$B$1,$B$1,MARZO[[#This Row],[Fecha alta centro]])+1),IF(OR(MARZO[[#This Row],[Fecha alta centro]]=0,AND(MARZO[[#This Row],[FECHA FIN]]<$B$1,MARZO[[#This Row],[FECHA FIN]]<>0),MARZO[[#This Row],[Fecha alta centro]]>$B$2),0,IF(OR(MARZO[[#This Row],[FECHA FIN]]=0,MARZO[[#This Row],[FECHA FIN]]>$B$2),$B$2,MARZO[[#This Row],[FECHA FIN]])-IF(MARZO[[#This Row],[Fecha alta centro]]<$B$1,$B$1,MARZO[[#This Row],[Fecha alta centro]])+1)*0.5*IF(LEFT(MARZO[[#This Row],[Tipo de Recurso]],3)="1/3",1/3,IF(LEFT(MARZO[[#This Row],[Tipo de Recurso]],3)="2/3",2/3,1))*248/365) -> 0
B12: Marzo | H12: =IF(MARZO[[#This Row],[Tipo de Recurso]]="Residencia",IF(OR(MARZO[[#This Row],[Fecha alta centro]]=0,AND(MARZO[[#This Row],[FECHA FIN]]<$B$1,MARZO[[#This Row],[FECHA FIN]]<>0),MARZO[[#This Row],[Fecha alta centro]]>$B$2),0,IF(OR(MARZO[[#This Row],[FECHA FIN]]=0,MARZO[[#This Row],[FECHA FIN]]>$B$2),$B$2,MARZO[[#This Row],[FECHA FIN]])-IF(MARZO[[#This Row],[Fecha alta centro]]<$B$1,$B$1,MARZO[[#This Row],[Fecha alta centro]])+1),IF(OR(MARZO[[#This Row],[Fecha alta centro]]=0,AND(MARZO[[#This Row],[FECHA FIN]]<$B$1,MARZO[[#This Row],[FECHA FIN]]<>0),MARZO[[#This Row],[Fecha alta centro]]>$B$2),0,IF(OR(MARZO[[#This Row],[FECHA FIN]]=0,MARZO[[#This Row],[FECHA FIN]]>$B$2),$B$2,MARZO[[#This Row],[FECHA FIN]])-IF(MARZO[[#This Row],[Fecha alta centro]]<$B$1,$B$1,MARZO[[#This Row],[Fecha alta centro]])+1)*0.5*IF(LEFT(MARZO[[#This Row],[Tipo de Recurso]],3)="1/3",1/3,IF(LEFT(MARZO[[#This Row],[Tipo de Recurso]],3)="2/3",2/3,1))*248/365) -> 0
B13: Marzo | H13: =IF(MARZO[[#This Row],[Tipo de Recurso]]="Residencia",IF(OR(MARZO[[#This Row],[Fecha alta centro]]=0,AND(MARZO[[#This Row],[FECHA FIN]]<$B$1,MARZO[[#This Row],[FECHA FIN]]<>0),MARZO[[#This Row],[Fecha alta centro]]>$B$2),0,IF(OR(MARZO[[#This Row],[FECHA FIN]]=0,MARZO[[#This Row],[FECHA FIN]]>$B$2),$B$2,MARZO[[#This Row],[FECHA FIN]])-IF(MARZO[[#This Row],[Fecha alta centro]]<$B$1,$B$1,MARZO[[#This Row],[Fecha alta centro]])+1),IF(OR(MARZO[[#This Row],[Fecha alta centro]]=0,AND(MARZO[[#This Row],[FECHA FIN]]<$B$1,MARZO[[#This Row],[FECHA FIN]]<>0),MARZO[[#This Row],[Fecha alta centro]]>$B$2),0,IF(OR(MARZO[[#This Row],[FECHA FIN]]=0,MARZO[[#This Row],[FECHA FIN]]>$B$2),$B$2,MARZO[[#This Row],[FECHA FIN]])-IF(MARZO[[#This Row],[Fecha alta centro]]<$B$1,$B$1,MARZO[[#This Row],[Fecha alta centro]])+1)*0.5*IF(LEFT(MARZO[[#This Row],[Tipo de Recurso]],3)="1/3",1/3,IF(LEFT(MARZO[[#This Row],[Tipo de Recurso]],3)="2/3",2/3,1))*248/365) -> 0
B14: Marzo | H14: =IF(MARZO[[#This Row],[Tipo de Recurso]]="Residencia",IF(OR(MARZO[[#This Row],[Fecha alta centro]]=0,AND(MARZO[[#This Row],[FECHA FIN]]<$B$1,MARZO[[#This Row],[FECHA FIN]]<>0),MARZO[[#This Row],[Fecha alta centro]]>$B$2),0,IF(OR(MARZO[[#This Row],[FECHA FIN]]=0,MARZO[[#This Row],[FECHA FIN]]>$B$2),$B$2,MARZO[[#This Row],[FECHA FIN]])-IF(MARZO[[#This Row],[Fecha alta centro]]<$B$1,$B$1,MARZO[[#This Row],[Fecha alta centro]])+1),IF(OR(MARZO[[#This Row],[Fecha alta centro]]=0,AND(MARZO[[#This Row],[FECHA FIN]]<$B$1,MARZO[[#This Row],[FECHA FIN]]<>0),MARZO[[#This Row],[Fecha alta centro]]>$B$2),0,IF(OR(MARZO[[#This Row],[FECHA FIN]]=0,MARZO[[#This Row],[FECHA FIN]]>$B$2),$B$2,MARZO[[#This Row],[FECHA FIN]])-IF(MARZO[[#This Row],[Fecha alta centro]]<$B$1,$B$1,MARZO[[#This Row],[Fecha alta centro]])+1)*0.5*IF(LEFT(MARZO[[#This Row],[Tipo de Recurso]],3)="1/3",1/3,IF(LEFT(MARZO[[#This Row],[Tipo de Recurso]],3)="2/3",2/3,1))*248/365) -> 0
B15: Marzo | H15: =IF(MARZO[[#This Row],[Tipo de Recurso]]="Residencia",IF(OR(MARZO[[#This Row],[Fecha alta centro]]=0,AND(MARZO[[#This Row],[FECHA FIN]]<$B$1,MARZO[[#This Row],[FECHA FIN]]<>0),MARZO[[#This Row],[Fecha alta centro]]>$B$2),0,IF(OR(MARZO[[#This Row],[FECHA FIN]]=0,MARZO[[#This Row],[FECHA FIN]]>$B$2),$B$2,MARZO[[#This Row],[FECHA FIN]])-IF(MARZO[[#This Row],[Fecha alta centro]]<$B$1,$B$1,MARZO[[#This Row],[Fecha alta centro]])+1),IF(OR(MARZO[[#This Row],[Fecha alta centro]]=0,AND(MARZO[[#This Row],[FECHA FIN]]<$B$1,MARZO[[#This Row],[FECHA FIN]]<>0),MARZO[[#This Row],[Fecha alta centro]]>$B$2),0,IF(OR(MARZO[[#This Row],[FECHA FIN]]=0,MARZO[[#This Row],[FECHA FIN]]>$B$2),$B$2,MARZO[[#This Row],[FECHA FIN]])-IF(MARZO[[#This Row],[Fecha alta centro]]<$B$1,$B$1,MARZO[[#This Row],[Fecha alta centro]])+1)*0.5*IF(LEFT(MARZO[[#This Row],[Tipo de Recurso]],3)="1/3",1/3,IF(LEFT(MARZO[[#This Row],[Tipo de Recurso]],3)="2/3",2/3,1))*248/365) -> 0
B16: Marzo | H16: =IF(MARZO[[#This Row],[Tipo de Recurso]]="Residencia",IF(OR(MARZO[[#This Row],[Fecha alta centro]]=0,AND(MARZO[[#This Row],[FECHA FIN]]<$B$1,MARZO[[#This Row],[FECHA FIN]]<>0),MARZO[[#This Row],[Fecha alta centro]]>$B$2),0,IF(OR(MARZO[[#This Row],[FECHA FIN]]=0,MARZO[[#This Row],[FECHA FIN]]>$B$2),$B$2,MARZO[[#This Row],[FECHA FIN]])-IF(MARZO[[#This Row],[Fecha alta centro]]<$B$1,$B$1,MARZO[[#This Row],[Fecha alta centro]])+1),IF(OR(MARZO[[#This Row],[Fecha alta centro]]=0,AND(MARZO[[#This Row],[FECHA FIN]]<$B$1,MARZO[[#This Row],[FECHA FIN]]<>0),MARZO[[#This Row],[Fecha alta centro]]>$B$2),0,IF(OR(MARZO[[#This Row],[FECHA FIN]]=0,MARZO[[#This Row],[FECHA FIN]]>$B$2),$B$2,MARZO[[#This Row],[FECHA FIN]])-IF(MARZO[[#This Row],[Fecha alta centro]]<$B$1,$B$1,MARZO[[#This Row],[Fecha alta centro]])+1)*0.5*IF(LEFT(MARZO[[#This Row],[Tipo de Recurso]],3)="1/3",1/3,IF(LEFT(MARZO[[#This Row],[Tipo de Recurso]],3)="2/3",2/3,1))*248/365) -> 0
... B704: Marzo | H704: =IF(MARZO[[#This Row],[Tipo de Recurso]]="Residencia",IF(OR(MARZO[[#This Row],[Fecha alta centro]]=0,AND(MARZO[[#This Row],[FECHA FIN]]<$B$1,MARZO[[#This Row],[FECHA FIN]]<>0),MARZO[[#This Row],[Fecha alta centro]]>$B$2),0,IF(OR(MARZO[[#This Row],[FECHA FIN]]=0,MARZO[[#This Row],[FECHA FIN]]>$B$2),$B$2,MARZO[[#This Row],[FECHA FIN]])-IF(MARZO[[#This Row],[Fecha alta centro]]<$B$1,$B$1,MARZO[[#This Row],[Fecha alta centro]])+1),IF(OR(MARZO[[#This Row],[Fecha alta centro]]=0,AND(MARZO[[#This Row],[FECHA FIN]]<$B$1,MARZO[[#This Row],[FECHA FIN]]<>0),MARZO[[#This Row],[Fecha alta centro]]>$B$2),0,IF(OR(MARZO[[#This Row],[FECHA FIN]]=0,MARZO[[#This Row],[FECHA FIN]]>$B$2),$B$2,MARZO[[#This Row],[FECHA FIN]])-IF(MARZO[[#This Row],[Fecha alta centro]]<$B$1,$B$1,MARZO[[#This Row],[Fecha alta centro]])+1)*0.5*IF(LEFT(MARZO[[#This Row],[Tipo de Recurso]],3)="1/3",1/3,IF(LEFT(MARZO[[#This Row],[Tipo de Recurso]],3)="2/3",2/3,1))*248/365) -> 0
B705: Total | G705: =SUBTOTAL(103,MARZO[DEPENDIENTE/NO DEPENDIENTE Según valoración oficial]) -> 0 | H705: =SUBTOTAL(109,MARZO[DIAS]) -> 0

Sheet Abril
A1: Periodo | B1: =EDATE(Marzo!B1,1) -> 46478
B2: =EOMONTH(B1,0) -> 46507
B3: OCUPACION ABRIL
B4: mes | C4: DNI de la persona usuaria | D4: Fecha alta centro | E4: FECHA FIN | F4: Tipo de Recurso | G4: DEPENDIENTE/NO DEPENDIENTE Según valoración oficial | H4: DIAS
B5: Abril | H5: =IF(ABRIL[[#This Row],[Tipo de Recurso]]="Residencia",IF(OR(ABRIL[[#This Row],[Fecha alta centro]]=0,AND(ABRIL[[#This Row],[FECHA FIN]]<$B$1,ABRIL[[#This Row],[FECHA FIN]]<>0),ABRIL[[#This Row],[Fecha alta centro]]>$B$2),0,IF(OR(ABRIL[[#This Row],[FECHA FIN]]=0,ABRIL[[#This Row],[FECHA FIN]]>$B$2),$B$2,ABRIL[[#This Row],[FECHA FIN]])-IF(ABRIL[[#This Row],[Fecha alta centro]]<$B$1,$B$1,ABRIL[[#This Row],[Fecha alta centro]])+1),IF(OR(ABRIL[[#This Row],[Fecha alta centro]]=0,AND(ABRIL[[#This Row],[FECHA FIN]]<$B$1,ABRIL[[#This Row],[FECHA FIN]]<>0),ABRIL[[#This Row],[Fecha alta centro]]>$B$2),0,IF(OR(ABRIL[[#This Row],[FECHA FIN]]=0,ABRIL[[#This Row],[FECHA FIN]]>$B$2),$B$2,ABRIL[[#This Row],[FECHA FIN]])-IF(ABRIL[[#This Row],[Fecha alta centro]]<$B$1,$B$1,ABRIL[[#This Row],[Fecha alta centro]])+1)*0.5*IF(LEFT(ABRIL[[#This Row],[Tipo de Recurso]],3)="1/3",1/3,IF(LEFT(ABRIL[[#This Row],[Tipo de Recurso]],3)="2/3",2/3,1))*248/365) -> 0
B6: Abril | H6: =IF(ABRIL[[#This Row],[Tipo de Recurso]]="Residencia",IF(OR(ABRIL[[#This Row],[Fecha alta centro]]=0,AND(ABRIL[[#This Row],[FECHA FIN]]<$B$1,ABRIL[[#This Row],[FECHA FIN]]<>0),ABRIL[[#This Row],[Fecha alta centro]]>$B$2),0,IF(OR(ABRIL[[#This Row],[FECHA FIN]]=0,ABRIL[[#This Row],[FECHA FIN]]>$B$2),$B$2,ABRIL[[#This Row],[FECHA FIN]])-IF(ABRIL[[#This Row],[Fecha alta centro]]<$B$1,$B$1,ABRIL[[#This Row],[Fecha alta centro]])+1),IF(OR(ABRIL[[#This Row],[Fecha alta centro]]=0,AND(ABRIL[[#This Row],[FECHA FIN]]<$B$1,ABRIL[[#This Row],[FECHA FIN]]<>0),ABRIL[[#This Row],[Fecha alta centro]]>$B$2),0,IF(OR(ABRIL[[#This Row],[FECHA FIN]]=0,ABRIL[[#This Row],[FECHA FIN]]>$B$2),$B$2,ABRIL[[#This Row],[FECHA FIN]])-IF(ABRIL[[#This Row],[Fecha alta centro]]<$B$1,$B$1,ABRIL[[#This Row],[Fecha alta centro]])+1)*0.5*IF(LEFT(ABRIL[[#This Row],[Tipo de Recurso]],3)="1/3",1/3,IF(LEFT(ABRIL[[#This Row],[Tipo de Recurso]],3)="2/3",2/3,1))*248/365) -> 0
B7: Abril | H7: =IF(ABRIL[[#This Row],[Tipo de Recurso]]="Residencia",IF(OR(ABRIL[[#This Row],[Fecha alta centro]]=0,AND(ABRIL[[#This Row],[FECHA FIN]]<$B$1,ABRIL[[#This Row],[FECHA FIN]]<>0),ABRIL[[#This Row],[Fecha alta centro]]>$B$2),0,IF(OR(ABRIL[[#This Row],[FECHA FIN]]=0,ABRIL[[#This Row],[FECHA FIN]]>$B$2),$B$2,ABRIL[[#This Row],[FECHA FIN]])-IF(ABRIL[[#This Row],[Fecha alta centro]]<$B$1,$B$1,ABRIL[[#This Row],[Fecha alta centro]])+1),IF(OR(ABRIL[[#This Row],[Fecha alta centro]]=0,AND(ABRIL[[#This Row],[FECHA FIN]]<$B$1,ABRIL[[#This Row],[FECHA FIN]]<>0),ABRIL[[#This Row],[Fecha alta centro]]>$B$2),0,IF(OR(ABRIL[[#This Row],[FECHA FIN]]=0,ABRIL[[#This Row],[FECHA FIN]]>$B$2),$B$2,ABRIL[[#This Row],[FECHA FIN]])-IF(ABRIL[[#This Row],[Fecha alta centro]]<$B$1,$B$1,ABRIL[[#This Row],[Fecha alta centro]])+1)*0.5*IF(LEFT(ABRIL[[#This Row],[Tipo de Recurso]],3)="1/3",1/3,IF(LEFT(ABRIL[[#This Row],[Tipo de Recurso]],3)="2/3",2/3,1))*248/365) -> 0
B8: Abril | H8: =IF(ABRIL[[#This Row],[Tipo de Recurso]]="Residencia",IF(OR(ABRIL[[#This Row],[Fecha alta centro]]=0,AND(ABRIL[[#This Row],[FECHA FIN]]<$B$1,ABRIL[[#This Row],[FECHA FIN]]<>0),ABRIL[[#This Row],[Fecha alta centro]]>$B$2),0,IF(OR(ABRIL[[#This Row],[FECHA FIN]]=0,ABRIL[[#This Row],[FECHA FIN]]>$B$2),$B$2,ABRIL[[#This Row],[FECHA FIN]])-IF(ABRIL[[#This Row],[Fecha alta centro]]<$B$1,$B$1,ABRIL[[#This Row],[Fecha alta centro]])+1),IF(OR(ABRIL[[#This Row],[Fecha alta centro]]=0,AND(ABRIL[[#This Row],[FECHA FIN]]<$B$1,ABRIL[[#This Row],[FECHA FIN]]<>0),ABRIL[[#This Row],[Fecha alta centro]]>$B$2),0,IF(OR(ABRIL[[#This Row],[FECHA FIN]]=0,ABRIL[[#This Row],[FECHA FIN]]>$B$2),$B$2,ABRIL[[#This Row],[FECHA FIN]])-IF(ABRIL[[#This Row],[Fecha alta centro]]<$B$1,$B$1,ABRIL[[#This Row],[Fecha alta centro]])+1)*0.5*IF(LEFT(ABRIL[[#This Row],[Tipo de Recurso]],3)="1/3",1/3,IF(LEFT(ABRIL[[#This Row],[Tipo de Recurso]],3)="2/3",2/3,1))*248/365) -> 0
B9: Abril | H9: =IF(ABRIL[[#This Row],[Tipo de Recurso]]="Residencia",IF(OR(ABRIL[[#This Row],[Fecha alta centro]]=0,AND(ABRIL[[#This Row],[FECHA FIN]]<$B$1,ABRIL[[#This Row],[FECHA FIN]]<>0),ABRIL[[#This Row],[Fecha alta centro]]>$B$2),0,IF(OR(ABRIL[[#This Row],[FECHA FIN]]=0,ABRIL[[#This Row],[FECHA FIN]]>$B$2),$B$2,ABRIL[[#This Row],[FECHA FIN]])-IF(ABRIL[[#This Row],[Fecha alta centro]]<$B$1,$B$1,ABRIL[[#This Row],[Fecha alta centro]])+1),IF(OR(ABRIL[[#This Row],[Fecha alta centro]]=0,AND(ABRIL[[#This Row],[FECHA FIN]]<$B$1,ABRIL[[#This Row],[FECHA FIN]]<>0),ABRIL[[#This Row],[Fecha alta centro]]>$B$2),0,IF(OR(ABRIL[[#This Row],[FECHA FIN]]=0,ABRIL[[#This Row],[FECHA FIN]]>$B$2),$B$2,ABRIL[[#This Row],[FECHA FIN]])-IF(ABRIL[[#This Row],[Fecha alta centro]]<$B$1,$B$1,ABRIL[[#This Row],[Fecha alta centro]])+1)*0.5*IF(LEFT(ABRIL[[#This Row],[Tipo de Recurso]],3)="1/3",1/3,IF(LEFT(ABRIL[[#This Row],[Tipo de Recurso]],3)="2/3",2/3,1))*248/365) -> 0
B10: Abril | H10: =IF(ABRIL[[#This Row],[Tipo de Recurso]]="Residencia",IF(OR(ABRIL[[#This Row],[Fecha alta centro]]=0,AND(ABRIL[[#This Row],[FECHA FIN]]<$B$1,ABRIL[[#This Row],[FECHA FIN]]<>0),ABRIL[[#This Row],[Fecha alta centro]]>$B$2),0,IF(OR(ABRIL[[#This Row],[FECHA FIN]]=0,ABRIL[[#This Row],[FECHA FIN]]>$B$2),$B$2,ABRIL[[#This Row],[FECHA FIN]])-IF(ABRIL[[#This Row],[Fecha alta centro]]<$B$1,$B$1,ABRIL[[#This Row],[Fecha alta centro]])+1),IF(OR(ABRIL[[#This Row],[Fecha alta centro]]=0,AND(ABRIL[[#This Row],[FECHA FIN]]<$B$1,ABRIL[[#This Row],[FECHA FIN]]<>0),ABRIL[[#This Row],[Fecha alta centro]]>$B$2),0,IF(OR(ABRIL[[#This Row],[FECHA FIN]]=0,ABRIL[[#This Row],[FECHA FIN]]>$B$2),$B$2,ABRIL[[#This Row],[FECHA FIN]])-IF(ABRIL[[#This Row],[Fecha alta centro]]<$B$1,$B$1,ABRIL[[#This Row],[Fecha alta centro]])+1)*0.5*IF(LEFT(ABRIL[[#This Row],[Tipo de Recurso]],3)="1/3",1/3,IF(LEFT(ABRIL[[#This Row],[Tipo de Recurso]],3)="2/3",2/3,1))*248/365) -> 0
B11: Abril | H11: =IF(ABRIL[[#This Row],[Tipo de Recurso]]="Residencia",IF(OR(ABRIL[[#This Row],[Fecha alta centro]]=0,AND(ABRIL[[#This Row],[FECHA FIN]]<$B$1,ABRIL[[#This Row],[FECHA FIN]]<>0),ABRIL[[#This Row],[Fecha alta centro]]>$B$2),0,IF(OR(ABRIL[[#This Row],[FECHA FIN]]=0,ABRIL[[#This Row],[FECHA FIN]]>$B$2),$B$2,ABRIL[[#This Row],[FECHA FIN]])-IF(ABRIL[[#This Row],[Fecha alta centro]]<$B$1,$B$1,ABRIL[[#This Row],[Fecha alta centro]])+1),IF(OR(ABRIL[[#This Row],[Fecha alta centro]]=0,AND(ABRIL[[#This Row],[FECHA FIN]]<$B$1,ABRIL[[#This Row],[FECHA FIN]]<>0),ABRIL[[#This Row],[Fecha alta centro]]>$B$2),0,IF(OR(ABRIL[[#This Row],[FECHA FIN]]=0,ABRIL[[#This Row],[FECHA FIN]]>$B$2),$B$2,ABRIL[[#This Row],[FECHA FIN]])-IF(ABRIL[[#This Row],[Fecha alta centro]]<$B$1,$B$1,ABRIL[[#This Row],[Fecha alta centro]])+1)*0.5*IF(LEFT(ABRIL[[#This Row],[Tipo de Recurso]],3)="1/3",1/3,IF(LEFT(ABRIL[[#This Row],[Tipo de Recurso]],3)="2/3",2/3,1))*248/365) -> 0
B12: Abril | H12: =IF(ABRIL[[#This Row],[Tipo de Recurso]]="Residencia",IF(OR(ABRIL[[#This Row],[Fecha alta centro]]=0,AND(ABRIL[[#This Row],[FECHA FIN]]<$B$1,ABRIL[[#This Row],[FECHA FIN]]<>0),ABRIL[[#This Row],[Fecha alta centro]]>$B$2),0,IF(OR(ABRIL[[#This Row],[FECHA FIN]]=0,ABRIL[[#This Row],[FECHA FIN]]>$B$2),$B$2,ABRIL[[#This Row],[FECHA FIN]])-IF(ABRIL[[#This Row],[Fecha alta centro]]<$B$1,$B$1,ABRIL[[#This Row],[Fecha alta centro]])+1),IF(OR(ABRIL[[#This Row],[Fecha alta centro]]=0,AND(ABRIL[[#This Row],[FECHA FIN]]<$B$1,ABRIL[[#This Row],[FECHA FIN]]<>0),ABRIL[[#This Row],[Fecha alta centro]]>$B$2),0,IF(OR(ABRIL[[#This Row],[FECHA FIN]]=0,ABRIL[[#This Row],[FECHA FIN]]>$B$2),$B$2,ABRIL[[#This Row],[FECHA FIN]])-IF(ABRIL[[#This Row],[Fecha alta centro]]<$B$1,$B$1,ABRIL[[#This Row],[Fecha alta centro]])+1)*0.5*IF(LEFT(ABRIL[[#This Row],[Tipo de Recurso]],3)="1/3",1/3,IF(LEFT(ABRIL[[#This Row],[Tipo de Recurso]],3)="2/3",2/3,1))*248/365) -> 0
B13: Abril | H13: =IF(ABRIL[[#This Row],[Tipo de Recurso]]="Residencia",IF(OR(ABRIL[[#This Row],[Fecha alta centro]]=0,AND(ABRIL[[#This Row],[FECHA FIN]]<$B$1,ABRIL[[#This Row],[FECHA FIN]]<>0),ABRIL[[#This Row],[Fecha alta centro]]>$B$2),0,IF(OR(ABRIL[[#This Row],[FECHA FIN]]=0,ABRIL[[#This Row],[FECHA FIN]]>$B$2),$B$2,ABRIL[[#This Row],[FECHA FIN]])-IF(ABRIL[[#This Row],[Fecha alta centro]]<$B$1,$B$1,ABRIL[[#This Row],[Fecha alta centro]])+1),IF(OR(ABRIL[[#This Row],[Fecha alta centro]]=0,AND(ABRIL[[#This Row],[FECHA FIN]]<$B$1,ABRIL[[#This Row],[FECHA FIN]]<>0),ABRIL[[#This Row],[Fecha alta centro]]>$B$2),0,IF(OR(ABRIL[[#This Row],[FECHA FIN]]=0,ABRIL[[#This Row],[FECHA FIN]]>$B$2),$B$2,ABRIL[[#This Row],[FECHA FIN]])-IF(ABRIL[[#This Row],[Fecha alta centro]]<$B$1,$B$1,ABRIL[[#This Row],[Fecha alta centro]])+1)*0.5*IF(LEFT(ABRIL[[#This Row],[Tipo de Recurso]],3)="1/3",1/3,IF(LEFT(ABRIL[[#This Row],[Tipo de Recurso]],3)="2/3",2/3,1))*248/365) -> 0
B14: Abril | H14: =IF(ABRIL[[#This Row],[Tipo de Recurso]]="Residencia",IF(OR(ABRIL[[#This Row],[Fecha alta centro]]=0,AND(ABRIL[[#This Row],[FECHA FIN]]<$B$1,ABRIL[[#This Row],[FECHA FIN]]<>0),ABRIL[[#This Row],[Fecha alta centro]]>$B$2),0,IF(OR(ABRIL[[#This Row],[FECHA FIN]]=0,ABRIL[[#This Row],[FECHA FIN]]>$B$2),$B$2,ABRIL[[#This Row],[FECHA FIN]])-IF(ABRIL[[#This Row],[Fecha alta centro]]<$B$1,$B$1,ABRIL[[#This Row],[Fecha alta centro]])+1),IF(OR(ABRIL[[#This Row],[Fecha alta centro]]=0,AND(ABRIL[[#This Row],[FECHA FIN]]<$B$1,ABRIL[[#This Row],[FECHA FIN]]<>0),ABRIL[[#This Row],[Fecha alta centro]]>$B$2),0,IF(OR(ABRIL[[#This Row],[FECHA FIN]]=0,ABRIL[[#This Row],[FECHA FIN]]>$B$2),$B$2,ABRIL[[#This Row],[FECHA FIN]])-IF(ABRIL[[#This Row],[Fecha alta centro]]<$B$1,$B$1,ABRIL[[#This Row],[Fecha alta centro]])+1)*0.5*IF(LEFT(ABRIL[[#This Row],[Tipo de Recurso]],3)="1/3",1/3,IF(LEFT(ABRIL[[#This Row],[Tipo de Recurso]],3)="2/3",2/3,1))*248/365) -> 0
B15: Abril | H15: =IF(ABRIL[[#This Row],[Tipo de Recurso]]="Residencia",IF(OR(ABRIL[[#This Row],[Fecha alta centro]]=0,AND(ABRIL[[#This Row],[FECHA FIN]]<$B$1,ABRIL[[#This Row],[FECHA FIN]]<>0),ABRIL[[#This Row],[Fecha alta centro]]>$B$2),0,IF(OR(ABRIL[[#This Row],[FECHA FIN]]=0,ABRIL[[#This Row],[FECHA FIN]]>$B$2),$B$2,ABRIL[[#This Row],[FECHA FIN]])-IF(ABRIL[[#This Row],[Fecha alta centro]]<$B$1,$B$1,ABRIL[[#This Row],[Fecha alta centro]])+1),IF(OR(ABRIL[[#This Row],[Fecha alta centro]]=0,AND(ABRIL[[#This Row],[FECHA FIN]]<$B$1,ABRIL[[#This Row],[FECHA FIN]]<>0),ABRIL[[#This Row],[Fecha alta centro]]>$B$2),0,IF(OR(ABRIL[[#This Row],[FECHA FIN]]=0,ABRIL[[#This Row],[FECHA FIN]]>$B$2),$B$2,ABRIL[[#This Row],[FECHA FIN]])-IF(ABRIL[[#This Row],[Fecha alta centro]]<$B$1,$B$1,ABRIL[[#This Row],[Fecha alta centro]])+1)*0.5*IF(LEFT(ABRIL[[#This Row],[Tipo de Recurso]],3)="1/3",1/3,IF(LEFT(ABRIL[[#This Row],[Tipo de Recurso]],3)="2/3",2/3,1))*248/365) -> 0
B16: Abril | H16: =IF(ABRIL[[#This Row],[Tipo de Recurso]]="Residencia",IF(OR(ABRIL[[#This Row],[Fecha alta centro]]=0,AND(ABRIL[[#This Row],[FECHA FIN]]<$B$1,ABRIL[[#This Row],[FECHA FIN]]<>0),ABRIL[[#This Row],[Fecha alta centro]]>$B$2),0,IF(OR(ABRIL[[#This Row],[FECHA FIN]]=0,ABRIL[[#This Row],[FECHA FIN]]>$B$2),$B$2,ABRIL[[#This Row],[FECHA FIN]])-IF(ABRIL[[#This Row],[Fecha alta centro]]<$B$1,$B$1,ABRIL[[#This Row],[Fecha alta centro]])+1),IF(OR(ABRIL[[#This Row],[Fecha alta centro]]=0,AND(ABRIL[[#This Row],[FECHA FIN]]<$B$1,ABRIL[[#This Row],[FECHA FIN]]<>0),ABRIL[[#This Row],[Fecha alta centro]]>$B$2),0,IF(OR(ABRIL[[#This Row],[FECHA FIN]]=0,ABRIL[[#This Row],[FECHA FIN]]>$B$2),$B$2,ABRIL[[#This Row],[FECHA FIN]])-IF(ABRIL[[#This Row],[Fecha alta centro]]<$B$1,$B$1,ABRIL[[#This Row],[Fecha alta centro]])+1)*0.5*IF(LEFT(ABRIL[[#This Row],[Tipo de Recurso]],3)="1/3",1/3,IF(LEFT(ABRIL[[#This Row],[Tipo de Recurso]],3)="2/3",2/3,1))*248/365) -> 0
... B704: Abril | H704: =IF(ABRIL[[#This Row],[Tipo de Recurso]]="Residencia",IF(OR(ABRIL[[#This Row],[Fecha alta centro]]=0,AND(ABRIL[[#This Row],[FECHA FIN]]<$B$1,ABRIL[[#This Row],[FECHA FIN]]<>0),ABRIL[[#This Row],[Fecha alta centro]]>$B$2),0,IF(OR(ABRIL[[#This Row],[FECHA FIN]]=0,ABRIL[[#This Row],[FECHA FIN]]>$B$2),$B$2,ABRIL[[#This Row],[FECHA FIN]])-IF(ABRIL[[#This Row],[Fecha alta centro]]<$B$1,$B$1,ABRIL[[#This Row],[Fecha alta centro]])+1),IF(OR(ABRIL[[#This Row],[Fecha alta centro]]=0,AND(ABRIL[[#This Row],[FECHA FIN]]<$B$1,ABRIL[[#This Row],[FECHA FIN]]<>0),ABRIL[[#This Row],[Fecha alta centro]]>$B$2),0,IF(OR(ABRIL[[#This Row],[FECHA FIN]]=0,ABRIL[[#This Row],[FECHA FIN]]>$B$2),$B$2,ABRIL[[#This Row],[FECHA FIN]])-IF(ABRIL[[#This Row],[Fecha alta centro]]<$B$1,$B$1,ABRIL[[#This Row],[Fecha alta centro]])+1)*0.5*IF(LEFT(ABRIL[[#This Row],[Tipo de Recurso]],3)="1/3",1/3,IF(LEFT(ABRIL[[#This Row],[Tipo de Recurso]],3)="2/3",2/3,1))*248/365) -> 0
B705: Total | G705: =SUBTOTAL(103,ABRIL[DEPENDIENTE/NO DEPENDIENTE Según valoración oficial]) -> 0 | H705: =SUBTOTAL(109,ABRIL[DIAS]) -> 0

Sheet Mayo
A1: Periodo | B1: 46508
B2: =EOMONTH(B1,0) -> 46538
B3: OCUPACION MAYO
B4: mes | C4: DNI de la persona usuaria | D4: Fecha alta centro | E4: FECHA FIN | F4: Tipo de Recurso | G4: DEPENDIENTE/NO DEPENDIENTE Según valoración oficial | H4: DIAS
B5: Mayo | H5: =IF(MAYO[[#This Row],[Tipo de Recurso]]="Residencia",IF(OR(MAYO[[#This Row],[Fecha alta centro]]=0,AND(MAYO[[#This Row],[FECHA FIN]]<$B$1,MAYO[[#This Row],[FECHA FIN]]<>0),MAYO[[#This Row],[Fecha alta centro]]>$B$2),0,IF(OR(MAYO[[#This Row],[FECHA FIN]]=0,MAYO[[#This Row],[FECHA FIN]]>$B$2),$B$2,MAYO[[#This Row],[FECHA FIN]])-IF(MAYO[[#This Row],[Fecha alta centro]]<$B$1,$B$1,MAYO[[#This Row],[Fecha alta centro]])+1),IF(OR(MAYO[[#This Row],[Fecha alta centro]]=0,AND(MAYO[[#This Row],[FECHA FIN]]<$B$1,MAYO[[#This Row],[FECHA FIN]]<>0),MAYO[[#This Row],[Fecha alta centro]]>$B$2),0,IF(OR(MAYO[[#This Row],[FECHA FIN]]=0,MAYO[[#This Row],[FECHA FIN]]>$B$2),$B$2,MAYO[[#This Row],[FECHA FIN]])-IF(MAYO[[#This Row],[Fecha alta centro]]<$B$1,$B$1,MAYO[[#This Row],[Fecha alta centro]])+1)*0.5*IF(LEFT(MAYO[[#This Row],[Tipo de Recurso]],3)="1/3",1/3,IF(LEFT(MAYO[[#This Row],[Tipo de Recurso]],3)="2/3",2/3,1))*248/365) -> 0
B6: Mayo | H6: =IF(MAYO[[#This Row],[Tipo de Recurso]]="Residencia",IF(OR(MAYO[[#This Row],[Fecha alta centro]]=0,AND(MAYO[[#This Row],[FECHA FIN]]<$B$1,MAYO[[#This Row],[FECHA FIN]]<>0),MAYO[[#This Row],[Fecha alta centro]]>$B$2),0,IF(OR(MAYO[[#This Row],[FECHA FIN]]=0,MAYO[[#This Row],[FECHA FIN]]>$B$2),$B$2,MAYO[[#This Row],[FECHA FIN]])-IF(MAYO[[#This Row],[Fecha alta centro]]<$B$1,$B$1,MAYO[[#This Row],[Fecha alta centro]])+1),IF(OR(MAYO[[#This Row],[Fecha alta centro]]=0,AND(MAYO[[#This Row],[FECHA FIN]]<$B$1,MAYO[[#This Row],[FECHA FIN]]<>0),MAYO[[#This Row],[Fecha alta centro]]>$B$2),0,IF(OR(MAYO[[#This Row],[FECHA FIN]]=0,MAYO[[#This Row],[FECHA FIN]]>$B$2),$B$2,MAYO[[#This Row],[FECHA FIN]])-IF(MAYO[[#This Row],[Fecha alta centro]]<$B$1,$B$1,MAYO[[#This Row],[Fecha alta centro]])+1)*0.5*IF(LEFT(MAYO[[#This Row],[Tipo de Recurso]],3)="1/3",1/3,IF(LEFT(MAYO[[#This Row],[Tipo de Recurso]],3)="2/3",2/3,1))*248/365) -> 0
B7: Mayo | H7: =IF(MAYO[[#This Row],[Tipo de Recurso]]="Residencia",IF(OR(MAYO[[#This Row],[Fecha alta centro]]=0,AND(MAYO[[#This Row],[FECHA FIN]]<$B$1,MAYO[[#This Row],[FECHA FIN]]<>0),MAYO[[#This Row],[Fecha alta centro]]>$B$2),0,IF(OR(MAYO[[#This Row],[FECHA FIN]]=0,MAYO[[#This Row],[FECHA FIN]]>$B$2),$B$2,MAYO[[#This Row],[FECHA FIN]])-IF(MAYO[[#This Row],[Fecha alta centro]]<$B$1,$B$1,MAYO[[#This Row],[Fecha alta centro]])+1),IF(OR(MAYO[[#This Row],[Fecha alta centro]]=0,AND(MAYO[[#This Row],[FECHA FIN]]<$B$1,MAYO[[#This Row],[FECHA FIN]]<>0),MAYO[[#This Row],[Fecha alta centro]]>$B$2),0,IF(OR(MAYO[[#This Row],[FECHA FIN]]=0,MAYO[[#This Row],[FECHA FIN]]>$B$2),$B$2,MAYO[[#This Row],[FECHA FIN]])-IF(MAYO[[#This Row],[Fecha alta centro]]<$B$1,$B$1,MAYO[[#This Row],[Fecha alta centro]])+1)*0.5*IF(LEFT(MAYO[[#This Row],[Tipo de Recurso]],3)="1/3",1/3,IF(LEFT(MAYO[[#This Row],[Tipo de Recurso]],3)="2/3",2/3,1))*248/365) -> 0
B8: Mayo | H8: =IF(MAYO[[#This Row],[Tipo de Recurso]]="Residencia",IF(OR(MAYO[[#This Row],[Fecha alta centro]]=0,AND(MAYO[[#This Row],[FECHA FIN]]<$B$1,MAYO[[#This Row],[FECHA FIN]]<>0),MAYO[[#This Row],[Fecha alta centro]]>$B$2),0,IF(OR(MAYO[[#This Row],[FECHA FIN]]=0,MAYO[[#This Row],[FECHA FIN]]>$B$2),$B$2,MAYO[[#This Row],[FECHA FIN]])-IF(MAYO[[#This Row],[Fecha alta centro]]<$B$1,$B$1,MAYO[[#This Row],[Fecha alta centro]])+1),IF(OR(MAYO[[#This Row],[Fecha alta centro]]=0,AND(MAYO[[#This Row],[FECHA FIN]]<$B$1,MAYO[[#This Row],[FECHA FIN]]<>0),MAYO[[#This Row],[Fecha alta centro]]>$B$2),0,IF(OR(MAYO[[#This Row],[FECHA FIN]]=0,MAYO[[#This Row],[FECHA FIN]]>$B$2),$B$2,MAYO[[#This Row],[FECHA FIN]])-IF(MAYO[[#This Row],[Fecha alta centro]]<$B$1,$B$1,MAYO[[#This Row],[Fecha alta centro]])+1)*0.5*IF(LEFT(MAYO[[#This Row],[Tipo de Recurso]],3)="1/3",1/3,IF(LEFT(MAYO[[#This Row],[Tipo de Recurso]],3)="2/3",2/3,1))*248/365) -> 0
B9: Mayo | H9: =IF(MAYO[[#This Row],[Tipo de Recurso]]="Residencia",IF(OR(MAYO[[#This Row],[Fecha alta centro]]=0,AND(MAYO[[#This Row],[FECHA FIN]]<$B$1,MAYO[[#This Row],[FECHA FIN]]<>0),MAYO[[#This Row],[Fecha alta centro]]>$B$2),0,IF(OR(MAYO[[#This Row],[FECHA FIN]]=0,MAYO[[#This Row],[FECHA FIN]]>$B$2),$B$2,MAYO[[#This Row],[FECHA FIN]])-IF(MAYO[[#This Row],[Fecha alta centro]]<$B$1,$B$1,MAYO[[#This Row],[Fecha alta centro]])+1),IF(OR(MAYO[[#This Row],[Fecha alta centro]]=0,AND(MAYO[[#This Row],[FECHA FIN]]<$B$1,MAYO[[#This Row],[FECHA FIN]]<>0),MAYO[[#This Row],[Fecha alta centro]]>$B$2),0,IF(OR(MAYO[[#This Row],[FECHA FIN]]=0,MAYO[[#This Row],[FECHA FIN]]>$B$2),$B$2,MAYO[[#This Row],[FECHA FIN]])-IF(MAYO[[#This Row],[Fecha alta centro]]<$B$1,$B$1,MAYO[[#This Row],[Fecha alta centro]])+1)*0.5*IF(LEFT(MAYO[[#This Row],[Tipo de Recurso]],3)="1/3",1/3,IF(LEFT(MAYO[[#This Row],[Tipo de Recurso]],3)="2/3",2/3,1))*248/365) -> 0
B10: Mayo | H10: =IF(MAYO[[#This Row],[Tipo de Recurso]]="Residencia",IF(OR(MAYO[[#This Row],[Fecha alta centro]]=0,AND(MAYO[[#This Row],[FECHA FIN]]<$B$1,MAYO[[#This Row],[FECHA FIN]]<>0),MAYO[[#This Row],[Fecha alta centro]]>$B$2),0,IF(OR(MAYO[[#This Row],[FECHA FIN]]=0,MAYO[[#This Row],[FECHA FIN]]>$B$2),$B$2,MAYO[[#This Row],[FECHA FIN]])-IF(MAYO[[#This Row],[Fecha alta centro]]<$B$1,$B$1,MAYO[[#This Row],[Fecha alta centro]])+1),IF(OR(MAYO[[#This Row],[Fecha alta centro]]=0,AND(MAYO[[#This Row],[FECHA FIN]]<$B$1,MAYO[[#This Row],[FECHA FIN]]<>0),MAYO[[#This Row],[Fecha alta centro]]>$B$2),0,IF(OR(MAYO[[#This Row],[FECHA FIN]]=0,MAYO[[#This Row],[FECHA FIN]]>$B$2),$B$2,MAYO[[#This Row],[FECHA FIN]])-IF(MAYO[[#This Row],[Fecha alta centro]]<$B$1,$B$1,MAYO[[#This Row],[Fecha alta centro]])+1)*0.5*IF(LEFT(MAYO[[#This Row],[Tipo de Recurso]],3)="1/3",1/3,IF(LEFT(MAYO[[#This Row],[Tipo de Recurso]],3)="2/3",2/3,1))*248/365) -> 0
B11: Mayo | H11: =IF(MAYO[[#This Row],[Tipo de Recurso]]="Residencia",IF(OR(MAYO[[#This Row],[Fecha alta centro]]=0,AND(MAYO[[#This Row],[FECHA FIN]]<$B$1,MAYO[[#This Row],[FECHA FIN]]<>0),MAYO[[#This Row],[Fecha alta centro]]>$B$2),0,IF(OR(MAYO[[#This Row],[FECHA FIN]]=0,MAYO[[#This Row],[FECHA FIN]]>$B$2),$B$2,MAYO[[#This Row],[FECHA FIN]])-IF(MAYO[[#This Row],[Fecha alta centro]]<$B$1,$B$1,MAYO[[#This Row],[Fecha alta centro]])+1),IF(OR(MAYO[[#This Row],[Fecha alta centro]]=0,AND(MAYO[[#This Row],[FECHA FIN]]<$B$1,MAYO[[#This Row],[FECHA FIN]]<>0),MAYO[[#This Row],[Fecha alta centro]]>$B$2),0,IF(OR(MAYO[[#This Row],[FECHA FIN]]=0,MAYO[[#This Row],[FECHA FIN]]>$B$2),$B$2,MAYO[[#This Row],[FECHA FIN]])-IF(MAYO[[#This Row],[Fecha alta centro]]<$B$1,$B$1,MAYO[[#This Row],[Fecha alta centro]])+1)*0.5*IF(LEFT(MAYO[[#This Row],[Tipo de Recurso]],3)="1/3",1/3,IF(LEFT(MAYO[[#This Row],[Tipo de Recurso]],3)="2/3",2/3,1))*248/365) -> 0
B12: Mayo | H12: =IF(MAYO[[#This Row],[Tipo de Recurso]]="Residencia",IF(OR(MAYO[[#This Row],[Fecha alta centro]]=0,AND(MAYO[[#This Row],[FECHA FIN]]<$B$1,MAYO[[#This Row],[FECHA FIN]]<>0),MAYO[[#This Row],[Fecha alta centro]]>$B$2),0,IF(OR(MAYO[[#This Row],[FECHA FIN]]=0,MAYO[[#This Row],[FECHA FIN]]>$B$2),$B$2,MAYO[[#This Row],[FECHA FIN]])-IF(MAYO[[#This Row],[Fecha alta centro]]<$B$1,$B$1,MAYO[[#This Row],[Fecha alta centro]])+1),IF(OR(MAYO[[#This Row],[Fecha alta centro]]=0,AND(MAYO[[#This Row],[FECHA FIN]]<$B$1,MAYO[[#This Row],[FECHA FIN]]<>0),MAYO[[#This Row],[Fecha alta centro]]>$B$2),0,IF(OR(MAYO[[#This Row],[FECHA FIN]]=0,MAYO[[#This Row],[FECHA FIN]]>$B$2),$B$2,MAYO[[#This Row],[FECHA FIN]])-IF(MAYO[[#This Row],[Fecha alta centro]]<$B$1,$B$1,MAYO[[#This Row],[Fecha alta centro]])+1)*0.5*IF(LEFT(MAYO[[#This Row],[Tipo de Recurso]],3)="1/3",1/3,IF(LEFT(MAYO[[#This Row],[Tipo de Recurso]],3)="2/3",2/3,1))*248/365) -> 0
B13: Mayo | H13: =IF(MAYO[[#This Row],[Tipo de Recurso]]="Residencia",IF(OR(MAYO[[#This Row],[Fecha alta centro]]=0,AND(MAYO[[#This Row],[FECHA FIN]]<$B$1,MAYO[[#This Row],[FECHA FIN]]<>0),MAYO[[#This Row],[Fecha alta centro]]>$B$2),0,IF(OR(MAYO[[#This Row],[FECHA FIN]]=0,MAYO[[#This Row],[FECHA FIN]]>$B$2),$B$2,MAYO[[#This Row],[FECHA FIN]])-IF(MAYO[[#This Row],[Fecha alta centro]]<$B$1,$B$1,MAYO[[#This Row],[Fecha alta centro]])+1),IF(OR(MAYO[[#This Row],[Fecha alta centro]]=0,AND(MAYO[[#This Row],[FECHA FIN]]<$B$1,MAYO[[#This Row],[FECHA FIN]]<>0),MAYO[[#This Row],[Fecha alta centro]]>$B$2),0,IF(OR(MAYO[[#This Row],[FECHA FIN]]=0,MAYO[[#This Row],[FECHA FIN]]>$B$2),$B$2,MAYO[[#This Row],[FECHA FIN]])-IF(MAYO[[#This Row],[Fecha alta centro]]<$B$1,$B$1,MAYO[[#This Row],[Fecha alta centro]])+1)*0.5*IF(LEFT(MAYO[[#This Row],[Tipo de Recurso]],3)="1/3",1/3,IF(LEFT(MAYO[[#This Row],[Tipo de Recurso]],3)="2/3",2/3,1))*248/365) -> 0
B14: Mayo | H14: =IF(MAYO[[#This Row],[Tipo de Recurso]]="Residencia",IF(OR(MAYO[[#This Row],[Fecha alta centro]]=0,AND(MAYO[[#This Row],[FECHA FIN]]<$B$1,MAYO[[#This Row],[FECHA FIN]]<>0),MAYO[[#This Row],[Fecha alta centro]]>$B$2),0,IF(OR(MAYO[[#This Row],[FECHA FIN]]=0,MAYO[[#This Row],[FECHA FIN]]>$B$2),$B$2,MAYO[[#This Row],[FECHA FIN]])-IF(MAYO[[#This Row],[Fecha alta centro]]<$B$1,$B$1,MAYO[[#This Row],[Fecha alta centro]])+1),IF(OR(MAYO[[#This Row],[Fecha alta centro]]=0,AND(MAYO[[#This Row],[FECHA FIN]]<$B$1,MAYO[[#This Row],[FECHA FIN]]<>0),MAYO[[#This Row],[Fecha alta centro]]>$B$2),0,IF(OR(MAYO[[#This Row],[FECHA FIN]]=0,MAYO[[#This Row],[FECHA FIN]]>$B$2),$B$2,MAYO[[#This Row],[FECHA FIN]])-IF(MAYO[[#This Row],[Fecha alta centro]]<$B$1,$B$1,MAYO[[#This Row],[Fecha alta centro]])+1)*0.5*IF(LEFT(MAYO[[#This Row],[Tipo de Recurso]],3)="1/3",1/3,IF(LEFT(MAYO[[#This Row],[Tipo de Recurso]],3)="2/3",2/3,1))*248/365) -> 0
B15: Mayo | H15: =IF(MAYO[[#This Row],[Tipo de Recurso]]="Residencia",IF(OR(MAYO[[#This Row],[Fecha alta centro]]=0,AND(MAYO[[#This Row],[FECHA FIN]]<$B$1,MAYO[[#This Row],[FECHA FIN]]<>0),MAYO[[#This Row],[Fecha alta centro]]>$B$2),0,IF(OR(MAYO[[#This Row],[FECHA FIN]]=0,MAYO[[#This Row],[FECHA FIN]]>$B$2),$B$2,MAYO[[#This Row],[FECHA FIN]])-IF(MAYO[[#This Row],[Fecha alta centro]]<$B$1,$B$1,MAYO[[#This Row],[Fecha alta centro]])+1),IF(OR(MAYO[[#This Row],[Fecha alta centro]]=0,AND(MAYO[[#This Row],[FECHA FIN]]<$B$1,MAYO[[#This Row],[FECHA FIN]]<>0),MAYO[[#This Row],[Fecha alta centro]]>$B$2),0,IF(OR(MAYO[[#This Row],[FECHA FIN]]=0,MAYO[[#This Row],[FECHA FIN]]>$B$2),$B$2,MAYO[[#This Row],[FECHA FIN]])-IF(MAYO[[#This Row],[Fecha alta centro]]<$B$1,$B$1,MAYO[[#This Row],[Fecha alta centro]])+1)*0.5*IF(LEFT(MAYO[[#This Row],[Tipo de Recurso]],3)="1/3",1/3,IF(LEFT(MAYO[[#This Row],[Tipo de Recurso]],3)="2/3",2/3,1))*248/365) -> 0
B16: Mayo | H16: =IF(MAYO[[#This Row],[Tipo de Recurso]]="Residencia",IF(OR(MAYO[[#This Row],[Fecha alta centro]]=0,AND(MAYO[[#This Row],[FECHA FIN]]<$B$1,MAYO[[#This Row],[FECHA FIN]]<>0),MAYO[[#This Row],[Fecha alta centro]]>$B$2),0,IF(OR(MAYO[[#This Row],[FECHA FIN]]=0,MAYO[[#This Row],[FECHA FIN]]>$B$2),$B$2,MAYO[[#This Row],[FECHA FIN]])-IF(MAYO[[#This Row],[Fecha alta centro]]<$B$1,$B$1,MAYO[[#This Row],[Fecha alta centro]])+1),IF(OR(MAYO[[#This Row],[Fecha alta centro]]=0,AND(MAYO[[#This Row],[FECHA FIN]]<$B$1,MAYO[[#This Row],[FECHA FIN]]<>0),MAYO[[#This Row],[Fecha alta centro]]>$B$2),0,IF(OR(MAYO[[#This Row],[FECHA FIN]]=0,MAYO[[#This Row],[FECHA FIN]]>$B$2),$B$2,MAYO[[#This Row],[FECHA FIN]])-IF(MAYO[[#This Row],[Fecha alta centro]]<$B$1,$B$1,MAYO[[#This Row],[Fecha alta centro]])+1)*0.5*IF(LEFT(MAYO[[#This Row],[Tipo de Recurso]],3)="1/3",1/3,IF(LEFT(MAYO[[#This Row],[Tipo de Recurso]],3)="2/3",2/3,1))*248/365) -> 0
... B704: Mayo | H704: =IF(MAYO[[#This Row],[Tipo de Recurso]]="Residencia",IF(OR(MAYO[[#This Row],[Fecha alta centro]]=0,AND(MAYO[[#This Row],[FECHA FIN]]<$B$1,MAYO[[#This Row],[FECHA FIN]]<>0),MAYO[[#This Row],[Fecha alta centro]]>$B$2),0,IF(OR(MAYO[[#This Row],[FECHA FIN]]=0,MAYO[[#This Row],[FECHA FIN]]>$B$2),$B$2,MAYO[[#This Row],[FECHA FIN]])-IF(MAYO[[#This Row],[Fecha alta centro]]<$B$1,$B$1,MAYO[[#This Row],[Fecha alta centro]])+1),IF(OR(MAYO[[#This Row],[Fecha alta centro]]=0,AND(MAYO[[#This Row],[FECHA FIN]]<$B$1,MAYO[[#This Row],[FECHA FIN]]<>0),MAYO[[#This Row],[Fecha alta centro]]>$B$2),0,IF(OR(MAYO[[#This Row],[FECHA FIN]]=0,MAYO[[#This Row],[FECHA FIN]]>$B$2),$B$2,MAYO[[#This Row],[FECHA FIN]])-IF(MAYO[[#This Row],[Fecha alta centro]]<$B$1,$B$1,MAYO[[#This Row],[Fecha alta centro]])+1)*0.5*IF(LEFT(MAYO[[#This Row],[Tipo de Recurso]],3)="1/3",1/3,IF(LEFT(MAYO[[#This Row],[Tipo de Recurso]],3)="2/3",2/3,1))*248/365) -> 0
B705: Total | G705: =SUBTOTAL(103,MAYO[DEPENDIENTE/NO DEPENDIENTE Según valoración oficial]) -> 0 | H705: =SUBTOTAL(109,MAYO[DIAS]) -> 0

Sheet Junio
A1: Periodo | B1: =EDATE(Mayo!B1,1) -> 46539
B2: =EOMONTH(B1,0) -> 46568
B3: OCUPACION JUNIO
B4: mes | C4: DNI de la persona usuaria | D4: Fecha alta centro | E4: FECHA FIN | F4: Tipo de Recurso | G4: DEPENDIENTE/NO DEPENDIENTE Según valoración oficial | H4: DIAS
B5: Junio | H5: =IF(JUNIO[[#This Row],[Tipo de Recurso]]="Residencia",IF(OR(JUNIO[[#This Row],[Fecha alta centro]]=0,AND(JUNIO[[#This Row],[FECHA FIN]]<$B$1,JUNIO[[#This Row],[FECHA FIN]]<>0),JUNIO[[#This Row],[Fecha alta centro]]>$B$2),0,IF(OR(JUNIO[[#This Row],[FECHA FIN]]=0,JUNIO[[#This Row],[FECHA FIN]]>$B$2),$B$2,JUNIO[[#This Row],[FECHA FIN]])-IF(JUNIO[[#This Row],[Fecha alta centro]]<$B$1,$B$1,JUNIO[[#This Row],[Fecha alta centro]])+1),IF(OR(JUNIO[[#This Row],[Fecha alta centro]]=0,AND(JUNIO[[#This Row],[FECHA FIN]]<$B$1,JUNIO[[#This Row],[FECHA FIN]]<>0),JUNIO[[#This Row],[Fecha alta centro]]>$B$2),0,IF(OR(JUNIO[[#This Row],[FECHA FIN]]=0,JUNIO[[#This Row],[FECHA FIN]]>$B$2),$B$2,JUNIO[[#This Row],[FECHA FIN]])-IF(JUNIO[[#This Row],[Fecha alta centro]]<$B$1,$B$1,JUNIO[[#This Row],[Fecha alta centro]])+1)*0.5*IF(LEFT(JUNIO[[#This Row],[Tipo de Recurso]],3)="1/3",1/3,IF(LEFT(JUNIO[[#This Row],[Tipo de Recurso]],3)="2/3",2/3,1))*248/365) -> 0
B6: Junio | H6: =IF(JUNIO[[#This Row],[Tipo de Recurso]]="Residencia",IF(OR(JUNIO[[#This Row],[Fecha alta centro]]=0,AND(JUNIO[[#This Row],[FECHA FIN]]<$B$1,JUNIO[[#This Row],[FECHA FIN]]<>0),JUNIO[[#This Row],[Fecha alta centro]]>$B$2),0,IF(OR(JUNIO[[#This Row],[FECHA FIN]]=0,JUNIO[[#This Row],[FECHA FIN]]>$B$2),$B$2,JUNIO[[#This Row],[FECHA FIN]])-IF(JUNIO[[#This Row],[Fecha alta centro]]<$B$1,$B$1,JUNIO[[#This Row],[Fecha alta centro]])+1),IF(OR(JUNIO[[#This Row],[Fecha alta centro]]=0,AND(JUNIO[[#This Row],[FECHA FIN]]<$B$1,JUNIO[[#This Row],[FECHA FIN]]<>0),JUNIO[[#This Row],[Fecha alta centro]]>$B$2),0,IF(OR(JUNIO[[#This Row],[FECHA FIN]]=0,JUNIO[[#This Row],[FECHA FIN]]>$B$2),$B$2,JUNIO[[#This Row],[FECHA FIN]])-IF(JUNIO[[#This Row],[Fecha alta centro]]<$B$1,$B$1,JUNIO[[#This Row],[Fecha alta centro]])+1)*0.5*IF(LEFT(JUNIO[[#This Row],[Tipo de Recurso]],3)="1/3",1/3,IF(LEFT(JUNIO[[#This Row],[Tipo de Recurso]],3)="2/3",2/3,1))*248/365) -> 0
B7: Junio | H7: =IF(JUNIO[[#This Row],[Tipo de Recurso]]="Residencia",IF(OR(JUNIO[[#This Row],[Fecha alta centro]]=0,AND(JUNIO[[#This Row],[FECHA FIN]]<$B$1,JUNIO[[#This Row],[FECHA FIN]]<>0),JUNIO[[#This Row],[Fecha alta centro]]>$B$2),0,IF(OR(JUNIO[[#This Row],[FECHA FIN]]=0,JUNIO[[#This Row],[FECHA FIN]]>$B$2),$B$2,JUNIO[[#This Row],[FECHA FIN]])-IF(JUNIO[[#This Row],[Fecha alta centro]]<$B$1,$B$1,JUNIO[[#This Row],[Fecha alta centro]])+1),IF(OR(JUNIO[[#This Row],[Fecha alta centro]]=0,AND(JUNIO[[#This Row],[FECHA FIN]]<$B$1,JUNIO[[#This Row],[FECHA FIN]]<>0),JUNIO[[#This Row],[Fecha alta centro]]>$B$2),0,IF(OR(JUNIO[[#This Row],[FECHA FIN]]=0,JUNIO[[#This Row],[FECHA FIN]]>$B$2),$B$2,JUNIO[[#This Row],[FECHA FIN]])-IF(JUNIO[[#This Row],[Fecha alta centro]]<$B$1,$B$1,JUNIO[[#This Row],[Fecha alta centro]])+1)*0.5*IF(LEFT(JUNIO[[#This Row],[Tipo de Recurso]],3)="1/3",1/3,IF(LEFT(JUNIO[[#This Row],[Tipo de Recurso]],3)="2/3",2/3,1))*248/365) -> 0
B8: Junio | H8: =IF(JUNIO[[#This Row],[Tipo de Recurso]]="Residencia",IF(OR(JUNIO[[#This Row],[Fecha alta centro]]=0,AND(JUNIO[[#This Row],[FECHA FIN]]<$B$1,JUNIO[[#This Row],[FECHA FIN]]<>0),JUNIO[[#This Row],[Fecha alta centro]]>$B$2),0,IF(OR(JUNIO[[#This Row],[FECHA FIN]]=0,JUNIO[[#This Row],[FECHA FIN]]>$B$2),$B$2,JUNIO[[#This Row],[FECHA FIN]])-IF(JUNIO[[#This Row],[Fecha alta centro]]<$B$1,$B$1,JUNIO[[#This Row],[Fecha alta centro]])+1),IF(OR(JUNIO[[#This Row],[Fecha alta centro]]=0,AND(JUNIO[[#This Row],[FECHA FIN]]<$B$1,JUNIO[[#This Row],[FECHA FIN]]<>0),JUNIO[[#This Row],[Fecha alta centro]]>$B$2),0,IF(OR(JUNIO[[#This Row],[FECHA FIN]]=0,JUNIO[[#This Row],[FECHA FIN]]>$B$2),$B$2,JUNIO[[#This Row],[FECHA FIN]])-IF(JUNIO[[#This Row],[Fecha alta centro]]<$B$1,$B$1,JUNIO[[#This Row],[Fecha alta centro]])+1)*0.5*IF(LEFT(JUNIO[[#This Row],[Tipo de Recurso]],3)="1/3",1/3,IF(LEFT(JUNIO[[#This Row],[Tipo de Recurso]],3)="2/3",2/3,1))*248/365) -> 0
B9: Junio | H9: =IF(JUNIO[[#This Row],[Tipo de Recurso]]="Residencia",IF(OR(JUNIO[[#This Row],[Fecha alta centro]]=0,AND(JUNIO[[#This Row],[FECHA FIN]]<$B$1,JUNIO[[#This Row],[FECHA FIN]]<>0),JUNIO[[#This Row],[Fecha alta centro]]>$B$2),0,IF(OR(JUNIO[[#This Row],[FECHA FIN]]=0,JUNIO[[#This Row],[FECHA FIN]]>$B$2),$B$2,JUNIO[[#This Row],[FECHA FIN]])-IF(JUNIO[[#This Row],[Fecha alta centro]]<$B$1,$B$1,JUNIO[[#This Row],[Fecha alta centro]])+1),IF(OR(JUNIO[[#This Row],[Fecha alta centro]]=0,AND(JUNIO[[#This Row],[FECHA FIN]]<$B$1,JUNIO[[#This Row],[FECHA FIN]]<>0),JUNIO[[#This Row],[Fecha alta centro]]>$B$2),0,IF(OR(JUNIO[[#This Row],[FECHA FIN]]=0,JUNIO[[#This Row],[FECHA FIN]]>$B$2),$B$2,JUNIO[[#This Row],[FECHA FIN]])-IF(JUNIO[[#This Row],[Fecha alta centro]]<$B$1,$B$1,JUNIO[[#This Row],[Fecha alta centro]])+1)*0.5*IF(LEFT(JUNIO[[#This Row],[Tipo de Recurso]],3)="1/3",1/3,IF(LEFT(JUNIO[[#This Row],[Tipo de Recurso]],3)="2/3",2/3,1))*248/365) -> 0
B10: Junio | H10: =IF(JUNIO[[#This Row],[Tipo de Recurso]]="Residencia",IF(OR(JUNIO[[#This Row],[Fecha alta centro]]=0,AND(JUNIO[[#This Row],[FECHA FIN]]<$B$1,JUNIO[[#This Row],[FECHA FIN]]<>0),JUNIO[[#This Row],[Fecha alta centro]]>$B$2),0,IF(OR(JUNIO[[#This Row],[FECHA FIN]]=0,JUNIO[[#This Row],[FECHA FIN]]>$B$2),$B$2,JUNIO[[#This Row],[FECHA FIN]])-IF(JUNIO[[#This Row],[Fecha alta centro]]<$B$1,$B$1,JUNIO[[#This Row],[Fecha alta centro]])+1),IF(OR(JUNIO[[#This Row],[Fecha alta centro]]=0,AND(JUNIO[[#This Row],[FECHA FIN]]<$B$1,JUNIO[[#This Row],[FECHA FIN]]<>0),JUNIO[[#This Row],[Fecha alta centro]]>$B$2),0,IF(OR(JUNIO[[#This Row],[FECHA FIN]]=0,JUNIO[[#This Row],[FECHA FIN]]>$B$2),$B$2,JUNIO[[#This Row],[FECHA FIN]])-IF(JUNIO[[#This Row],[Fecha alta centro]]<$B$1,$B$1,JUNIO[[#This Row],[Fecha alta centro]])+1)*0.5*IF(LEFT(JUNIO[[#This Row],[Tipo de Recurso]],3)="1/3",1/3,IF(LEFT(JUNIO[[#This Row],[Tipo de Recurso]],3)="2/3",2/3,1))*248/365) -> 0
B11: Junio | H11: =IF(JUNIO[[#This Row],[Tipo de Recurso]]="Residencia",IF(OR(JUNIO[[#This Row],[Fecha alta centro]]=0,AND(JUNIO[[#This Row],[FECHA FIN]]<$B$1,JUNIO[[#This Row],[FECHA FIN]]<>0),JUNIO[[#This Row],[Fecha alta centro]]>$B$2),0,IF(OR(JUNIO[[#This Row],[FECHA FIN]]=0,JUNIO[[#This Row],[FECHA FIN]]>$B$2),$B$2,JUNIO[[#This Row],[FECHA FIN]])-IF(JUNIO[[#This Row],[Fecha alta centro]]<$B$1,$B$1,JUNIO[[#This Row],[Fecha alta centro]])+1),IF(OR(JUNIO[[#This Row],[Fecha alta centro]]=0,AND(JUNIO[[#This Row],[FECHA FIN]]<$B$1,JUNIO[[#This Row],[FECHA FIN]]<>0),JUNIO[[#This Row],[Fecha alta centro]]>$B$2),0,IF(OR(JUNIO[[#This Row],[FECHA FIN]]=0,JUNIO[[#This Row],[FECHA FIN]]>$B$2),$B$2,JUNIO[[#This Row],[FECHA FIN]])-IF(JUNIO[[#This Row],[Fecha alta centro]]<$B$1,$B$1,JUNIO[[#This Row],[Fecha alta centro]])+1)*0.5*IF(LEFT(JUNIO[[#This Row],[Tipo de Recurso]],3)="1/3",1/3,IF(LEFT(JUNIO[[#This Row],[Tipo de Recurso]],3)="2/3",2/3,1))*248/365) -> 0
B12: Junio | H12: =IF(JUNIO[[#This Row],[Tipo de Recurso]]="Residencia",IF(OR(JUNIO[[#This Row],[Fecha alta centro]]=0,AND(JUNIO[[#This Row],[FECHA FIN]]<$B$1,JUNIO[[#This Row],[FECHA FIN]]<>0),JUNIO[[#This Row],[Fecha alta centro]]>$B$2),0,IF(OR(JUNIO[[#This Row],[FECHA FIN]]=0,JUNIO[[#This Row],[FECHA FIN]]>$B$2),$B$2,JUNIO[[#This Row],[FECHA FIN]])-IF(JUNIO[[#This Row],[Fecha alta centro]]<$B$1,$B$1,JUNIO[[#This Row],[Fecha alta centro]])+1),IF(OR(JUNIO[[#This Row],[Fecha alta centro]]=0,AND(JUNIO[[#This Row],[FECHA FIN]]<$B$1,JUNIO[[#This Row],[FECHA FIN]]<>0),JUNIO[[#This Row],[Fecha alta centro]]>$B$2),0,IF(OR(JUNIO[[#This Row],[FECHA FIN]]=0,JUNIO[[#This Row],[FECHA FIN]]>$B$2),$B$2,JUNIO[[#This Row],[FECHA FIN]])-IF(JUNIO[[#This Row],[Fecha alta centro]]<$B$1,$B$1,JUNIO[[#This Row],[Fecha alta centro]])+1)*0.5*IF(LEFT(JUNIO[[#This Row],[Tipo de Recurso]],3)="1/3",1/3,IF(LEFT(JUNIO[[#This Row],[Tipo de Recurso]],3)="2/3",2/3,1))*248/365) -> 0
B13: Junio | H13: =IF(JUNIO[[#This Row],[Tipo de Recurso]]="Residencia",IF(OR(JUNIO[[#This Row],[Fecha alta centro]]=0,AND(JUNIO[[#This Row],[FECHA FIN]]<$B$1,JUNIO[[#This Row],[FECHA FIN]]<>0),JUNIO[[#This Row],[Fecha alta centro]]>$B$2),0,IF(OR(JUNIO[[#This Row],[FECHA FIN]]=0,JUNIO[[#This Row],[FECHA FIN]]>$B$2),$B$2,JUNIO[[#This Row],[FECHA FIN]])-IF(JUNIO[[#This Row],[Fecha alta centro]]<$B$1,$B$1,JUNIO[[#This Row],[Fecha alta centro]])+1),IF(OR(JUNIO[[#This Row],[Fecha alta centro]]=0,AND(JUNIO[[#This Row],[FECHA FIN]]<$B$1,JUNIO[[#This Row],[FECHA FIN]]<>0),JUNIO[[#This Row],[Fecha alta centro]]>$B$2),0,IF(OR(JUNIO[[#This Row],[FECHA FIN]]=0,JUNIO[[#This Row],[FECHA FIN]]>$B$2),$B$2,JUNIO[[#This Row],[FECHA FIN]])-IF(JUNIO[[#This Row],[Fecha alta centro]]<$B$1,$B$1,JUNIO[[#This Row],[Fecha alta centro]])+1)*0.5*IF(LEFT(JUNIO[[#This Row],[Tipo de Recurso]],3)="1/3",1/3,IF(LEFT(JUNIO[[#This Row],[Tipo de Recurso]],3)="2/3",2/3,1))*248/365) -> 0
B14: Junio | H14: =IF(JUNIO[[#This Row],[Tipo de Recurso]]="Residencia",IF(OR(JUNIO[[#This Row],[Fecha alta centro]]=0,AND(JUNIO[[#This Row],[FECHA FIN]]<$B$1,JUNIO[[#This Row],[FECHA FIN]]<>0),JUNIO[[#This Row],[Fecha alta centro]]>$B$2),0,IF(OR(JUNIO[[#This Row],[FECHA FIN]]=0,JUNIO[[#This Row],[FECHA FIN]]>$B$2),$B$2,JUNIO[[#This Row],[FECHA FIN]])-IF(JUNIO[[#This Row],[Fecha alta centro]]<$B$1,$B$1,JUNIO[[#This Row],[Fecha alta centro]])+1),IF(OR(JUNIO[[#This Row],[Fecha alta centro]]=0,AND(JUNIO[[#This Row],[FECHA FIN]]<$B$1,JUNIO[[#This Row],[FECHA FIN]]<>0),JUNIO[[#This Row],[Fecha alta centro]]>$B$2),0,IF(OR(JUNIO[[#This Row],[FECHA FIN]]=0,JUNIO[[#This Row],[FECHA FIN]]>$B$2),$B$2,JUNIO[[#This Row],[FECHA FIN]])-IF(JUNIO[[#This Row],[Fecha alta centro]]<$B$1,$B$1,JUNIO[[#This Row],[Fecha alta centro]])+1)*0.5*IF(LEFT(JUNIO[[#This Row],[Tipo de Recurso]],3)="1/3",1/3,IF(LEFT(JUNIO[[#This Row],[Tipo de Recurso]],3)="2/3",2/3,1))*248/365) -> 0
B15: Junio | H15: =IF(JUNIO[[#This Row],[Tipo de Recurso]]="Residencia",IF(OR(JUNIO[[#This Row],[Fecha alta centro]]=0,AND(JUNIO[[#This Row],[FECHA FIN]]<$B$1,JUNIO[[#This Row],[FECHA FIN]]<>0),JUNIO[[#This Row],[Fecha alta centro]]>$B$2),0,IF(OR(JUNIO[[#This Row],[FECHA FIN]]=0,JUNIO[[#This Row],[FECHA FIN]]>$B$2),$B$2,JUNIO[[#This Row],[FECHA FIN]])-IF(JUNIO[[#This Row],[Fecha alta centro]]<$B$1,$B$1,JUNIO[[#This Row],[Fecha alta centro]])+1),IF(OR(JUNIO[[#This Row],[Fecha alta centro]]=0,AND(JUNIO[[#This Row],[FECHA FIN]]<$B$1,JUNIO[[#This Row],[FECHA FIN]]<>0),JUNIO[[#This Row],[Fecha alta centro]]>$B$2),0,IF(OR(JUNIO[[#This Row],[FECHA FIN]]=0,JUNIO[[#This Row],[FECHA FIN]]>$B$2),$B$2,JUNIO[[#This Row],[FECHA FIN]])-IF(JUNIO[[#This Row],[Fecha alta centro]]<$B$1,$B$1,JUNIO[[#This Row],[Fecha alta centro]])+1)*0.5*IF(LEFT(JUNIO[[#This Row],[Tipo de Recurso]],3)="1/3",1/3,IF(LEFT(JUNIO[[#This Row],[Tipo de Recurso]],3)="2/3",2/3,1))*248/365) -> 0
B16: Junio | H16: =IF(JUNIO[[#This Row],[Tipo de Recurso]]="Residencia",IF(OR(JUNIO[[#This Row],[Fecha alta centro]]=0,AND(JUNIO[[#This Row],[FECHA FIN]]<$B$1,JUNIO[[#This Row],[FECHA FIN]]<>0),JUNIO[[#This Row],[Fecha alta centro]]>$B$2),0,IF(OR(JUNIO[[#This Row],[FECHA FIN]]=0,JUNIO[[#This Row],[FECHA FIN]]>$B$2),$B$2,JUNIO[[#This Row],[FECHA FIN]])-IF(JUNIO[[#This Row],[Fecha alta centro]]<$B$1,$B$1,JUNIO[[#This Row],[Fecha alta centro]])+1),IF(OR(JUNIO[[#This Row],[Fecha alta centro]]=0,AND(JUNIO[[#This Row],[FECHA FIN]]<$B$1,JUNIO[[#This Row],[FECHA FIN]]<>0),JUNIO[[#This Row],[Fecha alta centro]]>$B$2),0,IF(OR(JUNIO[[#This Row],[FECHA FIN]]=0,JUNIO[[#This Row],[FECHA FIN]]>$B$2),$B$2,JUNIO[[#This Row],[FECHA FIN]])-IF(JUNIO[[#This Row],[Fecha alta centro]]<$B$1,$B$1,JUNIO[[#This Row],[Fecha alta centro]])+1)*0.5*IF(LEFT(JUNIO[[#This Row],[Tipo de Recurso]],3)="1/3",1/3,IF(LEFT(JUNIO[[#This Row],[Tipo de Recurso]],3)="2/3",2/3,1))*248/365) -> 0
... B704: Junio | H704: =IF(JUNIO[[#This Row],[Tipo de Recurso]]="Residencia",IF(OR(JUNIO[[#This Row],[Fecha alta centro]]=0,AND(JUNIO[[#This Row],[FECHA FIN]]<$B$1,JUNIO[[#This Row],[FECHA FIN]]<>0),JUNIO[[#This Row],[Fecha alta centro]]>$B$2),0,IF(OR(JUNIO[[#This Row],[FECHA FIN]]=0,JUNIO[[#This Row],[FECHA FIN]]>$B$2),$B$2,JUNIO[[#This Row],[FECHA FIN]])-IF(JUNIO[[#This Row],[Fecha alta centro]]<$B$1,$B$1,JUNIO[[#This Row],[Fecha alta centro]])+1),IF(OR(JUNIO[[#This Row],[Fecha alta centro]]=0,AND(JUNIO[[#This Row],[FECHA FIN]]<$B$1,JUNIO[[#This Row],[FECHA FIN]]<>0),JUNIO[[#This Row],[Fecha alta centro]]>$B$2),0,IF(OR(JUNIO[[#This Row],[FECHA FIN]]=0,JUNIO[[#This Row],[FECHA FIN]]>$B$2),$B$2,JUNIO[[#This Row],[FECHA FIN]])-IF(JUNIO[[#This Row],[Fecha alta centro]]<$B$1,$B$1,JUNIO[[#This Row],[Fecha alta centro]])+1)*0.5*IF(LEFT(JUNIO[[#This Row],[Tipo de Recurso]],3)="1/3",1/3,IF(LEFT(JUNIO[[#This Row],[Tipo de Recurso]],3)="2/3",2/3,1))*248/365) -> 0
B705: Total | G705: =SUBTOTAL(103,JUNIO[DEPENDIENTE/NO DEPENDIENTE Según valoración oficial]) -> 0 | H705: =SUBTOTAL(109,JUNIO[DIAS]) -> 0

Sheet Julio
A1: Periodo | B1: =EDATE(Junio!B1,1) -> 46569
B2: =EOMONTH(B1,0) -> 46599
B3: OCUPACION JULIO
B4: mes | C4: DNI de la persona usuaria | D4: Fecha alta centro | E4: FECHA FIN | F4: Tipo de Recurso | G4: DEPENDIENTE/NO DEPENDIENTE Según valoración oficial | H4: DIAS
B5: Julio | H5: =IF(JULIO[[#This Row],[Tipo de Recurso]]="Residencia",IF(OR(JULIO[[#This Row],[Fecha alta centro]]=0,AND(JULIO[[#This Row],[FECHA FIN]]<$B$1,JULIO[[#This Row],[FECHA FIN]]<>0),JULIO[[#This Row],[Fecha alta centro]]>$B$2),0,IF(OR(JULIO[[#This Row],[FECHA FIN]]=0,JULIO[[#This Row],[FECHA FIN]]>$B$2),$B$2,JULIO[[#This Row],[FECHA FIN]])-IF(JULIO[[#This Row],[Fecha alta centro]]<$B$1,$B$1,JULIO[[#This Row],[Fecha alta centro]])+1),IF(OR(JULIO[[#This Row],[Fecha alta centro]]=0,AND(JULIO[[#This Row],[FECHA FIN]]<$B$1,JULIO[[#This Row],[FECHA FIN]]<>0),JULIO[[#This Row],[Fecha alta centro]]>$B$2),0,IF(OR(JULIO[[#This Row],[FECHA FIN]]=0,JULIO[[#This Row],[FECHA FIN]]>$B$2),$B$2,JULIO[[#This Row],[FECHA FIN]])-IF(JULIO[[#This Row],[Fecha alta centro]]<$B$1,$B$1,JULIO[[#This Row],[Fecha alta centro]])+1)*0.5*IF(LEFT(JULIO[[#This Row],[Tipo de Recurso]],3)="1/3",1/3,IF(LEFT(JULIO[[#This Row],[Tipo de Recurso]],3)="2/3",2/3,1))*248/365) -> 0
B6: Julio | H6: =IF(JULIO[[#This Row],[Tipo de Recurso]]="Residencia",IF(OR(JULIO[[#This Row],[Fecha alta centro]]=0,AND(JULIO[[#This Row],[FECHA FIN]]<$B$1,JULIO[[#This Row],[FECHA FIN]]<>0),JULIO[[#This Row],[Fecha alta centro]]>$B$2),0,IF(OR(JULIO[[#This Row],[FECHA FIN]]=0,JULIO[[#This Row],[FECHA FIN]]>$B$2),$B$2,JULIO[[#This Row],[FECHA FIN]])-IF(JULIO[[#This Row],[Fecha alta centro]]<$B$1,$B$1,JULIO[[#This Row],[Fecha alta centro]])+1),IF(OR(JULIO[[#This Row],[Fecha alta centro]]=0,AND(JULIO[[#This Row],[FECHA FIN]]<$B$1,JULIO[[#This Row],[FECHA FIN]]<>0),JULIO[[#This Row],[Fecha alta centro]]>$B$2),0,IF(OR(JULIO[[#This Row],[FECHA FIN]]=0,JULIO[[#This Row],[FECHA FIN]]>$B$2),$B$2,JULIO[[#This Row],[FECHA FIN]])-IF(JULIO[[#This Row],[Fecha alta centro]]<$B$1,$B$1,JULIO[[#This Row],[Fecha alta centro]])+1)*0.5*IF(LEFT(JULIO[[#This Row],[Tipo de Recurso]],3)="1/3",1/3,IF(LEFT(JULIO[[#This Row],[Tipo de Recurso]],3)="2/3",2/3,1))*248/365) -> 0
B7: Julio | H7: =IF(JULIO[[#This Row],[Tipo de Recurso]]="Residencia",IF(OR(JULIO[[#This Row],[Fecha alta centro]]=0,AND(JULIO[[#This Row],[FECHA FIN]]<$B$1,JULIO[[#This Row],[FECHA FIN]]<>0),JULIO[[#This Row],[Fecha alta centro]]>$B$2),0,IF(OR(JULIO[[#This Row],[FECHA FIN]]=0,JULIO[[#This Row],[FECHA FIN]]>$B$2),$B$2,JULIO[[#This Row],[FECHA FIN]])-IF(JULIO[[#This Row],[Fecha alta centro]]<$B$1,$B$1,JULIO[[#This Row],[Fecha alta centro]])+1),IF(OR(JULIO[[#This Row],[Fecha alta centro]]=0,AND(JULIO[[#This Row],[FECHA FIN]]<$B$1,JULIO[[#This Row],[FECHA FIN]]<>0),JULIO[[#This Row],[Fecha alta centro]]>$B$2),0,IF(OR(JULIO[[#This Row],[FECHA FIN]]=0,JULIO[[#This Row],[FECHA FIN]]>$B$2),$B$2,JULIO[[#This Row],[FECHA FIN]])-IF(JULIO[[#This Row],[Fecha alta centro]]<$B$1,$B$1,JULIO[[#This Row],[Fecha alta centro]])+1)*0.5*IF(LEFT(JULIO[[#This Row],[Tipo de Recurso]],3)="1/3",1/3,IF(LEFT(JULIO[[#This Row],[Tipo de Recurso]],3)="2/3",2/3,1))*248/365) -> 0
B8: Julio | H8: =IF(JULIO[[#This Row],[Tipo de Recurso]]="Residencia",IF(OR(JULIO[[#This Row],[Fecha alta centro]]=0,AND(JULIO[[#This Row],[FECHA FIN]]<$B$1,JULIO[[#This Row],[FECHA FIN]]<>0),JULIO[[#This Row],[Fecha alta centro]]>$B$2),0,IF(OR(JULIO[[#This Row],[FECHA FIN]]=0,JULIO[[#This Row],[FECHA FIN]]>$B$2),$B$2,JULIO[[#This Row],[FECHA FIN]])-IF(JULIO[[#This Row],[Fecha alta centro]]<$B$1,$B$1,JULIO[[#This Row],[Fecha alta centro]])+1),IF(OR(JULIO[[#This Row],[Fecha alta centro]]=0,AND(JULIO[[#This Row],[FECHA FIN]]<$B$1,JULIO[[#This Row],[FECHA FIN]]<>0),JULIO[[#This Row],[Fecha alta centro]]>$B$2),0,IF(OR(JULIO[[#This Row],[FECHA FIN]]=0,JULIO[[#This Row],[FECHA FIN]]>$B$2),$B$2,JULIO[[#This Row],[FECHA FIN]])-IF(JULIO[[#This Row],[Fecha alta centro]]<$B$1,$B$1,JULIO[[#This Row],[Fecha alta centro]])+1)*0.5*IF(LEFT(JULIO[[#This Row],[Tipo de Recurso]],3)="1/3",1/3,IF(LEFT(JULIO[[#This Row],[Tipo de Recurso]],3)="2/3",2/3,1))*248/365) -> 0
B9: Julio | H9: =IF(JULIO[[#This Row],[Tipo de Recurso]]="Residencia",IF(OR(JULIO[[#This Row],[Fecha alta centro]]=0,AND(JULIO[[#This Row],[FECHA FIN]]<$B$1,JULIO[[#This Row],[FECHA FIN]]<>0),JULIO[[#This Row],[Fecha alta centro]]>$B$2),0,IF(OR(JULIO[[#This Row],[FECHA FIN]]=0,JULIO[[#This Row],[FECHA FIN]]>$B$2),$B$2,JULIO[[#This Row],[FECHA FIN]])-IF(JULIO[[#This Row],[Fecha alta centro]]<$B$1,$B$1,JULIO[[#This Row],[Fecha alta centro]])+1),IF(OR(JULIO[[#This Row],[Fecha alta centro]]=0,AND(JULIO[[#This Row],[FECHA FIN]]<$B$1,JULIO[[#This Row],[FECHA FIN]]<>0),JULIO[[#This Row],[Fecha alta centro]]>$B$2),0,IF(OR(JULIO[[#This Row],[FECHA FIN]]=0,JULIO[[#This Row],[FECHA FIN]]>$B$2),$B$2,JULIO[[#This Row],[FECHA FIN]])-IF(JULIO[[#This Row],[Fecha alta centro]]<$B$1,$B$1,JULIO[[#This Row],[Fecha alta centro]])+1)*0.5*IF(LEFT(JULIO[[#This Row],[Tipo de Recurso]],3)="1/3",1/3,IF(LEFT(JULIO[[#This Row],[Tipo de Recurso]],3)="2/3",2/3,1))*248/365) -> 0
B10: Julio | H10: =IF(JULIO[[#This Row],[Tipo de Recurso]]="Residencia",IF(OR(JULIO[[#This Row],[Fecha alta centro]]=0,AND(JULIO[[#This Row],[FECHA FIN]]<$B$1,JULIO[[#This Row],[FECHA FIN]]<>0),JULIO[[#This Row],[Fecha alta centro]]>$B$2),0,IF(OR(JULIO[[#This Row],[FECHA FIN]]=0,JULIO[[#This Row],[FECHA FIN]]>$B$2),$B$2,JULIO[[#This Row],[FECHA FIN]])-IF(JULIO[[#This Row],[Fecha alta centro]]<$B$1,$B$1,JULIO[[#This Row],[Fecha alta centro]])+1),IF(OR(JULIO[[#This Row],[Fecha alta centro]]=0,AND(JULIO[[#This Row],[FECHA FIN]]<$B$1,JULIO[[#This Row],[FECHA FIN]]<>0),JULIO[[#This Row],[Fecha alta centro]]>$B$2),0,IF(OR(JULIO[[#This Row],[FECHA FIN]]=0,JULIO[[#This Row],[FECHA FIN]]>$B$2),$B$2,JULIO[[#This Row],[FECHA FIN]])-IF(JULIO[[#This Row],[Fecha alta centro]]<$B$1,$B$1,JULIO[[#This Row],[Fecha alta centro]])+1)*0.5*IF(LEFT(JULIO[[#This Row],[Tipo de Recurso]],3)="1/3",1/3,IF(LEFT(JULIO[[#This Row],[Tipo de Recurso]],3)="2/3",2/3,1))*248/365) -> 0
B11: Julio | H11: =IF(JULIO[[#This Row],[Tipo de Recurso]]="Residencia",IF(OR(JULIO[[#This Row],[Fecha alta centro]]=0,AND(JULIO[[#This Row],[FECHA FIN]]<$B$1,JULIO[[#This Row],[FECHA FIN]]<>0),JULIO[[#This Row],[Fecha alta centro]]>$B$2),0,IF(OR(JULIO[[#This Row],[FECHA FIN]]=0,JULIO[[#This Row],[FECHA FIN]]>$B$2),$B$2,JULIO[[#This Row],[FECHA FIN]])-IF(JULIO[[#This Row],[Fecha alta centro]]<$B$1,$B$1,JULIO[[#This Row],[Fecha alta centro]])+1),IF(OR(JULIO[[#This Row],[Fecha alta centro]]=0,AND(JULIO[[#This Row],[FECHA FIN]]<$B$1,JULIO[[#This Row],[FECHA FIN]]<>0),JULIO[[#This Row],[Fecha alta centro]]>$B$2),0,IF(OR(JULIO[[#This Row],[FECHA FIN]]=0,JULIO[[#This Row],[FECHA FIN]]>$B$2),$B$2,JULIO[[#This Row],[FECHA FIN]])-IF(JULIO[[#This Row],[Fecha alta centro]]<$B$1,$B$1,JULIO[[#This Row],[Fecha alta centro]])+1)*0.5*IF(LEFT(JULIO[[#This Row],[Tipo de Recurso]],3)="1/3",1/3,IF(LEFT(JULIO[[#This Row],[Tipo de Recurso]],3)="2/3",2/3,1))*248/365) -> 0
B12: Julio | H12: =IF(JULIO[[#This Row],[Tipo de Recurso]]="Residencia",IF(OR(JULIO[[#This Row],[Fecha alta centro]]=0,AND(JULIO[[#This Row],[FECHA FIN]]<$B$1,JULIO[[#This Row],[FECHA FIN]]<>0),JULIO[[#This Row],[Fecha alta centro]]>$B$2),0,IF(OR(JULIO[[#This Row],[FECHA FIN]]=0,JULIO[[#This Row],[FECHA FIN]]>$B$2),$B$2,JULIO[[#This Row],[FECHA FIN]])-IF(JULIO[[#This Row],[Fecha alta centro]]<$B$1,$B$1,JULIO[[#This Row],[Fecha alta centro]])+1),IF(OR(JULIO[[#This Row],[Fecha alta centro]]=0,AND(JULIO[[#This Row],[FECHA FIN]]<$B$1,JULIO[[#This Row],[FECHA FIN]]<>0),JULIO[[#This Row],[Fecha alta centro]]>$B$2),0,IF(OR(JULIO[[#This Row],[FECHA FIN]]=0,JULIO[[#This Row],[FECHA FIN]]>$B$2),$B$2,JULIO[[#This Row],[FECHA FIN]])-IF(JULIO[[#This Row],[Fecha alta centro]]<$B$1,$B$1,JULIO[[#This Row],[Fecha alta centro]])+1)*0.5*IF(LEFT(JULIO[[#This Row],[Tipo de Recurso]],3)="1/3",1/3,IF(LEFT(JULIO[[#This Row],[Tipo de Recurso]],3)="2/3",2/3,1))*248/365) -> 0
B13: Julio | H13: =IF(JULIO[[#This Row],[Tipo de Recurso]]="Residencia",IF(OR(JULIO[[#This Row],[Fecha alta centro]]=0,AND(JULIO[[#This Row],[FECHA FIN]]<$B$1,JULIO[[#This Row],[FECHA FIN]]<>0),JULIO[[#This Row],[Fecha alta centro]]>$B$2),0,IF(OR(JULIO[[#This Row],[FECHA FIN]]=0,JULIO[[#This Row],[FECHA FIN]]>$B$2),$B$2,JULIO[[#This Row],[FECHA FIN]])-IF(JULIO[[#This Row],[Fecha alta centro]]<$B$1,$B$1,JULIO[[#This Row],[Fecha alta centro]])+1),IF(OR(JULIO[[#This Row],[Fecha alta centro]]=0,AND(JULIO[[#This Row],[FECHA FIN]]<$B$1,JULIO[[#This Row],[FECHA FIN]]<>0),JULIO[[#This Row],[Fecha alta centro]]>$B$2),0,IF(OR(JULIO[[#This Row],[FECHA FIN]]=0,JULIO[[#This Row],[FECHA FIN]]>$B$2),$B$2,JULIO[[#This Row],[FECHA FIN]])-IF(JULIO[[#This Row],[Fecha alta centro]]<$B$1,$B$1,JULIO[[#This Row],[Fecha alta centro]])+1)*0.5*IF(LEFT(JULIO[[#This Row],[Tipo de Recurso]],3)="1/3",1/3,IF(LEFT(JULIO[[#This Row],[Tipo de Recurso]],3)="2/3",2/3,1))*248/365) -> 0
B14: Julio | H14: =IF(JULIO[[#This Row],[Tipo de Recurso]]="Residencia",IF(OR(JULIO[[#This Row],[Fecha alta centro]]=0,AND(JULIO[[#This Row],[FECHA FIN]]<$B$1,JULIO[[#This Row],[FECHA FIN]]<>0),JULIO[[#This Row],[Fecha alta centro]]>$B$2),0,IF(OR(JULIO[[#This Row],[FECHA FIN]]=0,JULIO[[#This Row],[FECHA FIN]]>$B$2),$B$2,JULIO[[#This Row],[FECHA FIN]])-IF(JULIO[[#This Row],[Fecha alta centro]]<$B$1,$B$1,JULIO[[#This Row],[Fecha alta centro]])+1),IF(OR(JULIO[[#This Row],[Fecha alta centro]]=0,AND(JULIO[[#This Row],[FECHA FIN]]<$B$1,JULIO[[#This Row],[FECHA FIN]]<>0),JULIO[[#This Row],[Fecha alta centro]]>$B$2),0,IF(OR(JULIO[[#This Row],[FECHA FIN]]=0,JULIO[[#This Row],[FECHA FIN]]>$B$2),$B$2,JULIO[[#This Row],[FECHA FIN]])-IF(JULIO[[#This Row],[Fecha alta centro]]<$B$1,$B$1,JULIO[[#This Row],[Fecha alta centro]])+1)*0.5*IF(LEFT(JULIO[[#This Row],[Tipo de Recurso]],3)="1/3",1/3,IF(LEFT(JULIO[[#This Row],[Tipo de Recurso]],3)="2/3",2/3,1))*248/365) -> 0
B15: Julio | H15: =IF(JULIO[[#This Row],[Tipo de Recurso]]="Residencia",IF(OR(JULIO[[#This Row],[Fecha alta centro]]=0,AND(JULIO[[#This Row],[FECHA FIN]]<$B$1,JULIO[[#This Row],[FECHA FIN]]<>0),JULIO[[#This Row],[Fecha alta centro]]>$B$2),0,IF(OR(JULIO[[#This Row],[FECHA FIN]]=0,JULIO[[#This Row],[FECHA FIN]]>$B$2),$B$2,JULIO[[#This Row],[FECHA FIN]])-IF(JULIO[[#This Row],[Fecha alta centro]]<$B$1,$B$1,JULIO[[#This Row],[Fecha alta centro]])+1),IF(OR(JULIO[[#This Row],[Fecha alta centro]]=0,AND(JULIO[[#This Row],[FECHA FIN]]<$B$1,JULIO[[#This Row],[FECHA FIN]]<>0),JULIO[[#This Row],[Fecha alta centro]]>$B$2),0,IF(OR(JULIO[[#This Row],[FECHA FIN]]=0,JULIO[[#This Row],[FECHA FIN]]>$B$2),$B$2,JULIO[[#This Row],[FECHA FIN]])-IF(JULIO[[#This Row],[Fecha alta centro]]<$B$1,$B$1,JULIO[[#This Row],[Fecha alta centro]])+1)*0.5*IF(LEFT(JULIO[[#This Row],[Tipo de Recurso]],3)="1/3",1/3,IF(LEFT(JULIO[[#This Row],[Tipo de Recurso]],3)="2/3",2/3,1))*248/365) -> 0
B16: Julio | H16: =IF(JULIO[[#This Row],[Tipo de Recurso]]="Residencia",IF(OR(JULIO[[#This Row],[Fecha alta centro]]=0,AND(JULIO[[#This Row],[FECHA FIN]]<$B$1,JULIO[[#This Row],[FECHA FIN]]<>0),JULIO[[#This Row],[Fecha alta centro]]>$B$2),0,IF(OR(JULIO[[#This Row],[FECHA FIN]]=0,JULIO[[#This Row],[FECHA FIN]]>$B$2),$B$2,JULIO[[#This Row],[FECHA FIN]])-IF(JULIO[[#This Row],[Fecha alta centro]]<$B$1,$B$1,JULIO[[#This Row],[Fecha alta centro]])+1),IF(OR(JULIO[[#This Row],[Fecha alta centro]]=0,AND(JULIO[[#This Row],[FECHA FIN]]<$B$1,JULIO[[#This Row],[FECHA FIN]]<>0),JULIO[[#This Row],[Fecha alta centro]]>$B$2),0,IF(OR(JULIO[[#This Row],[FECHA FIN]]=0,JULIO[[#This Row],[FECHA FIN]]>$B$2),$B$2,JULIO[[#This Row],[FECHA FIN]])-IF(JULIO[[#This Row],[Fecha alta centro]]<$B$1,$B$1,JULIO[[#This Row],[Fecha alta centro]])+1)*0.5*IF(LEFT(JULIO[[#This Row],[Tipo de Recurso]],3)="1/3",1/3,IF(LEFT(JULIO[[#This Row],[Tipo de Recurso]],3)="2/3",2/3,1))*248/365) -> 0
... B704: Julio | H704: =IF(JULIO[[#This Row],[Tipo de Recurso]]="Residencia",IF(OR(JULIO[[#This Row],[Fecha alta centro]]=0,AND(JULIO[[#This Row],[FECHA FIN]]<$B$1,JULIO[[#This Row],[FECHA FIN]]<>0),JULIO[[#This Row],[Fecha alta centro]]>$B$2),0,IF(OR(JULIO[[#This Row],[FECHA FIN]]=0,JULIO[[#This Row],[FECHA FIN]]>$B$2),$B$2,JULIO[[#This Row],[FECHA FIN]])-IF(JULIO[[#This Row],[Fecha alta centro]]<$B$1,$B$1,JULIO[[#This Row],[Fecha alta centro]])+1),IF(OR(JULIO[[#This Row],[Fecha alta centro]]=0,AND(JULIO[[#This Row],[FECHA FIN]]<$B$1,JULIO[[#This Row],[FECHA FIN]]<>0),JULIO[[#This Row],[Fecha alta centro]]>$B$2),0,IF(OR(JULIO[[#This Row],[FECHA FIN]]=0,JULIO[[#This Row],[FECHA FIN]]>$B$2),$B$2,JULIO[[#This Row],[FECHA FIN]])-IF(JULIO[[#This Row],[Fecha alta centro]]<$B$1,$B$1,JULIO[[#This Row],[Fecha alta centro]])+1)*0.5*IF(LEFT(JULIO[[#This Row],[Tipo de Recurso]],3)="1/3",1/3,IF(LEFT(JULIO[[#This Row],[Tipo de Recurso]],3)="2/3",2/3,1))*248/365) -> 0
B705: Total | G705: =SUBTOTAL(103,JULIO[DEPENDIENTE/NO DEPENDIENTE Según valoración oficial]) -> 0 | H705: =SUBTOTAL(109,JULIO[DIAS]) -> 0

Sheet Agosto
A1: Periodo | B1: =EDATE(Julio!B1,1) -> 46600
B2: =EOMONTH(B1,0) -> 46630
B3: OCUPACION AGOSTO
B4: mes | C4: DNI de la persona usuaria | D4: Fecha alta centro | E4: FECHA FIN | F4: Tipo de Recurso | G4: DEPENDIENTE/NO DEPENDIENTE Según valoración oficial | H4: DIAS
B5: Agosto | H5: =IF(AGOSTO[[#This Row],[Tipo de Recurso]]="Residencia",IF(OR(AGOSTO[[#This Row],[Fecha alta centro]]=0,AND(AGOSTO[[#This Row],[FECHA FIN]]<$B$1,AGOSTO[[#This Row],[FECHA FIN]]<>0),AGOSTO[[#This Row],[Fecha alta centro]]>$B$2),0,IF(OR(AGOSTO[[#This Row],[FECHA FIN]]=0,AGOSTO[[#This Row],[FECHA FIN]]>$B$2),$B$2,AGOSTO[[#This Row],[FECHA FIN]])-IF(AGOSTO[[#This Row],[Fecha alta centro]]<$B$1,$B$1,AGOSTO[[#This Row],[Fecha alta centro]])+1),IF(OR(AGOSTO[[#This Row],[Fecha alta centro]]=0,AND(AGOSTO[[#This Row],[FECHA FIN]]<$B$1,AGOSTO[[#This Row],[FECHA FIN]]<>0),AGOSTO[[#This Row],[Fecha alta centro]]>$B$2),0,IF(OR(AGOSTO[[#This Row],[FECHA FIN]]=0,AGOSTO[[#This Row],[FECHA FIN]]>$B$2),$B$2,AGOSTO[[#This Row],[FECHA FIN]])-IF(AGOSTO[[#This Row],[Fecha alta centro]]<$B$1,$B$1,AGOSTO[[#This Row],[Fecha alta centro]])+1)*0.5*IF(LEFT(AGOSTO[[#This Row],[Tipo de Recurso]],3)="1/3",1/3,IF(LEFT(AGOSTO[[#This Row],[Tipo de Recurso]],3)="2/3",2/3,1))*248/365) -> 0
B6: Agosto | H6: =IF(AGOSTO[[#This Row],[Tipo de Recurso]]="Residencia",IF(OR(AGOSTO[[#This Row],[Fecha alta centro]]=0,AND(AGOSTO[[#This Row],[FECHA FIN]]<$B$1,AGOSTO[[#This Row],[FECHA FIN]]<>0),AGOSTO[[#This Row],[Fecha alta centro]]>$B$2),0,IF(OR(AGOSTO[[#This Row],[FECHA FIN]]=0,AGOSTO[[#This Row],[FECHA FIN]]>$B$2),$B$2,AGOSTO[[#This Row],[FECHA FIN]])-IF(AGOSTO[[#This Row],[Fecha alta centro]]<$B$1,$B$1,AGOSTO[[#This Row],[Fecha alta centro]])+1),IF(OR(AGOSTO[[#This Row],[Fecha alta centro]]=0,AND(AGOSTO[[#This Row],[FECHA FIN]]<$B$1,AGOSTO[[#This Row],[FECHA FIN]]<>0),AGOSTO[[#This Row],[Fecha alta centro]]>$B$2),0,IF(OR(AGOSTO[[#This Row],[FECHA FIN]]=0,AGOSTO[[#This Row],[FECHA FIN]]>$B$2),$B$2,AGOSTO[[#This Row],[FECHA FIN]])-IF(AGOSTO[[#This Row],[Fecha alta centro]]<$B$1,$B$1,AGOSTO[[#This Row],[Fecha alta centro]])+1)*0.5*IF(LEFT(AGOSTO[[#This Row],[Tipo de Recurso]],3)="1/3",1/3,IF(LEFT(AGOSTO[[#This Row],[Tipo de Recurso]],3)="2/3",2/3,1))*248/365) -> 0
B7: Agosto | H7: =IF(AGOSTO[[#This Row],[Tipo de Recurso]]="Residencia",IF(OR(AGOSTO[[#This Row],[Fecha alta centro]]=0,AND(AGOSTO[[#This Row],[FECHA FIN]]<$B$1,AGOSTO[[#This Row],[FECHA FIN]]<>0),AGOSTO[[#This Row],[Fecha alta centro]]>$B$2),0,IF(OR(AGOSTO[[#This Row],[FECHA FIN]]=0,AGOSTO[[#This Row],[FECHA FIN]]>$B$2),$B$2,AGOSTO[[#This Row],[FECHA FIN]])-IF(AGOSTO[[#This Row],[Fecha alta centro]]<$B$1,$B$1,AGOSTO[[#This Row],[Fecha alta centro]])+1),IF(OR(AGOSTO[[#This Row],[Fecha alta centro]]=0,AND(AGOSTO[[#This Row],[FECHA FIN]]<$B$1,AGOSTO[[#This Row],[FECHA FIN]]<>0),AGOSTO[[#This Row],[Fecha alta centro]]>$B$2),0,IF(OR(AGOSTO[[#This Row],[FECHA FIN]]=0,AGOSTO[[#This Row],[FECHA FIN]]>$B$2),$B$2,AGOSTO[[#This Row],[FECHA FIN]])-IF(AGOSTO[[#This Row],[Fecha alta centro]]<$B$1,$B$1,AGOSTO[[#This Row],[Fecha alta centro]])+1)*0.5*IF(LEFT(AGOSTO[[#This Row],[Tipo de Recurso]],3)="1/3",1/3,IF(LEFT(AGOSTO[[#This Row],[Tipo de Recurso]],3)="2/3",2/3,1))*248/365) -> 0
B8: Agosto | H8: =IF(AGOSTO[[#This Row],[Tipo de Recurso]]="Residencia",IF(OR(AGOSTO[[#This Row],[Fecha alta centro]]=0,AND(AGOSTO[[#This Row],[FECHA FIN]]<$B$1,AGOSTO[[#This Row],[FECHA FIN]]<>0),AGOSTO[[#This Row],[Fecha alta centro]]>$B$2),0,IF(OR(AGOSTO[[#This Row],[FECHA FIN]]=0,AGOSTO[[#This Row],[FECHA FIN]]>$B$2),$B$2,AGOSTO[[#This Row],[FECHA FIN]])-IF(AGOSTO[[#This Row],[Fecha alta centro]]<$B$1,$B$1,AGOSTO[[#This Row],[Fecha alta centro]])+1),IF(OR(AGOSTO[[#This Row],[Fecha alta centro]]=0,AND(AGOSTO[[#This Row],[FECHA FIN]]<$B$1,AGOSTO[[#This Row],[FECHA FIN]]<>0),AGOSTO[[#This Row],[Fecha alta centro]]>$B$2),0,IF(OR(AGOSTO[[#This Row],[FECHA FIN]]=0,AGOSTO[[#This Row],[FECHA FIN]]>$B$2),$B$2,AGOSTO[[#This Row],[FECHA FIN]])-IF(AGOSTO[[#This Row],[Fecha alta centro]]<$B$1,$B$1,AGOSTO[[#This Row],[Fecha alta centro]])+1)*0.5*IF(LEFT(AGOSTO[[#This Row],[Tipo de Recurso]],3)="1/3",1/3,IF(LEFT(AGOSTO[[#This Row],[Tipo de Recurso]],3)="2/3",2/3,1))*248/365) -> 0
B9: Agosto | H9: =IF(AGOSTO[[#This Row],[Tipo de Recurso]]="Residencia",IF(OR(AGOSTO[[#This Row],[Fecha alta centro]]=0,AND(AGOSTO[[#This Row],[FECHA FIN]]<$B$1,AGOSTO[[#This Row],[FECHA FIN]]<>0),AGOSTO[[#This Row],[Fecha alta centro]]>$B$2),0,IF(OR(AGOSTO[[#This Row],[FECHA FIN]]=0,AGOSTO[[#This Row],[FECHA FIN]]>$B$2),$B$2,AGOSTO[[#This Row],[FECHA FIN]])-IF(AGOSTO[[#This Row],[Fecha alta centro]]<$B$1,$B$1,AGOSTO[[#This Row],[Fecha alta centro]])+1),IF(OR(AGOSTO[[#This Row],[Fecha alta centro]]=0,AND(AGOSTO[[#This Row],[FECHA FIN]]<$B$1,AGOSTO[[#This Row],[FECHA FIN]]<>0),AGOSTO[[#This Row],[Fecha alta centro]]>$B$2),0,IF(OR(AGOSTO[[#This Row],[FECHA FIN]]=0,AGOSTO[[#This Row],[FECHA FIN]]>$B$2),$B$2,AGOSTO[[#This Row],[FECHA FIN]])-IF(AGOSTO[[#This Row],[Fecha alta centro]]<$B$1,$B$1,AGOSTO[[#This Row],[Fecha alta centro]])+1)*0.5*IF(LEFT(AGOSTO[[#This Row],[Tipo de Recurso]],3)="1/3",1/3,IF(LEFT(AGOSTO[[#This Row],[Tipo de Recurso]],3)="2/3",2/3,1))*248/365) -> 0
B10: Agosto | H10: =IF(AGOSTO[[#This Row],[Tipo de Recurso]]="Residencia",IF(OR(AGOSTO[[#This Row],[Fecha alta centro]]=0,AND(AGOSTO[[#This Row],[FECHA FIN]]<$B$1,AGOSTO[[#This Row],[FECHA FIN]]<>0),AGOSTO[[#This Row],[Fecha alta centro]]>$B$2),0,IF(OR(AGOSTO[[#This Row],[FECHA FIN]]=0,AGOSTO[[#This Row],[FECHA FIN]]>$B$2),$B$2,AGOSTO[[#This Row],[FECHA FIN]])-IF(AGOSTO[[#This Row],[Fecha alta centro]]<$B$1,$B$1,AGOSTO[[#This Row],[Fecha alta centro]])+1),IF(OR(AGOSTO[[#This Row],[Fecha alta centro]]=0,AND(AGOSTO[[#This Row],[FECHA FIN]]<$B$1,AGOSTO[[#This Row],[FECHA FIN]]<>0),AGOSTO[[#This Row],[Fecha alta centro]]>$B$2),0,IF(OR(AGOSTO[[#This Row],[FECHA FIN]]=0,AGOSTO[[#This Row],[FECHA FIN]]>$B$2),$B$2,AGOSTO[[#This Row],[FECHA FIN]])-IF(AGOSTO[[#This Row],[Fecha alta centro]]<$B$1,$B$1,AGOSTO[[#This Row],[Fecha alta centro]])+1)*0.5*IF(LEFT(AGOSTO[[#This Row],[Tipo de Recurso]],3)="1/3",1/3,IF(LEFT(AGOSTO[[#This Row],[Tipo de Recurso]],3)="2/3",2/3,1))*248/365) -> 0
B11: Agosto | H11: =IF(AGOSTO[[#This Row],[Tipo de Recurso]]="Residencia",IF(OR(AGOSTO[[#This Row],[Fecha alta centro]]=0,AND(AGOSTO[[#This Row],[FECHA FIN]]<$B$1,AGOSTO[[#This Row],[FECHA FIN]]<>0),AGOSTO[[#This Row],[Fecha alta centro]]>$B$2),0,IF(OR(AGOSTO[[#This Row],[FECHA FIN]]=0,AGOSTO[[#This Row],[FECHA FIN]]>$B$2),$B$2,AGOSTO[[#This Row],[FECHA FIN]])-IF(AGOSTO[[#This Row],[Fecha alta centro]]<$B$1,$B$1,AGOSTO[[#This Row],[Fecha alta centro]])+1),IF(OR(AGOSTO[[#This Row],[Fecha alta centro]]=0,AND(AGOSTO[[#This Row],[FECHA FIN]]<$B$1,AGOSTO[[#This Row],[FECHA FIN]]<>0),AGOSTO[[#This Row],[Fecha alta centro]]>$B$2),0,IF(OR(AGOSTO[[#This Row],[FECHA FIN]]=0,AGOSTO[[#This Row],[FECHA FIN]]>$B$2),$B$2,AGOSTO[[#This Row],[FECHA FIN]])-IF(AGOSTO[[#This Row],[Fecha alta centro]]<$B$1,$B$1,AGOSTO[[#This Row],[Fecha alta centro]])+1)*0.5*IF(LEFT(AGOSTO[[#This Row],[Tipo de Recurso]],3)="1/3",1/3,IF(LEFT(AGOSTO[[#This Row],[Tipo de Recurso]],3)="2/3",2/3,1))*248/365) -> 0
B12: Agosto | H12: =IF(AGOSTO[[#This Row],[Tipo de Recurso]]="Residencia",IF(OR(AGOSTO[[#This Row],[Fecha alta centro]]=0,AND(AGOSTO[[#This Row],[FECHA FIN]]<$B$1,AGOSTO[[#This Row],[FECHA FIN]]<>0),AGOSTO[[#This Row],[Fecha alta centro]]>$B$2),0,IF(OR(AGOSTO[[#This Row],[FECHA FIN]]=0,AGOSTO[[#This Row],[FECHA FIN]]>$B$2),$B$2,AGOSTO[[#This Row],[FECHA FIN]])-IF(AGOSTO[[#This Row],[Fecha alta centro]]<$B$1,$B$1,AGOSTO[[#This Row],[Fecha alta centro]])+1),IF(OR(AGOSTO[[#This Row],[Fecha alta centro]]=0,AND(AGOSTO[[#This Row],[FECHA FIN]]<$B$1,AGOSTO[[#This Row],[FECHA FIN]]<>0),AGOSTO[[#This Row],[Fecha alta centro]]>$B$2),0,IF(OR(AGOSTO[[#This Row],[FECHA FIN]]=0,AGOSTO[[#This Row],[FECHA FIN]]>$B$2),$B$2,AGOSTO[[#This Row],[FECHA FIN]])-IF(AGOSTO[[#This Row],[Fecha alta centro]]<$B$1,$B$1,AGOSTO[[#This Row],[Fecha alta centro]])+1)*0.5*IF(LEFT(AGOSTO[[#This Row],[Tipo de Recurso]],3)="1/3",1/3,IF(LEFT(AGOSTO[[#This Row],[Tipo de Recurso]],3)="2/3",2/3,1))*248/365) -> 0
B13: Agosto | H13: =IF(AGOSTO[[#This Row],[Tipo de Recurso]]="Residencia",IF(OR(AGOSTO[[#This Row],[Fecha alta centro]]=0,AND(AGOSTO[[#This Row],[FECHA FIN]]<$B$1,AGOSTO[[#This Row],[FECHA FIN]]<>0),AGOSTO[[#This Row],[Fecha alta centro]]>$B$2),0,IF(OR(AGOSTO[[#This Row],[FECHA FIN]]=0,AGOSTO[[#This Row],[FECHA FIN]]>$B$2),$B$2,AGOSTO[[#This Row],[FECHA FIN]])-IF(AGOSTO[[#This Row],[Fecha alta centro]]<$B$1,$B$1,AGOSTO[[#This Row],[Fecha alta centro]])+1),IF(OR(AGOSTO[[#This Row],[Fecha alta centro]]=0,AND(AGOSTO[[#This Row],[FECHA FIN]]<$B$1,AGOSTO[[#This Row],[FECHA FIN]]<>0),AGOSTO[[#This Row],[Fecha alta centro]]>$B$2),0,IF(OR(AGOSTO[[#This Row],[FECHA FIN]]=0,AGOSTO[[#This Row],[FECHA FIN]]>$B$2),$B$2,AGOSTO[[#This Row],[FECHA FIN]])-IF(AGOSTO[[#This Row],[Fecha alta centro]]<$B$1,$B$1,AGOSTO[[#This Row],[Fecha alta centro]])+1)*0.5*IF(LEFT(AGOSTO[[#This Row],[Tipo de Recurso]],3)="1/3",1/3,IF(LEFT(AGOSTO[[#This Row],[Tipo de Recurso]],3)="2/3",2/3,1))*248/365) -> 0
B14: Agosto | H14: =IF(AGOSTO[[#This Row],[Tipo de Recurso]]="Residencia",IF(OR(AGOSTO[[#This Row],[Fecha alta centro]]=0,AND(AGOSTO[[#This Row],[FECHA FIN]]<$B$1,AGOSTO[[#This Row],[FECHA FIN]]<>0),AGOSTO[[#This Row],[Fecha alta centro]]>$B$2),0,IF(OR(AGOSTO[[#This Row],[FECHA FIN]]=0,AGOSTO[[#This Row],[FECHA FIN]]>$B$2),$B$2,AGOSTO[[#This Row],[FECHA FIN]])-IF(AGOSTO[[#This Row],[Fecha alta centro]]<$B$1,$B$1,AGOSTO[[#This Row],[Fecha alta centro]])+1),IF(OR(AGOSTO[[#This Row],[Fecha alta centro]]=0,AND(AGOSTO[[#This Row],[FECHA FIN]]<$B$1,AGOSTO[[#This Row],[FECHA FIN]]<>0),AGOSTO[[#This Row],[Fecha alta centro]]>$B$2),0,IF(OR(AGOSTO[[#This Row],[FECHA FIN]]=0,AGOSTO[[#This Row],[FECHA FIN]]>$B$2),$B$2,AGOSTO[[#This Row],[FECHA FIN]])-IF(AGOSTO[[#This Row],[Fecha alta centro]]<$B$1,$B$1,AGOSTO[[#This Row],[Fecha alta centro]])+1)*0.5*IF(LEFT(AGOSTO[[#This Row],[Tipo de Recurso]],3)="1/3",1/3,IF(LEFT(AGOSTO[[#This Row],[Tipo de Recurso]],3)="2/3",2/3,1))*248/365) -> 0
B15: Agosto | H15: =IF(AGOSTO[[#This Row],[Tipo de Recurso]]="Residencia",IF(OR(AGOSTO[[#This Row],[Fecha alta centro]]=0,AND(AGOSTO[[#This Row],[FECHA FIN]]<$B$1,AGOSTO[[#This Row],[FECHA FIN]]<>0),AGOSTO[[#This Row],[Fecha alta centro]]>$B$2),0,IF(OR(AGOSTO[[#This Row],[FECHA FIN]]=0,AGOSTO[[#This Row],[FECHA FIN]]>$B$2),$B$2,AGOSTO[[#This Row],[FECHA FIN]])-IF(AGOSTO[[#This Row],[Fecha alta centro]]<$B$1,$B$1,AGOSTO[[#This Row],[Fecha alta centro]])+1),IF(OR(AGOSTO[[#This Row],[Fecha alta centro]]=0,AND(AGOSTO[[#This Row],[FECHA FIN]]<$B$1,AGOSTO[[#This Row],[FECHA FIN]]<>0),AGOSTO[[#This Row],[Fecha alta centro]]>$B$2),0,IF(OR(AGOSTO[[#This Row],[FECHA FIN]]=0,AGOSTO[[#This Row],[FECHA FIN]]>$B$2),$B$2,AGOSTO[[#This Row],[FECHA FIN]])-IF(AGOSTO[[#This Row],[Fecha alta centro]]<$B$1,$B$1,AGOSTO[[#This Row],[Fecha alta centro]])+1)*0.5*IF(LEFT(AGOSTO[[#This Row],[Tipo de Recurso]],3)="1/3",1/3,IF(LEFT(AGOSTO[[#This Row],[Tipo de Recurso]],3)="2/3",2/3,1))*248/365) -> 0
B16: Agosto | H16: =IF(AGOSTO[[#This Row],[Tipo de Recurso]]="Residencia",IF(OR(AGOSTO[[#This Row],[Fecha alta centro]]=0,AND(AGOSTO[[#This Row],[FECHA FIN]]<$B$1,AGOSTO[[#This Row],[FECHA FIN]]<>0),AGOSTO[[#This Row],[Fecha alta centro]]>$B$2),0,IF(OR(AGOSTO[[#This Row],[FECHA FIN]]=0,AGOSTO[[#This Row],[FECHA FIN]]>$B$2),$B$2,AGOSTO[[#This Row],[FECHA FIN]])-IF(AGOSTO[[#This Row],[Fecha alta centro]]<$B$1,$B$1,AGOSTO[[#This Row],[Fecha alta centro]])+1),IF(OR(AGOSTO[[#This Row],[Fecha alta centro]]=0,AND(AGOSTO[[#This Row],[FECHA FIN]]<$B$1,AGOSTO[[#This Row],[FECHA FIN]]<>0),AGOSTO[[#This Row],[Fecha alta centro]]>$B$2),0,IF(OR(AGOSTO[[#This Row],[FECHA FIN]]=0,AGOSTO[[#This Row],[FECHA FIN]]>$B$2),$B$2,AGOSTO[[#This Row],[FECHA FIN]])-IF(AGOSTO[[#This Row],[Fecha alta centro]]<$B$1,$B$1,AGOSTO[[#This Row],[Fecha alta centro]])+1)*0.5*IF(LEFT(AGOSTO[[#This Row],[Tipo de Recurso]],3)="1/3",1/3,IF(LEFT(AGOSTO[[#This Row],[Tipo de Recurso]],3)="2/3",2/3,1))*248/365) -> 0
... B704: Agosto | H704: =IF(AGOSTO[[#This Row],[Tipo de Recurso]]="Residencia",IF(OR(AGOSTO[[#This Row],[Fecha alta centro]]=0,AND(AGOSTO[[#This Row],[FECHA FIN]]<$B$1,AGOSTO[[#This Row],[FECHA FIN]]<>0),AGOSTO[[#This Row],[Fecha alta centro]]>$B$2),0,IF(OR(AGOSTO[[#This Row],[FECHA FIN]]=0,AGOSTO[[#This Row],[FECHA FIN]]>$B$2),$B$2,AGOSTO[[#This Row],[FECHA FIN]])-IF(AGOSTO[[#This Row],[Fecha alta centro]]<$B$1,$B$1,AGOSTO[[#This Row],[Fecha alta centro]])+1),IF(OR(AGOSTO[[#This Row],[Fecha alta centro]]=0,AND(AGOSTO[[#This Row],[FECHA FIN]]<$B$1,AGOSTO[[#This Row],[FECHA FIN]]<>0),AGOSTO[[#This Row],[Fecha alta centro]]>$B$2),0,IF(OR(AGOSTO[[#This Row],[FECHA FIN]]=0,AGOSTO[[#This Row],[FECHA FIN]]>$B$2),$B$2,AGOSTO[[#This Row],[FECHA FIN]])-IF(AGOSTO[[#This Row],[Fecha alta centro]]<$B$1,$B$1,AGOSTO[[#This Row],[Fecha alta centro]])+1)*0.5*IF(LEFT(AGOSTO[[#This Row],[Tipo de Recurso]],3)="1/3",1/3,IF(LEFT(AGOSTO[[#This Row],[Tipo de Recurso]],3)="2/3",2/3,1))*248/365) -> 0
B705: Total | G705: =SUBTOTAL(103,AGOSTO[DEPENDIENTE/NO DEPENDIENTE Según valoración oficial]) -> 0 | H705: =SUBTOTAL(109,AGOSTO[DIAS]) -> 0

Sheet Septiembre
A1: Periodo | B1: =EDATE(Agosto!B1,1) -> 46631
B2: =EOMONTH(B1,0) -> 46660
B3: OCUPACION SEPTIEMBRE
B4: mes | C4: DNI de la persona usuaria | D4: Fecha alta centro | E4: FECHA FIN | F4: Tipo de Recurso | G4: DEPENDIENTE/NO DEPENDIENTE Según valoración oficial | H4: DIAS
B5: Septiembre | H5: =IF(SEPTIEMBRE[[#This Row],[Tipo de Recurso]]="Residencia",IF(OR(SEPTIEMBRE[[#This Row],[Fecha alta centro]]=0,AND(SEPTIEMBRE[[#This Row],[FECHA FIN]]<$B$1,SEPTIEMBRE[[#This Row],[FECHA FIN]]<>0),SEPTIEMBRE[[#This Row],[Fecha alta centro]]>$B$2),0,IF(OR(SEPTIEMBRE[[#This Row],[FECHA FIN]]=0,SEPTIEMBRE[[#This Row],[FECHA FIN]]>$B$2),$B$2,SEPTIEMBRE[[#This Row],[FECHA FIN]])-IF(SEPTIEMBRE[[#This Row],[Fecha alta centro]]<$B$1,$B$1,SEPTIEMBRE[[#This Row],[Fecha alta centro]])+1),IF(OR(SEPTIEMBRE[[#This Row],[Fecha alta centro]]=0,AND(SEPTIEMBRE[[#This Row],[FECHA FIN]]<$B$1,SEPTIEMBRE[[#This Row],[FECHA FIN]]<>0),SEPTIEMBRE[[#This Row],[Fecha alta centro]]>$B$2),0,IF(OR(SEPTIEMBRE[[#This Row],[FECHA FIN]]=0,SEPTIEMBRE[[#This Row],[FECHA FIN]]>$B$2),$B$2,SEPTIEMBRE[[#This Row],[FECHA FIN]])-IF(SEPTIEMBRE[[#This Row],[Fecha alta centro]]<$B$1,$B$1,SEPTIEMBRE[[#This Row],[Fecha alta centro]])+1)*0.5*IF(LEFT(SEPTIEMBRE[[#This Row],[Tipo de Recurso]],3)="1/3",1/3,IF(LEFT(SEPTIEMBRE[[#This Row],[Tipo de Recurso]],3)="2/3",2/3,1))*248/365) -> 0
B6: Septiembre | H6: =IF(SEPTIEMBRE[[#This Row],[Tipo de Recurso]]="Residencia",IF(OR(SEPTIEMBRE[[#This Row],[Fecha alta centro]]=0,AND(SEPTIEMBRE[[#This Row],[FECHA FIN]]<$B$1,SEPTIEMBRE[[#This Row],[FECHA FIN]]<>0),SEPTIEMBRE[[#This Row],[Fecha alta centro]]>$B$2),0,IF(OR(SEPTIEMBRE[[#This Row],[FECHA FIN]]=0,SEPTIEMBRE[[#This Row],[FECHA FIN]]>$B$2),$B$2,SEPTIEMBRE[[#This Row],[FECHA FIN]])-IF(SEPTIEMBRE[[#This Row],[Fecha alta centro]]<$B$1,$B$1,SEPTIEMBRE[[#This Row],[Fecha alta centro]])+1),IF(OR(SEPTIEMBRE[[#This Row],[Fecha alta centro]]=0,AND(SEPTIEMBRE[[#This Row],[FECHA FIN]]<$B$1,SEPTIEMBRE[[#This Row],[FECHA FIN]]<>0),SEPTIEMBRE[[#This Row],[Fecha alta centro]]>$B$2),0,IF(OR(SEPTIEMBRE[[#This Row],[FECHA FIN]]=0,SEPTIEMBRE[[#This Row],[FECHA FIN]]>$B$2),$B$2,SEPTIEMBRE[[#This Row],[FECHA FIN]])-IF(SEPTIEMBRE[[#This Row],[Fecha alta centro]]<$B$1,$B$1,SEPTIEMBRE[[#This Row],[Fecha alta centro]])+1)*0.5*IF(LEFT(SEPTIEMBRE[[#This Row],[Tipo de Recurso]],3)="1/3",1/3,IF(LEFT(SEPTIEMBRE[[#This Row],[Tipo de Recurso]],3)="2/3",2/3,1))*248/365) -> 0
B7: Septiembre | H7: =IF(SEPTIEMBRE[[#This Row],[Tipo de Recurso]]="Residencia",IF(OR(SEPTIEMBRE[[#This Row],[Fecha alta centro]]=0,AND(SEPTIEMBRE[[#This Row],[FECHA FIN]]<$B$1,SEPTIEMBRE[[#This Row],[FECHA FIN]]<>0),SEPTIEMBRE[[#This Row],[Fecha alta centro]]>$B$2),0,IF(OR(SEPTIEMBRE[[#This Row],[FECHA FIN]]=0,SEPTIEMBRE[[#This Row],[FECHA FIN]]>$B$2),$B$2,SEPTIEMBRE[[#This Row],[FECHA FIN]])-IF(SEPTIEMBRE[[#This Row],[Fecha alta centro]]<$B$1,$B$1,SEPTIEMBRE[[#This Row],[Fecha alta centro]])+1),IF(OR(SEPTIEMBRE[[#This Row],[Fecha alta centro]]=0,AND(SEPTIEMBRE[[#This Row],[FECHA FIN]]<$B$1,SEPTIEMBRE[[#This Row],[FECHA FIN]]<>0),SEPTIEMBRE[[#This Row],[Fecha alta centro]]>$B$2),0,IF(OR(SEPTIEMBRE[[#This Row],[FECHA FIN]]=0,SEPTIEMBRE[[#This Row],[FECHA FIN]]>$B$2),$B$2,SEPTIEMBRE[[#This Row],[FECHA FIN]])-IF(SEPTIEMBRE[[#This Row],[Fecha alta centro]]<$B$1,$B$1,SEPTIEMBRE[[#This Row],[Fecha alta centro]])+1)*0.5*IF(LEFT(SEPTIEMBRE[[#This Row],[Tipo de Recurso]],3)="1/3",1/3,IF(LEFT(SEPTIEMBRE[[#This Row],[Tipo de Recurso]],3)="2/3",2/3,1))*248/365) -> 0
B8: Septiembre | H8: =IF(SEPTIEMBRE[[#This Row],[Tipo de Recurso]]="Residencia",IF(OR(SEPTIEMBRE[[#This Row],[Fecha alta centro]]=0,AND(SEPTIEMBRE[[#This Row],[FECHA FIN]]<$B$1,SEPTIEMBRE[[#This Row],[FECHA FIN]]<>0),SEPTIEMBRE[[#This Row],[Fecha alta centro]]>$B$2),0,IF(OR(SEPTIEMBRE[[#This Row],[FECHA FIN]]=0,SEPTIEMBRE[[#This Row],[FECHA FIN]]>$B$2),$B$2,SEPTIEMBRE[[#This Row],[FECHA FIN]])-IF(SEPTIEMBRE[[#This Row],[Fecha alta centro]]<$B$1,$B$1,SEPTIEMBRE[[#This Row],[Fecha alta centro]])+1),IF(OR(SEPTIEMBRE[[#This Row],[Fecha alta centro]]=0,AND(SEPTIEMBRE[[#This Row],[FECHA FIN]]<$B$1,SEPTIEMBRE[[#This Row],[FECHA FIN]]<>0),SEPTIEMBRE[[#This Row],[Fecha alta centro]]>$B$2),0,IF(OR(SEPTIEMBRE[[#This Row],[FECHA FIN]]=0,SEPTIEMBRE[[#This Row],[FECHA FIN]]>$B$2),$B$2,SEPTIEMBRE[[#This Row],[FECHA FIN]])-IF(SEPTIEMBRE[[#This Row],[Fecha alta centro]]<$B$1,$B$1,SEPTIEMBRE[[#This Row],[Fecha alta centro]])+1)*0.5*IF(LEFT(SEPTIEMBRE[[#This Row],[Tipo de Recurso]],3)="1/3",1/3,IF(LEFT(SEPTIEMBRE[[#This Row],[Tipo de Recurso]],3)="2/3",2/3,1))*248/365) -> 0
B9: Septiembre | H9: =IF(SEPTIEMBRE[[#This Row],[Tipo de Recurso]]="Residencia",IF(OR(SEPTIEMBRE[[#This Row],[Fecha alta centro]]=0,AND(SEPTIEMBRE[[#This Row],[FECHA FIN]]<$B$1,SEPTIEMBRE[[#This Row],[FECHA FIN]]<>0),SEPTIEMBRE[[#This Row],[Fecha alta centro]]>$B$2),0,IF(OR(SEPTIEMBRE[[#This Row],[FECHA FIN]]=0,SEPTIEMBRE[[#This Row],[FECHA FIN]]>$B$2),$B$2,SEPTIEMBRE[[#This Row],[FECHA FIN]])-IF(SEPTIEMBRE[[#This Row],[Fecha alta centro]]<$B$1,$B$1,SEPTIEMBRE[[#This Row],[Fecha alta centro]])+1),IF(OR(SEPTIEMBRE[[#This Row],[Fecha alta centro]]=0,AND(SEPTIEMBRE[[#This Row],[FECHA FIN]]<$B$1,SEPTIEMBRE[[#This Row],[FECHA FIN]]<>0),SEPTIEMBRE[[#This Row],[Fecha alta centro]]>$B$2),0,IF(OR(SEPTIEMBRE[[#This Row],[FECHA FIN]]=0,SEPTIEMBRE[[#This Row],[FECHA FIN]]>$B$2),$B$2,SEPTIEMBRE[[#This Row],[FECHA FIN]])-IF(SEPTIEMBRE[[#This Row],[Fecha alta centro]]<$B$1,$B$1,SEPTIEMBRE[[#This Row],[Fecha alta centro]])+1)*0.5*IF(LEFT(SEPTIEMBRE[[#This Row],[Tipo de Recurso]],3)="1/3",1/3,IF(LEFT(SEPTIEMBRE[[#This Row],[Tipo de Recurso]],3)="2/3",2/3,1))*248/365) -> 0
B10: Septiembre | H10: =IF(SEPTIEMBRE[[#This Row],[Tipo de Recurso]]="Residencia",IF(OR(SEPTIEMBRE[[#This Row],[Fecha alta centro]]=0,AND(SEPTIEMBRE[[#This Row],[FECHA FIN]]<$B$1,SEPTIEMBRE[[#This Row],[FECHA FIN]]<>0),SEPTIEMBRE[[#This Row],[Fecha alta centro]]>$B$2),0,IF(OR(SEPTIEMBRE[[#This Row],[FECHA FIN]]=0,SEPTIEMBRE[[#This Row],[FECHA FIN]]>$B$2),$B$2,SEPTIEMBRE[[#This Row],[FECHA FIN]])-IF(SEPTIEMBRE[[#This Row],[Fecha alta centro]]<$B$1,$B$1,SEPTIEMBRE[[#This Row],[Fecha alta centro]])+1),IF(OR(SEPTIEMBRE[[#This Row],[Fecha alta centro]]=0,AND(SEPTIEMBRE[[#This Row],[FECHA FIN]]<$B$1,SEPTIEMBRE[[#This Row],[FECHA FIN]]<>0),SEPTIEMBRE[[#This Row],[Fecha alta centro]]>$B$2),0,IF(OR(SEPTIEMBRE[[#This Row],[FECHA FIN]]=0,SEPTIEMBRE[[#This Row],[FECHA FIN]]>$B$2),$B$2,SEPTIEMBRE[[#This Row],[FECHA FIN]])-IF(SEPTIEMBRE[[#This Row],[Fecha alta centro]]<$B$1,$B$1,SEPTIEMBRE[[#This Row],[Fecha alta centro]])+1)*0.5*IF(LEFT(SEPTIEMBRE[[#This Row],[Tipo de Recurso]],3)="1/3",1/3,IF(LEFT(SEPTIEMBRE[[#This Row],[Tipo de Recurso]],3)="2/3",2/3,1))*248/365) -> 0
B11: Septiembre | H11: =IF(SEPTIEMBRE[[#This Row],[Tipo de Recurso]]="Residencia",IF(OR(SEPTIEMBRE[[#This Row],[Fecha alta centro]]=0,AND(SEPTIEMBRE[[#This Row],[FECHA FIN]]<$B$1,SEPTIEMBRE[[#This Row],[FECHA FIN]]<>0),SEPTIEMBRE[[#This Row],[Fecha alta centro]]>$B$2),0,IF(OR(SEPTIEMBRE[[#This Row],[FECHA FIN]]=0,SEPTIEMBRE[[#This Row],[FECHA FIN]]>$B$2),$B$2,SEPTIEMBRE[[#This Row],[FECHA FIN]])-IF(SEPTIEMBRE[[#This Row],[Fecha alta centro]]<$B$1,$B$1,SEPTIEMBRE[[#This Row],[Fecha alta centro]])+1),IF(OR(SEPTIEMBRE[[#This Row],[Fecha alta centro]]=0,AND(SEPTIEMBRE[[#This Row],[FECHA FIN]]<$B$1,SEPTIEMBRE[[#This Row],[FECHA FIN]]<>0),SEPTIEMBRE[[#This Row],[Fecha alta centro]]>$B$2),0,IF(OR(SEPTIEMBRE[[#This Row],[FECHA FIN]]=0,SEPTIEMBRE[[#This Row],[FECHA FIN]]>$B$2),$B$2,SEPTIEMBRE[[#This Row],[FECHA FIN]])-IF(SEPTIEMBRE[[#This Row],[Fecha alta centro]]<$B$1,$B$1,SEPTIEMBRE[[#This Row],[Fecha alta centro]])+1)*0.5*IF(LEFT(SEPTIEMBRE[[#This Row],[Tipo de Recurso]],3)="1/3",1/3,IF(LEFT(SEPTIEMBRE[[#This Row],[Tipo de Recurso]],3)="2/3",2/3,1))*248/365) -> 0
B12: Septiembre | H12: =IF(SEPTIEMBRE[[#This Row],[Tipo de Recurso]]="Residencia",IF(OR(SEPTIEMBRE[[#This Row],[Fecha alta centro]]=0,AND(SEPTIEMBRE[[#This Row],[FECHA FIN]]<$B$1,SEPTIEMBRE[[#This Row],[FECHA FIN]]<>0),SEPTIEMBRE[[#This Row],[Fecha alta centro]]>$B$2),0,IF(OR(SEPTIEMBRE[[#This Row],[FECHA FIN]]=0,SEPTIEMBRE[[#This Row],[FECHA FIN]]>$B$2),$B$2,SEPTIEMBRE[[#This Row],[FECHA FIN]])-IF(SEPTIEMBRE[[#This Row],[Fecha alta centro]]<$B$1,$B$1,SEPTIEMBRE[[#This Row],[Fecha alta centro]])+1),IF(OR(SEPTIEMBRE[[#This Row],[Fecha alta centro]]=0,AND(SEPTIEMBRE[[#This Row],[FECHA FIN]]<$B$1,SEPTIEMBRE[[#This Row],[FECHA FIN]]<>0),SEPTIEMBRE[[#This Row],[Fecha alta centro]]>$B$2),0,IF(OR(SEPTIEMBRE[[#This Row],[FECHA FIN]]=0,SEPTIEMBRE[[#This Row],[FECHA FIN]]>$B$2),$B$2,SEPTIEMBRE[[#This Row],[FECHA FIN]])-IF(SEPTIEMBRE[[#This Row],[Fecha alta centro]]<$B$1,$B$1,SEPTIEMBRE[[#This Row],[Fecha alta centro]])+1)*0.5*IF(LEFT(SEPTIEMBRE[[#This Row],[Tipo de Recurso]],3)="1/3",1/3,IF(LEFT(SEPTIEMBRE[[#This Row],[Tipo de Recurso]],3)="2/3",2/3,1))*248/365) -> 0
B13: Septiembre | H13: =IF(SEPTIEMBRE[[#This Row],[Tipo de Recurso]]="Residencia",IF(OR(SEPTIEMBRE[[#This Row],[Fecha alta centro]]=0,AND(SEPTIEMBRE[[#This Row],[FECHA FIN]]<$B$1,SEPTIEMBRE[[#This Row],[FECHA FIN]]<>0),SEPTIEMBRE[[#This Row],[Fecha alta centro]]>$B$2),0,IF(OR(SEPTIEMBRE[[#This Row],[FECHA FIN]]=0,SEPTIEMBRE[[#This Row],[FECHA FIN]]>$B$2),$B$2,SEPTIEMBRE[[#This Row],[FECHA FIN]])-IF(SEPTIEMBRE[[#This Row],[Fecha alta centro]]<$B$1,$B$1,SEPTIEMBRE[[#This Row],[Fecha alta centro]])+1),IF(OR(SEPTIEMBRE[[#This Row],[Fecha alta centro]]=0,AND(SEPTIEMBRE[[#This Row],[FECHA FIN]]<$B$1,SEPTIEMBRE[[#This Row],[FECHA FIN]]<>0),SEPTIEMBRE[[#This Row],[Fecha alta centro]]>$B$2),0,IF(OR(SEPTIEMBRE[[#This Row],[FECHA FIN]]=0,SEPTIEMBRE[[#This Row],[FECHA FIN]]>$B$2),$B$2,SEPTIEMBRE[[#This Row],[FECHA FIN]])-IF(SEPTIEMBRE[[#This Row],[Fecha alta centro]]<$B$1,$B$1,SEPTIEMBRE[[#This Row],[Fecha alta centro]])+1)*0.5*IF(LEFT(SEPTIEMBRE[[#This Row],[Tipo de Recurso]],3)="1/3",1/3,IF(LEFT(SEPTIEMBRE[[#This Row],[Tipo de Recurso]],3)="2/3",2/3,1))*248/365) -> 0
B14: Septiembre | H14: =IF(SEPTIEMBRE[[#This Row],[Tipo de Recurso]]="Residencia",IF(OR(SEPTIEMBRE[[#This Row],[Fecha alta centro]]=0,AND(SEPTIEMBRE[[#This Row],[FECHA FIN]]<$B$1,SEPTIEMBRE[[#This Row],[FECHA FIN]]<>0),SEPTIEMBRE[[#This Row],[Fecha alta centro]]>$B$2),0,IF(OR(SEPTIEMBRE[[#This Row],[FECHA FIN]]=0,SEPTIEMBRE[[#This Row],[FECHA FIN]]>$B$2),$B$2,SEPTIEMBRE[[#This Row],[FECHA FIN]])-IF(SEPTIEMBRE[[#This Row],[Fecha alta centro]]<$B$1,$B$1,SEPTIEMBRE[[#This Row],[Fecha alta centro]])+1),IF(OR(SEPTIEMBRE[[#This Row],[Fecha alta centro]]=0,AND(SEPTIEMBRE[[#This Row],[FECHA FIN]]<$B$1,SEPTIEMBRE[[#This Row],[FECHA FIN]]<>0),SEPTIEMBRE[[#This Row],[Fecha alta centro]]>$B$2),0,IF(OR(SEPTIEMBRE[[#This Row],[FECHA FIN]]=0,SEPTIEMBRE[[#This Row],[FECHA FIN]]>$B$2),$B$2,SEPTIEMBRE[[#This Row],[FECHA FIN]])-IF(SEPTIEMBRE[[#This Row],[Fecha alta centro]]<$B$1,$B$1,SEPTIEMBRE[[#This Row],[Fecha alta centro]])+1)*0.5*IF(LEFT(SEPTIEMBRE[[#This Row],[Tipo de Recurso]],3)="1/3",1/3,IF(LEFT(SEPTIEMBRE[[#This Row],[Tipo de Recurso]],3)="2/3",2/3,1))*248/365) -> 0
B15: Septiembre | H15: =IF(SEPTIEMBRE[[#This Row],[Tipo de Recurso]]="Residencia",IF(OR(SEPTIEMBRE[[#This Row],[Fecha alta centro]]=0,AND(SEPTIEMBRE[[#This Row],[FECHA FIN]]<$B$1,SEPTIEMBRE[[#This Row],[FECHA FIN]]<>0),SEPTIEMBRE[[#This Row],[Fecha alta centro]]>$B$2),0,IF(OR(SEPTIEMBRE[[#This Row],[FECHA FIN]]=0,SEPTIEMBRE[[#This Row],[FECHA FIN]]>$B$2),$B$2,SEPTIEMBRE[[#This Row],[FECHA FIN]])-IF(SEPTIEMBRE[[#This Row],[Fecha alta centro]]<$B$1,$B$1,SEPTIEMBRE[[#This Row],[Fecha alta centro]])+1),IF(OR(SEPTIEMBRE[[#This Row],[Fecha alta centro]]=0,AND(SEPTIEMBRE[[#This Row],[FECHA FIN]]<$B$1,SEPTIEMBRE[[#This Row],[FECHA FIN]]<>0),SEPTIEMBRE[[#This Row],[Fecha alta centro]]>$B$2),0,IF(OR(SEPTIEMBRE[[#This Row],[FECHA FIN]]=0,SEPTIEMBRE[[#This Row],[FECHA FIN]]>$B$2),$B$2,SEPTIEMBRE[[#This Row],[FECHA FIN]])-IF(SEPTIEMBRE[[#This Row],[Fecha alta centro]]<$B$1,$B$1,SEPTIEMBRE[[#This Row],[Fecha alta centro]])+1)*0.5*IF(LEFT(SEPTIEMBRE[[#This Row],[Tipo de Recurso]],3)="1/3",1/3,IF(LEFT(SEPTIEMBRE[[#This Row],[Tipo de Recurso]],3)="2/3",2/3,1))*248/365) -> 0
B16: Septiembre | H16: =IF(SEPTIEMBRE[[#This Row],[Tipo de Recurso]]="Residencia",IF(OR(SEPTIEMBRE[[#This Row],[Fecha alta centro]]=0,AND(SEPTIEMBRE[[#This Row],[FECHA FIN]]<$B$1,SEPTIEMBRE[[#This Row],[FECHA FIN]]<>0),SEPTIEMBRE[[#This Row],[Fecha alta centro]]>$B$2),0,IF(OR(SEPTIEMBRE[[#This Row],[FECHA FIN]]=0,SEPTIEMBRE[[#This Row],[FECHA FIN]]>$B$2),$B$2,SEPTIEMBRE[[#This Row],[FECHA FIN]])-IF(SEPTIEMBRE[[#This Row],[Fecha alta centro]]<$B$1,$B$1,SEPTIEMBRE[[#This Row],[Fecha alta centro]])+1),IF(OR(SEPTIEMBRE[[#This Row],[Fecha alta centro]]=0,AND(SEPTIEMBRE[[#This Row],[FECHA FIN]]<$B$1,SEPTIEMBRE[[#This Row],[FECHA FIN]]<>0),SEPTIEMBRE[[#This Row],[Fecha alta centro]]>$B$2),0,IF(OR(SEPTIEMBRE[[#This Row],[FECHA FIN]]=0,SEPTIEMBRE[[#This Row],[FECHA FIN]]>$B$2),$B$2,SEPTIEMBRE[[#This Row],[FECHA FIN]])-IF(SEPTIEMBRE[[#This Row],[Fecha alta centro]]<$B$1,$B$1,SEPTIEMBRE[[#This Row],[Fecha alta centro]])+1)*0.5*IF(LEFT(SEPTIEMBRE[[#This Row],[Tipo de Recurso]],3)="1/3",1/3,IF(LEFT(SEPTIEMBRE[[#This Row],[Tipo de Recurso]],3)="2/3",2/3,1))*248/365) -> 0
... B704: Septiembre | H704: =IF(SEPTIEMBRE[[#This Row],[Tipo de Recurso]]="Residencia",IF(OR(SEPTIEMBRE[[#This Row],[Fecha alta centro]]=0,AND(SEPTIEMBRE[[#This Row],[FECHA FIN]]<$B$1,SEPTIEMBRE[[#This Row],[FECHA FIN]]<>0),SEPTIEMBRE[[#This Row],[Fecha alta centro]]>$B$2),0,IF(OR(SEPTIEMBRE[[#This Row],[FECHA FIN]]=0,SEPTIEMBRE[[#This Row],[FECHA FIN]]>$B$2),$B$2,SEPTIEMBRE[[#This Row],[FECHA FIN]])-IF(SEPTIEMBRE[[#This Row],[Fecha alta centro]]<$B$1,$B$1,SEPTIEMBRE[[#This Row],[Fecha alta centro]])+1),IF(OR(SEPTIEMBRE[[#This Row],[Fecha alta centro]]=0,AND(SEPTIEMBRE[[#This Row],[FECHA FIN]]<$B$1,SEPTIEMBRE[[#This Row],[FECHA FIN]]<>0),SEPTIEMBRE[[#This Row],[Fecha alta centro]]>$B$2),0,IF(OR(SEPTIEMBRE[[#This Row],[FECHA FIN]]=0,SEPTIEMBRE[[#This Row],[FECHA FIN]]>$B$2),$B$2,SEPTIEMBRE[[#This Row],[FECHA FIN]])-IF(SEPTIEMBRE[[#This Row],[Fecha alta centro]]<$B$1,$B$1,SEPTIEMBRE[[#This Row],[Fecha alta centro]])+1)*0.5*IF(LEFT(SEPTIEMBRE[[#This Row],[Tipo de Recurso]],3)="1/3",1/3,IF(LEFT(SEPTIEMBRE[[#This Row],[Tipo de Recurso]],3)="2/3",2/3,1))*248/365) -> 0
B705: Total | G705: =SUBTOTAL(103,SEPTIEMBRE[DEPENDIENTE/NO DEPENDIENTE Según valoración oficial]) -> 0 | H705: =SUBTOTAL(109,SEPTIEMBRE[DIAS]) -> 0

Sheet Octubre
A1: Periodo | B1: =EDATE(Septiembre!B1,1) -> 46661
B2: =EOMONTH(B1,0) -> 46691
B3: OCUPACION OCTUBRE
B4: mes | C4: DNI de la persona usuaria | D4: Fecha alta centro | E4: FECHA FIN | F4: Tipo de Recurso | G4: DEPENDIENTE/NO DEPENDIENTE Según valoración oficial | H4: DIAS
B5: Octubre | H5: =IF(OCTUBRE[[#This Row],[Tipo de Recurso]]="Residencia",IF(OR(OCTUBRE[[#This Row],[Fecha alta centro]]=0,AND(OCTUBRE[[#This Row],[FECHA FIN]]<$B$1,OCTUBRE[[#This Row],[FECHA FIN]]<>0),OCTUBRE[[#This Row],[Fecha alta centro]]>$B$2),0,IF(OR(OCTUBRE[[#This Row],[FECHA FIN]]=0,OCTUBRE[[#This Row],[FECHA FIN]]>$B$2),$B$2,OCTUBRE[[#This Row],[FECHA FIN]])-IF(OCTUBRE[[#This Row],[Fecha alta centro]]<$B$1,$B$1,OCTUBRE[[#This Row],[Fecha alta centro]])+1),IF(OR(OCTUBRE[[#This Row],[Fecha alta centro]]=0,AND(OCTUBRE[[#This Row],[FECHA FIN]]<$B$1,OCTUBRE[[#This Row],[FECHA FIN]]<>0),OCTUBRE[[#This Row],[Fecha alta centro]]>$B$2),0,IF(OR(OCTUBRE[[#This Row],[FECHA FIN]]=0,OCTUBRE[[#This Row],[FECHA FIN]]>$B$2),$B$2,OCTUBRE[[#This Row],[FECHA FIN]])-IF(OCTUBRE[[#This Row],[Fecha alta centro]]<$B$1,$B$1,OCTUBRE[[#This Row],[Fecha alta centro]])+1)*0.5*IF(LEFT(OCTUBRE[[#This Row],[Tipo de Recurso]],3)="1/3",1/3,IF(LEFT(OCTUBRE[[#This Row],[Tipo de Recurso]],3)="2/3",2/3,1))*248/365) -> 0
B6: Octubre | H6: =IF(OCTUBRE[[#This Row],[Tipo de Recurso]]="Residencia",IF(OR(OCTUBRE[[#This Row],[Fecha alta centro]]=0,AND(OCTUBRE[[#This Row],[FECHA FIN]]<$B$1,OCTUBRE[[#This Row],[FECHA FIN]]<>0),OCTUBRE[[#This Row],[Fecha alta centro]]>$B$2),0,IF(OR(OCTUBRE[[#This Row],[FECHA FIN]]=0,OCTUBRE[[#This Row],[FECHA FIN]]>$B$2),$B$2,OCTUBRE[[#This Row],[FECHA FIN]])-IF(OCTUBRE[[#This Row],[Fecha alta centro]]<$B$1,$B$1,OCTUBRE[[#This Row],[Fecha alta centro]])+1),IF(OR(OCTUBRE[[#This Row],[Fecha alta centro]]=0,AND(OCTUBRE[[#This Row],[FECHA FIN]]<$B$1,OCTUBRE[[#This Row],[FECHA FIN]]<>0),OCTUBRE[[#This Row],[Fecha alta centro]]>$B$2),0,IF(OR(OCTUBRE[[#This Row],[FECHA FIN]]=0,OCTUBRE[[#This Row],[FECHA FIN]]>$B$2),$B$2,OCTUBRE[[#This Row],[FECHA FIN]])-IF(OCTUBRE[[#This Row],[Fecha alta centro]]<$B$1,$B$1,OCTUBRE[[#This Row],[Fecha alta centro]])+1)*0.5*IF(LEFT(OCTUBRE[[#This Row],[Tipo de Recurso]],3)="1/3",1/3,IF(LEFT(OCTUBRE[[#This Row],[Tipo de Recurso]],3)="2/3",2/3,1))*248/365) -> 0
B7: Octubre | H7: =IF(OCTUBRE[[#This Row],[Tipo de Recurso]]="Residencia",IF(OR(OCTUBRE[[#This Row],[Fecha alta centro]]=0,AND(OCTUBRE[[#This Row],[FECHA FIN]]<$B$1,OCTUBRE[[#This Row],[FECHA FIN]]<>0),OCTUBRE[[#This Row],[Fecha alta centro]]>$B$2),0,IF(OR(OCTUBRE[[#This Row],[FECHA FIN]]=0,OCTUBRE[[#This Row],[FECHA FIN]]>$B$2),$B$2,OCTUBRE[[#This Row],[FECHA FIN]])-IF(OCTUBRE[[#This Row],[Fecha alta centro]]<$B$1,$B$1,OCTUBRE[[#This Row],[Fecha alta centro]])+1),IF(OR(OCTUBRE[[#This Row],[Fecha alta centro]]=0,AND(OCTUBRE[[#This Row],[FECHA FIN]]<$B$1,OCTUBRE[[#This Row],[FECHA FIN]]<>0),OCTUBRE[[#This Row],[Fecha alta centro]]>$B$2),0,IF(OR(OCTUBRE[[#This Row],[FECHA FIN]]=0,OCTUBRE[[#This Row],[FECHA FIN]]>$B$2),$B$2,OCTUBRE[[#This Row],[FECHA FIN]])-IF(OCTUBRE[[#This Row],[Fecha alta centro]]<$B$1,$B$1,OCTUBRE[[#This Row],[Fecha alta centro]])+1)*0.5*IF(LEFT(OCTUBRE[[#This Row],[Tipo de Recurso]],3)="1/3",1/3,IF(LEFT(OCTUBRE[[#This Row],[Tipo de Recurso]],3)="2/3",2/3,1))*248/365) -> 0
B8: Octubre | H8: =IF(OCTUBRE[[#This Row],[Tipo de Recurso]]="Residencia",IF(OR(OCTUBRE[[#This Row],[Fecha alta centro]]=0,AND(OCTUBRE[[#This Row],[FECHA FIN]]<$B$1,OCTUBRE[[#This Row],[FECHA FIN]]<>0),OCTUBRE[[#This Row],[Fecha alta centro]]>$B$2),0,IF(OR(OCTUBRE[[#This Row],[FECHA FIN]]=0,OCTUBRE[[#This Row],[FECHA FIN]]>$B$2),$B$2,OCTUBRE[[#This Row],[FECHA FIN]])-IF(OCTUBRE[[#This Row],[Fecha alta centro]]<$B$1,$B$1,OCTUBRE[[#This Row],[Fecha alta centro]])+1),IF(OR(OCTUBRE[[#This Row],[Fecha alta centro]]=0,AND(OCTUBRE[[#This Row],[FECHA FIN]]<$B$1,OCTUBRE[[#This Row],[FECHA FIN]]<>0),OCTUBRE[[#This Row],[Fecha alta centro]]>$B$2),0,IF(OR(OCTUBRE[[#This Row],[FECHA FIN]]=0,OCTUBRE[[#This Row],[FECHA FIN]]>$B$2),$B$2,OCTUBRE[[#This Row],[FECHA FIN]])-IF(OCTUBRE[[#This Row],[Fecha alta centro]]<$B$1,$B$1,OCTUBRE[[#This Row],[Fecha alta centro]])+1)*0.5*IF(LEFT(OCTUBRE[[#This Row],[Tipo de Recurso]],3)="1/3",1/3,IF(LEFT(OCTUBRE[[#This Row],[Tipo de Recurso]],3)="2/3",2/3,1))*248/365) -> 0
B9: Octubre | H9: =IF(OCTUBRE[[#This Row],[Tipo de Recurso]]="Residencia",IF(OR(OCTUBRE[[#This Row],[Fecha alta centro]]=0,AND(OCTUBRE[[#This Row],[FECHA FIN]]<$B$1,OCTUBRE[[#This Row],[FECHA FIN]]<>0),OCTUBRE[[#This Row],[Fecha alta centro]]>$B$2),0,IF(OR(OCTUBRE[[#This Row],[FECHA FIN]]=0,OCTUBRE[[#This Row],[FECHA FIN]]>$B$2),$B$2,OCTUBRE[[#This Row],[FECHA FIN]])-IF(OCTUBRE[[#This Row],[Fecha alta centro]]<$B$1,$B$1,OCTUBRE[[#This Row],[Fecha alta centro]])+1),IF(OR(OCTUBRE[[#This Row],[Fecha alta centro]]=0,AND(OCTUBRE[[#This Row],[FECHA FIN]]<$B$1,OCTUBRE[[#This Row],[FECHA FIN]]<>0),OCTUBRE[[#This Row],[Fecha alta centro]]>$B$2),0,IF(OR(OCTUBRE[[#This Row],[FECHA FIN]]=0,OCTUBRE[[#This Row],[FECHA FIN]]>$B$2),$B$2,OCTUBRE[[#This Row],[FECHA FIN]])-IF(OCTUBRE[[#This Row],[Fecha alta centro]]<$B$1,$B$1,OCTUBRE[[#This Row],[Fecha alta centro]])+1)*0.5*IF(LEFT(OCTUBRE[[#This Row],[Tipo de Recurso]],3)="1/3",1/3,IF(LEFT(OCTUBRE[[#This Row],[Tipo de Recurso]],3)="2/3",2/3,1))*248/365) -> 0
B10: Octubre | H10: =IF(OCTUBRE[[#This Row],[Tipo de Recurso]]="Residencia",IF(OR(OCTUBRE[[#This Row],[Fecha alta centro]]=0,AND(OCTUBRE[[#This Row],[FECHA FIN]]<$B$1,OCTUBRE[[#This Row],[FECHA FIN]]<>0),OCTUBRE[[#This Row],[Fecha alta centro]]>$B$2),0,IF(OR(OCTUBRE[[#This Row],[FECHA FIN]]=0,OCTUBRE[[#This Row],[FECHA FIN]]>$B$2),$B$2,OCTUBRE[[#This Row],[FECHA FIN]])-IF(OCTUBRE[[#This Row],[Fecha alta centro]]<$B$1,$B$1,OCTUBRE[[#This Row],[Fecha alta centro]])+1),IF(OR(OCTUBRE[[#This Row],[Fecha alta centro]]=0,AND(OCTUBRE[[#This Row],[FECHA FIN]]<$B$1,OCTUBRE[[#This Row],[FECHA FIN]]<>0),OCTUBRE[[#This Row],[Fecha alta centro]]>$B$2),0,IF(OR(OCTUBRE[[#This Row],[FECHA FIN]]=0,OCTUBRE[[#This Row],[FECHA FIN]]>$B$2),$B$2,OCTUBRE[[#This Row],[FECHA FIN]])-IF(OCTUBRE[[#This Row],[Fecha alta centro]]<$B$1,$B$1,OCTUBRE[[#This Row],[Fecha alta centro]])+1)*0.5*IF(LEFT(OCTUBRE[[#This Row],[Tipo de Recurso]],3)="1/3",1/3,IF(LEFT(OCTUBRE[[#This Row],[Tipo de Recurso]],3)="2/3",2/3,1))*248/365) -> 0
B11: Octubre | H11: =IF(OCTUBRE[[#This Row],[Tipo de Recurso]]="Residencia",IF(OR(OCTUBRE[[#This Row],[Fecha alta centro]]=0,AND(OCTUBRE[[#This Row],[FECHA FIN]]<$B$1,OCTUBRE[[#This Row],[FECHA FIN]]<>0),OCTUBRE[[#This Row],[Fecha alta centro]]>$B$2),0,IF(OR(OCTUBRE[[#This Row],[FECHA FIN]]=0,OCTUBRE[[#This Row],[FECHA FIN]]>$B$2),$B$2,OCTUBRE[[#This Row],[FECHA FIN]])-IF(OCTUBRE[[#This Row],[Fecha alta centro]]<$B$1,$B$1,OCTUBRE[[#This Row],[Fecha alta centro]])+1),IF(OR(OCTUBRE[[#This Row],[Fecha alta centro]]=0,AND(OCTUBRE[[#This Row],[FECHA FIN]]<$B$1,OCTUBRE[[#This Row],[FECHA FIN]]<>0),OCTUBRE[[#This Row],[Fecha alta centro]]>$B$2),0,IF(OR(OCTUBRE[[#This Row],[FECHA FIN]]=0,OCTUBRE[[#This Row],[FECHA FIN]]>$B$2),$B$2,OCTUBRE[[#This Row],[FECHA FIN]])-IF(OCTUBRE[[#This Row],[Fecha alta centro]]<$B$1,$B$1,OCTUBRE[[#This Row],[Fecha alta centro]])+1)*0.5*IF(LEFT(OCTUBRE[[#This Row],[Tipo de Recurso]],3)="1/3",1/3,IF(LEFT(OCTUBRE[[#This Row],[Tipo de Recurso]],3)="2/3",2/3,1))*248/365) -> 0
B12: Octubre | H12: =IF(OCTUBRE[[#This Row],[Tipo de Recurso]]="Residencia",IF(OR(OCTUBRE[[#This Row],[Fecha alta centro]]=0,AND(OCTUBRE[[#This Row],[FECHA FIN]]<$B$1,OCTUBRE[[#This Row],[FECHA FIN]]<>0),OCTUBRE[[#This Row],[Fecha alta centro]]>$B$2),0,IF(OR(OCTUBRE[[#This Row],[FECHA FIN]]=0,OCTUBRE[[#This Row],[FECHA FIN]]>$B$2),$B$2,OCTUBRE[[#This Row],[FECHA FIN]])-IF(OCTUBRE[[#This Row],[Fecha alta centro]]<$B$1,$B$1,OCTUBRE[[#This Row],[Fecha alta centro]])+1),IF(OR(OCTUBRE[[#This Row],[Fecha alta centro]]=0,AND(OCTUBRE[[#This Row],[FECHA FIN]]<$B$1,OCTUBRE[[#This Row],[FECHA FIN]]<>0),OCTUBRE[[#This Row],[Fecha alta centro]]>$B$2),0,IF(OR(OCTUBRE[[#This Row],[FECHA FIN]]=0,OCTUBRE[[#This Row],[FECHA FIN]]>$B$2),$B$2,OCTUBRE[[#This Row],[FECHA FIN]])-IF(OCTUBRE[[#This Row],[Fecha alta centro]]<$B$1,$B$1,OCTUBRE[[#This Row],[Fecha alta centro]])+1)*0.5*IF(LEFT(OCTUBRE[[#This Row],[Tipo de Recurso]],3)="1/3",1/3,IF(LEFT(OCTUBRE[[#This Row],[Tipo de Recurso]],3)="2/3",2/3,1))*248/365) -> 0
B13: Octubre | H13: =IF(OCTUBRE[[#This Row],[Tipo de Recurso]]="Residencia",IF(OR(OCTUBRE[[#This Row],[Fecha alta centro]]=0,AND(OCTUBRE[[#This Row],[FECHA FIN]]<$B$1,OCTUBRE[[#This Row],[FECHA FIN]]<>0),OCTUBRE[[#This Row],[Fecha alta centro]]>$B$2),0,IF(OR(OCTUBRE[[#This Row],[FECHA FIN]]=0,OCTUBRE[[#This Row],[FECHA FIN]]>$B$2),$B$2,OCTUBRE[[#This Row],[FECHA FIN]])-IF(OCTUBRE[[#This Row],[Fecha alta centro]]<$B$1,$B$1,OCTUBRE[[#This Row],[Fecha alta centro]])+1),IF(OR(OCTUBRE[[#This Row],[Fecha alta centro]]=0,AND(OCTUBRE[[#This Row],[FECHA FIN]]<$B$1,OCTUBRE[[#This Row],[FECHA FIN]]<>0),OCTUBRE[[#This Row],[Fecha alta centro]]>$B$2),0,IF(OR(OCTUBRE[[#This Row],[FECHA FIN]]=0,OCTUBRE[[#This Row],[FECHA FIN]]>$B$2),$B$2,OCTUBRE[[#This Row],[FECHA FIN]])-IF(OCTUBRE[[#This Row],[Fecha alta centro]]<$B$1,$B$1,OCTUBRE[[#This Row],[Fecha alta centro]])+1)*0.5*IF(LEFT(OCTUBRE[[#This Row],[Tipo de Recurso]],3)="1/3",1/3,IF(LEFT(OCTUBRE[[#This Row],[Tipo de Recurso]],3)="2/3",2/3,1))*248/365) -> 0
B14: Octubre | H14: =IF(OCTUBRE[[#This Row],[Tipo de Recurso]]="Residencia",IF(OR(OCTUBRE[[#This Row],[Fecha alta centro]]=0,AND(OCTUBRE[[#This Row],[FECHA FIN]]<$B$1,OCTUBRE[[#This Row],[FECHA FIN]]<>0),OCTUBRE[[#This Row],[Fecha alta centro]]>$B$2),0,IF(OR(OCTUBRE[[#This Row],[FECHA FIN]]=0,OCTUBRE[[#This Row],[FECHA FIN]]>$B$2),$B$2,OCTUBRE[[#This Row],[FECHA FIN]])-IF(OCTUBRE[[#This Row],[Fecha alta centro]]<$B$1,$B$1,OCTUBRE[[#This Row],[Fecha alta centro]])+1),IF(OR(OCTUBRE[[#This Row],[Fecha alta centro]]=0,AND(OCTUBRE[[#This Row],[FECHA FIN]]<$B$1,OCTUBRE[[#This Row],[FECHA FIN]]<>0),OCTUBRE[[#This Row],[Fecha alta centro]]>$B$2),0,IF(OR(OCTUBRE[[#This Row],[FECHA FIN]]=0,OCTUBRE[[#This Row],[FECHA FIN]]>$B$2),$B$2,OCTUBRE[[#This Row],[FECHA FIN]])-IF(OCTUBRE[[#This Row],[Fecha alta centro]]<$B$1,$B$1,OCTUBRE[[#This Row],[Fecha alta centro]])+1)*0.5*IF(LEFT(OCTUBRE[[#This Row],[Tipo de Recurso]],3)="1/3",1/3,IF(LEFT(OCTUBRE[[#This Row],[Tipo de Recurso]],3)="2/3",2/3,1))*248/365) -> 0
B15: Octubre | H15: =IF(OCTUBRE[[#This Row],[Tipo de Recurso]]="Residencia",IF(OR(OCTUBRE[[#This Row],[Fecha alta centro]]=0,AND(OCTUBRE[[#This Row],[FECHA FIN]]<$B$1,OCTUBRE[[#This Row],[FECHA FIN]]<>0),OCTUBRE[[#This Row],[Fecha alta centro]]>$B$2),0,IF(OR(OCTUBRE[[#This Row],[FECHA FIN]]=0,OCTUBRE[[#This Row],[FECHA FIN]]>$B$2),$B$2,OCTUBRE[[#This Row],[FECHA FIN]])-IF(OCTUBRE[[#This Row],[Fecha alta centro]]<$B$1,$B$1,OCTUBRE[[#This Row],[Fecha alta centro]])+1),IF(OR(OCTUBRE[[#This Row],[Fecha alta centro]]=0,AND(OCTUBRE[[#This Row],[FECHA FIN]]<$B$1,OCTUBRE[[#This Row],[FECHA FIN]]<>0),OCTUBRE[[#This Row],[Fecha alta centro]]>$B$2),0,IF(OR(OCTUBRE[[#This Row],[FECHA FIN]]=0,OCTUBRE[[#This Row],[FECHA FIN]]>$B$2),$B$2,OCTUBRE[[#This Row],[FECHA FIN]])-IF(OCTUBRE[[#This Row],[Fecha alta centro]]<$B$1,$B$1,OCTUBRE[[#This Row],[Fecha alta centro]])+1)*0.5*IF(LEFT(OCTUBRE[[#This Row],[Tipo de Recurso]],3)="1/3",1/3,IF(LEFT(OCTUBRE[[#This Row],[Tipo de Recurso]],3)="2/3",2/3,1))*248/365) -> 0
B16: Octubre | H16: =IF(OCTUBRE[[#This Row],[Tipo de Recurso]]="Residencia",IF(OR(OCTUBRE[[#This Row],[Fecha alta centro]]=0,AND(OCTUBRE[[#This Row],[FECHA FIN]]<$B$1,OCTUBRE[[#This Row],[FECHA FIN]]<>0),OCTUBRE[[#This Row],[Fecha alta centro]]>$B$2),0,IF(OR(OCTUBRE[[#This Row],[FECHA FIN]]=0,OCTUBRE[[#This Row],[FECHA FIN]]>$B$2),$B$2,OCTUBRE[[#This Row],[FECHA FIN]])-IF(OCTUBRE[[#This Row],[Fecha alta centro]]<$B$1,$B$1,OCTUBRE[[#This Row],[Fecha alta centro]])+1),IF(OR(OCTUBRE[[#This Row],[Fecha alta centro]]=0,AND(OCTUBRE[[#This Row],[FECHA FIN]]<$B$1,OCTUBRE[[#This Row],[FECHA FIN]]<>0),OCTUBRE[[#This Row],[Fecha alta centro]]>$B$2),0,IF(OR(OCTUBRE[[#This Row],[FECHA FIN]]=0,OCTUBRE[[#This Row],[FECHA FIN]]>$B$2),$B$2,OCTUBRE[[#This Row],[FECHA FIN]])-IF(OCTUBRE[[#This Row],[Fecha alta centro]]<$B$1,$B$1,OCTUBRE[[#This Row],[Fecha alta centro]])+1)*0.5*IF(LEFT(OCTUBRE[[#This Row],[Tipo de Recurso]],3)="1/3",1/3,IF(LEFT(OCTUBRE[[#This Row],[Tipo de Recurso]],3)="2/3",2/3,1))*248/365) -> 0
... B704: Octubre | H704: =IF(OCTUBRE[[#This Row],[Tipo de Recurso]]="Residencia",IF(OR(OCTUBRE[[#This Row],[Fecha alta centro]]=0,AND(OCTUBRE[[#This Row],[FECHA FIN]]<$B$1,OCTUBRE[[#This Row],[FECHA FIN]]<>0),OCTUBRE[[#This Row],[Fecha alta centro]]>$B$2),0,IF(OR(OCTUBRE[[#This Row],[FECHA FIN]]=0,OCTUBRE[[#This Row],[FECHA FIN]]>$B$2),$B$2,OCTUBRE[[#This Row],[FECHA FIN]])-IF(OCTUBRE[[#This Row],[Fecha alta centro]]<$B$1,$B$1,OCTUBRE[[#This Row],[Fecha alta centro]])+1),IF(OR(OCTUBRE[[#This Row],[Fecha alta centro]]=0,AND(OCTUBRE[[#This Row],[FECHA FIN]]<$B$1,OCTUBRE[[#This Row],[FECHA FIN]]<>0),OCTUBRE[[#This Row],[Fecha alta centro]]>$B$2),0,IF(OR(OCTUBRE[[#This Row],[FECHA FIN]]=0,OCTUBRE[[#This Row],[FECHA FIN]]>$B$2),$B$2,OCTUBRE[[#This Row],[FECHA FIN]])-IF(OCTUBRE[[#This Row],[Fecha alta centro]]<$B$1,$B$1,OCTUBRE[[#This Row],[Fecha alta centro]])+1)*0.5*IF(LEFT(OCTUBRE[[#This Row],[Tipo de Recurso]],3)="1/3",1/3,IF(LEFT(OCTUBRE[[#This Row],[Tipo de Recurso]],3)="2/3",2/3,1))*248/365) -> 0
B705: Total | G705: =SUBTOTAL(103,OCTUBRE[DEPENDIENTE/NO DEPENDIENTE Según valoración oficial]) -> 0 | H705: =SUBTOTAL(109,OCTUBRE[DIAS]) -> 0

Sheet Noviembre
A1: Periodo | B1: =EDATE(Octubre!B1,1) -> 46692
B2: =EOMONTH(B1,0) -> 46721
B3: OCUPACION NOVIEMBRE
B4: mes | C4: DNI de la persona usuaria | D4: Fecha alta centro | E4: FECHA FIN | F4: Tipo de Recurso | G4: DEPENDIENTE/NO DEPENDIENTE Según valoración oficial | H4: DIAS
B5: Noviembre | H5: =IF(NOVIEMBRE[[#This Row],[Tipo de Recurso]]="Residencia",IF(OR(NOVIEMBRE[[#This Row],[Fecha alta centro]]=0,AND(NOVIEMBRE[[#This Row],[FECHA FIN]]<$B$1,NOVIEMBRE[[#This Row],[FECHA FIN]]<>0),NOVIEMBRE[[#This Row],[Fecha alta centro]]>$B$2),0,IF(OR(NOVIEMBRE[[#This Row],[FECHA FIN]]=0,NOVIEMBRE[[#This Row],[FECHA FIN]]>$B$2),$B$2,NOVIEMBRE[[#This Row],[FECHA FIN]])-IF(NOVIEMBRE[[#This Row],[Fecha alta centro]]<$B$1,$B$1,NOVIEMBRE[[#This Row],[Fecha alta centro]])+1),IF(OR(NOVIEMBRE[[#This Row],[Fecha alta centro]]=0,AND(NOVIEMBRE[[#This Row],[FECHA FIN]]<$B$1,NOVIEMBRE[[#This Row],[FECHA FIN]]<>0),NOVIEMBRE[[#This Row],[Fecha alta centro]]>$B$2),0,IF(OR(NOVIEMBRE[[#This Row],[FECHA FIN]]=0,NOVIEMBRE[[#This Row],[FECHA FIN]]>$B$2),$B$2,NOVIEMBRE[[#This Row],[FECHA FIN]])-IF(NOVIEMBRE[[#This Row],[Fecha alta centro]]<$B$1,$B$1,NOVIEMBRE[[#This Row],[Fecha alta centro]])+1)*0.5*IF(LEFT(NOVIEMBRE[[#This Row],[Tipo de Recurso]],3)="1/3",1/3,IF(LEFT(NOVIEMBRE[[#This Row],[Tipo de Recurso]],3)="2/3",2/3,1))*248/365) -> 0
B6: Noviembre | H6: =IF(NOVIEMBRE[[#This Row],[Tipo de Recurso]]="Residencia",IF(OR(NOVIEMBRE[[#This Row],[Fecha alta centro]]=0,AND(NOVIEMBRE[[#This Row],[FECHA FIN]]<$B$1,NOVIEMBRE[[#This Row],[FECHA FIN]]<>0),NOVIEMBRE[[#This Row],[Fecha alta centro]]>$B$2),0,IF(OR(NOVIEMBRE[[#This Row],[FECHA FIN]]=0,NOVIEMBRE[[#This Row],[FECHA FIN]]>$B$2),$B$2,NOVIEMBRE[[#This Row],[FECHA FIN]])-IF(NOVIEMBRE[[#This Row],[Fecha alta centro]]<$B$1,$B$1,NOVIEMBRE[[#This Row],[Fecha alta centro]])+1),IF(OR(NOVIEMBRE[[#This Row],[Fecha alta centro]]=0,AND(NOVIEMBRE[[#This Row],[FECHA FIN]]<$B$1,NOVIEMBRE[[#This Row],[FECHA FIN]]<>0),NOVIEMBRE[[#This Row],[Fecha alta centro]]>$B$2),0,IF(OR(NOVIEMBRE[[#This Row],[FECHA FIN]]=0,NOVIEMBRE[[#This Row],[FECHA FIN]]>$B$2),$B$2,NOVIEMBRE[[#This Row],[FECHA FIN]])-IF(NOVIEMBRE[[#This Row],[Fecha alta centro]]<$B$1,$B$1,NOVIEMBRE[[#This Row],[Fecha alta centro]])+1)*0.5*IF(LEFT(NOVIEMBRE[[#This Row],[Tipo de Recurso]],3)="1/3",1/3,IF(LEFT(NOVIEMBRE[[#This Row],[Tipo de Recurso]],3)="2/3",2/3,1))*248/365) -> 0
B7: Noviembre | H7: =IF(NOVIEMBRE[[#This Row],[Tipo de Recurso]]="Residencia",IF(OR(NOVIEMBRE[[#This Row],[Fecha alta centro]]=0,AND(NOVIEMBRE[[#This Row],[FECHA FIN]]<$B$1,NOVIEMBRE[[#This Row],[FECHA FIN]]<>0),NOVIEMBRE[[#This Row],[Fecha alta centro]]>$B$2),0,IF(OR(NOVIEMBRE[[#This Row],[FECHA FIN]]=0,NOVIEMBRE[[#This Row],[FECHA FIN]]>$B$2),$B$2,NOVIEMBRE[[#This Row],[FECHA FIN]])-IF(NOVIEMBRE[[#This Row],[Fecha alta centro]]<$B$1,$B$1,NOVIEMBRE[[#This Row],[Fecha alta centro]])+1),IF(OR(NOVIEMBRE[[#This Row],[Fecha alta centro]]=0,AND(NOVIEMBRE[[#This Row],[FECHA FIN]]<$B$1,NOVIEMBRE[[#This Row],[FECHA FIN]]<>0),NOVIEMBRE[[#This Row],[Fecha alta centro]]>$B$2),0,IF(OR(NOVIEMBRE[[#This Row],[FECHA FIN]]=0,NOVIEMBRE[[#This Row],[FECHA FIN]]>$B$2),$B$2,NOVIEMBRE[[#This Row],[FECHA FIN]])-IF(NOVIEMBRE[[#This Row],[Fecha alta centro]]<$B$1,$B$1,NOVIEMBRE[[#This Row],[Fecha alta centro]])+1)*0.5*IF(LEFT(NOVIEMBRE[[#This Row],[Tipo de Recurso]],3)="1/3",1/3,IF(LEFT(NOVIEMBRE[[#This Row],[Tipo de Recurso]],3)="2/3",2/3,1))*248/365) -> 0
B8: Noviembre | H8: =IF(NOVIEMBRE[[#This Row],[Tipo de Recurso]]="Residencia",IF(OR(NOVIEMBRE[[#This Row],[Fecha alta centro]]=0,AND(NOVIEMBRE[[#This Row],[FECHA FIN]]<$B$1,NOVIEMBRE[[#This Row],[FECHA FIN]]<>0),NOVIEMBRE[[#This Row],[Fecha alta centro]]>$B$2),0,IF(OR(NOVIEMBRE[[#This Row],[FECHA FIN]]=0,NOVIEMBRE[[#This Row],[FECHA FIN]]>$B$2),$B$2,NOVIEMBRE[[#This Row],[FECHA FIN]])-IF(NOVIEMBRE[[#This Row],[Fecha alta centro]]<$B$1,$B$1,NOVIEMBRE[[#This Row],[Fecha alta centro]])+1),IF(OR(NOVIEMBRE[[#This Row],[Fecha alta centro]]=0,AND(NOVIEMBRE[[#This Row],[FECHA FIN]]<$B$1,NOVIEMBRE[[#This Row],[FECHA FIN]]<>0),NOVIEMBRE[[#This Row],[Fecha alta centro]]>$B$2),0,IF(OR(NOVIEMBRE[[#This Row],[FECHA FIN]]=0,NOVIEMBRE[[#This Row],[FECHA FIN]]>$B$2),$B$2,NOVIEMBRE[[#This Row],[FECHA FIN]])-IF(NOVIEMBRE[[#This Row],[Fecha alta centro]]<$B$1,$B$1,NOVIEMBRE[[#This Row],[Fecha alta centro]])+1)*0.5*IF(LEFT(NOVIEMBRE[[#This Row],[Tipo de Recurso]],3)="1/3",1/3,IF(LEFT(NOVIEMBRE[[#This Row],[Tipo de Recurso]],3)="2/3",2/3,1))*248/365) -> 0
B9: Noviembre | H9: =IF(NOVIEMBRE[[#This Row],[Tipo de Recurso]]="Residencia",IF(OR(NOVIEMBRE[[#This Row],[Fecha alta centro]]=0,AND(NOVIEMBRE[[#This Row],[FECHA FIN]]<$B$1,NOVIEMBRE[[#This Row],[FECHA FIN]]<>0),NOVIEMBRE[[#This Row],[Fecha alta centro]]>$B$2),0,IF(OR(NOVIEMBRE[[#This Row],[FECHA FIN]]=0,NOVIEMBRE[[#This Row],[FECHA FIN]]>$B$2),$B$2,NOVIEMBRE[[#This Row],[FECHA FIN]])-IF(NOVIEMBRE[[#This Row],[Fecha alta centro]]<$B$1,$B$1,NOVIEMBRE[[#This Row],[Fecha alta centro]])+1),IF(OR(NOVIEMBRE[[#This Row],[Fecha alta centro]]=0,AND(NOVIEMBRE[[#This Row],[FECHA FIN]]<$B$1,NOVIEMBRE[[#This Row],[FECHA FIN]]<>0),NOVIEMBRE[[#This Row],[Fecha alta centro]]>$B$2),0,IF(OR(NOVIEMBRE[[#This Row],[FECHA FIN]]=0,NOVIEMBRE[[#This Row],[FECHA FIN]]>$B$2),$B$2,NOVIEMBRE[[#This Row],[FECHA FIN]])-IF(NOVIEMBRE[[#This Row],[Fecha alta centro]]<$B$1,$B$1,NOVIEMBRE[[#This Row],[Fecha alta centro]])+1)*0.5*IF(LEFT(NOVIEMBRE[[#This Row],[Tipo de Recurso]],3)="1/3",1/3,IF(LEFT(NOVIEMBRE[[#This Row],[Tipo de Recurso]],3)="2/3",2/3,1))*248/365) -> 0
B10: Noviembre | H10: =IF(NOVIEMBRE[[#This Row],[Tipo de Recurso]]="Residencia",IF(OR(NOVIEMBRE[[#This Row],[Fecha alta centro]]=0,AND(NOVIEMBRE[[#This Row],[FECHA FIN]]<$B$1,NOVIEMBRE[[#This Row],[FECHA FIN]]<>0),NOVIEMBRE[[#This Row],[Fecha alta centro]]>$B$2),0,IF(OR(NOVIEMBRE[[#This Row],[FECHA FIN]]=0,NOVIEMBRE[[#This Row],[FECHA FIN]]>$B$2),$B$2,NOVIEMBRE[[#This Row],[FECHA FIN]])-IF(NOVIEMBRE[[#This Row],[Fecha alta centro]]<$B$1,$B$1,NOVIEMBRE[[#This Row],[Fecha alta centro]])+1),IF(OR(NOVIEMBRE[[#This Row],[Fecha alta centro]]=0,AND(NOVIEMBRE[[#This Row],[FECHA FIN]]<$B$1,NOVIEMBRE[[#This Row],[FECHA FIN]]<>0),NOVIEMBRE[[#This Row],[Fecha alta centro]]>$B$2),0,IF(OR(NOVIEMBRE[[#This Row],[FECHA FIN]]=0,NOVIEMBRE[[#This Row],[FECHA FIN]]>$B$2),$B$2,NOVIEMBRE[[#This Row],[FECHA FIN]])-IF(NOVIEMBRE[[#This Row],[Fecha alta centro]]<$B$1,$B$1,NOVIEMBRE[[#This Row],[Fecha alta centro]])+1)*0.5*IF(LEFT(NOVIEMBRE[[#This Row],[Tipo de Recurso]],3)="1/3",1/3,IF(LEFT(NOVIEMBRE[[#This Row],[Tipo de Recurso]],3)="2/3",2/3,1))*248/365) -> 0
B11: Noviembre | H11: =IF(NOVIEMBRE[[#This Row],[Tipo de Recurso]]="Residencia",IF(OR(NOVIEMBRE[[#This Row],[Fecha alta centro]]=0,AND(NOVIEMBRE[[#This Row],[FECHA FIN]]<$B$1,NOVIEMBRE[[#This Row],[FECHA FIN]]<>0),NOVIEMBRE[[#This Row],[Fecha alta centro]]>$B$2),0,IF(OR(NOVIEMBRE[[#This Row],[FECHA FIN]]=0,NOVIEMBRE[[#This Row],[FECHA FIN]]>$B$2),$B$2,NOVIEMBRE[[#This Row],[FECHA FIN]])-IF(NOVIEMBRE[[#This Row],[Fecha alta centro]]<$B$1,$B$1,NOVIEMBRE[[#This Row],[Fecha alta centro]])+1),IF(OR(NOVIEMBRE[[#This Row],[Fecha alta centro]]=0,AND(NOVIEMBRE[[#This Row],[FECHA FIN]]<$B$1,NOVIEMBRE[[#This Row],[FECHA FIN]]<>0),NOVIEMBRE[[#This Row],[Fecha alta centro]]>$B$2),0,IF(OR(NOVIEMBRE[[#This Row],[FECHA FIN]]=0,NOVIEMBRE[[#This Row],[FECHA FIN]]>$B$2),$B$2,NOVIEMBRE[[#This Row],[FECHA FIN]])-IF(NOVIEMBRE[[#This Row],[Fecha alta centro]]<$B$1,$B$1,NOVIEMBRE[[#This Row],[Fecha alta centro]])+1)*0.5*IF(LEFT(NOVIEMBRE[[#This Row],[Tipo de Recurso]],3)="1/3",1/3,IF(LEFT(NOVIEMBRE[[#This Row],[Tipo de Recurso]],3)="2/3",2/3,1))*248/365) -> 0
B12: Noviembre | H12: =IF(NOVIEMBRE[[#This Row],[Tipo de Recurso]]="Residencia",IF(OR(NOVIEMBRE[[#This Row],[Fecha alta centro]]=0,AND(NOVIEMBRE[[#This Row],[FECHA FIN]]<$B$1,NOVIEMBRE[[#This Row],[FECHA FIN]]<>0),NOVIEMBRE[[#This Row],[Fecha alta centro]]>$B$2),0,IF(OR(NOVIEMBRE[[#This Row],[FECHA FIN]]=0,NOVIEMBRE[[#This Row],[FECHA FIN]]>$B$2),$B$2,NOVIEMBRE[[#This Row],[FECHA FIN]])-IF(NOVIEMBRE[[#This Row],[Fecha alta centro]]<$B$1,$B$1,NOVIEMBRE[[#This Row],[Fecha alta centro]])+1),IF(OR(NOVIEMBRE[[#This Row],[Fecha alta centro]]=0,AND(NOVIEMBRE[[#This Row],[FECHA FIN]]<$B$1,NOVIEMBRE[[#This Row],[FECHA FIN]]<>0),NOVIEMBRE[[#This Row],[Fecha alta centro]]>$B$2),0,IF(OR(NOVIEMBRE[[#This Row],[FECHA FIN]]=0,NOVIEMBRE[[#This Row],[FECHA FIN]]>$B$2),$B$2,NOVIEMBRE[[#This Row],[FECHA FIN]])-IF(NOVIEMBRE[[#This Row],[Fecha alta centro]]<$B$1,$B$1,NOVIEMBRE[[#This Row],[Fecha alta centro]])+1)*0.5*IF(LEFT(NOVIEMBRE[[#This Row],[Tipo de Recurso]],3)="1/3",1/3,IF(LEFT(NOVIEMBRE[[#This Row],[Tipo de Recurso]],3)="2/3",2/3,1))*248/365) -> 0
B13: Noviembre | H13: =IF(NOVIEMBRE[[#This Row],[Tipo de Recurso]]="Residencia",IF(OR(NOVIEMBRE[[#This Row],[Fecha alta centro]]=0,AND(NOVIEMBRE[[#This Row],[FECHA FIN]]<$B$1,NOVIEMBRE[[#This Row],[FECHA FIN]]<>0),NOVIEMBRE[[#This Row],[Fecha alta centro]]>$B$2),0,IF(OR(NOVIEMBRE[[#This Row],[FECHA FIN]]=0,NOVIEMBRE[[#This Row],[FECHA FIN]]>$B$2),$B$2,NOVIEMBRE[[#This Row],[FECHA FIN]])-IF(NOVIEMBRE[[#This Row],[Fecha alta centro]]<$B$1,$B$1,NOVIEMBRE[[#This Row],[Fecha alta centro]])+1),IF(OR(NOVIEMBRE[[#This Row],[Fecha alta centro]]=0,AND(NOVIEMBRE[[#This Row],[FECHA FIN]]<$B$1,NOVIEMBRE[[#This Row],[FECHA FIN]]<>0),NOVIEMBRE[[#This Row],[Fecha alta centro]]>$B$2),0,IF(OR(NOVIEMBRE[[#This Row],[FECHA FIN]]=0,NOVIEMBRE[[#This Row],[FECHA FIN]]>$B$2),$B$2,NOVIEMBRE[[#This Row],[FECHA FIN]])-IF(NOVIEMBRE[[#This Row],[Fecha alta centro]]<$B$1,$B$1,NOVIEMBRE[[#This Row],[Fecha alta centro]])+1)*0.5*IF(LEFT(NOVIEMBRE[[#This Row],[Tipo de Recurso]],3)="1/3",1/3,IF(LEFT(NOVIEMBRE[[#This Row],[Tipo de Recurso]],3)="2/3",2/3,1))*248/365) -> 0
B14: Noviembre | H14: =IF(NOVIEMBRE[[#This Row],[Tipo de Recurso]]="Residencia",IF(OR(NOVIEMBRE[[#This Row],[Fecha alta centro]]=0,AND(NOVIEMBRE[[#This Row],[FECHA FIN]]<$B$1,NOVIEMBRE[[#This Row],[FECHA FIN]]<>0),NOVIEMBRE[[#This Row],[Fecha alta centro]]>$B$2),0,IF(OR(NOVIEMBRE[[#This Row],[FECHA FIN]]=0,NOVIEMBRE[[#This Row],[FECHA FIN]]>$B$2),$B$2,NOVIEMBRE[[#This Row],[FECHA FIN]])-IF(NOVIEMBRE[[#This Row],[Fecha alta centro]]<$B$1,$B$1,NOVIEMBRE[[#This Row],[Fecha alta centro]])+1),IF(OR(NOVIEMBRE[[#This Row],[Fecha alta centro]]=0,AND(NOVIEMBRE[[#This Row],[FECHA FIN]]<$B$1,NOVIEMBRE[[#This Row],[FECHA FIN]]<>0),NOVIEMBRE[[#This Row],[Fecha alta centro]]>$B$2),0,IF(OR(NOVIEMBRE[[#This Row],[FECHA FIN]]=0,NOVIEMBRE[[#This Row],[FECHA FIN]]>$B$2),$B$2,NOVIEMBRE[[#This Row],[FECHA FIN]])-IF(NOVIEMBRE[[#This Row],[Fecha alta centro]]<$B$1,$B$1,NOVIEMBRE[[#This Row],[Fecha alta centro]])+1)*0.5*IF(LEFT(NOVIEMBRE[[#This Row],[Tipo de Recurso]],3)="1/3",1/3,IF(LEFT(NOVIEMBRE[[#This Row],[Tipo de Recurso]],3)="2/3",2/3,1))*248/365) -> 0
B15: Noviembre | H15: =IF(NOVIEMBRE[[#This Row],[Tipo de Recurso]]="Residencia",IF(OR(NOVIEMBRE[[#This Row],[Fecha alta centro]]=0,AND(NOVIEMBRE[[#This Row],[FECHA FIN]]<$B$1,NOVIEMBRE[[#This Row],[FECHA FIN]]<>0),NOVIEMBRE[[#This Row],[Fecha alta centro]]>$B$2),0,IF(OR(NOVIEMBRE[[#This Row],[FECHA FIN]]=0,NOVIEMBRE[[#This Row],[FECHA FIN]]>$B$2),$B$2,NOVIEMBRE[[#This Row],[FECHA FIN]])-IF(NOVIEMBRE[[#This Row],[Fecha alta centro]]<$B$1,$B$1,NOVIEMBRE[[#This Row],[Fecha alta centro]])+1),IF(OR(NOVIEMBRE[[#This Row],[Fecha alta centro]]=0,AND(NOVIEMBRE[[#This Row],[FECHA FIN]]<$B$1,NOVIEMBRE[[#This Row],[FECHA FIN]]<>0),NOVIEMBRE[[#This Row],[Fecha alta centro]]>$B$2),0,IF(OR(NOVIEMBRE[[#This Row],[FECHA FIN]]=0,NOVIEMBRE[[#This Row],[FECHA FIN]]>$B$2),$B$2,NOVIEMBRE[[#This Row],[FECHA FIN]])-IF(NOVIEMBRE[[#This Row],[Fecha alta centro]]<$B$1,$B$1,NOVIEMBRE[[#This Row],[Fecha alta centro]])+1)*0.5*IF(LEFT(NOVIEMBRE[[#This Row],[Tipo de Recurso]],3)="1/3",1/3,IF(LEFT(NOVIEMBRE[[#This Row],[Tipo de Recurso]],3)="2/3",2/3,1))*248/365) -> 0
B16: Noviembre | H16: =IF(NOVIEMBRE[[#This Row],[Tipo de Recurso]]="Residencia",IF(OR(NOVIEMBRE[[#This Row],[Fecha alta centro]]=0,AND(NOVIEMBRE[[#This Row],[FECHA FIN]]<$B$1,NOVIEMBRE[[#This Row],[FECHA FIN]]<>0),NOVIEMBRE[[#This Row],[Fecha alta centro]]>$B$2),0,IF(OR(NOVIEMBRE[[#This Row],[FECHA FIN]]=0,NOVIEMBRE[[#This Row],[FECHA FIN]]>$B$2),$B$2,NOVIEMBRE[[#This Row],[FECHA FIN]])-IF(NOVIEMBRE[[#This Row],[Fecha alta centro]]<$B$1,$B$1,NOVIEMBRE[[#This Row],[Fecha alta centro]])+1),IF(OR(NOVIEMBRE[[#This Row],[Fecha alta centro]]=0,AND(NOVIEMBRE[[#This Row],[FECHA FIN]]<$B$1,NOVIEMBRE[[#This Row],[FECHA FIN]]<>0),NOVIEMBRE[[#This Row],[Fecha alta centro]]>$B$2),0,IF(OR(NOVIEMBRE[[#This Row],[FECHA FIN]]=0,NOVIEMBRE[[#This Row],[FECHA FIN]]>$B$2),$B$2,NOVIEMBRE[[#This Row],[FECHA FIN]])-IF(NOVIEMBRE[[#This Row],[Fecha alta centro]]<$B$1,$B$1,NOVIEMBRE[[#This Row],[Fecha alta centro]])+1)*0.5*IF(LEFT(NOVIEMBRE[[#This Row],[Tipo de Recurso]],3)="1/3",1/3,IF(LEFT(NOVIEMBRE[[#This Row],[Tipo de Recurso]],3)="2/3",2/3,1))*248/365) -> 0
... B202: Noviembre | H202: =IF(NOVIEMBRE[[#This Row],[Tipo de Recurso]]="Residencia",IF(OR(NOVIEMBRE[[#This Row],[Fecha alta centro]]=0,AND(NOVIEMBRE[[#This Row],[FECHA FIN]]<$B$1,NOVIEMBRE[[#This Row],[FECHA FIN]]<>0),NOVIEMBRE[[#This Row],[Fecha alta centro]]>$B$2),0,IF(OR(NOVIEMBRE[[#This Row],[FECHA FIN]]=0,NOVIEMBRE[[#This Row],[FECHA FIN]]>$B$2),$B$2,NOVIEMBRE[[#This Row],[FECHA FIN]])-IF(NOVIEMBRE[[#This Row],[Fecha alta centro]]<$B$1,$B$1,NOVIEMBRE[[#This Row],[Fecha alta centro]])+1),IF(OR(NOVIEMBRE[[#This Row],[Fecha alta centro]]=0,AND(NOVIEMBRE[[#This Row],[FECHA FIN]]<$B$1,NOVIEMBRE[[#This Row],[FECHA FIN]]<>0),NOVIEMBRE[[#This Row],[Fecha alta centro]]>$B$2),0,IF(OR(NOVIEMBRE[[#This Row],[FECHA FIN]]=0,NOVIEMBRE[[#This Row],[FECHA FIN]]>$B$2),$B$2,NOVIEMBRE[[#This Row],[FECHA FIN]])-IF(NOVIEMBRE[[#This Row],[Fecha alta centro]]<$B$1,$B$1,NOVIEMBRE[[#This Row],[Fecha alta centro]])+1)*0.5*IF(LEFT(NOVIEMBRE[[#This Row],[Tipo de Recurso]],3)="1/3",1/3,IF(LEFT(NOVIEMBRE[[#This Row],[Tipo de Recurso]],3)="2/3",2/3,1))*248/365) -> 0
H203: =IF(NOVIEMBRE[[#This Row],[Tipo de Recurso]]="Residencia",IF(OR(NOVIEMBRE[[#This Row],[Fecha alta centro]]=0,AND(NOVIEMBRE[[#This Row],[FECHA FIN]]<$B$1,NOVIEMBRE[[#This Row],[FECHA FIN]]<>0),NOVIEMBRE[[#This Row],[Fecha alta centro]]>$B$2),0,IF(OR(NOVIEMBRE[[#This Row],[FECHA FIN]]=0,NOVIEMBRE[[#This Row],[FECHA FIN]]>$B$2),$B$2,NOVIEMBRE[[#This Row],[FECHA FIN]])-IF(NOVIEMBRE[[#This Row],[Fecha alta centro]]<$B$1,$B$1,NOVIEMBRE[[#This Row],[Fecha alta centro]])+1),IF(OR(NOVIEMBRE[[#This Row],[Fecha alta centro]]=0,AND(NOVIEMBRE[[#This Row],[FECHA FIN]]<$B$1,NOVIEMBRE[[#This Row],[FECHA FIN]]<>0),NOVIEMBRE[[#This Row],[Fecha alta centro]]>$B$2),0,IF(OR(NOVIEMBRE[[#This Row],[FECHA FIN]]=0,NOVIEMBRE[[#This Row],[FECHA FIN]]>$B$2),$B$2,NOVIEMBRE[[#This Row],[FECHA FIN]])-IF(NOVIEMBRE[[#This Row],[Fecha alta centro]]<$B$1,$B$1,NOVIEMBRE[[#This Row],[Fecha alta centro]])+1)*0.5*IF(LEFT(NOVIEMBRE[[#This Row],[Tipo de Recurso]],3)="1/3",1/3,IF(LEFT(NOVIEMBRE[[#This Row],[Tipo de Recurso]],3)="2/3",2/3,1))*248/365) -> 0
H204: =IF(NOVIEMBRE[[#This Row],[Tipo de Recurso]]="Residencia",IF(OR(NOVIEMBRE[[#This Row],[Fecha alta centro]]=0,AND(NOVIEMBRE[[#This Row],[FECHA FIN]]<$B$1,NOVIEMBRE[[#This Row],[FECHA FIN]]<>0),NOVIEMBRE[[#This Row],[Fecha alta centro]]>$B$2),0,IF(OR(NOVIEMBRE[[#This Row],[FECHA FIN]]=0,NOVIEMBRE[[#This Row],[FECHA FIN]]>$B$2),$B$2,NOVIEMBRE[[#This Row],[FECHA FIN]])-IF(NOVIEMBRE[[#This Row],[Fecha alta centro]]<$B$1,$B$1,NOVIEMBRE[[#This Row],[Fecha alta centro]])+1),IF(OR(NOVIEMBRE[[#This Row],[Fecha alta centro]]=0,AND(NOVIEMBRE[[#This Row],[FECHA FIN]]<$B$1,NOVIEMBRE[[#This Row],[FECHA FIN]]<>0),NOVIEMBRE[[#This Row],[Fecha alta centro]]>$B$2),0,IF(OR(NOVIEMBRE[[#This Row],[FECHA FIN]]=0,NOVIEMBRE[[#This Row],[FECHA FIN]]>$B$2),$B$2,NOVIEMBRE[[#This Row],[FECHA FIN]])-IF(NOVIEMBRE[[#This Row],[Fecha alta centro]]<$B$1,$B$1,NOVIEMBRE[[#This Row],[Fecha alta centro]])+1)*0.5*IF(LEFT(NOVIEMBRE[[#This Row],[Tipo de Recurso]],3)="1/3",1/3,IF(LEFT(NOVIEMBRE[[#This Row],[Tipo de Recurso]],3)="2/3",2/3,1))*248/365) -> 0
H205: =IF(NOVIEMBRE[[#This Row],[Tipo de Recurso]]="Residencia",IF(OR(NOVIEMBRE[[#This Row],[Fecha alta centro]]=0,AND(NOVIEMBRE[[#This Row],[FECHA FIN]]<$B$1,NOVIEMBRE[[#This Row],[FECHA FIN]]<>0),NOVIEMBRE[[#This Row],[Fecha alta centro]]>$B$2),0,IF(OR(NOVIEMBRE[[#This Row],[FECHA FIN]]=0,NOVIEMBRE[[#This Row],[FECHA FIN]]>$B$2),$B$2,NOVIEMBRE[[#This Row],[FECHA FIN]])-IF(NOVIEMBRE[[#This Row],[Fecha alta centro]]<$B$1,$B$1,NOVIEMBRE[[#This Row],[Fecha alta centro]])+1),IF(OR(NOVIEMBRE[[#This Row],[Fecha alta centro]]=0,AND(NOVIEMBRE[[#This Row],[FECHA FIN]]<$B$1,NOVIEMBRE[[#This Row],[FECHA FIN]]<>0),NOVIEMBRE[[#This Row],[Fecha alta centro]]>$B$2),0,IF(OR(NOVIEMBRE[[#This Row],[FECHA FIN]]=0,NOVIEMBRE[[#This Row],[FECHA FIN]]>$B$2),$B$2,NOVIEMBRE[[#This Row],[FECHA FIN]])-IF(NOVIEMBRE[[#This Row],[Fecha alta centro]]<$B$1,$B$1,NOVIEMBRE[[#This Row],[Fecha alta centro]])+1)*0.5*IF(LEFT(NOVIEMBRE[[#This Row],[Tipo de Recurso]],3)="1/3",1/3,IF(LEFT(NOVIEMBRE[[#This Row],[Tipo de Recurso]],3)="2/3",2/3,1))*248/365) -> 0
H206: =IF(NOVIEMBRE[[#This Row],[Tipo de Recurso]]="Residencia",IF(OR(NOVIEMBRE[[#This Row],[Fecha alta centro]]=0,AND(NOVIEMBRE[[#This Row],[FECHA FIN]]<$B$1,NOVIEMBRE[[#This Row],[FECHA FIN]]<>0),NOVIEMBRE[[#This Row],[Fecha alta centro]]>$B$2),0,IF(OR(NOVIEMBRE[[#This Row],[FECHA FIN]]=0,NOVIEMBRE[[#This Row],[FECHA FIN]]>$B$2),$B$2,NOVIEMBRE[[#This Row],[FECHA FIN]])-IF(NOVIEMBRE[[#This Row],[Fecha alta centro]]<$B$1,$B$1,NOVIEMBRE[[#This Row],[Fecha alta centro]])+1),IF(OR(NOVIEMBRE[[#This Row],[Fecha alta centro]]=0,AND(NOVIEMBRE[[#This Row],[FECHA FIN]]<$B$1,NOVIEMBRE[[#This Row],[FECHA FIN]]<>0),NOVIEMBRE[[#This Row],[Fecha alta centro]]>$B$2),0,IF(OR(NOVIEMBRE[[#This Row],[FECHA FIN]]=0,NOVIEMBRE[[#This Row],[FECHA FIN]]>$B$2),$B$2,NOVIEMBRE[[#This Row],[FECHA FIN]])-IF(NOVIEMBRE[[#This Row],[Fecha alta centro]]<$B$1,$B$1,NOVIEMBRE[[#This Row],[Fecha alta centro]])+1)*0.5*IF(LEFT(NOVIEMBRE[[#This Row],[Tipo de Recurso]],3)="1/3",1/3,IF(LEFT(NOVIEMBRE[[#This Row],[Tipo de Recurso]],3)="2/3",2/3,1))*248/365) -> 0
H207: =IF(NOVIEMBRE[[#This Row],[Tipo de Recurso]]="Residencia",IF(OR(NOVIEMBRE[[#This Row],[Fecha alta centro]]=0,AND(NOVIEMBRE[[#This Row],[FECHA FIN]]<$B$1,NOVIEMBRE[[#This Row],[FECHA FIN]]<>0),NOVIEMBRE[[#This Row],[Fecha alta centro]]>$B$2),0,IF(OR(NOVIEMBRE[[#This Row],[FECHA FIN]]=0,NOVIEMBRE[[#This Row],[FECHA FIN]]>$B$2),$B$2,NOVIEMBRE[[#This Row],[FECHA FIN]])-IF(NOVIEMBRE[[#This Row],[Fecha alta centro]]<$B$1,$B$1,NOVIEMBRE[[#This Row],[Fecha alta centro]])+1),IF(OR(NOVIEMBRE[[#This Row],[Fecha alta centro]]=0,AND(NOVIEMBRE[[#This Row],[FECHA FIN]]<$B$1,NOVIEMBRE[[#This Row],[FECHA FIN]]<>0),NOVIEMBRE[[#This Row],[Fecha alta centro]]>$B$2),0,IF(OR(NOVIEMBRE[[#This Row],[FECHA FIN]]=0,NOVIEMBRE[[#This Row],[FECHA FIN]]>$B$2),$B$2,NOVIEMBRE[[#This Row],[FECHA FIN]])-IF(NOVIEMBRE[[#This Row],[Fecha alta centro]]<$B$1,$B$1,NOVIEMBRE[[#This Row],[Fecha alta centro]])+1)*0.5*IF(LEFT(NOVIEMBRE[[#This Row],[Tipo de Recurso]],3)="1/3",1/3,IF(LEFT(NOVIEMBRE[[#This Row],[Tipo de Recurso]],3)="2/3",2/3,1))*248/365) -> 0
H208: =IF(NOVIEMBRE[[#This Row],[Tipo de Recurso]]="Residencia",IF(OR(NOVIEMBRE[[#This Row],[Fecha alta centro]]=0,AND(NOVIEMBRE[[#This Row],[FECHA FIN]]<$B$1,NOVIEMBRE[[#This Row],[FECHA FIN]]<>0),NOVIEMBRE[[#This Row],[Fecha alta centro]]>$B$2),0,IF(OR(NOVIEMBRE[[#This Row],[FECHA FIN]]=0,NOVIEMBRE[[#This Row],[FECHA FIN]]>$B$2),$B$2,NOVIEMBRE[[#This Row],[FECHA FIN]])-IF(NOVIEMBRE[[#This Row],[Fecha alta centro]]<$B$1,$B$1,NOVIEMBRE[[#This Row],[Fecha alta centro]])+1),IF(OR(NOVIEMBRE[[#This Row],[Fecha alta centro]]=0,AND(NOVIEMBRE[[#This Row],[FECHA FIN]]<$B$1,NOVIEMBRE[[#This Row],[FECHA FIN]]<>0),NOVIEMBRE[[#This Row],[Fecha alta centro]]>$B$2),0,IF(OR(NOVIEMBRE[[#This Row],[FECHA FIN]]=0,NOVIEMBRE[[#This Row],[FECHA FIN]]>$B$2),$B$2,NOVIEMBRE[[#This Row],[FECHA FIN]])-IF(NOVIEMBRE[[#This Row],[Fecha alta centro]]<$B$1,$B$1,NOVIEMBRE[[#This Row],[Fecha alta centro]])+1)*0.5*IF(LEFT(NOVIEMBRE[[#This Row],[Tipo de Recurso]],3)="1/3",1/3,IF(LEFT(NOVIEMBRE[[#This Row],[Tipo de Recurso]],3)="2/3",2/3,1))*248/365) -> 0
H209: =IF(NOVIEMBRE[[#This Row],[Tipo de Recurso]]="Residencia",IF(OR(NOVIEMBRE[[#This Row],[Fecha alta centro]]=0,AND(NOVIEMBRE[[#This Row],[FECHA FIN]]<$B$1,NOVIEMBRE[[#This Row],[FECHA FIN]]<>0),NOVIEMBRE[[#This Row],[Fecha alta centro]]>$B$2),0,IF(OR(NOVIEMBRE[[#This Row],[FECHA FIN]]=0,NOVIEMBRE[[#This Row],[FECHA FIN]]>$B$2),$B$2,NOVIEMBRE[[#This Row],[FECHA FIN]])-IF(NOVIEMBRE[[#This Row],[Fecha alta centro]]<$B$1,$B$1,NOVIEMBRE[[#This Row],[Fecha alta centro]])+1),IF(OR(NOVIEMBRE[[#This Row],[Fecha alta centro]]=0,AND(NOVIEMBRE[[#This Row],[FECHA FIN]]<$B$1,NOVIEMBRE[[#This Row],[FECHA FIN]]<>0),NOVIEMBRE[[#This Row],[Fecha alta centro]]>$B$2),0,IF(OR(NOVIEMBRE[[#This Row],[FECHA FIN]]=0,NOVIEMBRE[[#This Row],[FECHA FIN]]>$B$2),$B$2,NOVIEMBRE[[#This Row],[FECHA FIN]])-IF(NOVIEMBRE[[#This Row],[Fecha alta centro]]<$B$1,$B$1,NOVIEMBRE[[#This Row],[Fecha alta centro]])+1)*0.5*IF(LEFT(NOVIEMBRE[[#This Row],[Tipo de Recurso]],3)="1/3",1/3,IF(LEFT(NOVIEMBRE[[#This Row],[Tipo de Recurso]],3)="2/3",2/3,1))*248/365) -> 0
H210: =IF(NOVIEMBRE[[#This Row],[Tipo de Recurso]]="Residencia",IF(OR(NOVIEMBRE[[#This Row],[Fecha alta centro]]=0,AND(NOVIEMBRE[[#This Row],[FECHA FIN]]<$B$1,NOVIEMBRE[[#This Row],[FECHA FIN]]<>0),NOVIEMBRE[[#This Row],[Fecha alta centro]]>$B$2),0,IF(OR(NOVIEMBRE[[#This Row],[FECHA FIN]]=0,NOVIEMBRE[[#This Row],[FECHA FIN]]>$B$2),$B$2,NOVIEMBRE[[#This Row],[FECHA FIN]])-IF(NOVIEMBRE[[#This Row],[Fecha alta centro]]<$B$1,$B$1,NOVIEMBRE[[#This Row],[Fecha alta centro]])+1),IF(OR(NOVIEMBRE[[#This Row],[Fecha alta centro]]=0,AND(NOVIEMBRE[[#This Row],[FECHA FIN]]<$B$1,NOVIEMBRE[[#This Row],[FECHA FIN]]<>0),NOVIEMBRE[[#This Row],[Fecha alta centro]]>$B$2),0,IF(OR(NOVIEMBRE[[#This Row],[FECHA FIN]]=0,NOVIEMBRE[[#This Row],[FECHA FIN]]>$B$2),$B$2,NOVIEMBRE[[#This Row],[FECHA FIN]])-IF(NOVIEMBRE[[#This Row],[Fecha alta centro]]<$B$1,$B$1,NOVIEMBRE[[#This Row],[Fecha alta centro]])+1)*0.5*IF(LEFT(NOVIEMBRE[[#This Row],[Tipo de Recurso]],3)="1/3",1/3,IF(LEFT(NOVIEMBRE[[#This Row],[Tipo de Recurso]],3)="2/3",2/3,1))*248/365) -> 0
H211: =IF(NOVIEMBRE[[#This Row],[Tipo de Recurso]]="Residencia",IF(OR(NOVIEMBRE[[#This Row],[Fecha alta centro]]=0,AND(NOVIEMBRE[[#This Row],[FECHA FIN]]<$B$1,NOVIEMBRE[[#This Row],[FECHA FIN]]<>0),NOVIEMBRE[[#This Row],[Fecha alta centro]]>$B$2),0,IF(OR(NOVIEMBRE[[#This Row],[FECHA FIN]]=0,NOVIEMBRE[[#This Row],[FECHA FIN]]>$B$2),$B$2,NOVIEMBRE[[#This Row],[FECHA FIN]])-IF(NOVIEMBRE[[#This Row],[Fecha alta centro]]<$B$1,$B$1,NOVIEMBRE[[#This Row],[Fecha alta centro]])+1),IF(OR(NOVIEMBRE[[#This Row],[Fecha alta centro]]=0,AND(NOVIEMBRE[[#This Row],[FECHA FIN]]<$B$1,NOVIEMBRE[[#This Row],[FECHA FIN]]<>0),NOVIEMBRE[[#This Row],[Fecha alta centro]]>$B$2),0,IF(OR(NOVIEMBRE[[#This Row],[FECHA FIN]]=0,NOVIEMBRE[[#This Row],[FECHA FIN]]>$B$2),$B$2,NOVIEMBRE[[#This Row],[FECHA FIN]])-IF(NOVIEMBRE[[#This Row],[Fecha alta centro]]<$B$1,$B$1,NOVIEMBRE[[#This Row],[Fecha alta centro]])+1)*0.5*IF(LEFT(NOVIEMBRE[[#This Row],[Tipo de Recurso]],3)="1/3",1/3,IF(LEFT(NOVIEMBRE[[#This Row],[Tipo de Recurso]],3)="2/3",2/3,1))*248/365) -> 0
H212: =IF(NOVIEMBRE[[#This Row],[Tipo de Recurso]]="Residencia",IF(OR(NOVIEMBRE[[#This Row],[Fecha alta centro]]=0,AND(NOVIEMBRE[[#This Row],[FECHA FIN]]<$B$1,NOVIEMBRE[[#This Row],[FECHA FIN]]<>0),NOVIEMBRE[[#This Row],[Fecha alta centro]]>$B$2),0,IF(OR(NOVIEMBRE[[#This Row],[FECHA FIN]]=0,NOVIEMBRE[[#This Row],[FECHA FIN]]>$B$2),$B$2,NOVIEMBRE[[#This Row],[FECHA FIN]])-IF(NOVIEMBRE[[#This Row],[Fecha alta centro]]<$B$1,$B$1,NOVIEMBRE[[#This Row],[Fecha alta centro]])+1),IF(OR(NOVIEMBRE[[#This Row],[Fecha alta centro]]=0,AND(NOVIEMBRE[[#This Row],[FECHA FIN]]<$B$1,NOVIEMBRE[[#This Row],[FECHA FIN]]<>0),NOVIEMBRE[[#This Row],[Fecha alta centro]]>$B$2),0,IF(OR(NOVIEMBRE[[#This Row],[FECHA FIN]]=0,NOVIEMBRE[[#This Row],[FECHA FIN]]>$B$2),$B$2,NOVIEMBRE[[#This Row],[FECHA FIN]])-IF(NOVIEMBRE[[#This Row],[Fecha alta centro]]<$B$1,$B$1,NOVIEMBRE[[#This Row],[Fecha alta centro]])+1)*0.5*IF(LEFT(NOVIEMBRE[[#This Row],[Tipo de Recurso]],3)="1/3",1/3,IF(LEFT(NOVIEMBRE[[#This Row],[Tipo de Recurso]],3)="2/3",2/3,1))*248/365) -> 0
H213: =IF(NOVIEMBRE[[#This Row],[Tipo de Recurso]]="Residencia",IF(OR(NOVIEMBRE[[#This Row],[Fecha alta centro]]=0,AND(NOVIEMBRE[[#This Row],[FECHA FIN]]<$B$1,NOVIEMBRE[[#This Row],[FECHA FIN]]<>0),NOVIEMBRE[[#This Row],[Fecha alta centro]]>$B$2),0,IF(OR(NOVIEMBRE[[#This Row],[FECHA FIN]]=0,NOVIEMBRE[[#This Row],[FECHA FIN]]>$B$2),$B$2,NOVIEMBRE[[#This Row],[FECHA FIN]])-IF(NOVIEMBRE[[#This Row],[Fecha alta centro]]<$B$1,$B$1,NOVIEMBRE[[#This Row],[Fecha alta centro]])+1),IF(OR(NOVIEMBRE[[#This Row],[Fecha alta centro]]=0,AND(NOVIEMBRE[[#This Row],[FECHA FIN]]<$B$1,NOVIEMBRE[[#This Row],[FECHA FIN]]<>0),NOVIEMBRE[[#This Row],[Fecha alta centro]]>$B$2),0,IF(OR(NOVIEMBRE[[#This Row],[FECHA FIN]]=0,NOVIEMBRE[[#This Row],[FECHA FIN]]>$B$2),$B$2,NOVIEMBRE[[#This Row],[FECHA FIN]])-IF(NOVIEMBRE[[#This Row],[Fecha alta centro]]<$B$1,$B$1,NOVIEMBRE[[#This Row],[Fecha alta centro]])+1)*0.5*IF(LEFT(NOVIEMBRE[[#This Row],[Tipo de Recurso]],3)="1/3",1/3,IF(LEFT(NOVIEMBRE[[#This Row],[Tipo de Recurso]],3)="2/3",2/3,1))*248/365) -> 0
H214: =IF(NOVIEMBRE[[#This Row],[Tipo de Recurso]]="Residencia",IF(OR(NOVIEMBRE[[#This Row],[Fecha alta centro]]=0,AND(NOVIEMBRE[[#This Row],[FECHA FIN]]<$B$1,NOVIEMBRE[[#This Row],[FECHA FIN]]<>0),NOVIEMBRE[[#This Row],[Fecha alta centro]]>$B$2),0,IF(OR(NOVIEMBRE[[#This Row],[FECHA FIN]]=0,NOVIEMBRE[[#This Row],[FECHA FIN]]>$B$2),$B$2,NOVIEMBRE[[#This Row],[FECHA FIN]])-IF(NOVIEMBRE[[#This Row],[Fecha alta centro]]<$B$1,$B$1,NOVIEMBRE[[#This Row],[Fecha alta centro]])+1),IF(OR(NOVIEMBRE[[#This Row],[Fecha alta centro]]=0,AND(NOVIEMBRE[[#This Row],[FECHA FIN]]<$B$1,NOVIEMBRE[[#This Row],[FECHA FIN]]<>0),NOVIEMBRE[[#This Row],[Fecha alta centro]]>$B$2),0,IF(OR(NOVIEMBRE[[#This Row],[FECHA FIN]]=0,NOVIEMBRE[[#This Row],[FECHA FIN]]>$B$2),$B$2,NOVIEMBRE[[#This Row],[FECHA FIN]])-IF(NOVIEMBRE[[#This Row],[Fecha alta centro]]<$B$1,$B$1,NOVIEMBRE[[#This Row],[Fecha alta centro]])+1)*0.5*IF(LEFT(NOVIEMBRE[[#This Row],[Tipo de Recurso]],3)="1/3",1/3,IF(LEFT(NOVIEMBRE[[#This Row],[Tipo de Recurso]],3)="2/3",2/3,1))*248/365) -> 0
... H704: =IF(NOVIEMBRE[[#This Row],[Tipo de Recurso]]="Residencia",IF(OR(NOVIEMBRE[[#This Row],[Fecha alta centro]]=0,AND(NOVIEMBRE[[#This Row],[FECHA FIN]]<$B$1,NOVIEMBRE[[#This Row],[FECHA FIN]]<>0),NOVIEMBRE[[#This Row],[Fecha alta centro]]>$B$2),0,IF(OR(NOVIEMBRE[[#This Row],[FECHA FIN]]=0,NOVIEMBRE[[#This Row],[FECHA FIN]]>$B$2),$B$2,NOVIEMBRE[[#This Row],[FECHA FIN]])-IF(NOVIEMBRE[[#This Row],[Fecha alta centro]]<$B$1,$B$1,NOVIEMBRE[[#This Row],[Fecha alta centro]])+1),IF(OR(NOVIEMBRE[[#This Row],[Fecha alta centro]]=0,AND(NOVIEMBRE[[#This Row],[FECHA FIN]]<$B$1,NOVIEMBRE[[#This Row],[FECHA FIN]]<>0),NOVIEMBRE[[#This Row],[Fecha alta centro]]>$B$2),0,IF(OR(NOVIEMBRE[[#This Row],[FECHA FIN]]=0,NOVIEMBRE[[#This Row],[FECHA FIN]]>$B$2),$B$2,NOVIEMBRE[[#This Row],[FECHA FIN]])-IF(NOVIEMBRE[[#This Row],[Fecha alta centro]]<$B$1,$B$1,NOVIEMBRE[[#This Row],[Fecha alta centro]])+1)*0.5*IF(LEFT(NOVIEMBRE[[#This Row],[Tipo de Recurso]],3)="1/3",1/3,IF(LEFT(NOVIEMBRE[[#This Row],[Tipo de Recurso]],3)="2/3",2/3,1))*248/365) -> 0
B705: Total | G705: =SUBTOTAL(103,NOVIEMBRE[DEPENDIENTE/NO DEPENDIENTE Según valoración oficial]) -> 0 | H705: =SUBTOTAL(109,NOVIEMBRE[DIAS]) -> 0

Sheet Diciembre
A1: Periodo | B1: =EDATE(Noviembre!B1,1) -> 46722
B2: =EOMONTH(B1,0) -> 46752
B3: OCUPACION DICIEMBRE
B4: mes | C4: DNI de la persona usuaria | D4: Fecha alta centro | E4: FECHA FIN | F4: Tipo de Recurso | G4: DEPENDIENTE/NO DEPENDIENTE Según valoración oficial | H4: DIAS
B5: Diciembre | H5: =IF(DICIEMBRE[[#This Row],[Tipo de Recurso]]="Residencia",IF(OR(DICIEMBRE[[#This Row],[Fecha alta centro]]=0,AND(DICIEMBRE[[#This Row],[FECHA FIN]]<$B$1,DICIEMBRE[[#This Row],[FECHA FIN]]<>0),DICIEMBRE[[#This Row],[Fecha alta centro]]>$B$2),0,IF(OR(DICIEMBRE[[#This Row],[FECHA FIN]]=0,DICIEMBRE[[#This Row],[FECHA FIN]]>$B$2),$B$2,DICIEMBRE[[#This Row],[FECHA FIN]])-IF(DICIEMBRE[[#This Row],[Fecha alta centro]]<$B$1,$B$1,DICIEMBRE[[#This Row],[Fecha alta centro]])+1),IF(OR(DICIEMBRE[[#This Row],[Fecha alta centro]]=0,AND(DICIEMBRE[[#This Row],[FECHA FIN]]<$B$1,DICIEMBRE[[#This Row],[FECHA FIN]]<>0),DICIEMBRE[[#This Row],[Fecha alta centro]]>$B$2),0,IF(OR(DICIEMBRE[[#This Row],[FECHA FIN]]=0,DICIEMBRE[[#This Row],[FECHA FIN]]>$B$2),$B$2,DICIEMBRE[[#This Row],[FECHA FIN]])-IF(DICIEMBRE[[#This Row],[Fecha alta centro]]<$B$1,$B$1,DICIEMBRE[[#This Row],[Fecha alta centro]])+1)*0.5*IF(LEFT(DICIEMBRE[[#This Row],[Tipo de Recurso]],3)="1/3",1/3,IF(LEFT(DICIEMBRE[[#This Row],[Tipo de Recurso]],3)="2/3",2/3,1))*248/365) -> 0
B6: Diciembre | H6: =IF(DICIEMBRE[[#This Row],[Tipo de Recurso]]="Residencia",IF(OR(DICIEMBRE[[#This Row],[Fecha alta centro]]=0,AND(DICIEMBRE[[#This Row],[FECHA FIN]]<$B$1,DICIEMBRE[[#This Row],[FECHA FIN]]<>0),DICIEMBRE[[#This Row],[Fecha alta centro]]>$B$2),0,IF(OR(DICIEMBRE[[#This Row],[FECHA FIN]]=0,DICIEMBRE[[#This Row],[FECHA FIN]]>$B$2),$B$2,DICIEMBRE[[#This Row],[FECHA FIN]])-IF(DICIEMBRE[[#This Row],[Fecha alta centro]]<$B$1,$B$1,DICIEMBRE[[#This Row],[Fecha alta centro]])+1),IF(OR(DICIEMBRE[[#This Row],[Fecha alta centro]]=0,AND(DICIEMBRE[[#This Row],[FECHA FIN]]<$B$1,DICIEMBRE[[#This Row],[FECHA FIN]]<>0),DICIEMBRE[[#This Row],[Fecha alta centro]]>$B$2),0,IF(OR(DICIEMBRE[[#This Row],[FECHA FIN]]=0,DICIEMBRE[[#This Row],[FECHA FIN]]>$B$2),$B$2,DICIEMBRE[[#This Row],[FECHA FIN]])-IF(DICIEMBRE[[#This Row],[Fecha alta centro]]<$B$1,$B$1,DICIEMBRE[[#This Row],[Fecha alta centro]])+1)*0.5*IF(LEFT(DICIEMBRE[[#This Row],[Tipo de Recurso]],3)="1/3",1/3,IF(LEFT(DICIEMBRE[[#This Row],[Tipo de Recurso]],3)="2/3",2/3,1))*248/365) -> 0
B7: Diciembre | H7: =IF(DICIEMBRE[[#This Row],[Tipo de Recurso]]="Residencia",IF(OR(DICIEMBRE[[#This Row],[Fecha alta centro]]=0,AND(DICIEMBRE[[#This Row],[FECHA FIN]]<$B$1,DICIEMBRE[[#This Row],[FECHA FIN]]<>0),DICIEMBRE[[#This Row],[Fecha alta centro]]>$B$2),0,IF(OR(DICIEMBRE[[#This Row],[FECHA FIN]]=0,DICIEMBRE[[#This Row],[FECHA FIN]]>$B$2),$B$2,DICIEMBRE[[#This Row],[FECHA FIN]])-IF(DICIEMBRE[[#This Row],[Fecha alta centro]]<$B$1,$B$1,DICIEMBRE[[#This Row],[Fecha alta centro]])+1),IF(OR(DICIEMBRE[[#This Row],[Fecha alta centro]]=0,AND(DICIEMBRE[[#This Row],[FECHA FIN]]<$B$1,DICIEMBRE[[#This Row],[FECHA FIN]]<>0),DICIEMBRE[[#This Row],[Fecha alta centro]]>$B$2),0,IF(OR(DICIEMBRE[[#This Row],[FECHA FIN]]=0,DICIEMBRE[[#This Row],[FECHA FIN]]>$B$2),$B$2,DICIEMBRE[[#This Row],[FECHA FIN]])-IF(DICIEMBRE[[#This Row],[Fecha alta centro]]<$B$1,$B$1,DICIEMBRE[[#This Row],[Fecha alta centro]])+1)*0.5*IF(LEFT(DICIEMBRE[[#This Row],[Tipo de Recurso]],3)="1/3",1/3,IF(LEFT(DICIEMBRE[[#This Row],[Tipo de Recurso]],3)="2/3",2/3,1))*248/365) -> 0
B8: Diciembre | H8: =IF(DICIEMBRE[[#This Row],[Tipo de Recurso]]="Residencia",IF(OR(DICIEMBRE[[#This Row],[Fecha alta centro]]=0,AND(DICIEMBRE[[#This Row],[FECHA FIN]]<$B$1,DICIEMBRE[[#This Row],[FECHA FIN]]<>0),DICIEMBRE[[#This Row],[Fecha alta centro]]>$B$2),0,IF(OR(DICIEMBRE[[#This Row],[FECHA FIN]]=0,DICIEMBRE[[#This Row],[FECHA FIN]]>$B$2),$B$2,DICIEMBRE[[#This Row],[FECHA FIN]])-IF(DICIEMBRE[[#This Row],[Fecha alta centro]]<$B$1,$B$1,DICIEMBRE[[#This Row],[Fecha alta centro]])+1),IF(OR(DICIEMBRE[[#This Row],[Fecha alta centro]]=0,AND(DICIEMBRE[[#This Row],[FECHA FIN]]<$B$1,DICIEMBRE[[#This Row],[FECHA FIN]]<>0),DICIEMBRE[[#This Row],[Fecha alta centro]]>$B$2),0,IF(OR(DICIEMBRE[[#This Row],[FECHA FIN]]=0,DICIEMBRE[[#This Row],[FECHA FIN]]>$B$2),$B$2,DICIEMBRE[[#This Row],[FECHA FIN]])-IF(DICIEMBRE[[#This Row],[Fecha alta centro]]<$B$1,$B$1,DICIEMBRE[[#This Row],[Fecha alta centro]])+1)*0.5*IF(LEFT(DICIEMBRE[[#This Row],[Tipo de Recurso]],3)="1/3",1/3,IF(LEFT(DICIEMBRE[[#This Row],[Tipo de Recurso]],3)="2/3",2/3,1))*248/365) -> 0
B9: Diciembre | H9: =IF(DICIEMBRE[[#This Row],[Tipo de Recurso]]="Residencia",IF(OR(DICIEMBRE[[#This Row],[Fecha alta centro]]=0,AND(DICIEMBRE[[#This Row],[FECHA FIN]]<$B$1,DICIEMBRE[[#This Row],[FECHA FIN]]<>0),DICIEMBRE[[#This Row],[Fecha alta centro]]>$B$2),0,IF(OR(DICIEMBRE[[#This Row],[FECHA FIN]]=0,DICIEMBRE[[#This Row],[FECHA FIN]]>$B$2),$B$2,DICIEMBRE[[#This Row],[FECHA FIN]])-IF(DICIEMBRE[[#This Row],[Fecha alta centro]]<$B$1,$B$1,DICIEMBRE[[#This Row],[Fecha alta centro]])+1),IF(OR(DICIEMBRE[[#This Row],[Fecha alta centro]]=0,AND(DICIEMBRE[[#This Row],[FECHA FIN]]<$B$1,DICIEMBRE[[#This Row],[FECHA FIN]]<>0),DICIEMBRE[[#This Row],[Fecha alta centro]]>$B$2),0,IF(OR(DICIEMBRE[[#This Row],[FECHA FIN]]=0,DICIEMBRE[[#This Row],[FECHA FIN]]>$B$2),$B$2,DICIEMBRE[[#This Row],[FECHA FIN]])-IF(DICIEMBRE[[#This Row],[Fecha alta centro]]<$B$1,$B$1,DICIEMBRE[[#This Row],[Fecha alta centro]])+1)*0.5*IF(LEFT(DICIEMBRE[[#This Row],[Tipo de Recurso]],3)="1/3",1/3,IF(LEFT(DICIEMBRE[[#This Row],[Tipo de Recurso]],3)="2/3",2/3,1))*248/365) -> 0
B10: Diciembre | H10: =IF(DICIEMBRE[[#This Row],[Tipo de Recurso]]="Residencia",IF(OR(DICIEMBRE[[#This Row],[Fecha alta centro]]=0,AND(DICIEMBRE[[#This Row],[FECHA FIN]]<$B$1,DICIEMBRE[[#This Row],[FECHA FIN]]<>0),DICIEMBRE[[#This Row],[Fecha alta centro]]>$B$2),0,IF(OR(DICIEMBRE[[#This Row],[FECHA FIN]]=0,DICIEMBRE[[#This Row],[FECHA FIN]]>$B$2),$B$2,DICIEMBRE[[#This Row],[FECHA FIN]])-IF(DICIEMBRE[[#This Row],[Fecha alta centro]]<$B$1,$B$1,DICIEMBRE[[#This Row],[Fecha alta centro]])+1),IF(OR(DICIEMBRE[[#This Row],[Fecha alta centro]]=0,AND(DICIEMBRE[[#This Row],[FECHA FIN]]<$B$1,DICIEMBRE[[#This Row],[FECHA FIN]]<>0),DICIEMBRE[[#This Row],[Fecha alta centro]]>$B$2),0,IF(OR(DICIEMBRE[[#This Row],[FECHA FIN]]=0,DICIEMBRE[[#This Row],[FECHA FIN]]>$B$2),$B$2,DICIEMBRE[[#This Row],[FECHA FIN]])-IF(DICIEMBRE[[#This Row],[Fecha alta centro]]<$B$1,$B$1,DICIEMBRE[[#This Row],[Fecha alta centro]])+1)*0.5*IF(LEFT(DICIEMBRE[[#This Row],[Tipo de Recurso]],3)="1/3",1/3,IF(LEFT(DICIEMBRE[[#This Row],[Tipo de Recurso]],3)="2/3",2/3,1))*248/365) -> 0
B11: Diciembre | H11: =IF(DICIEMBRE[[#This Row],[Tipo de Recurso]]="Residencia",IF(OR(DICIEMBRE[[#This Row],[Fecha alta centro]]=0,AND(DICIEMBRE[[#This Row],[FECHA FIN]]<$B$1,DICIEMBRE[[#This Row],[FECHA FIN]]<>0),DICIEMBRE[[#This Row],[Fecha alta centro]]>$B$2),0,IF(OR(DICIEMBRE[[#This Row],[FECHA FIN]]=0,DICIEMBRE[[#This Row],[FECHA FIN]]>$B$2),$B$2,DICIEMBRE[[#This Row],[FECHA FIN]])-IF(DICIEMBRE[[#This Row],[Fecha alta centro]]<$B$1,$B$1,DICIEMBRE[[#This Row],[Fecha alta centro]])+1),IF(OR(DICIEMBRE[[#This Row],[Fecha alta centro]]=0,AND(DICIEMBRE[[#This Row],[FECHA FIN]]<$B$1,DICIEMBRE[[#This Row],[FECHA FIN]]<>0),DICIEMBRE[[#This Row],[Fecha alta centro]]>$B$2),0,IF(OR(DICIEMBRE[[#This Row],[FECHA FIN]]=0,DICIEMBRE[[#This Row],[FECHA FIN]]>$B$2),$B$2,DICIEMBRE[[#This Row],[FECHA FIN]])-IF(DICIEMBRE[[#This Row],[Fecha alta centro]]<$B$1,$B$1,DICIEMBRE[[#This Row],[Fecha alta centro]])+1)*0.5*IF(LEFT(DICIEMBRE[[#This Row],[Tipo de Recurso]],3)="1/3",1/3,IF(LEFT(DICIEMBRE[[#This Row],[Tipo de Recurso]],3)="2/3",2/3,1))*248/365) -> 0
B12: Diciembre | H12: =IF(DICIEMBRE[[#This Row],[Tipo de Recurso]]="Residencia",IF(OR(DICIEMBRE[[#This Row],[Fecha alta centro]]=0,AND(DICIEMBRE[[#This Row],[FECHA FIN]]<$B$1,DICIEMBRE[[#This Row],[FECHA FIN]]<>0),DICIEMBRE[[#This Row],[Fecha alta centro]]>$B$2),0,IF(OR(DICIEMBRE[[#This Row],[FECHA FIN]]=0,DICIEMBRE[[#This Row],[FECHA FIN]]>$B$2),$B$2,DICIEMBRE[[#This Row],[FECHA FIN]])-IF(DICIEMBRE[[#This Row],[Fecha alta centro]]<$B$1,$B$1,DICIEMBRE[[#This Row],[Fecha alta centro]])+1),IF(OR(DICIEMBRE[[#This Row],[Fecha alta centro]]=0,AND(DICIEMBRE[[#This Row],[FECHA FIN]]<$B$1,DICIEMBRE[[#This Row],[FECHA FIN]]<>0),DICIEMBRE[[#This Row],[Fecha alta centro]]>$B$2),0,IF(OR(DICIEMBRE[[#This Row],[FECHA FIN]]=0,DICIEMBRE[[#This Row],[FECHA FIN]]>$B$2),$B$2,DICIEMBRE[[#This Row],[FECHA FIN]])-IF(DICIEMBRE[[#This Row],[Fecha alta centro]]<$B$1,$B$1,DICIEMBRE[[#This Row],[Fecha alta centro]])+1)*0.5*IF(LEFT(DICIEMBRE[[#This Row],[Tipo de Recurso]],3)="1/3",1/3,IF(LEFT(DICIEMBRE[[#This Row],[Tipo de Recurso]],3)="2/3",2/3,1))*248/365) -> 0
B13: Diciembre | H13: =IF(DICIEMBRE[[#This Row],[Tipo de Recurso]]="Residencia",IF(OR(DICIEMBRE[[#This Row],[Fecha alta centro]]=0,AND(DICIEMBRE[[#This Row],[FECHA FIN]]<$B$1,DICIEMBRE[[#This Row],[FECHA FIN]]<>0),DICIEMBRE[[#This Row],[Fecha alta centro]]>$B$2),0,IF(OR(DICIEMBRE[[#This Row],[FECHA FIN]]=0,DICIEMBRE[[#This Row],[FECHA FIN]]>$B$2),$B$2,DICIEMBRE[[#This Row],[FECHA FIN]])-IF(DICIEMBRE[[#This Row],[Fecha alta centro]]<$B$1,$B$1,DICIEMBRE[[#This Row],[Fecha alta centro]])+1),IF(OR(DICIEMBRE[[#This Row],[Fecha alta centro]]=0,AND(DICIEMBRE[[#This Row],[FECHA FIN]]<$B$1,DICIEMBRE[[#This Row],[FECHA FIN]]<>0),DICIEMBRE[[#This Row],[Fecha alta centro]]>$B$2),0,IF(OR(DICIEMBRE[[#This Row],[FECHA FIN]]=0,DICIEMBRE[[#This Row],[FECHA FIN]]>$B$2),$B$2,DICIEMBRE[[#This Row],[FECHA FIN]])-IF(DICIEMBRE[[#This Row],[Fecha alta centro]]<$B$1,$B$1,DICIEMBRE[[#This Row],[Fecha alta centro]])+1)*0.5*IF(LEFT(DICIEMBRE[[#This Row],[Tipo de Recurso]],3)="1/3",1/3,IF(LEFT(DICIEMBRE[[#This Row],[Tipo de Recurso]],3)="2/3",2/3,1))*248/365) -> 0
B14: Diciembre | H14: =IF(DICIEMBRE[[#This Row],[Tipo de Recurso]]="Residencia",IF(OR(DICIEMBRE[[#This Row],[Fecha alta centro]]=0,AND(DICIEMBRE[[#This Row],[FECHA FIN]]<$B$1,DICIEMBRE[[#This Row],[FECHA FIN]]<>0),DICIEMBRE[[#This Row],[Fecha alta centro]]>$B$2),0,IF(OR(DICIEMBRE[[#This Row],[FECHA FIN]]=0,DICIEMBRE[[#This Row],[FECHA FIN]]>$B$2),$B$2,DICIEMBRE[[#This Row],[FECHA FIN]])-IF(DICIEMBRE[[#This Row],[Fecha alta centro]]<$B$1,$B$1,DICIEMBRE[[#This Row],[Fecha alta centro]])+1),IF(OR(DICIEMBRE[[#This Row],[Fecha alta centro]]=0,AND(DICIEMBRE[[#This Row],[FECHA FIN]]<$B$1,DICIEMBRE[[#This Row],[FECHA FIN]]<>0),DICIEMBRE[[#This Row],[Fecha alta centro]]>$B$2),0,IF(OR(DICIEMBRE[[#This Row],[FECHA FIN]]=0,DICIEMBRE[[#This Row],[FECHA FIN]]>$B$2),$B$2,DICIEMBRE[[#This Row],[FECHA FIN]])-IF(DICIEMBRE[[#This Row],[Fecha alta centro]]<$B$1,$B$1,DICIEMBRE[[#This Row],[Fecha alta centro]])+1)*0.5*IF(LEFT(DICIEMBRE[[#This Row],[Tipo de Recurso]],3)="1/3",1/3,IF(LEFT(DICIEMBRE[[#This Row],[Tipo de Recurso]],3)="2/3",2/3,1))*248/365) -> 0
B15: Diciembre | H15: =IF(DICIEMBRE[[#This Row],[Tipo de Recurso]]="Residencia",IF(OR(DICIEMBRE[[#This Row],[Fecha alta centro]]=0,AND(DICIEMBRE[[#This Row],[FECHA FIN]]<$B$1,DICIEMBRE[[#This Row],[FECHA FIN]]<>0),DICIEMBRE[[#This Row],[Fecha alta centro]]>$B$2),0,IF(OR(DICIEMBRE[[#This Row],[FECHA FIN]]=0,DICIEMBRE[[#This Row],[FECHA FIN]]>$B$2),$B$2,DICIEMBRE[[#This Row],[FECHA FIN]])-IF(DICIEMBRE[[#This Row],[Fecha alta centro]]<$B$1,$B$1,DICIEMBRE[[#This Row],[Fecha alta centro]])+1),IF(OR(DICIEMBRE[[#This Row],[Fecha alta centro]]=0,AND(DICIEMBRE[[#This Row],[FECHA FIN]]<$B$1,DICIEMBRE[[#This Row],[FECHA FIN]]<>0),DICIEMBRE[[#This Row],[Fecha alta centro]]>$B$2),0,IF(OR(DICIEMBRE[[#This Row],[FECHA FIN]]=0,DICIEMBRE[[#This Row],[FECHA FIN]]>$B$2),$B$2,DICIEMBRE[[#This Row],[FECHA FIN]])-IF(DICIEMBRE[[#This Row],[Fecha alta centro]]<$B$1,$B$1,DICIEMBRE[[#This Row],[Fecha alta centro]])+1)*0.5*IF(LEFT(DICIEMBRE[[#This Row],[Tipo de Recurso]],3)="1/3",1/3,IF(LEFT(DICIEMBRE[[#This Row],[Tipo de Recurso]],3)="2/3",2/3,1))*248/365) -> 0
B16: Diciembre | H16: =IF(DICIEMBRE[[#This Row],[Tipo de Recurso]]="Residencia",IF(OR(DICIEMBRE[[#This Row],[Fecha alta centro]]=0,AND(DICIEMBRE[[#This Row],[FECHA FIN]]<$B$1,DICIEMBRE[[#This Row],[FECHA FIN]]<>0),DICIEMBRE[[#This Row],[Fecha alta centro]]>$B$2),0,IF(OR(DICIEMBRE[[#This Row],[FECHA FIN]]=0,DICIEMBRE[[#This Row],[FECHA FIN]]>$B$2),$B$2,DICIEMBRE[[#This Row],[FECHA FIN]])-IF(DICIEMBRE[[#This Row],[Fecha alta centro]]<$B$1,$B$1,DICIEMBRE[[#This Row],[Fecha alta centro]])+1),IF(OR(DICIEMBRE[[#This Row],[Fecha alta centro]]=0,AND(DICIEMBRE[[#This Row],[FECHA FIN]]<$B$1,DICIEMBRE[[#This Row],[FECHA FIN]]<>0),DICIEMBRE[[#This Row],[Fecha alta centro]]>$B$2),0,IF(OR(DICIEMBRE[[#This Row],[FECHA FIN]]=0,DICIEMBRE[[#This Row],[FECHA FIN]]>$B$2),$B$2,DICIEMBRE[[#This Row],[FECHA FIN]])-IF(DICIEMBRE[[#This Row],[Fecha alta centro]]<$B$1,$B$1,DICIEMBRE[[#This Row],[Fecha alta centro]])+1)*0.5*IF(LEFT(DICIEMBRE[[#This Row],[Tipo de Recurso]],3)="1/3",1/3,IF(LEFT(DICIEMBRE[[#This Row],[Tipo de Recurso]],3)="2/3",2/3,1))*248/365) -> 0
... B704: Diciembre | H704: =IF(DICIEMBRE[[#This Row],[Tipo de Recurso]]="Residencia",IF(OR(DICIEMBRE[[#This Row],[Fecha alta centro]]=0,AND(DICIEMBRE[[#This Row],[FECHA FIN]]<$B$1,DICIEMBRE[[#This Row],[FECHA FIN]]<>0),DICIEMBRE[[#This Row],[Fecha alta centro]]>$B$2),0,IF(OR(DICIEMBRE[[#This Row],[FECHA FIN]]=0,DICIEMBRE[[#This Row],[FECHA FIN]]>$B$2),$B$2,DICIEMBRE[[#This Row],[FECHA FIN]])-IF(DICIEMBRE[[#This Row],[Fecha alta centro]]<$B$1,$B$1,DICIEMBRE[[#This Row],[Fecha alta centro]])+1),IF(OR(DICIEMBRE[[#This Row],[Fecha alta centro]]=0,AND(DICIEMBRE[[#This Row],[FECHA FIN]]<$B$1,DICIEMBRE[[#This Row],[FECHA FIN]]<>0),DICIEMBRE[[#This Row],[Fecha alta centro]]>$B$2),0,IF(OR(DICIEMBRE[[#This Row],[FECHA FIN]]=0,DICIEMBRE[[#This Row],[FECHA FIN]]>$B$2),$B$2,DICIEMBRE[[#This Row],[FECHA FIN]])-IF(DICIEMBRE[[#This Row],[Fecha alta centro]]<$B$1,$B$1,DICIEMBRE[[#This Row],[Fecha alta centro]])+1)*0.5*IF(LEFT(DICIEMBRE[[#This Row],[Tipo de Recurso]],3)="1/3",1/3,IF(LEFT(DICIEMBRE[[#This Row],[Tipo de Recurso]],3)="2/3",2/3,1))*248/365) -> 0
B705: Total | G705: =SUBTOTAL(103,DICIEMBRE[DEPENDIENTE/NO DEPENDIENTE Según valoración oficial]) -> 0 | H705: =SUBTOTAL(109,DICIEMBRE[DIAS]) -> 0

Sheet RESUMEN
B1: ="Año "&TEXT([1]Enero!B1,"aaaa") -> Año 2026
B3: MES | C3: DIAS DEP | D3: DIAS NO DEP | E3: DIAS TOTAL | F3: % DEPEN | G3: Nº DEP | H3: Nº ND | I3: OCUPACION TOTAL | J3: dias
B4: Enero | C4: =+SUMIFS(ENERO[DIAS],ENERO[DEPENDIENTE/NO DEPENDIENTE Según valoración oficial],"Dependiente") -> 0 | D4: =+SUMIFS(ENERO[DIAS],ENERO[DEPENDIENTE/NO DEPENDIENTE Según valoración oficial],"No Dependiente") -> 0 | E4: =+Tabla13[[#This Row],[DIAS DEP]]+Tabla13[[#This Row],[DIAS NO DEP]] -> 0 | F4: =IFERROR(Tabla13[[#This Row],[DIAS DEP]]/Tabla13[[#This Row],[DIAS TOTAL]],0) -> 0 | G4: =+Tabla13[[#This Row],[DIAS DEP]]/Tabla13[[#This Row],[dias]] -> 0 | H4: =+Tabla13[[#This Row],[DIAS NO DEP]]/Tabla13[[#This Row],[dias]] -> 0 | I4: =+Tabla13[[#This Row],[Nº DEP]]+Tabla13[[#This Row],[Nº ND]] -> 0 | J4: 31
B5: Febrero | C5: =+SUMIFS(FEBRERO[DIAS],FEBRERO[DEPENDIENTE/NO DEPENDIENTE Según valoración oficial],"Dependiente") -> 0 | D5: =+SUMIFS(FEBRERO[DIAS],FEBRERO[DEPENDIENTE/NO DEPENDIENTE Según valoración oficial],"No Dependiente") -> 0 | E5: =+Tabla13[[#This Row],[DIAS DEP]]+Tabla13[[#This Row],[DIAS NO DEP]] -> 0 | F5: =IFERROR(Tabla13[[#This Row],[DIAS DEP]]/Tabla13[[#This Row],[DIAS TOTAL]],0) -> 0 | G5: =+Tabla13[[#This Row],[DIAS DEP]]/Tabla13[[#This Row],[dias]] -> 0 | H5: =+Tabla13[[#This Row],[DIAS NO DEP]]/Tabla13[[#This Row],[dias]] -> 0 | I5: =+Tabla13[[#This Row],[Nº DEP]]+Tabla13[[#This Row],[Nº ND]] -> 0 | J5: 28
B6: Marzo | C6: =+SUMIFS(MARZO[DIAS],MARZO[DEPENDIENTE/NO DEPENDIENTE Según valoración oficial],"Dependiente") -> 0 | D6: =+SUMIFS(MARZO[DIAS],MARZO[DEPENDIENTE/NO DEPENDIENTE Según valoración oficial],"No Dependiente") -> 0 | E6: =+Tabla13[[#This Row],[DIAS DEP]]+Tabla13[[#This Row],[DIAS NO DEP]] -> 0 | F6: =IFERROR(Tabla13[[#This Row],[DIAS DEP]]/Tabla13[[#This Row],[DIAS TOTAL]],0) -> 0 | G6: =+Tabla13[[#This Row],[DIAS DEP]]/Tabla13[[#This Row],[dias]] -> 0 | H6: =+Tabla13[[#This Row],[DIAS NO DEP]]/Tabla13[[#This Row],[dias]] -> 0 | I6: =+Tabla13[[#This Row],[Nº DEP]]+Tabla13[[#This Row],[Nº ND]] -> 0 | J6: 31
B7: Abril | C7: =+SUMIFS(ABRIL[DIAS],ABRIL[DEPENDIENTE/NO DEPENDIENTE Según valoración oficial],"Dependiente") -> 0 | D7: =+SUMIFS(ABRIL[DIAS],ABRIL[DEPENDIENTE/NO DEPENDIENTE Según valoración oficial],"No Dependiente") -> 0 | E7: =+Tabla13[[#This Row],[DIAS DEP]]+Tabla13[[#This Row],[DIAS NO DEP]] -> 0 | F7: =IFERROR(Tabla13[[#This Row],[DIAS DEP]]/Tabla13[[#This Row],[DIAS TOTAL]],0) -> 0 | G7: =+Tabla13[[#This Row],[DIAS DEP]]/Tabla13[[#This Row],[dias]] -> 0 | H7: =+Tabla13[[#This Row],[DIAS NO DEP]]/Tabla13[[#This Row],[dias]] -> 0 | I7: =+Tabla13[[#This Row],[Nº DEP]]+Tabla13[[#This Row],[Nº ND]] -> 0 | J7: 30
B8: Mayo | C8: =+SUMIFS(MAYO[DIAS],MAYO[DEPENDIENTE/NO DEPENDIENTE Según valoración oficial],"Dependiente") -> 0 | D8: =+SUMIFS(MAYO[DIAS],MAYO[DEPENDIENTE/NO DEPENDIENTE Según valoración oficial],"No Dependiente") -> 0 | E8: =+Tabla13[[#This Row],[DIAS DEP]]+Tabla13[[#This Row],[DIAS NO DEP]] -> 0 | F8: =IFERROR(Tabla13[[#This Row],[DIAS DEP]]/Tabla13[[#This Row],[DIAS TOTAL]],0) -> 0 | G8: =+Tabla13[[#This Row],[DIAS DEP]]/Tabla13[[#This Row],[dias]] -> 0 | H8: =+Tabla13[[#This Row],[DIAS NO DEP]]/Tabla13[[#This Row],[dias]] -> 0 | I8: =+Tabla13[[#This Row],[Nº DEP]]+Tabla13[[#This Row],[Nº ND]] -> 0 | J8: 31
B9: Junio | C9: =+SUMIFS(JUNIO[DIAS],JUNIO[DEPENDIENTE/NO DEPENDIENTE Según valoración oficial],"Dependiente") -> 0 | D9: =+SUMIFS(JUNIO[DIAS],JUNIO[DEPENDIENTE/NO DEPENDIENTE Según valoración oficial],"No Dependiente") -> 0 | E9: =+Tabla13[[#This Row],[DIAS DEP]]+Tabla13[[#This Row],[DIAS NO DEP]] -> 0 | F9: =IFERROR(Tabla13[[#This Row],[DIAS DEP]]/Tabla13[[#This Row],[DIAS TOTAL]],0) -> 0 | G9: =+Tabla13[[#This Row],[DIAS DEP]]/Tabla13[[#This Row],[dias]] -> 0 | H9: =+Tabla13[[#This Row],[DIAS NO DEP]]/Tabla13[[#This Row],[dias]] -> 0 | I9: =+Tabla13[[#This Row],[Nº DEP]]+Tabla13[[#This Row],[Nº ND]] -> 0 | J9: 30
B10: Julio | C10: =+SUMIFS(JULIO[DIAS],JULIO[DEPENDIENTE/NO DEPENDIENTE Según valoración oficial],"Dependiente") -> 0 | D10: =+SUMIFS(JULIO[DIAS],JULIO[DEPENDIENTE/NO DEPENDIENTE Según valoración oficial],"No Dependiente") -> 0 | E10: =+Tabla13[[#This Row],[DIAS DEP]]+Tabla13[[#This Row],[DIAS NO DEP]] -> 0 | F10: =IFERROR(Tabla13[[#This Row],[DIAS DEP]]/Tabla13[[#This Row],[DIAS TOTAL]],0) -> 0 | G10: =+Tabla13[[#This Row],[DIAS DEP]]/Tabla13[[#This Row],[dias]] -> 0 | H10: =+Tabla13[[#This Row],[DIAS NO DEP]]/Tabla13[[#This Row],[dias]] -> 0 | I10: =+Tabla13[[#This Row],[Nº DEP]]+Tabla13[[#This Row],[Nº ND]] -> 0 | J10: 31
B11: Agosto | C11: =+SUMIFS(AGOSTO[DIAS],AGOSTO[DEPENDIENTE/NO DEPENDIENTE Según valoración oficial],"Dependiente") -> 0 | D11: =+SUMIFS(AGOSTO[DIAS],AGOSTO[DEPENDIENTE/NO DEPENDIENTE Según valoración oficial],"No Dependiente") -> 0 | E11: =+Tabla13[[#This Row],[DIAS DEP]]+Tabla13[[#This Row],[DIAS NO DEP]] -> 0 | F11: =IFERROR(Tabla13[[#This Row],[DIAS DEP]]/Tabla13[[#This Row],[DIAS TOTAL]],0) -> 0 | G11: =+Tabla13[[#This Row],[DIAS DEP]]/Tabla13[[#This Row],[dias]] -> 0 | H11: =+Tabla13[[#This Row],[DIAS NO DEP]]/Tabla13[[#This Row],[dias]] -> 0 | I11: =+Tabla13[[#This Row],[Nº DEP]]+Tabla13[[#This Row],[Nº ND]] -> 0 | J11: 31
B12: Septiembre | C12: =+SUMIFS(SEPTIEMBRE[DIAS],SEPTIEMBRE[DEPENDIENTE/NO DEPENDIENTE Según valoración oficial],"Dependiente") -> 0 | D12: =+SUMIFS(SEPTIEMBRE[DIAS],SEPTIEMBRE[DEPENDIENTE/NO DEPENDIENTE Según valoración oficial],"No Dependiente") -> 0 | E12: =+Tabla13[[#This Row],[DIAS DEP]]+Tabla13[[#This Row],[DIAS NO DEP]] -> 0 | F12: =IFERROR(Tabla13[[#This Row],[DIAS DEP]]/Tabla13[[#This Row],[DIAS TOTAL]],0) -> 0 | G12: =+Tabla13[[#This Row],[DIAS DEP]]/Tabla13[[#This Row],[dias]] -> 0 | H12: =+Tabla13[[#This Row],[DIAS NO DEP]]/Tabla13[[#This Row],[dias]] -> 0 | I12: =+Tabla13[[#This Row],[Nº DEP]]+Tabla13[[#This Row],[Nº ND]] -> 0 | J12: 30
B13: Octubre | C13: =+SUMIFS(OCTUBRE[DIAS],OCTUBRE[DEPENDIENTE/NO DEPENDIENTE Según valoración oficial],"Dependiente") -> 0 | D13: =+SUMIFS(OCTUBRE[DIAS],OCTUBRE[DEPENDIENTE/NO DEPENDIENTE Según valoración oficial],"No Dependiente") -> 0 | E13: =+Tabla13[[#This Row],[DIAS DEP]]+Tabla13[[#This Row],[DIAS NO DEP]] -> 0 | F13: =IFERROR(Tabla13[[#This Row],[DIAS DEP]]/Tabla13[[#This Row],[DIAS TOTAL]],0) -> 0 | G13: =+Tabla13[[#This Row],[DIAS DEP]]/Tabla13[[#This Row],[dias]] -> 0 | H13: =+Tabla13[[#This Row],[DIAS NO DEP]]/Tabla13[[#This Row],[dias]] -> 0 | I13: =+Tabla13[[#This Row],[Nº DEP]]+Tabla13[[#This Row],[Nº ND]] -> 0 | J13: 31
B14: Noviembre | C14: =+SUMIFS(NOVIEMBRE[DIAS],NOVIEMBRE[DEPENDIENTE/NO DEPENDIENTE Según valoración oficial],"Dependiente") -> 0 | D14: =+SUMIFS(NOVIEMBRE[DIAS],NOVIEMBRE[DEPENDIENTE/NO DEPENDIENTE Según valoración oficial],"No Dependiente") -> 0 | E14: =+Tabla13[[#This Row],[DIAS DEP]]+Tabla13[[#This Row],[DIAS NO DEP]] -> 0 | F14: =IFERROR(Tabla13[[#This Row],[DIAS DEP]]/Tabla13[[#This Row],[DIAS TOTAL]],0) -> 0 | G14: =+Tabla13[[#This Row],[DIAS DEP]]/Tabla13[[#This Row],[dias]] -> 0 | H14: =+Tabla13[[#This Row],[DIAS NO DEP]]/Tabla13[[#This Row],[dias]] -> 0 | I14: =+Tabla13[[#This Row],[Nº DEP]]+Tabla13[[#This Row],[Nº ND]] -> 0 | J14: 30
B15: Diciembre | C15: =+SUMIFS(DICIEMBRE[DIAS],DICIEMBRE[DEPENDIENTE/NO DEPENDIENTE Según valoración oficial],"Dependiente") -> 0 | D15: =+SUMIFS(DICIEMBRE[DIAS],DICIEMBRE[DEPENDIENTE/NO DEPENDIENTE Según valoración oficial],"No Dependiente") -> 0 | E15: =+Tabla13[[#This Row],[DIAS DEP]]+Tabla13[[#This Row],[DIAS NO DEP]] -> 0 | F15: =IFERROR(Tabla13[[#This Row],[DIAS DEP]]/Tabla13[[#This Row],[DIAS TOTAL]],0) -> 0 | G15: =+Tabla13[[#This Row],[DIAS DEP]]/Tabla13[[#This Row],[dias]] -> 0 | H15: =+Tabla13[[#This Row],[DIAS NO DEP]]/Tabla13[[#This Row],[dias]] -> 0 | I15: =+Tabla13[[#This Row],[Nº DEP]]+Tabla13[[#This Row],[Nº ND]] -> 0 | J15: 31
B16: Total | E16: =SUBTOTAL(109,Tabla13[DIAS TOTAL]) -> 0 | F16: =IFERROR(SUM(Tabla13[DIAS DEP])/SUM(Tabla13[DIAS TOTAL]),0) -> 0 | G16: =SUBTOTAL(109,Tabla13[Nº DEP]) -> 0 | H16: =SUBTOTAL(109,Tabla13[Nº ND]) -> 0 | I16: =IFERROR(AVERAGEIF(Tabla13[OCUPACION TOTAL],"<>0"),0) -> 0 | J16: =SUBTOTAL(109,Tabla13[dias]) -> 365
