Workbook

Sheet Instruciones de uso
A1: 1.- | B1: Este archivo contiene, además de esta hoja informativa, 15 hojas: - Las 7 hojas correspondientes a cada uno de los lotes; son las mismas que se incluyen en el Anexo III (Modelo de Oferta Económica) recogido en el Pliego Regulador que ha de regir el contrato mediante acuerdo marco del suministro de productos perecederos para los centros dependientes de la Agencia Navarra de Autonomia y Desarrollo de las Personas. Es en estas hojas donde se introducirán los datos. - Hoja "Proposición". Mostrará un resumen con los totales para cada uno de los lotes a los que la entidad presente una oferta. Además muestra información indicando: - si la oferta se ha cumplimentado correctamente. - si la oferta presentada contiene algún error : falta de introducir algún valor en el campo PRECIO OFERTADO SIN IVA o TIPO DE IVA o si ha superado el importe máximo correspondiente a cada lote. - si no se ha presentado ninguna oferta.
A3: 2.- | B3: En las hojas correspondientes a cada uno de los lotes, son en las únicas en la que se cumplimentarán datos. Solamente se introduciran valores en los campos marcados en color amarillo:
B4: - PRECIO OFERTADO SIN IVA : será el precio que se oferta para cada producto sin incluir el IVA. El formato de los valores que se incluyan en esta celda aparecerán con TRES decimales.
B5: - TIPO DE IVA : será el tipo de IVA aplicable a cada producto según la legislación vigente. Se introducirán con un formato de TRES decimales y aparecerán en el archivo excel en formato porcentaje.
A7: 3.- | B7: Unicamente se cumplimentarán los datos en el Precio Ofertado sin IVA y el Tipo de IVA para TODOS los productos incluidos en el lote al que la entidad se presenta. El resto de lotes a los que no se presenta, quedarán vacíos.
A9: 4.- | B9: Tal y como se establecen en el Pliego Regulador: - NO se admiten cambios en el formato de este archivo de excel.
B11: Muchas gracias por su colaboración.

Sheet Proposicion
A2: IMPORTES IVA EXCLUIDO
A4: LOTE | B4: IMPORTE MÁXIMO inicial previsto | C4: IMPORTE OFERTA PRESENTADA | G4: ESTADO PROPUESTA
A5: LOTE 01.- COCINA Y OFFICE DE UNIDADES DE CONVIVENCIA | B5: 184753.71 | C5: =+IF(B5>='Lote 1 Cocina y Office'!$G$35,'Lote 1 Cocina y Office'!$G$35,"Supera valor máximo") -> 0 | D5: =IF((COUNTA('Lote 1 Cocina y Office'!$B$4:$B$34)-COUNTA('Lote 1 Cocina y Office'!$D$4:$D$34))<>0,"Falta cumplimentar precio","Precio cumplimentado") -> Falta cumplimentar precio | E5: =IF(((COUNTA('Lote 1 Cocina y Office'!$B$4:$B$34)-COUNTBLANK('Lote 1 Cocina y Office'!$D$4:$D$34))-(COUNTA('Lote 1 Cocina y Office'!$B$4:$B$34)-COUNTBLANK('Lote 1 Cocina y Office'!$E$4:$E$34))=0),"Propuesta completada","Falta cumplimentar IVA") -> Propuesta completada | F5: =+CONCATENATE(IF(C5<>0,"Mayor",0),"-",D5,"-",E5) -> 0-Falta cumplimentar precio-Propuesta completada | G5: =+IF(C5="Supera valor máximo","Error en propuesta presentada",VLOOKUP(F5,Hoja1!$A$2:$B$6,2,0)) -> Propuesta NO presentada
A6: LOTE 02.- LAVANDERÍA | B6: 53894.14 | C6: =+IF(B6>='Lote 2 Lavandería'!$G$15,'Lote 2 Lavandería'!$G$15,"Supera valor máximo") -> 0 | D6: =IF((COUNTA('Lote 2 Lavandería'!$A$4:$A$14)-COUNTA('Lote 2 Lavandería'!$D$4:$D$14))<>0,"Falta cumplimentar precio","Precio cumplimentado") -> Falta cumplimentar precio | E6: =IF(((COUNTA('Lote 2 Lavandería'!$A$4:$A$14)-COUNTBLANK('Lote 2 Lavandería'!$D$4:$D$14))-(COUNTA('Lote 2 Lavandería'!$A$4:$A$14)-COUNTBLANK('Lote 2 Lavandería'!$E$4:$E$14))=0),"Propuesta completada","Falta cumplimentar IVA") -> Propuesta completada | F6: =+CONCATENATE(IF(C6<>0,"Mayor",0),"-",D6,"-",E6) -> 0-Falta cumplimentar precio-Propuesta completada | G6: =+IF(C6="Supera valor máximo","Error en propuesta presentada",VLOOKUP(F6,Hoja1!$A$2:$B$6,2,0)) -> Propuesta NO presentada
A7: LOTE 03.- EQUIPAMIENTO DE SERVICIOS GENERALES | B7: 48763.7 | C7: =+IF(B7>='Lote 3 Servicios generales'!$G$29,'Lote 3 Servicios generales'!$G$29,"Supera valor máximo") -> 0 | D7: =IF((COUNTA('Lote 3 Servicios generales'!$A$16:$A$28)-COUNTA('Lote 3 Servicios generales'!$D$16:$D$28))<>0,"Falta cumplimentar precio","Precio cumplimentado") -> Falta cumplimentar precio | E7: =IF(((COUNTA('Lote 3 Servicios generales'!$A$16:$A$28)-COUNTBLANK('Lote 3 Servicios generales'!$D$16:$D$28))-(COUNTA('Lote 3 Servicios generales'!$A$16:$A$28)-COUNTBLANK('Lote 3 Servicios generales'!$E$16:$E$28))=0),"Propuesta completada","Falta cumplimentar IVA") -> Propuesta completada | F7: =+CONCATENATE(IF(C7<>0,"Mayor",0),"-",D7,"-",E7) -> 0-Falta cumplimentar precio-Propuesta completada | G7: =+IF(C7="Supera valor máximo","Error en propuesta presentada",VLOOKUP(F7,Hoja1!$A$2:$B$6,2,0)) -> Propuesta NO presentada
A8: LOTE 04.- EQUIPAMIENTO DE RESIDENCIA | B8: 149245.7 | C8: =+IF(B8>='Lote 4 Residencia'!$G$32,'Lote 4 Residencia'!$G$32,"Supera valor máximo") -> 0 | D8: =IF((COUNTA('Lote 4 Residencia'!$A$4:$A$31)-COUNTA('Lote 4 Residencia'!$D$4:$D$31))<>0,"Falta cumplimentar precio","Precio cumplimentado") -> Falta cumplimentar precio | E8: =IF(((COUNTA('Lote 4 Residencia'!$A$4:$A$31)-COUNTBLANK('Lote 4 Residencia'!$D$4:$D$31))-(COUNTA('Lote 4 Residencia'!$A$4:$A$31)-COUNTBLANK('Lote 4 Residencia'!$E$4:$E$31))=0),"Propuesta completada","Falta cumplimentar IVA") -> Propuesta completada | F8: =+CONCATENATE(IF(C8<>0,"Mayor",0),"-",D8,"-",E8) -> 0-Falta cumplimentar precio-Propuesta completada | G8: =+IF(C8="Supera valor máximo","Error en propuesta presentada",VLOOKUP(F8,Hoja1!$A$2:$B$6,2,0)) -> Propuesta NO presentada
A9: LOTE 05.- MOBILIARIO A MEDIDA | B9: 73835.01 | C9: =+IF(B9>='Lote 5 Muebles a medida'!$G$16,'Lote 5 Muebles a medida'!$G$16,"Supera valor máximo") -> 0 | D9: =IF((COUNTA('Lote 5 Muebles a medida'!$A$4:$A$15)-COUNTA('Lote 5 Muebles a medida'!$D$4:$D$15))<>0,"Falta cumplimentar precio","Precio cumplimentado") -> Falta cumplimentar precio | E9: =IF(((COUNTA('Lote 5 Muebles a medida'!$A$4:$A$15)-COUNTBLANK('Lote 5 Muebles a medida'!$D$4:$D$15))-(COUNTA('Lote 5 Muebles a medida'!$A$4:$A$15)-COUNTBLANK('Lote 5 Muebles a medida'!$E$4:$E$15))=0),"Propuesta completada","Falta cumplimentar IVA") -> Propuesta completada | F9: =+CONCATENATE(IF(C9<>0,"Mayor",0),"-",D9,"-",E9) -> 0-Falta cumplimentar precio-Propuesta completada | G9: =+IF(C9="Supera valor máximo","Error en propuesta presentada",VLOOKUP(F9,Hoja1!$A$2:$B$6,2,0)) -> Propuesta NO presentada
A10: LOTE 06.- DECORACIÓN | B10: 56011.36 | C10: =+IF(B10>='Lote 6 Decoración'!$G$12,'Lote 6 Decoración'!$G$12,"Supera valor máximo") -> 0 | D10: =IF((COUNTA('Lote 6 Decoración'!$A$4:$A$11)-COUNTA('Lote 6 Decoración'!$D$4:$D$11))<>0,"Falta cumplimentar precio","Precio cumplimentado") -> Falta cumplimentar precio | E10: =IF(((COUNTA('Lote 6 Decoración'!$A$4:$A$11)-COUNTBLANK('Lote 6 Decoración'!$D$4:$D$11))-(COUNTA('Lote 6 Decoración'!$A$4:$A$11)-COUNTBLANK('Lote 6 Decoración'!$E$4:$E$11))=0),"Propuesta completada","Falta cumplimentar IVA") -> Propuesta completada | F10: =+CONCATENATE(IF(C10<>0,"Mayor",0),"-",D10,"-",E10) -> 0-Falta cumplimentar precio-Propuesta completada | G10: =+IF(C10="Supera valor máximo","Error en propuesta presentada",VLOOKUP(F10,Hoja1!$A$2:$B$6,2,0)) -> Propuesta NO presentada
A11: LOTE 07.- CAMAS | B11: 63540 | C11: =+IF(B11>='Lote 7 Camas'!$F$6,'Lote 7 Camas'!$F$6,"Supera valor máximo") -> 0 | D11: =IF((COUNTA('Lote 7 Camas'!$A$4:$A$5)-COUNTA('Lote 7 Camas'!$C$4:$C$5))<>0,"Falta cumplimentar precio","Precio cumplimentado") -> Falta cumplimentar precio | E11: =IF(((COUNTA('Lote 7 Camas'!$A$4:$A$5)-COUNTBLANK('Lote 7 Camas'!$C$4:$C$5))-(COUNTA('Lote 7 Camas'!$A$4:$A$5)-COUNTBLANK('Lote 7 Camas'!$D$4:$D$5))=0),"Propuesta completada","Falta cumplimentar IVA") -> Propuesta completada | F11: =+CONCATENATE(IF(C11<>0,"Mayor",0),"-",D11,"-",E11) -> 0-Falta cumplimentar precio-Propuesta completada | G11: =+IF(C11="Supera valor máximo","Error en propuesta presentada",VLOOKUP(F11,Hoja1!$A$2:$B$6,2,0)) -> Propuesta NO presentada

Sheet Hoja1
A2: 0-Falta cumplimentar precio-Falta cumplimentar IVA | B2: No presenta propuesta
A3: 0-Falta cumplimentar precio-Propuesta completada | B3: Propuesta NO presentada
A4: Mayor-Falta cumplimentar precio-Falta cumplimentar IVA | B4: Error en propuesta presentada
A5: Mayor-Precio cumplimentado-Falta cumplimentar IVA | B5: Error en propuesta presentada
A6: Mayor-Precio cumplimentado-Propuesta completada | B6: Propuesta completada correctamente

Sheet Lote 1 Cocina y Office
A3: CÓDIGO | B3: ARTÍCULO | C3: (A) UNIDADES | D3: (B) PRECIO OFERTADO SIN IVA | E3: TIPO DE IVA | F3: PRECIO OFERTADO CON IVA | G3: TOTAL (A)* (B)
A4: L01.01.01 | B4: Recinto cámaras | C4: 1 | F4: =D4+D4*E4 -> 0 | G4: =C4*D4 -> 0
A5: L01.01.02 | B5: Recinto de cámara de congelación | C5: 1 | F5: =D5+D5*E5 -> 0 | G5: =C5*D5 -> 0
A6: L01.01.03 | B6: Recinto de cámara de refrigeración 1 | C6: 1 | F6: =D6+D6*E6 -> 0 | G6: =C6*D6 -> 0
A7: L01.01.04 | B7: Recinto de cámara de refrigeración 2 | C7: 1 | F7: =D7+D7*E7 -> 0 | G7: =C7*D7 -> 0
A8: L01.01.05 | B8: Estanterías de almacenaje | C8: 1 | F8: =D8+D8*E8 -> 0 | G8: =C8*D8 -> 0
A9: L01.01.06 | B9: Báscula monocelular | C9: 1 | F9: =D9+D9*E9 -> 0 | G9: =C9*D9 -> 0
A10: L01.02.01 | B10: Mueble mural inoxidable | C10: 1 | F10: =D10+D10*E10 -> 0 | G10: =C10*D10 -> 0
A11: L01.02.02 | B11: Estante mural inoxidable | C11: 1 | F11: =D11+D11*E11 -> 0 | G11: =C11*D11 -> 0
A12: L01.02.03 | B12: Envasadora al vacío | C12: 1 | F12: =D12+D12*E12 -> 0 | G12: =C12*D12 -> 0
A13: L01.02.04 | B13: Abatidor de temperatura | C13: 1 | F13: =D13+D13*E13 -> 0 | G13: =C13*D13 -> 0
A14: L01.02.05 | B14: Armario de refrigeración | C14: 1 | F14: =D14+D14*E14 -> 0 | G14: =C14*D14 -> 0
A15: L01.02.06 | B15: equipo de refrigeración partido de 0ºC | C15: 1 | F15: =D15+D15*E15 -> 0 | G15: =C15*D15 -> 0
... A34: L01.05.02 | B34: Lavautensilios de unidades de convivencia | C34: 5 | F34: =D34+D34*E34 -> 0 | G34: =C34*D34 -> 0
A35: TOTAL LOTE | G35: =SUM(G4:G34) -> 0

Sheet Lote 2 Lavandería
A3: CÓDIGO | B3: ARTÍCULO | C3: (A) UNIDADES | D3: (B) PRECIO OFERTADO SIN IVA | E3: TIPO DE IVA | F3: PRECIO OFERTADO CON IVA | G3: TOTAL (A)*(B)
A4: L02.01 | B4: Carro de varillas | C4: 2 | F4: =+ROUND(D4*(1+E4),2) -> 0 | G4: =+ROUND(C4*D4,2) -> 0
A5: L02.02 | B5: Mueble inox lavandería | C5: 1 | F5: =+ROUND(D5*(1+E5),3) -> 0 | G5: =+ROUND(C5*D5,2) -> 0
A6: L02.03 | B6: Carro remontable | C6: 2 | F6: =+ROUND(D6*(1+E6),3) -> 0 | G6: =+ROUND(C6*D6,2) -> 0
A7: L02.04 | B7: Lavadora | C7: 2 | F7: =+ROUND(D7*(1+E7),3) -> 0 | G7: =+ROUND(C7*D7,2) -> 0
A8: L02.05 | B8: Secadora | C8: 2 | F8: =+ROUND(D8*(1+E8),3) -> 0 | G8: =+ROUND(C8*D8,2) -> 0
A9: L02.06 | B9: Mesa de doblado | C9: 1 | F9: =+ROUND(D9*(1+E9),3) -> 0 | G9: =+ROUND(C9*D9,2) -> 0
A10: L02.07 | B10: Mesa de planchado | C10: 1 | F10: =+ROUND(D10*(1+E10),3) -> 0 | G10: =+ROUND(C10*D10,2) -> 0
A11: L02.08 | B11: Carro perchero | C11: 1 | F11: =+ROUND(D11*(1+E11),3) -> 0 | G11: =+ROUND(C11*D11,2) -> 0
A12: L02.09 | B12: Carro distribución | C12: 3 | F12: =+ROUND(D12*(1+E12),3) -> 0 | G12: =+ROUND(C12*D12,2) -> 0
A13: L02.10 | B13: Estanterías de almacenaje | C13: 1 | F13: =+ROUND(D13*(1+E13),3) -> 0 | G13: =+ROUND(C13*D13,2) -> 0
A14: L02.11 | B14: Estanterías de almacenaje de ropa limpia | C14: 1 | F14: =+ROUND(D14*(1+E14),3) -> 0 | G14: =+ROUND(C14*D14,2) -> 0
A15: TOTAL LOTE | G15: =+SUM(G4:G14) -> 0

Sheet Lote 3 Servicios generales
A3: CÓDIGO | B3: ARTÍCULO | C3: (A) UNIDADES | D3: (B) PRECIO OFERTADO SIN IVA | E3: TIPO DE IVA | F3: PRECIO OFERTADO CON IVA | G3: TOTAL (A)*(B)
A4: V301 | B4: Taquillas de 2 puertas (módulo de 8 taquillas) | C4: 8 | F4: =D4+D4*E4 -> 0 | G4: =C4*D4 -> 0
A5: V302 | B5: Taquillas de 2 puertas (módulo de 6 taquillas) | C5: 7 | F5: =D5+D5*E5 -> 0 | G5: =C5*D5 -> 0
A6: V303 | B6: Banco vestuario | C6: 7 | F6: =D6+D6*E6 -> 0 | G6: =C6*D6 -> 0
A7: V304 | B7: Perchero vestuario | C7: 7 | F7: =D7+D7*E7 -> 0 | G7: =C7*D7 -> 0
A8: E301 | B8: Estanterías (metro lineal) | C8: 46 | F8: =D8+D8*E8 -> 0 | G8: =C8*D8 -> 0
A9: E302 | B9: Estantería metálica suspendida (metro lineal) | C9: 13 | F9: =D9+D9*E9 -> 0 | G9: =C9*D9 -> 0
A10: E303 | B10: Estantería metálica 1200mm | C10: 1 | F10: =D10+D10*E10 -> 0 | G10: =C10*D10 -> 0
A11: M301 | B11: Mesa escritorio 160 x 80 | C11: 8 | F11: =D11+D11*E11 -> 0 | G11: =C11*D11 -> 0
A12: M302 | B12: Mesa de 120x60 en ala para escritorio | C12: 1 | F12: =D12+D12*E12 -> 0 | G12: =C12*D12 -> 0
A13: M303 | B13: Mesa de escritorio de 120 x 80 | C13: 14 | F13: =D13+D13*E13 -> 0 | G13: =C13*D13 -> 0
A14: M304 | B14: Cajonera rodante | C14: 8 | F14: =D14+D14*E14 -> 0 | G14: =C14*D14 -> 0
A15: M305 | B15: Mesa de reuniones Ø120 | C15: 1 | F15: =D15+D15*E15 -> 0 | G15: =C15*D15 -> 0
... A25: A305 | B25: Armario bajo con cajones para carpetas colgantes | C25: 3 | F25: =D25+D25*E25 -> 0 | G25: =C25*D25 -> 0
B26: Televisor 65" | C26: 1 | F26: =D26+D26*E26 -> 0 | G26: =C26*D26 -> 0
B27: Perchero de pie | C27: 5 | F27: =D27+D27*E27 -> 0 | G27: =C27*D27 -> 0
B28: Perchero de pared | C28: 6 | F28: =D28+D28*E28 -> 0 | G28: =C28*D28 -> 0
A29: TOTAL LOTE | G29: =+SUM(G4:G28) -> 0

Sheet Lote 4 Residencia
A3: ARTÍCULO | B3: UNIDAD MEDIDA | C3: (A) UNIDADES | D3: (B) PRECIO OFERTADO SIN IVA | E3: TIPO DE IVA | F3: PRECIO OFERTADO CON IVA | G3: TOTAL (A)*(B)
A4: M401 | B4: Mesa redonda Ø55cm | C4: 65 | F4: =D4*(1+E4) -> 0 | G4: =C4*D4 -> 0
A5: M402 | B5: Mesa redonda Ø100 | C5: 11 | F5: =D5*(1+E5) -> 0 | G5: =C5*D5 -> 0
A6: M403 | B6: Mesa comedor 90 x 90 | C6: 21 | F6: =D6*(1+E6) -> 0 | G6: =C6*D6 -> 0
A7: M404 | B7: Mesa de centro y/o auxiliar | C7: 19 | F7: =D7*(1+E7) -> 0 | G7: =C7*D7 -> 0
A8: M405 | B8: Mesa exterior | C8: 9 | F8: =D8*(1+E8) -> 0 | G8: =C8*D8 -> 0
A9: M406 | B9: Mesa exterior balcón | C9: 8 | F9: =D9*(1+E9) -> 0 | G9: =C9*D9 -> 0
A10: M407 | B10: Mesa de actividades 120x60 | C10: 26 | F10: =D10*(1+E10) -> 0 | G10: =C10*D10 -> 0
A11: S401 | B11: Sillón habitación | C11: 65 | F11: =D11*(1+E11) -> 0 | G11: =C11*D11 -> 0
A12: S402 | B12: Sillas de salón/comedor | C12: 128 | F12: =D12*(1+E12) -> 0 | G12: =C12*D12 -> 0
A13: S403 | B13: Sillón de descanso eléctrico | C13: 24 | F13: =D13*(1+E13) -> 0 | G13: =C13*D13 -> 0
A14: S404 | B14: Sillón de descanso manual | C14: 24 | F14: =D14*(1+E14) -> 0 | G14: =C14*D14 -> 0
A15: S405 | B15: Silla apilable con brazos | C15: 97 | F15: =D15*(1+E15) -> 0 | G15: =C15*D15 -> 0
... A22: A403 | B22: Aparador salones | C22: 8 | F22: =D22*(1+E22) -> 0 | G22: =C22*D22 -> 0
B23: Parasol 3,5 x 3,5 | C23: 2 | F23: =D23*(1+E23) -> 0 | G23: =C23*D23 -> 0
B24: Televisor 85´ | C24: 1 | F24: =D24*(1+E24) -> 0 | G24: =C24*D24 -> 0
B25: Televisor 55´ | C25: 8 | F25: =D25*(1+E25) -> 0 | G25: =C25*D25 -> 0
B26: Lavacabezas | C26: 1 | F26: =D26*(1+E26) -> 0 | G26: =C26*D26 -> 0
B27: Sillón de peluquería | C27: 2 | F27: =D27*(1+E27) -> 0 | G27: =C27*D27 -> 0
B28: Tocador de peluquería | C28: 2 | F28: =D28*(1+E28) -> 0 | G28: =C28*D28 -> 0
B29: Maceteros autorriego | C29: 14 | F29: =D29*(1+E29) -> 0 | G29: =C29*D29 -> 0
B30: Reloj de pared | C30: 8 | F30: =D30*(1+E30) -> 0 | G30: =C30*D30 -> 0
B31: Decoración paramentos | C31: 1 | F31: =D31*(1+E31) -> 0 | G31: =C31*D31 -> 0
A32: TOTAL LOTE | G32: =+SUM(G4:G31) -> 0

Sheet Lote 5 Muebles a medida
A3: CÓDIGO | B3: ARTÍCULO | C3: (A) UNIDADES | D3: (B) PRECIO OFERTADO SIN IVA | E3: TIPO DE IVA | F3: PRECIO OFERTADO CON IVA | G3: TOTAL (A)*(B)
A4: M501-M502 | B4: Cocina laminada de unidades de convivencia | C4: 5 | F4: =D4*(1+E4) -> 0 | G4: =C4*D4 -> 0
A5: M503 | B5: Cocina laminada de personal | C5: 1 | F5: =D5*(1+E5) -> 0 | G5: =C5*D5 -> 0
A6: M504 | B6: Frente lavabo botiquín-enfermería | C6: 1 | F6: =D6*(1+E6) -> 0 | G6: =C6*D6 -> 0
A7: M505 | B7: Almacenaje de botiquín-enfermería | C7: 1 | F7: =D7*(1+E7) -> 0 | G7: =C7*D7 -> 0
A8: M506 | B8: Frente lavabo de consulta médica | C8: 1 | F8: =D8*(1+E8) -> 0 | G8: =C8*D8 -> 0
A9: M507 | B9: Zona de recepción del depósito de farmacia | C9: 1 | F9: =D9*(1+E9) -> 0 | G9: =C9*D9 -> 0
A10: M508 | B10: Zona de preparación y dispensación depósito de farmacia | C10: 1 | F10: =D10*(1+E10) -> 0 | G10: =C10*D10 -> 0
A11: M509 | B11: Armario en entrada de sala polivalente | C11: 1 | F11: =D11*(1+E11) -> 0 | G11: =C11*D11 -> 0
A12: M510 | B12: Armario central de sala polivalente | C12: 1 | F12: =D12*(1+E12) -> 0 | G12: =C12*D12 -> 0
A13: M511 | B13: Armario a medida en gimnasio | C13: 1 | F13: =D13*(1+E13) -> 0 | G13: =C13*D13 -> 0
A14: M512 | B14: Armario en controles de unidades L, A y C | C14: 3 | F14: =D14*(1+E14) -> 0 | G14: =C14*D14 -> 0
A15: M513 | B15: Armario en controles de unidades B y D | C15: 2 | F15: =D15*(1+E15) -> 0 | G15: =C15*D15 -> 0
A16: TOTAL LOTE | G16: =+SUM(G4:G15) -> 0

Sheet Lote 6 Decoración
A3: CÓDIGO | B3: ARTÍCULO | C3: (A) UNIDADES | D3: (B) PRECIO OFERTADO SIN IVA | E3: TIPO DE IVA | F3: PRECIO OFERTADO CON IVA | G3: TOTAL (A)*(B)
A4: C.V1 | B4: Cortina ventana V1/V1* | C4: 111 | F4: =D4*(1+E4) -> 0 | G4: =+ROUND(C4*D4,2) -> 0
A5: C.V2 | B5: Cortina ventana V2/V2* | C5: 27 | F5: =D5*(1+E5) -> 0 | G5: =+ROUND(C5*D5,2) -> 0
A6: C.V6 | B6: Cortinas ventanas V6 | C6: 5 | F6: =D6*(1+E6) -> 0 | G6: =+ROUND(C6*D6,2) -> 0
A7: E.V1 | B7: Estores ventanas tipo V1/V1* | C7: 12 | F7: =D7*(1+E7) -> 0 | G7: =+ROUND(C7*D7,2) -> 0
A8: VL.V3 | B8: Vinilo liso ventanas tipo V3 | C8: 1 | F8: =D8*(1+E8) -> 0 | G8: =+ROUND(C8*D8,2) -> 0
A9: VR.V3 | B9: Vinilo a rayas ventanas tipo V3 | C9: 11 | F9: =D9*(1+E9) -> 0 | G9: =+ROUND(C9*D9,2) -> 0
A10: VL.V5 | B10: Vinilo liso ventanas tipo V5 | C10: 8 | F10: =D10*(1+E10) -> 0 | G10: =+ROUND(C10*D10,2) -> 0
A11: VR.V5 | B11: Vinilo a rayas ventanas tipo V5 | C11: 18 | F11: =D11*(1+E11) -> 0 | G11: =+ROUND(C11*D11,2) -> 0
A12: TOTAL LOTE | G12: =+SUM(G4:G11) -> 0

Sheet Lote 7 Camas
A3: ARTÍCULO | B3: (A) UNIDADES | C3: (B) PRECIO OFERTADO SIN IVA | D3: TIPO DE IVA | E3: PRECIO OFERTADO CON IVA | F3: TOTAL (A)*(B)
A4: Camas | B4: 50 | E4: =C4*(1+D4) -> 0 | F4: =B4*C4 -> 0
A5: Almohoadas | B5: 65 | E5: =C5*(1+D5) -> 0 | F5: =B5*C5 -> 0
A6: TOTAL LOTE | F6: =+SUM(F4:F5) -> 0

Sheet Tipo IVA
A1: 0.04
A3: 0.1
A4: 0.21
