Workbook

Sheet Instrucciones
A1: 1.- | B1: Este archivo contiene, además de esta hoja informativa, 2 hojas:
B3: En la hoja Oferta económica es en la única en la que se cumplimentarán datos. Solamente se introduciran valores en los campos marcados en color amarillo:
B4: Hoja oferta económica: solo se cumplimentarán los datos en el Precio unitario ofertado de cada producto de ropa de forma y ropa plana del 2025 a 2029
A6: 3.- | B6: Tal y como se establecen en el Pliego Regulador: - NO se admiten cambios en el formato de este archivo de excel.
B8: Muchas gracias por su colaboración.

Sheet Proposicion
B3: PROPOSICIÓN ECONÓMICA SIN IVA:
B5: PERIODO | C5: Nº MESES | D5: PRECIO MÁXIMO TOTAL (IVA EXCLUIDO) | E5: PRECIO OFERTADO (IVA EXCLUIDO)
B6: 2025 | C6: 9 | D6: ='Oferta económica'!E6 -> 35783.03 | E6: ='Oferta económica'!E32 -> 0
B7: 2026 | C7: 12 | D7: ='Oferta económica'!F6 -> 50000.81 | E7: ='Oferta económica'!F32 -> 0
B8: 2027 | C8: 12 | D8: ='Oferta económica'!G6 -> 51100.83 | E8: ='Oferta económica'!G32 -> 0
B9: 2028 | C9: 12 | D9: ='Oferta económica'!H6 -> 52122.85 | E9: ='Oferta económica'!H32 -> 0
B10: 2029 | C10: 12 | D10: ='Oferta económica'!I6 -> 53165.31 | E10: ='Oferta económica'!I32 -> 0

Sheet Oferta económica
B4: PROPOSICÍON ECONÓMICA SIN IVA | C4: CONSUMO ESTIMADO abril-dic 2025 | D4: CONSUMO ESTIMADO ANUAL | E4: Precio unitario ofertado 2025 (IVA no incluido) | F4: Precio unitario ofertado 2026 (IVA no incluido) | G4: Precio unitario ofertado 2027 (IVA no incluido) | H4: Precio unitario ofertado 2028 (IVA no incluido) | I4: Precio unitario ofertado 2029 (IVA no incluido)
B6: PRECIO MÁXIMO ANUAL | E6: 35783.03 | F6: 50000.81 | G6: 51100.83 | H6: 52122.85 | I6: 53165.31
B7: ROPA DE FORMA
A13: 1 | B13: Babero | C13: =ROUNDUP(D13/12*9,0) -> 3634 | D13: 4845
A14: =A13+1 -> 2 | B14: Bata | C14: =ROUNDUP(D14/12*9,0) -> 113 | D14: 150
A15: =A14+1 -> 3 | B15: Camisón | C15: =ROUNDUP(D15/12*9,0) -> 2255 | D15: 3006
A16: =A15+1 -> 4 | B16: Casaca de uniforme general | C16: =ROUNDUP(D16/12*9,0) -> 6096 | D16: 8127
A17: =A16+1 -> 5 | B17: Delantal | C17: =ROUNDUP(D17/12*9,0) -> 734 | D17: 978
A18: =A17+1 -> 6 | B18: Pantalón de uniforme general | C18: =ROUNDUP(D18/12*9,0) -> 5135 | D18: 6846
A19: =A18+1 -> 7 | B19: Pantalón de cocinero | C19: =ROUNDUP(D19/12*9,0) -> 8 | D19: 10
A20: =A19+1 -> 8 | B20: Casaca de cocinero | C20: =ROUNDUP(D20/12*9,0) -> 8 | D20: 10
B21: ROPA PLANA
A22: 9 | B22: Cubrecama | C22: =ROUNDUP(D22/12*9,0) -> 3048 | D22: 4064
A23: =A22+1 -> 10 | B23: Empapadores | C23: =ROUNDUP(D23/12*9,0) -> 4737 | D23: 6315
A24: =A23+1 -> 11 | B24: Funda de almohada | C24: =ROUNDUP(D24/12*9,0) -> 4338 | D24: 5784
A25: =A24+1 -> 12 | B25: Funda colchón | C25: =ROUNDUP(D25/12*9,0) -> 19 | D25: 25
A26: =A25+1 -> 13 | B26: Paño Cocina | C26: =ROUNDUP(D26/12*9,0) -> 2025 | D26: 2700
A27: =A26+1 -> 14 | B27: Sabana | C27: =ROUNDUP(D27/12*9,0) -> 3864 | D27: 5152
A28: =A27+1 -> 15 | B28: Servilleta | C28: =ROUNDUP(D28/12*9,0) -> 672 | D28: 895
A29: =A28+1 -> 16 | B29: Toalla Baño | C29: =ROUNDUP(D29/12*9,0) -> 4504 | D29: 6005
A30: =A29+1 -> 17 | B30: Toalla lavabo | C30: =ROUNDUP(D30/12*9,0) -> 8040 | D30: 10719
A31: =A30+1 -> 18 | B31: Travesero | C31: =ROUNDUP(D31/12*9,0) -> 675 | D31: 900
B32: IMPORTE TOTAL OFERTADO (IVA no incluido) | E32: =SUMPRODUCT($C$13:$C$31,E13:E31) -> 0 | F32: =SUMPRODUCT($D$13:$D$31,F13:F31) -> 0 | G32: =SUMPRODUCT($D$13:$D$31,G13:G31) -> 0 | H32: =SUMPRODUCT($D$13:$D$31,H13:H31) -> 0 | I32: =SUMPRODUCT($D$13:$D$31,I13:I31) -> 0
