Workbook

Sheet Precios unitarios 
A1: SIMULADOR PRECIO OFERTADO (página 1)
A3: PRECIOS UNITARIOS OFERTADOS (introducir importes en las celdas de color naranja)
B5: Áreas técnicas | D5: Vigilancia colect. salud
A6: Precio unitarios áreas técnicas y vigilancia colectiva de la salud | B6: Precio ofertado | C6: Precio máx. | D6: Precio ofertado | E6: Precio máx.
A7: Corporación Pública Empresarial de Navarra | B7: 510 | C7: 510 | D7: 170 | E7: 170
A8: Navarra de Suelo y Vivienda | B8: 5400 | C8: 5400 | D8: 1800 | E8: 1800
A9: Ciudad Agroalimentaria de Tudela | B9: 1080 | C9: 1080 | D9: 40 | E9: 40
A10: Instituto Navarro de Tecnologías e II AA | B10: 8250 | C10: 8250 | D10: 2200 | E10: 2200
A11: Gestión Ambiental de Navarra | B11: 4687.5 | C11: 4687.5 | D11: 1250 | E11: 1250
A12: Navarra de Infraestructuras Locales | B12: 1830 | C12: 1830 | D12: 610 | E12: 610
A13: Navarra de Infr. de Cultura, Deporte y Ocio | B13: 2898 | C13: 2898 | D13: 840 | E13: 840
A14: Centro Navarro Autoaprendizaje de Idiomas | B14: 1770 | C14: 1770 | D14: 590 | E14: 590
A15: Navarra de Servicios y Tecnologías | B15: 5278.5 | C15: 5278.5 | D15: 1530 | E15: 1530
A16: Centro Europeo de Empresas e Innovación | B16: 2100 | C16: 2100 | D16: 700 | E16: 700
A17: Tracasa Instrumental | B17: 3636 | C17: 3636
A18: Trabajos Catastrales
A19: Sociedad de Desarrollo de Navarra | B19: 840 | C19: 840 | D19: 280 | E19: 280
A20: Instituto Navarro de Inversiones | B20: 400 | C20: 400 | D20: 40 | E20: 40
A21: Transporte Sanitario Bidean | B21: 400 | C21: 400 | D21: 70 | E21: 70
A22: Nafarbide el Camino de los Navarros | B22: 400 | C22: 400 | D22: 20 | E22: 20
A23: Fundación Baluarte | B23: 2173.5 | C23: 2173.5 | D23: 630 | E23: 630
B25: Precio ofertado | C25: Precio máx.
A26: Formación in situ
A27: Curso hasta 2 horas lectivas. | B27: 175 | C27: 175 | D27: €/ud
A28: Curso de 2 a 4 horas lectivas. | B28: 275 | C28: 275 | D28: €/ud
A29: Curso de 6 horas lectivas | B29: 375 | C29: 375 | D29: €/ud
A31: Estudio de puesta en conformidad RD 1215/1997
A32: Sencillo | B32: 80 | C32: 80 | D32: €/ud
A33: Intermedio | B33: 100 | C33: 100 | D33: €/ud
A34: Complejo | B34: 120 | C34: 120 | D34: €/ud
A36: Asistencia gestión de la prevención in situ | B36: 34 | C36: 34 | D36: €/hora
A38: Evaluación de Riesgos de las áreas e instalaciones CAT | B38: 3500 | C38: 3500 | D38: €/evaluación
A40: Otros precios unitarios vigilancia de la salud
A41: Reconocimiento médico centro asistencial | B41: 45 | C41: 45 | D41: €/ud
A42: Reconocimiento médico edificio Tracasa | B42: 15 | C42: 15 | D42: €/ud
A43: Perfil de hierro | B43: 10 | C43: 10 | D43: €/ud
A44: Antígeno prostático específico (PSA) | B44: 18 | C44: 18 | D44: €/ud
A45: Test de detección precoz cáncer de colon | B45: 16 | C45: 16 | D45: €/ud
A46: Reconocimiento ginecológico | B46: 120 | C46: 120 | D46: €/ud
A47: Tonometría | B47: 30 | C47: 30 | D47: €/ud
...

Sheet Simulador precio
A1: SIMULADOR PRECIO OFERTADO (página 2)
A3: 1. OFERTA PARA TODAS LAS SOCIEDADES EXCEPTO TRACASAS
B5: Áreas técnicas | C5: Vig Col Salud
A6: ÁREAS TÉCNICAS Y VIGILANCIA COLECT. SALUD | B6: €/año | C6: €/año
A7: Corporación Pública Empresarial de Navarra | B7: ='Precios unitarios '!B7 -> 510 | C7: ='Precios unitarios '!D7 -> 170
A8: Navarra de Suelo y Vivienda | B8: ='Precios unitarios '!B8 -> 5400 | C8: ='Precios unitarios '!D8 -> 1800
A9: Ciudad Agroalimentaria de Tudela | B9: ='Precios unitarios '!B9 -> 1080 | C9: ='Precios unitarios '!D9 -> 40
A10: Instituto Navarro de Tecnologías e II AA | B10: ='Precios unitarios '!B10 -> 8250 | C10: ='Precios unitarios '!D10 -> 2200
A11: Gestión Ambiental de Navarra | B11: ='Precios unitarios '!B11 -> 4687.5 | C11: ='Precios unitarios '!D11 -> 1250
A12: Navarra de Infraestructuras Locales | B12: ='Precios unitarios '!B12 -> 1830 | C12: ='Precios unitarios '!D12 -> 610
A13: Navarra de Infraestrucuturas de Cultura, Deporte y Ocio | B13: ='Precios unitarios '!B13 -> 2898 | C13: ='Precios unitarios '!D13 -> 840
A14: Centro Navarro de Autoaprendizaje de Idiomas | B14: ='Precios unitarios '!B14 -> 1770 | C14: ='Precios unitarios '!D14 -> 590
A15: Navarra de Servicios y Tecnologías | B15: ='Precios unitarios '!B15 -> 5278.5 | C15: ='Precios unitarios '!D15 -> 1530
A16: Centro Europeo de Empresas e Innovación de | B16: ='Precios unitarios '!B16 -> 2100 | C16: ='Precios unitarios '!D16 -> 700
A17: Sociedad de Desarrollo de Navarra | B17: ='Precios unitarios '!B19 -> 840 | C17: ='Precios unitarios '!E19 -> 280
A18: Instituto Navarro de Inversiones | B18: ='Precios unitarios '!B20 -> 400 | C18: ='Precios unitarios '!E20 -> 40
A19: Transporte Sanitario Bidean | B19: ='Precios unitarios '!B21 -> 400 | C19: ='Precios unitarios '!E21 -> 70
A20: Nafarbide el Camino de los Navarros | B20: ='Precios unitarios '!B22 -> 400 | C20: ='Precios unitarios '!E22 -> 20
A21: Fundación Baluarte | B21: ='Precios unitarios '!B23 -> 2173.5 | C21: ='Precios unitarios '!E23 -> 630
A22: Subtotal | B22: =SUM(B7:B21) -> 38017.5 | C22: =SUM(C7:C21) -> 10770
B23: A | C23: B
A25: Evaluación de Riesgos de las áreas e instalaciones CAT | C25: ='Precios unitarios '!B38 -> 3500 | D25: C
A27: Formación in situ | B27: Nº estimado | C27: €/curso
A28: Curso hasta 2 horas lectivas. | B28: 25 | C28: ='Precios unitarios '!B27 -> 175 | D28: =B28*C28 -> 4375
A29: Curso de 2 a 4 horas lectivas. | B29: 10 | C29: ='Precios unitarios '!B28 -> 275 | D29: =B29*C29 -> 2750
A30: Curso de 6 horas lectivas | B30: 5 | C30: ='Precios unitarios '!B29 -> 375 | D30: =B30*C30 -> 1875
D31: =SUM(D28:D30) -> 9000 | E31: D
A33: Estudio de puesta en conformidad RD 1215/1997 | B33: Nº estimado | C33: €/estudio
A34: Sencillo | B34: 80 | C34: ='Precios unitarios '!B32 -> 80 | D34: =B34*C34 -> 6400
A35: Intermedio | B35: 40 | C35: ='Precios unitarios '!B33 -> 100 | D35: =B35*C35 -> 4000
A36: Complejo | B36: 10 | C36: ='Precios unitarios '!B34 -> 120 | D36: =B36*C36 -> 1200
D37: =SUM(D34:D36) -> 11600 | E37: E
A39: Otros trabajos de abono aparte | B39: Nº estimado | C39: €/hora
A40: Dedicación gestión de la prevención in situ | B40: 200 | C40: ='Precios unitarios '!B36 -> 34 | D40: =B40*C40 -> 6800
A41: Ensayos, laboratorios y otros | D41: 2000
D42: =D40+D41 -> 8800 | E42: F
A44: VIGILANCIA INDIVIDUAL DE LA SALUD
A45: RECONOCIMIENTO MEDICO | B45: trabajadores | C45: €/reconoc. | D45: nº reconoc. | F45: €/año
A46: Coste general | B46: 1077 | C46: ='Precios unitarios '!B41 -> 45 | D46: 0.9 | F46: =C46*B46*D46 -> 43618.5 | G46: G
A48: PRUEBAS COMPLEMENTARIAS | C48: % sexo | D48: % en riesgo | E48: €/ud | F48: €/año
...
