Workbook

Sheet Precios unitarios 
A1: SIMULADOR PRECIO OFERTADO (página 1)
A3: PRECIOS UNITARIOS OFERTADOS (introducir importes en las celdas de color naranja)
B5: Áreas técnicas | D5: Vigilancia colect. salud
A6: Precio unitarios áreas técnicas y vigilancia colectiva de la salud | B6: Precio ofertado | C6: Precio máx. | D6: Precio ofertado | E6: Precio máx.
A7: Corporación Pública Empresarial de Navarra | B7: 510 | C7: 510 | D7: 170 | E7: 170
A8: Navarra de Suelo y Vivienda | B8: 5400 | C8: 5400 | D8: 1800 | E8: 1800
A9: Ciudad Agroalimentaria de Tudela | B9: 1080 | C9: 1080 | D9: 40 | E9: 40
A10: Instituto Navarro de Tecnologías e II AA | B10: 8250 | C10: 8250 | D10: 2200 | E10: 2200
A11: Gestión Ambiental de Navarra | B11: 4687.5 | C11: 4687.5 | D11: 1250 | E11: 1250
A12: Navarra de Infraestructuras Locales | B12: 1830 | C12: 1830 | D12: 610 | E12: 610
A13: Navarra de Infr. de Cultura, Deporte y Ocio | B13: 2898 | C13: 2898 | D13: 840 | E13: 840
A14: Centro Navarro Autoaprendizaje de Idiomas | B14: 1770 | C14: 1770 | D14: 590 | E14: 590
A15: Navarra de Servicios y Tecnologías | B15: 5278.5 | C15: 5278.5 | D15: 1530 | E15: 1530
A16: Centro Europeo de Empresas e Innovación | B16: 2100 | C16: 2100 | D16: 700 | E16: 700
A17: Tracasa Instrumental | B17: 3636 | C17: 3636
A18: Trabajos Catastrales
A19: Sociedad de Desarrollo de Navarra | B19: 840 | C19: 840 | D19: 280 | E19: 280
A20: Instituto Navarro de Inversiones | B20: 400 | C20: 400 | D20: 40 | E20: 40
A21: Transporte Sanitario Bidean | B21: 400 | C21: 400 | D21: 70 | E21: 70
A22: Nafarbide el Camino de los Navarros | B22: 400 | C22: 400 | D22: 20 | E22: 20
A23: Fundación Baluarte | B23: 2173.5 | C23: 2173.5 | D23: 630 | E23: 630
B25: Precio ofertado | C25: Precio máx.
A26: Formación in situ
A27: Curso hasta 2 horas lectivas. | B27: 175 | C27: 175 | D27: €/ud
A28: Curso de 2 a 4 horas lectivas. | B28: 275 | C28: 275 | D28: €/ud
A29: Curso de 6 horas lectivas | B29: 375 | C29: 375 | D29: €/ud
A31: Estudio de puesta en conformidad RD 1215/1997
A32: Sencillo | B32: 80 | C32: 80 | D32: €/ud
A33: Intermedio | B33: 100 | C33: 100 | D33: €/ud
A34: Complejo | B34: 120 | C34: 120 | D34: €/ud
A36: Asistencia gestión de la prevención in situ | B36: 34 | C36: 34 | D36: €/hora
A38: Evaluación de Riesgos de las áreas e instalaciones CAT | B38: 3500 | C38: 3500 | D38: €/evaluación
A40: Otros precios unitarios vigilancia de la salud
A41: Reconocimiento médico centro asistencial | B41: 45 | C41: 45 | D41: €/ud
A42: Reconocimiento médico edificio Tracasa | B42: 15 | C42: 15 | D42: €/ud
A43: Perfil de hierro | B43: 10 | C43: 10 | D43: €/ud
A44: Antígeno prostático específico (PSA) | B44: 18 | C44: 18 | D44: €/ud
A45: Test de detección precoz cáncer de colon | B45: 16 | C45: 16 | D45: €/ud
A46: Reconocimiento ginecológico | B46: 120 | C46: 120 | D46: €/ud
A47: Tonometría | B47: 30 | C47: 30 | D47: €/ud
A48: Reconocimiento oftalmológico | B48: 120 | C48: 120 | D48: €/ud
A49: Vacunación gripe | B49: 20 | C49: 20 | D49: €/ud
A51: Vigilancia de la salud Tracasas
A52: Dedicación presencial médico/a en el edificio “Tracasa” | B52: 33864 | C52: 33864 | D52: €/año
A53: Dedicación presencial enfermero/a en el edificio “Tracasa” | B53: 39840 | C53: 39840 | D53: €/año
A55: En la siguiente hoja se obtiene de forma automática el PRECIO TOTAL OFERTADO (celda B92)

Sheet Simulador precio
A1: SIMULADOR PRECIO OFERTADO (página 2)
A3: 1. OFERTA PARA TODAS LAS SOCIEDADES EXCEPTO TRACASAS
B5: Áreas técnicas | C5: Vig Col Salud
A6: ÁREAS TÉCNICAS Y VIGILANCIA COLECT. SALUD | B6: €/año | C6: €/año
A7: Corporación Pública Empresarial de Navarra | B7: ='Precios unitarios '!B7 -> 510 | C7: ='Precios unitarios '!D7 -> 170
A8: Navarra de Suelo y Vivienda | B8: ='Precios unitarios '!B8 -> 5400 | C8: ='Precios unitarios '!D8 -> 1800
A9: Ciudad Agroalimentaria de Tudela | B9: ='Precios unitarios '!B9 -> 1080 | C9: ='Precios unitarios '!D9 -> 40
A10: Instituto Navarro de Tecnologías e II AA | B10: ='Precios unitarios '!B10 -> 8250 | C10: ='Precios unitarios '!D10 -> 2200
A11: Gestión Ambiental de Navarra | B11: ='Precios unitarios '!B11 -> 4687.5 | C11: ='Precios unitarios '!D11 -> 1250
A12: Navarra de Infraestructuras Locales | B12: ='Precios unitarios '!B12 -> 1830 | C12: ='Precios unitarios '!D12 -> 610
A13: Navarra de Infraestrucuturas de Cultura, Deporte y Ocio | B13: ='Precios unitarios '!B13 -> 2898 | C13: ='Precios unitarios '!D13 -> 840
A14: Centro Navarro de Autoaprendizaje de Idiomas | B14: ='Precios unitarios '!B14 -> 1770 | C14: ='Precios unitarios '!D14 -> 590
A15: Navarra de Servicios y Tecnologías | B15: ='Precios unitarios '!B15 -> 5278.5 | C15: ='Precios unitarios '!D15 -> 1530
A16: Centro Europeo de Empresas e Innovación de | B16: ='Precios unitarios '!B16 -> 2100 | C16: ='Precios unitarios '!D16 -> 700
A17: Sociedad de Desarrollo de Navarra | B17: ='Precios unitarios '!B19 -> 840 | C17: ='Precios unitarios '!E19 -> 280
A18: Instituto Navarro de Inversiones | B18: ='Precios unitarios '!B20 -> 400 | C18: ='Precios unitarios '!E20 -> 40
A19: Transporte Sanitario Bidean | B19: ='Precios unitarios '!B21 -> 400 | C19: ='Precios unitarios '!E21 -> 70
A20: Nafarbide el Camino de los Navarros | B20: ='Precios unitarios '!B22 -> 400 | C20: ='Precios unitarios '!E22 -> 20
A21: Fundación Baluarte | B21: ='Precios unitarios '!B23 -> 2173.5 | C21: ='Precios unitarios '!E23 -> 630
A22: Subtotal | B22: =SUM(B7:B21) -> 38017.5 | C22: =SUM(C7:C21) -> 10770
B23: A | C23: B
A25: Evaluación de Riesgos de las áreas e instalaciones CAT | C25: ='Precios unitarios '!B38 -> 3500 | D25: C
A27: Formación in situ | B27: Nº estimado | C27: €/curso
A28: Curso hasta 2 horas lectivas. | B28: 25 | C28: ='Precios unitarios '!B27 -> 175 | D28: =B28*C28 -> 4375
A29: Curso de 2 a 4 horas lectivas. | B29: 10 | C29: ='Precios unitarios '!B28 -> 275 | D29: =B29*C29 -> 2750
A30: Curso de 6 horas lectivas | B30: 5 | C30: ='Precios unitarios '!B29 -> 375 | D30: =B30*C30 -> 1875
D31: =SUM(D28:D30) -> 9000 | E31: D
A33: Estudio de puesta en conformidad RD 1215/1997 | B33: Nº estimado | C33: €/estudio
A34: Sencillo | B34: 80 | C34: ='Precios unitarios '!B32 -> 80 | D34: =B34*C34 -> 6400
A35: Intermedio | B35: 40 | C35: ='Precios unitarios '!B33 -> 100 | D35: =B35*C35 -> 4000
A36: Complejo | B36: 10 | C36: ='Precios unitarios '!B34 -> 120 | D36: =B36*C36 -> 1200
D37: =SUM(D34:D36) -> 11600 | E37: E
A39: Otros trabajos de abono aparte | B39: Nº estimado | C39: €/hora
A40: Dedicación gestión de la prevención in situ | B40: 200 | C40: ='Precios unitarios '!B36 -> 34 | D40: =B40*C40 -> 6800
A41: Ensayos, laboratorios y otros | D41: 2000
D42: =D40+D41 -> 8800 | E42: F
A44: VIGILANCIA INDIVIDUAL DE LA SALUD
A45: RECONOCIMIENTO MEDICO | B45: trabajadores | C45: €/reconoc. | D45: nº reconoc. | F45: €/año
A46: Coste general | B46: 1077 | C46: ='Precios unitarios '!B41 -> 45 | D46: 0.9 | F46: =C46*B46*D46 -> 43618.5 | G46: G
A48: PRUEBAS COMPLEMENTARIAS | C48: % sexo | D48: % en riesgo | E48: €/ud | F48: €/año
A49: Perfil de hierro | B49: =$B$46 -> 1077 | C49: 0.45 | D49: 0.5 | E49: ='Precios unitarios '!B43 -> 10 | F49: =B49*C49*D49*E49 -> 2423.25
A50: Antígeno prostático específico (PSA) | B50: =$B$46 -> 1077 | C50: 0.55 | D50: 0.3 | E50: ='Precios unitarios '!B44 -> 18 | F50: =B50*C50*D50*E50 -> 3198.69
A51: Test de detección precoz de cáncer de colon | B51: =$B$46 -> 1077 | C51: 0.55 | D51: 0.3 | E51: ='Precios unitarios '!B45 -> 16 | F51: =B51*C51*D51*E51 -> 2843.28
A52: Reconocimiento ginecológico | B52: =$B$46 -> 1077 | C52: 0.45 | D52: 0.05 | E52: ='Precios unitarios '!B46 -> 120 | F52: =B52*C52*D52*E52 -> 2907.9
A53: Reconocimiento oftalmológico (tonometría) | B53: =$B$46 -> 1077 | C53: 1 | D53: 0.1 | E53: ='Precios unitarios '!B47 -> 30 | F53: =B53*C53*D53*E53 -> 3231
A54: Reconocimiento oftalmológico completo | B54: =$B$46 -> 1077 | C54: 1 | D54: 0.02 | E54: ='Precios unitarios '!B48 -> 120 | F54: =B54*C54*D54*E54 -> 2584.8
A55: Vacunación gripe | B55: =$B$46 -> 1077 | C55: 1 | D55: 0.2 | E55: ='Precios unitarios '!B49 -> 20 | F55: =B55*C55*D55*E55 -> 4308
F56: =SUM(F49:F55) -> 21496.92 | G56: H
A58: 1. Precio anual estimado (A+B+C+D+E+F+G+H) | C58: =B22+C22+C25+D31+D37+D42+F46+F56 -> 146802.92
A60: 2. OFERTA PARA TRACASAS
A62: ÁREAS TÉCNICAS
A63: Dedicación general
A64: Tracasa Instrumental | F64: ='Precios unitarios '!B17 -> 3636 | G64: €/año
A65: Trabajos Catastrales
A66: Dedicación in situ | B66: h/día y semana | C66: semanas/año | E66: €/hora
A67: Dedicación gestión de la prevención in situ | B67: 4 | C67: 48 | E67: ='Precios unitarios '!B36 -> 34 | F67: =B67*C67*E67 -> 6528
F68: =F67+F64 -> 10164 | G68: A
A69: VIGILANCIA DE LA SALUD
A70: Dedicación in situ | F70: €/año
A71: Medico | F71: ='Precios unitarios '!B52 -> 33864
A72: Coste personal enfermería | F72: ='Precios unitarios '!B53 -> 39840
F73: =SUM(F71:F72) -> 73704 | G73: B
A75: RECONOCIMIENTO MEDICO | B75: trabajadores | C75: €/reconoc. | D75: nº reconoc. | F75: €/año
A76: Coste general (analítica) | B76: 664 | C76: ='Precios unitarios '!B42 -> 15 | D76: 0.75 | F76: =C76*B76*D76 -> 7470 | G76: C
A78: PRUEBAS COMPLEMENTARIAS | C78: % sexo | D78: % en riesgo | E78: €/ud | F78: €/año
A79: Perfil de hierro | B79: 664 | C79: 0.45 | D79: 0.5 | E79: ='Precios unitarios '!C43 -> 10 | F79: =B79*C79*D79*E79 -> 1494
A80: Antígeno prostático específico (PSA) | B80: 664 | C80: 0.55 | D80: 0.3 | E80: ='Precios unitarios '!C44 -> 18 | F80: =B80*C80*D80*E80 -> 1972.08
A81: Test de detección precoz de cáncer de colon | B81: 664 | C81: 0.55 | D81: 0.3 | E81: ='Precios unitarios '!C45 -> 16 | F81: =B81*C81*D81*E81 -> 1752.96
A82: Reconocimiento ginecológico | B82: 664 | C82: 0.45 | D82: 0.05 | E82: ='Precios unitarios '!C46 -> 120 | F82: =B82*C82*D82*E82 -> 1792.8
A83: Reconocimiento oftalmológico (tonometría) | B83: 664 | C83: 1 | D83: 0.1 | E83: ='Precios unitarios '!C47 -> 30 | F83: =B83*C83*D83*E83 -> 1992
A84: Reconocimiento oftalmológico completo | B84: 664 | C84: 1 | D84: 0.02 | E84: ='Precios unitarios '!C48 -> 120 | F84: =B84*C84*D84*E84 -> 1593.6
A85: Vacunación gripe | B85: 664 | C85: 1 | D85: 0.2 | E85: ='Precios unitarios '!C49 -> 20 | F85: =B85*C85*D85*E85 -> 2656
F86: =SUM(F79:F85) -> 13253.44 | G86: D
A88: 2. Precio anual estimado (A+B+C+D) | C88: =F68+F73+F76+F86 -> 104591.44
C93: Precio máximo | D93: Baja ofertada
A94: Precio total ofertado | B94: =C58+C88 -> 251394.36 | C94: 251394 | D94: =(B94-C94)/C94 -> 1.4320151e-06
