Workbook

Sheet HOJA RESUMEN
A1: PROYECTO EQUIPAMIENTO GENERAL CENTRO DE DÍA PILAR GOGORCENA Y CENTRO DE ATENCIÓN TEMPRANA
A4: SUMA LOTE 1 - CORTINAS | F4: ='L1. CORTINAS'!I18 -> 0
A5: SUMA LOTE 2 - MOBILIARIO TIPO OFICINA | F5: ='L2 M.OFICINA'!I29 -> 0
A6: SUMA LOTE 3 - MOBILIARIO TIPO DOMÉSTICO | F6: ='L3 M.DOMÉSTICO'!I17 -> 0
A7: SUMA LOTE 4 - MOBILIARIO A MEDIDA | F7: =+'L4. A MEDIDA'!I68 -> 0
A8: SUMA LOTE 5 - MOBILIARIO ESCOLAR | F8: ='L5 M.ESCOLAR'!I31 -> 0
A9: SUMA LOTE 6 - MOBILIARIO COCINA | F9: =+'L6 M. COCINA'!I27 -> 0
A10: SUMA LOTE 7 - EQUIPAMIENTO SALAS INTERVENCIÓN | F10: ='L7 EQUIPAMIENTO SALAS'!I80 -> 0
A11: SUMA LOTE 8 - MOBILIARIO TALLER MANTENIMIENTO | F11: ='L8. TALLER MTO.'!I9 -> 0
A12: SUMA LOTES EQUIPAMIENTOS | F12: =SUM(F4:F11) -> 0
A15: I.V.A. 21% | F15: =F12*0.21 -> 0
A16: TOTAL LOTE EQUIPAMIENTO GENERAL CENTRO DE DÍA PILAR GOGORCENA Y CENTRO DE ATENCIÓN TEMPRANA | F16: =F12+F15 -> 0

Sheet L1. CORTINAS
C2: LOTE 1 - CORTINAS
B4: RE | C4: Suministro e instalación de estores enrollables con accionamiento a cadena en tejido Polyscreen ignifugo con un grado de apertura del 5% color blanco. Todas la medidas se comprobarán in situ.
C5: PLANTA Sº | G5: unidades
B6: C02 | C6: CE02: Ventana ancho 1,2 x alto 0,7 | G6: 23 | I6: =G6*H6 -> 0
B7: C04 | C7: CE04: Ventana ancho 1,6 x alto 0,7 | G7: 3 | I7: =G7*H7 -> 0
C8: PLANTA Bª
B9: C03 | C9: CE03: Ventana ancho 1,2 x alto 1,5 | G9: 12 | I9: =G9*H9 -> 0
B10: C05 | C10: CE05: Ventana ancho 1,8 x alto 1,5 | G10: 2 | I10: =G10*H10 -> 0
B11: C08 | C11: CE08: Ventana ancho 2,0 x alto 1,5 | G11: 4 | I11: =G11*H11 -> 0
C12: PLANTA 1ª
B13: C03 | C13: CE03: Ventana ancho 1,2 x alto 1,5 | G13: 35 | I13: =G13*H13 -> 0
B14: C07 | C14: CE07: Ventana ancho 1,4 x alto 2,4 | G14: 1 | I14: =G14*H14 -> 0
B15: C08 | C15: CE08: Ventana ancho 2,0 x alto 1,5 | G15: 1 | I15: =G15*H15 -> 0
B16: C10 | C16: CE10: Ventana ancho 4,0 x alto 1,5 | G16: 8 | I16: =G16*H16 -> 0
G18: TOTAL LOTE 1 | I18: =SUM(I6:I16) -> 0

Sheet L2 M.OFICINA
C2: LOTE 2- MOBILIARIO TIPO OFICINA
C3: Todos lo muebles de este lote se realizarán con materiales y colores similares para dar al conjunto una sensación homogénea y cálida.
C4: Mesas de trabajo aula/reuniones
B5: MO1 | C5: Mesa de trabajo con patas de estructura metálica pintada en epoxi de color a decidir por la propiedad. Encimera de tablero laminado de 19 mm de espesor mínimo con canto de PVC de 2mm en acabado a decidir por la propiedad. Totalmente montado. Incluidos montaje, adhesivos y demás materiales u accesorios para su correcta colocación. Dimensiones aprox. mesa 160 x 80 x 73cm alto. 2 uds en Despacho TS/Psico sótano 4 uds en Despacho Técnicos sótano 1 ud en Sala Psicomotricidad sótano 1 ud en Despacho 14b 1 ud en Despacho 16 1 ud en Despacho 18 8 ud en Despacho 24 2 ud en Despacho 43 | G5: 20 | I5: =G5*H5 -> 0
B6: MO3 | C6: Mesa de trabajo con patas de estructura metálica pintada en epoxi de color a decidir por la propiedad. Encimera de tablero de fibra de alta densidad HPL de 10mm color a decidir por la propiedad. Totalmente montado. Incluidos montaje, adhesivos y demás materiales u accesorios para su correcta colocación. Dimensiones aprox. mesa 120 x 80 x 73cm alto 8 uds en Taller 1 3 uds en Taller 2 | G6: 11 | I6: =G6*H6 -> 0
B7: MO4 | C7: Mesa de trabajo con patas de estructura metálica pintada en epoxi de color a decidir por la propiedad. Uno de los laterales apoyado sobre armario con cajones. Encimera de tablero laminado de 25 mm de espesor mínimo con canto de PVC de 2mm en acabado a decidir por la propiedad. Totalmente montado. Incluidos montaje, adhesivos y demás materiales u accesorios para su correcta colocación. Dimensiones totales mesa 160 x 80 x 73cm alto Dimensiones de armario de apoyo: 110 x 60 x 71cm alto 1 ud en despacho dirección Sótano | G7: 1 | I7: =G7*H7 -> 0
B8: MO5 | C8: Mesa de reunión redonda base tipo peana central y tubo central en acero pintado epoxi. Encimera de tablero laminado de 19 mm de espesor mínimo con canto de PVC de 2mm. Totalmente montado. Incluidos montaje, adhesivos y demás materiales u accesorios para su correcta colocación. Dimensiones totales mesa Diámetro 90 x 73cm 1 ud en dirección Sótano | G8: 1 | I8: =G8*H8 -> 0
B9: MO6 | C9: Mesa de reunión redonda base tipo peana central y tubo central en acero pintado epoxi. Encimera de tablero laminado de 19 mm de espesor mínimo con canto de PVC de 2mm. Acabado a decidir por la propiedad. Totalmente montado. Incluidos montaje, adhesivos y demás materiales u accesorios para su correcta colocación. Dimensiones aprox. mesa: Diámetro 100 x 73cm 1 ud en Sala 44 1 ud en Sala 45 | G9: 2 | I9: =G9*H9 -> 0
B10: MO8 | C10: Mesa abatible con ruedas. Patas de tubo de acero soldadas a un travesaño de acero, toda la base pintada epoxi. 4 ruedas de 65mm de diámetro, con freno. Encimera laminada de 25mm de espesor. Incluye piezas para adosabilidad frontal o lateral. Acabado a decidir por la propiedad. Totalmente montado. Incluidos montaje, adhesivos y demás materiales u accesorios para su correcta colocación. Dimensiones aprox. 160 x 80 x 73cm alto 9 uds en sala 08 5 uds en sala 23 | G10: 14 | I10: =G10*H10 -> 0
C11: Sillas despachos y aulas
B12: MO9 | C12: Silla de trabajo con respaldo malla técnica y elástica con marco perimetral. Tacto tejido. El soporte lumbar está formado por 4 lamas de poliamida, mediante las cuales y con el accionamiento de 2 manetas se regula la altura. Asiento con soporte de inyección en polipropileno más goma espuma flexible de espesor medio de 55 mm sobre la que se coloca el tejido grupo 3. Es regulable en profundidad mediante un sistema de ajuste con 8 posiciones distintas en un recorrido de 70 mm. Regulación de altura de la silla por pistón oleo-neumático. Reposabrazos 1D con soporte en poliamida. En la parte superior lleva un reposabrazos de polipropileno de tacto agradable. Están fijados al asiento. Regulación en altura de 100 mm de recorrido con 11 posiciones de bloqueo. Base deoliamida con fibra con ruedas de 50mm, opcionalmente duras o blandas. Dimensiones aproximados : 65 x 61 x 97/106cm alto Altura asiento: 40/49cm 1 ud en dirección Sótano 2 ud en despacho TS/Psico sótano 4 ud en despacho Técnicos sótano 1 uds en Sala polivalente 1 ud en despacho 07 2 ud en despacho 24 5 ud en despacho 25 | G12: 16 | I12: =G12*H12 -> 0
B13: MO11 | C13: Silla confidente apilable SIN brazos. Estructura en acero cromado o lacado, y asiento y respaldo de polipropileno. Color a elegir por la propiedad. Dimensiones aproximadas 54 x 80 x 53 cm aprox. Altura asiento 45cm 10 uds en Sala de personal 4 uds en dirección Sótano 52 uds en Sala 08 2 uds en despacho 14a 2 uds en despacho 14b 2 uds en despacho 15 2 uds en despacho 16 2 uds en despacho 17 2 uds en despacho 18 18 uds en Sala 23 | G13: 96 | I13: =G13*H13 -> 0
B14: MO12 | C14: Silla apilable con pala mismo diseño que MO13 . Estructura interna en acero cromado o lacado, y asiento y respaldo de polipropileno. Color a elegir por la propiedad. Dimensiones aproximadas 54 x 80 x 53 cm Altura asiento 45cm 50 uds en Sala de polivalente sótano | G14: 50 | I14: =G14*H14 -> 0
B15: MO13 | C15: Silla apilable con brazo mismo diseño que MO12. Estructura interna en acero cromado o lacado, y asiento y respaldo de polipropileno. Color a elegir por la propiedad. Dimensiones aproximados 54 x 80 x 53 cm Altura asiento 45cm 50 uds en Sala de polivalente sótano | G15: 50 | I15: =G15*H15 -> 0
B16: MO16 | C16: Bancada 2 plazas con mesita. Estructura interna en acero cromado o lacado, y asiento y respaldo de polipropileno. Colores y acabados a elegir por propiedad. Totalmente montado. Incluidos montaje, adhesivos y demás materiales u accesorios para su correcta colocación. Dimensiones máximas 170cm Altura asiento aprox. 44cm 1 uds en Sala 02 | G16: 1 | I16: =G16*H16 -> 0
B17: MO17 | C17: Bancada 3 plazas. Estructura interna en acero cromado o lacado, y asiento y respaldo de polipropileno. Colores a elegir por propiedad. Totalmente montado. Incluidos montaje, adhesivos y demás materiales u accesorios para su correcta colocación. Dimensiones máximas 170cm Altura asiento aprox. 44cm 1 uds en Sala 02 2 uds en Sala 19 | G17: 3 | I17: =G17*H17 -> 0
C18: Armarios, cajoneras y estantería almacén
B19: MO18 | C19: Armario medio de melamina con el interior preparado para la regulación en altura de los estantes cada 25 mm. Trasera enrasada. Puertas con tiradores, Bisagras de 110º de apertura. Cerradura amaestrada. 3 estantes interiores. Acabados a decidir por la propiedad. Totalmente montado. Incluidos montaje, adhesivos y demás materiales u accesorios para su correcta colocación. Dimensiones aprox: 80 x 45 x 160cm alto 1 ud en despacho 14 1 uds en despacho TS/Psico sótano | G19: 2 | I19: =G19*H19 -> 0
B20: MO19 | C20: Armario bajo de melamina con el interior preparado para la regulación en altura de los estantes cada 25 mm. Trasera enrasada. Puertas con tiradores, Bisagras de 110º de apertura. Cerradura amaestrada. 1 estante interior. Acabados a decidir por la propiedad. Totalmente montado. Incluidos montaje, adhesivos y demás materiales u accesorios para su correcta colocación. Dimensiones: 80 x 45 x 71cm alto 1 ud en despacho Técnicos sótano 6 uds en sala 03 2 uds en Despacho 07 1 uds en Despacho 07b 1 uds en Despacho 14b 1 uds en Despacho 15 2 uds en Despacho 24 2 uds en Sala 23 | G20: 16 | I20: =G20*H20 -> 0
B21: MO20 | C21: Armario medio de melamina con el interior preparado para la regulación en altura de los estantes cada 25 mm. Trasera enrasada. Puertas con tiradores, Bisagras de 110º de apertura. Cerradura amaestrada. 3 estantes exteriores y uno interior. Totalmente montado. Incluidos montaje, adhesivos y demás materiales u accesorios para su correcta colocación. Dimensiones: 80 x 45 x 160cm alto 1 ud en despacho 14 1 ud en despacho 15 1 ud en despacho 23 | G21: 3 | I21: =G21*H21 -> 0
B22: MO21 | C22: Cajonera rodante de 3 cajones o cajón y archivo con el envolvente es una única pieza plegada en chapa de acero de 0.8 mm y refuerzos conformados en la parte inferior de 1.5. Las guías se colocarán sobre las omegas de acero soldadas a la estructura. 3 Cajones metálicos clipados sobre las guías extracción 3/4. Ruedas rosca métrica 8 roscadas en la parte inferior del bloque que quedan totalmente ocultas. Tirador lateral integrado en el propio frente. Incluye bandeja de apoyo portalápices en el interior. Dimensiones: 42 x 60 x 51cm alto. 2 uds en despacho TS/Psico sótano 4 uds en despacho Técnicos sótano 1 ud en sala Psicomotricidad sótano 1 ud en despacho 07 8 uds en despacho 24 1 ud en despacho 42 | G22: 17 | I22: =G22*H22 -> 0
B23: MO22 | C23: Estantería metálica de almacén de 5 baldas regulables en altura. Capacidad de carga para grandes pesos. Totalmente montada e instalada. Totalmente montado. Incluidos montaje, adhesivos y demás materiales u accesorios para su correcta colocación. Dimensiones aproximadas: 80 x 40 x 220cm 4 uds en sala 29 4 uds en sala 47 | G23: 8 | I23: =G23*H23 -> 0
B24: MO23 | C24: Estantería metálica suspendida de 3 baldas provista de soportes de alta resistencia con regulador vertical. Capacidad de carga para grandes pesos. Totalmente montada e instalada. Totalmente montado. Incluidos montaje, adhesivos y demás materiales u accesorios para su correcta colocación. Dimensiones aproximadas: 240 x 40 1 ud en sala 47 | G24: 1 | I24: =G24*H24 -> 0
C25: Varios
B26: MOV1 | C26: Percheros de pie. Equipados con ganchos para ropa y bolsos. Resistente a arañazos y golpes. Con pie para garantizar la estabilidad.Provistos de paragüero y cubeta de goteo en el color de los ganchos. Capacidad para 4-6 paraguas con cubeta de fácil limpieza. Los ganchos garantizarán el cuidado de la ropa. Altura aprox. 180cm. 1 ud Despacho Dirección sótano 1 uds en Despacho Técnicos sótano 1 ud Despacho 07 1 ud Despacho 23 1 ud Despacho 24 | G26: 5 | I26: =G26*H26 -> 0
B27: MOV2 | C27: Perchero de pared con al menos 4 colgadores retráctiles. Color a elegir por la propiedad. Totalmente montado. Incluidos montaje, adhesivos y demás materiales u accesorios para su correcta colocación. 1 ud Despacho 14a 1 ud Despacho 14b 1 ud Despacho 15 1 ud Despacho 16 1 ud Despacho 17 1 ud Despacho 18 1 ud Despacho 25 1 ud Despacho 26 1 ud Despacho 27 1 ud Despacho 30 1 ud Despacho 31 1 ud Despacho 32 1 ud Despacho 33 1 ud Despacho 34 1 ud Despacho 35a 1 ud Despacho 35b 1 ud Despacho 35c 1 ud Despacho 36a 1 ud Despacho 36b 1 ud Despacho 36c 1 ud Despacho 36d 1 ud Despacho 36e 1 ud Despacho 43 1 ud Despacho 42 1 ud Despacho 44 1 ud Despacho 45 | G27: 26 | I27: =G27*H27 -> 0
B28: MOV3 | C28: Perchero de pared con 2 colgadores retráctiles. Color a elegir por la propiedad. Totalmente montado. Incluidos montaje, adhesivos y demás materiales u accesorios para su correcta colocación. 1 uds en Despacho TS/Psico sótano 1 ud Sala 03 1 ud Despacho 7b 1 ud Despacho 14 | G28: 4 | I28: =G28*H28 -> 0
G29: TOTAL LOTE 2 | I29: =SUM(I5:I28) -> 0

Sheet L3 M.DOMÉSTICO
C2: LOTE 3- MOBILIARIO TIPO DOMÉSTICO
C3: Todos lo muebles de este lote se realizarán con materiales y colores similares para dar al conjunto una sensación de hogar, homogénea y cálida.
C4: Butacas/Sofás/Sillas zona de estar
B5: MD01 | C5: Silla tipo Bow. Respaldo con interior formado por armazón metálico. El conjunto va envuelto por espuma sobreinyectada de alta densidad tapizada y espesor variable en la zona del asiento. Estructura fija de 4 patas fabricadas en madera. Conteras atornillables. Acabados a decidir por la propidad. Dimensiones máximas: 70 x 80 x 95 cm alto, altura asiento 47cm 2 uds en Módulo 4 (Recibidor) 4 ud en Zona distribuidora (sótano) 1 ud en sala 39 | G5: 7 | I5: =G5*H5 -> 0
B6: MD02 | C6: Silla con brazos tipo Bio o similar. Estructura interna de acero en acero cromado o lacado, y asiento y respaldo de polipropileno. Color a elegir por la propiedad. Dimensiones aproximadas: 48 x 55 x 80cm alto Altura asiento 45cm 33 uds en Módulo 4 20 ud en Taller 1 8 ud en Taller 2 | G6: 61 | I6: =G6*H6 -> 0
B7: MD03 | C7: Sillón/Butaca de una plaza con funciones de reclinación con palanca. Estructura del sillón en madera de pino y MDF. Bastidor de asiento en madera. Espuma ignífuga. Suspensión de asiento en muelle, de alta resistencia. Suspensión de respaldo en cincha elástica de 80 mm. Cosido reforzado con pestaña. Patas de madera. Tapizado en tejido con protección antibacterial, antifúngica, acabado antimanchas. Lleva soporte y recubrimiento antimoho. Asiento continuo. Dimensiones aproximadas: 80 x 90 x 104cm alto, altura asiento 47cm 4uds en Módulo 4 (Salón) | G7: 4 | I7: =G7*H7 -> 0
B8: MD04 | C8: Sofá de 2 plazas con patas son metálicas cromadas o de madera. Armazón de madera y la suspensión realizada mediante cinchas elásticas de alta durabilidad. Los rellenos son de espuma ignífugade poliuretano de alta resiliencia. Dimensiones máximas:150 x 90 x 83cm alto, altura asiento 47cm 2 ud en módulo 4 (Salón) | G8: 2 | I8: =G8*H8 -> 0
B9: MD05 | C9: Sofá de 3 plazas con patas son metálicas cromadas o de madera de 10 centímetros de altura. Armazón de madera de pino y la suspensión realizada mediante cinchas elásticas de alta durabilidad de 80 milímetros. Los rellenos son de espuma ignífugade poliuretano de alta resiliencia con una densidad de 30 Kg/m3. Dimensiones máximas 200 x 90 x 83cm alto, altura asiento aprox. 47cm 1 ud en Mósulo 4 (salón) | G9: 1 | I9: =G9*H9 -> 0
C10: Mesas comedor/aulas/zona estar
B11: MD06 | C11: Mesa de comedor con patas de perﬁ l cuadrado 50x50 en forma de pórtico abierto, soldadas y repasadas en forma de inglete. Acaban en niveladores antideslizantes que permiten compensar los desniveles del suelo. Estructura pintada en epoxi de 80micras de espesor. Encimera de tablero acabado en madera con tratamiento de barnizado en alta resistencia. Canteado en madera de 2 mm. de espesor. Sin electrificación. Dimensiones totales mesa 80 x 80 x 73cm 3 ud en Sala personal sótano 2 ud en Sala 21 | G11: 5 | I11: =G11*H11 -> 0
B12: MD07 | C12: Mesa de comedor laminado HPL de espesor 20 mm. Estructura con pórticos perimetral, perfil metálico Lacada color. Acabados y color a decidir por la propiedad. Dimensiones totales mesa 140 x 90 x 73cm alto 7 uds en Módulo 4 (comedor) | G12: 7 | I12: =G12*H12 -> 0
B13: MD08 | C13: Mesa de comedor laminado HPL de espesor 20 mm. Estructura con pórticos perimetral, perfil metálico Lacada color.. Acabados y color a decidir por la propiedad. Dimensiones totales mesa 140 x 70 x 73cm alto 2 uds en Módulo 4 (Comedor) | G13: 2 | I13: =G13*H13 -> 0
B14: MD09 | C14: Mesa centro con encimera redonda. Base de 4 patas. Patas o estrutura portante de madera o metálica u otro material similar. Tableros de primera calidad resistentes a rayaduras y manchas, limpiadores,... Recubrimiento del tablero en papel masa de gramaje 130 y canteado pvc en alta presión. Acabado en color madera o color a definir por la propiedad. Incluso conteras para la parte inferior que ayuden a evitar rayas, arañazos y ruidos, en plástico o goma. Dimensiones totales mesa Diámetro 80 x 35cm aprox 1 uds en Zona distribuidora (sótano) | G14: 1 | I14: =G14*H14 -> 0
C15: Varios
B16: MV01 | C16: Lámpara de pie con estructura regulable en altura. 2 ud en Módulo 4 (Salón) 1 ud en sala 39 | G16: 3 | I16: =G16*H16 -> 0
G17: TOTAL LOTE 3 | I17: =SUM(I5:I16) -> 0

Sheet L4. A MEDIDA
C2: LOTE 4 - MOBILIARIO A MEDIDA
C3: Todos lo muebles de este lote se realizarán con materiales y colores similares para dar al conjunto una sensación homogénea y cálida.
C4: Armarios tipo oficina
A5: OFICINA | B5: MM01 | C5: Armario tipo oficina, realizado con tablero melaminado acabado a elegir, con puertas abatibles de cierre suave. Interior con cuatro baldas regulables en altura. Estará compuesto por dos módulos, uno de 90cm y otro de 50cm. Totalmente montado. Incluidos montaje, adhesivos y demás materiales u accesorios para su correcta colocación. Dimensiones: 140 x 30 x 200cm aprox | G5: 1 | I5: =G5*H5 -> 0
C6: 1 ud en Despacho técnicos sótano
C7: Mobiliario tipo doméstico
A8: MÓDULO 4 | B8: MM02 | C8: Armario ropero, realizado con tablero melaminado acabado a elegir por la propiedad, con puertas abatibles de cierre suave. Interior según plano con dos baldas y barra para colgar. Totalmente montado. Incluidos montaje, adhesivos y demás materiales u accesorios para su correcta colocación. Dimensiones: 195 x 60 x 200cm aprox | G8: 1 | I8: =G8*H8 -> 0
C9: 1 ud en Módulo 4 (Recibidor)
A10: MÓDULO 4 | B10: MM03 | C10: Mueble bajo tipo recibidor, realizado con tablero melaminado de acabado a elegir por la propiedad. Realizado según documentación gráfica. Estará compuesto por dos módulos: uno de 90cm con puertas abatibles de cierre suave e interior con baldas regulables en altura, y otro de 50cm de cajones con freno y extracción total. Totalmente montado. Incluidos montaje, adhesivos y demás materiales u accesorios para su correcta colocación. Dimensiones: 140 x 45 x 90cm aprox | G10: 1 | I10: =G10*H10 -> 0
C11: 1 ud en Módulo 4 (Recibidor)
A12: MÓDULO 4 | B12: MM04 | C12: Armario con cama abatible según documentación gráfica, realizado con tablero melaminado acabado a elegir por la propiedad. Totalmente montado. Incluidos montaje, adhesivos y demás materiales u accesorios para su correcta colocación. Dimensiones: 180x60x205 cm aprox | G12: 1 | I12: =G12*H12 -> 0
C13: 1ud en Módulo 4 (Salón)
A14: MÓDULO 4 | B14: MM04.1 | C14: Colchón de alta calidad, resistencia, transpirabilidad y confort. Fabricado en espuma de poliuretano flexible de alta resiliencia, o viscoelástica. Autoextinguible, según norma UNE 53127.Medidas 90x200 cm con un grueso entre 20- 25 cm. aprox. Incluye funda de colchón con cremallera en L con solapa,costuras selladas, extraible,lavable, desinfectable, impermeable, transpirable, antibacteriana, antiácaros e ignífugo M-1, para una higuiene perfecta. | G14: 1 | I14: =G14*H14 -> 0
C15: 1 ud en Módulo 4 (Salón)
A16: MÓDULO 4 | B16: MM04.2 | C16: Almohada de alta calidad. Fabricado en viscoelástico flexible de alta resilencia, o en viscografeno. Medidas 90x40 cm. aprox. Autoextinguible, antialérgico, antiácaros, anatómica e indeformable.Incluye funda de almohada con cremallera en L con solapa,costuras selladas, extraible,lavable, desinfectable, impermeable, transpirable, antibacteriana, antiácaros e ignífuga para una higuiene perfecta. | G16: 1 | I16: =G16*H16 -> 0
C17: 1 ud en Módulo 4 (Salón)
C18: Mobiliario tipo escolar
A19: TALLER 1 | B19: MM05 | C19: Armario escolar según documentación gráfica con 12 espacios interiores con ruedas con freno. Acabado madera o color a decidir por propiedad. Totalmente montado. Incluidos montaje, adhesivos y demás materiales u accesorios para su correcta colocación. Dimensiones: 100 x 45 x 160 cm aprox | G19: 4 | I19: =G19*H19 -> 0
C20: 4 ud en Taller 1
A21: TALLER 1 | B21: MM06 | C21: Mueble tipo escolar según documentación gráfica, el cuál estará compuesto por dos módulos de 90cm de puertas abatibles de cierre suave e interior con balda regulable en altura, y un módulo con cubetas de plástico extraibles de diferentes tamaños sin puerta. Acabado madera o color a decidir por propiedad. Color cubetas a decidir por la propiedad. Totalmente montado. Incluidos montaje, adhesivos y demás materiales u accesorios para su correcta colocación. Dimensiones: 285 x 50 x 90 cm | G21: 2 | I21: =G21*H21 -> 0
C22: 2 ud en Taller 1
A23: TALLER 1 | B23: MM07 | C23: Mueble tipo escolar según documentación gráfica, el cuál estará compuesto por dos módulos de 80cm de puertas abatibles de cierre suave e interior con balda regulable en altura. Acabado madera o color a decidir por propiedad. Totalmente montado. Incluidos montaje, adhesivos y demás materiales u accesorios para su correcta colocación. Dimensiones aproximadas: 160 x 50 x 90 cm | G23: 2 | I23: =G23*H23 -> 0
C24: 2 ud en Taller 1
A25: TALLER 1 | B25: MM08 | C25: Ml. Encimera de melamina acabado en madera o color a elegir ancho 60cm y espesor mínimo 30mm. Totalmente montada. Incluidos montaje, adhesivos y demás materiales u accesorios para su correcta colocación. Dimensiones aproximadas: 146+156 x 60 cm | G25: 3.02 | I25: =G25*H25 -> 0
C26: 3,02 ml. en Taller 1
A27: TALLER 1 | B27: MM09 | C27: Ml. Encimera de melamina acabado en madera o color a elegir ancho 50cm y espesor mínimo 30mm. Totalmente montada. Incluidos montaje, adhesivos y demás materiales u accesorios para su correcta colocación. Dimensiones aproximadas: 954+762 x 50 cm | G27: 17.16 | I27: =G27*H27 -> 0
C28: 17,16m en Taller 1
A29: TALLER 1 | B29: MM10 | C29: Mueble esquinero bajo fregadero con puertas abatibles de cierre suave. Según documentación gráfica. Estará compuesto de un módulo de 3 puertas y otro de 2 puertas. Interior con una balda regulable en altura. Acabado a decidir por la propiedad.Totalmente montado. Incluidos montaje, adhesivos y demás materiales u accesorios para su correcta colocación. Dimensiones aproximadas: 200-110 x 60 x 90 cm | G29: 1 | I29: =G29*H29 -> 0
C30: 1 ud en Taller 1
A31: TALLER 1 | B31: MM11 | C31: Mueble tipo escolar según documentación gráfica, el cuál estará compuesto por módulo cartulinero sin puertas y dos módulos de 90cm con puertas abatibles de cierre suave. Realizados todos ellos con tablero melaminado acabado a elegir por la propiedad. Totalmente montado. Incluidos montaje, adhesivos y demás materiales u accesorios para su correcta colocación. Dimensiones aproximadas: 285 x 60 x 90 cm | G31: 1 | I31: =G31*H31 -> 0
C32: 1 ud en Taller 1
A33: TALLER 1 | B33: MM12 | C33: Armario según documentación gráfica realizado con tablero melaminado acabado a elegir por la propiedad, con puertas abatibles de cierre suave. Interior según plano con 4 baldas regulables en altura. Totalmente montado. Incluidos montaje, adhesivos y demás materiales u accesorios para su correcta colocación. Dimensiones aproximadas: 90 x 60 x 200 cm | G33: 5 | I33: =G33*H33 -> 0
C34: 5 ud en Taller 1
A35: TALLER 2 | B35: MM13 | C35: Estantería para taller de cerámica de madera según documentación gráfica. Acabado color madera a elegir por la propiedad. Totalmente montado. Incluidos montaje, adhesivos y demás materiales u accesorios para su correcta colocación. Dimensiones aproximadas: 350 x 30 x 200cm | G35: 1 | I35: =G35*H35 -> 0
C36: 1 ud en Taller 2
A37: TALLER 2 | B37: MM14 | C37: Ml. Encimera fenólico ancho 60cm. Acabado a elegir por la propiedad. Totalmente montado. Incluidos montaje, adhesivos y demás materiales u accesorios para su correcta colocación. | G37: 1
C38: Dimensiones aproximadas: en esquina 105 + 135cm con hueco para fregadero 80x44 1 ud en Taller 1 | G38: 2.4 | I38: =G38*H38 -> 0
C39: Dimensiones aproximadas: 320 x 60 cm con hueco para fregadero 60x44 con escurridor. 1 ud en Taller 2 | G39: 3.4 | I39: =G39*H39 -> 0
A40: TALLER 2 | B40: MM15 | C40: Mueble bajo encimera según documentación gráfica. Incluye un módulo con hueco para fregadero de 60x44cm y tres módulos de 80cm de ancho. Todos ellos realizados con tablero melaminado acabado a elegir por la propiedad, con puertas abatibles de cierre suave. Interior con una balda regulable en altura. Totalmente montado. Incluidos montaje, adhesivos y demás materiales u accesorios para su correcta colocación. Dimensiones: 340 x 60 x 44cm aprox | G40: 1 | I40: =G40*H40 -> 0
C41: 1 ud en Taller 2
...

Sheet L5 M.ESCOLAR
C1: LOTE 5 - MOBILIARIO ESCOLAR
C2: Armarios
B3: ME1 | C3: Armario escolar. Realizado con paneles de melamina de color a elegir por la propiedad de 19 mm de grosor. Acabados con cantos de PVC de 2 mm de grosor. 2 puertas con 4 estantes en el interior. Cerradura amaestrada. Totalmente montado. Incluidos montaje, adhesivos y demás materiales u accesorios para su correcta colocación. Dimensiones aproximadas : 177x80x40 1 ud en despacho 31 | G3: 1 | I3: =G3*H3 -> 0
C4: Mesas
B5: ME2 | C5: Mesa infantil redonda de madera. Con patas de madera de haya maciza de Ø 50 mm. y encimera en tablero MDF (DM) de 21 mm. de grosor laminado con planchas de alta presion (HPL), muy resistentes al desgaste. Bases de silicona antideslizante para proteger el suelo. Los bordes estan redondeados para prevencion de cortes o heridas. Acabados de madera en barniz no toxico. Color a elegir por la propiedad. Totalmente montado. Incluidos montaje, adhesivos y demás materiales u accesorios para su correcta colocación. Dimensiones: Ø80 altura 46cm 1 ud en Despacho 19 1 ud en Despacho 30 1 ud en Despacho 35c 1 ud en Despacho 36a 1 ud en Despacho 36b | G5: 5 | I5: =G5*H5 -> 0
C6: Sillas y bancos
B7: ME3 | C7: Silla infantil de madera altura 26cm con respaldo y asiento moldeados para asegurar una correcta ergonomía. Tapetas de plástico en las patas para proteger el suelo y minimizar el ruido. Color acabado a elegir por propiedad. 1 ud en Despacho 15 1 ud en Despacho 16 3 ud en Sala 19 1 ud en Despacho 30 3 ud en Despacho 32 3 ud en Despacho 34 2 ud en Despacho 35c 1 ud en Despacho 36a 1 ud en Despacho 36b | G7: 16 | I7: =G7*H7 -> 0
B8: ME4 | C8: Silla infantil reversible (tres posturas mesa/silla). Color acabado a elegir por propiedad. Similiar a la imagen. Dimensiones aproximadas: 30x30x30 1 ud en Despacho 26 1 ud en Despacho 27 1 ud en Despacho 30 1 ud en Despacho 31 1 ud en Despacho 32 1 ud en Despacho 33 1 ud en Despacho 34 1 ud en Despacho 35c 1 ud en Despacho 36a 1 ud en Despacho 36b 1 ud en Despacho 36c | G8: 11 | I8: =G8*H8 -> 0
B9: ME5 | C9: Banco madera bajo con acolchado Dimensiones aproximadas: 30x50x40h cm 1 ud en Sala 27 1 ud en Sala 30 1 ud en Sala 31 | G9: 3 | I9: =G9*H9 -> 0
B10: ME6 | C10: Banco madera alto con acolchado Dimensiones aproximadas: 40x75x50h cm 1 ud en Sala 27 1 ud en Sala 30 1 ud en Sala 31 | G10: 3 | I10: =G10*H10 -> 0
C11: Escaleras, pirámides, tarimas, rampas y conjuntos de madera
B12: ME7 | C12: Escalera Falcon MDMOB1022 o similar MDF acabado abedul. Combinable con rampas y escaleras. Totalmente montado. Incluidos montaje, adhesivos y demás materiales u accesorios para su correcta colocación. Dimensiones: 50 x 50 x 90 cm 1 ud en Despacho 16 | G12: 1 | I12: =G12*H12 -> 0
B13: ME8 | C13: Pirámide grande con barrotes. Falcon MDMOB1006 o similar. Acabao abedul. Fabricada bajo los parámetros de seguridad infantil establecidos. Cantos redondeados para prevención de cortes. Fabricados en tablero de 18mm. Contrachapado. Totalmente montado. Incluidos montaje, adhesivos y demás materiales u accesorios para su correcta colocación. Dimensiones: 80 x 85 x 74 cm 1 ud en Sala 36e | G13: 1 | I13: =G13*H13 -> 0
B14: ME9 | C14: Pirámide pequeña con barrotes Falcon MDMOB1007 o similar. Acabao abedul. Totalmente montado. Incluidos montaje, adhesivos y demás materiales u accesorios para su correcta colocación. Dimensiones: 60 x 49 x 42 cm 1 ud en Sala 30 1 ud en Sala 36d | G14: 2 | I14: =G14*H14 -> 0
B15: ME10 | C15: Pasarela pirámides Falcon MDMOB1008 o similar. Combinable con pirámide grande y Pirámide pequeña. Acabao abedul. Totalmente montado. Incluidos montaje, adhesivos y demás materiales u accesorios para su correcta colocación. Dimensiones: 160 x 38x 6 cm. 1 ud Despacho 3d 1 ud en Sala 36e | G15: 2 | I15: =G15*H15 -> 0
B16: ME11 | C16: Conjunto pirámides y pasarela Falcon MDMOB1009 o similar. Compuesto por pirámide de barrotes grande y pequeña con pasarela. Acabado Abedul. Totalmente montado. Incluidos montaje, adhesivos y demás materiales u accesorios para su correcta colocación. Dimensiones totales: 280x85x74 cm 1 ud en Sala 36c | G16: 1 | I16: =G16*H16 -> 0
B17: ME12 | C17: Tarima Falcon MDMOB1015 o similar ancho 30 cm. Acabado abedul. Totalmente montado. Incluidos montaje, adhesivos y demás materiales u accesorios para su correcta colocación. Dimensiones: 30x60x20 cm 1 ud en Sala 36d | G17: 1 | I17: =G17*H17 -> 0
B18: ME13 | C18: Tarima Falcon MDMOB1018 o similar ancho 100 cm.acabado Abedul. Totalmente montado. Incluidos montaje, adhesivos y demás materiales u accesorios para su correcta colocación. Dimensiones: 100x100x50 cm 1 ud en Sala 30 1 ud en Sala 36a | G18: 2 | I18: =G18*H18 -> 0
B19: ME14 | C19: Rampa Falcon MDMOB1021 o similar ancho 100 cm. acabado Abedul. Totalmente montado. Incluidos montaje, adhesivos y demás materiales u accesorios para su correcta colocación. Dimensiones: 100x50x50 cm 1 ud en Sala 36a | G19: 1 | I19: =G19*H19 -> 0
B20: ME15 | C20: Rampa T4056R2 o similar. Fabricada con tablero contrachapado de abedul de 18mm de grosor. Cantos redondos con un radio de 5mm. Unión con excéntricos y espigas de madera. Barniz incoloro no tóxico de alta resistencia. Totalmente montado. Incluidos montaje, adhesivos y demás materiales u accesorios para su correcta colocación. Dimensiones: 100x60x30h cm 1 ud en Sala 35b | G20: 1 | I20: =G20*H20 -> 0
B21: ME16 | C21: Escalera-Rampa T1028 o similar. Consta de: escalera, tarima con vallas y rampa trepadora. Realizada en contrachapado de abedul fenólico de 18mm de grueso. Cantos: cantos redondeados con un mínimo de radio de 5mm. Totalmente montado. Incluidos montaje, adhesivos y demás materiales u accesorios para su correcta colocación. Dimensiones: 200x50x50h cm 1 ud en sala 19 | G21: 1 | I21: =G21*H21 -> 0
C22: Espalderas y rocódromo
B23: ME17 | C23: Espaldera infantil fabricada con madera de pino y haya de alta resistencia y varillas redondeadas de fácil agarre para niños y niñas. Provista de 9 listones a una distancia equidistante de 11 cm, exepto el hueco superior del segundo y del tercer listón que es de 45 cm. Totalmente montado. Incluidos montaje, adhesivos y demás materiales u accesorios para su correcta colocación. Dimensiones: 180 cms. alto x 68 cms. 1 ud en Sala 26 1 ud en Sala 27 1 ud en Sala 30 1 ud en Sala 31 1 ud en Sala 35c 1 ud en Sala 36a 1 ud en Sala 36b 1 ud en Sala 36c 1 ud en Sala 36d | D23: Espaldera MODELO 1 – ESPALDERA JUNIOR SIMPLE 180 cms. alto x 68 cms. Ancho | E23: Espaldera MODELO 1 – ESPALDERA JUNIOR SIMPLE 180 cms. alto x 68 cms. Ancho | F23: Espaldera MODELO 1 – ESPALDERA JUNIOR SIMPLE 180 cms. alto x 68 cms. Ancho | G23: 9 | I23: =G23*H23 -> 0
B24: ME18 | C24: ROCÓDROMO - PARED DE ESCALADA. Pared de escalada para niños de madera con soportes para rocas. Incluye 16 rocas. Totalmente montado. Incluidos montaje, adhesivos y demás materiales u accesorios para su correcta colocación. Dimensiones: 99x 150 cm 1 ud en Sala 26 1 ud en Sala 35c 1 ud en Sala 36b | D24: Espaldera MODELO 1 – ESPALDERA JUNIOR SIMPLE 180 cms. alto x 68 cms. Ancho | E24: Espaldera MODELO 1 – ESPALDERA JUNIOR SIMPLE 180 cms. alto x 68 cms. Ancho | F24: Espaldera MODELO 1 – ESPALDERA JUNIOR SIMPLE 180 cms. alto x 68 cms. Ancho | G24: 3 | I24: =G24*H24 -> 0
C25: Otros
B26: ME19 | C26: Conjunto de 3 cajones M3005 o similar.Madera de pino. Unión encoladacon espigas de madera. Barniz no tóxico incoloro. Dimensiones aproximadas: 60x40x28h cm, 53x33x21h cm, 46x26x14h cm. 1 ud en sala 35b | G26: 1 | I26: =G26*H26 -> 0
C27: Varios
A28: LACTANCIA Y SALA DE MOLDES | B28: MEV1 | C28: Contenedor de pañales (30 pañales aprox.) Dimensiones aproximadas: 40x28x56 cm. 1 ud en Sala 37 1 ud en Sala 39 | G28: 2 | I28: =G28*H28 -> 0
B29: MEV2 | C29: Pizarra mural blanca de acero vitrificado. fabricada en laminado de alta calidad para escritura con rotuladores. Enmarcada con perfil de alumnio y cantoneras de plástico gris en las esquinas. Incluye juego de 10 imanes, 4 rotuladores y un borrador imantado. Incluidos montaje, adhesivos y demás materiales u accesorios para su correcta colocación. Dimensiones aproximadas: 90x120 cm 1 ud Despacho 14a 1 ud Despacho 14b 1 ud Despacho 15 1 ud Despacho 16 1 ud Despacho 26 1 ud Despacho 27 1 ud Despacho 30 1 ud Despacho 31 1 ud Despacho 32 1 ud Despacho 33 1 ud Despacho 34 1 ud Despacho 35b 1 ud Despacho 35c 1 ud Despacho 36a 1 ud Despacho 36c 1 ud Despacho 42 | G29: 12 | I29: =G29*H29 -> 0
B30: MEV3 | C30: Reloj analógico con números. Color a elegir por la propiedad. Incluidos montaje, adhesivos y demás materiales u accesorios para su correcta colocación. Dimensiones: diámetro 30cm 1 ud Despacho 26 1 ud Despacho 27 1 ud Despacho 30 1 ud Despacho 35c 1 ud Despacho 36a | G30: 5 | I30: =G30*H30 -> 0
G31: TOTAL LOTE 5 | I31: =SUM(I2:I30) -> 0

Sheet L6 M. COCINA
C2: LOTE 6 - MOBILIARIO COCINA
A4: COCINA MODULO 4 | B4: C01 | C4: Cocina laminada con tirador. Totalmente montada. Incluidos montaje, adhesivos y demás materiales u accesorios para su correcta colocación. Según documentación gráfica. Dimensiones aproximadas: 205 x 60cm 1 ud en Módulo 4 Incluye: | G4: 1 | I4: =G4*H4 -> 0
C5: CUBETA BMG-I 48/43 INOX o similar | G5: 1 | I5: =G5*H5 -> 0
C6: MONOMANDO CAPRI EVO FREGADERO CROMO STILLO o similar | G6: 1 | I6: =G6*H6 -> 0
C7: PLACA INDUCCION 3 ZONAS 60CM BALAY o similar | G7: 1 | I7: =G7*H7 -> 0
C8: CAMPANA EXTRAPLANA 90CM ACERO BALAY INDUCCION 3 ZONAS 60CM BALAY o similar | G8: 1 | I8: =G8*H8 -> 0
C9: MICROONDAS ELECTRONICO NEGRO/INOX 20L 800W BALAY o similar | G9: 1 | I9: =G9*H9 -> 0
C10: HORNO ENCRASTABLE MULTIFUNCION INOX RELOJ BALAY o similar | G10: 1 | I10: =G10*H10 -> 0
C11: FRIGO COMBI BALAY o similar | G11: 1 | I11: =G11*H11 -> 0
C12: LAVADORA CARGA FRONTAL BLANCO BALAY o similar | G12: 1 | I12: =G12*H12 -> 0
C13: LAVAVAJILLAS INTEGRABLE NEGRO BALAY o similar | G13: 1 | I13: =G13*H13 -> 0
C14: Encimera y frontis 12mm | G14: 1 | I14: =G14*H14 -> 0
A15: OFFICE CAT | B15: C02 | C15: Cocina laminada totalmente montada. Incluidos montaje, adhesivos y demás materiales u accesorios para su correcta colocación. Según documentación gráfica. Dimensiones aproximadas: 2050 x 60 x 90 cm 1 ud en despacho 21 Incluye: | G15: 1 | I15: =G15*H15 -> 0
C16: CUBETA BMG-I 48/43 INOX o similar | G16: 1 | I16: =G16*H16 -> 0
C17: MONOMANDO CAPRI EVO FREGADERO CROMO STILLO o similar | G17: 1 | I17: =G17*H17 -> 0
C18: Kit 4 Cubos para basura extraibles | G18: 1 | I18: =G18*H18 -> 0
C19: Encimera y frontis 12mm | G19: 1 | I19: =G19*H19 -> 0
A20: SALA DE PERSONAL PILAR GOGORCENA | B20: C03 | C20: Cocina laminada totalmente montada. Incluidos montaje, adhesivos y demás materiales u accesorios para su correcta colocación. Según documentación gráfica. 1 ud en sala de personal sótano Incluye: | G20: 1 | I20: =G20*H20 -> 0
C21: Frigorífico bajo encimera dómestico. Dimensiones: 598x545x818mm Fuente de alimentación (V): 220-240 | G21: 1 | I21: =G21*H21 -> 0
C22: MICROONDAS ELECTRONICO NEGRO/INOX 20L 800W BALAY o similar | G22: 1 | I22: =G22*H22 -> 0
C23: CUBETA BMG-I 48/43 INOX o similar | G23: 1 | I23: =G23*H23 -> 0
C24: MONOMANDO CAPRI EVO FREGADERO CROMO STILLO o similar | G24: 1 | I24: =G24*H24 -> 0
C25: Encimera y frontis 12mm | G25: 1 | I25: =G25*H25 -> 0
C26: Kit 4 Cubos para basura extraibles | G26: 1 | I26: =G26*H26 -> 0
G27: TOTAL LOTE 6 | I27: =SUM(I4:I26) -> 0

Sheet L7 EQUIPAMIENTO SALAS
C1: LOTE 7- EQUIPAMIENTO SALAS INTERVENCIÓN: FISIOTERAPIA Y PSIMOTRICIDAD
C2: Tatamis
B3: EQ1 | C3: Tatami 120x150x2 cm Sumo 600095D o similar. Con base antideslizante. Funda tacto deslizante de color a elegir por la propiedad. Sin ftalatos. Material ignífugo M2. Color a elegir por la propiedad. 1 ud Sala 19 | D3: 6940 | G3: 1 | I3: =G3*H3 -> 0
B4: EQ2 | C4: Tatami 200x300x5 cm. Sin ftalatos. Material ignífugo M2. Color a elegir por la propiedad. 1 ud Sala 26 1 ud Sala 27 2 ud Sala 30 1 ud Sala 33 1 ud Sala 34 1 ud Sala 35a 1 ud Sala 35b 1 ud Sala 35c 1 ud Sala 36a 1 ud Sala 36b 1 ud Sala 36c | D4: 6940 | G4: 12 | I4: =G4*H4 -> 0
B5: EQ3 | C5: Tatami Sumo 06942 o similar 245x245x2 cm. Sin ftalatos. Material ignífugo M2. Color a elegir por la propiedad. 1 ud Despacho 36e | D5: 6940 | G5: 1 | I5: =G5*H5 -> 0
B6: EQ4 | C6: Tatami 340x300x5 cm. Sin ftalatos. Material ignífugo M2. Color a elegir por la propiedad. 1 ud Sala 32 | D6: 6940 | G6: 1 | I6: =G6*H6 -> 0
B7: EQ5 | C7: Tatami 375x375x5 cm. Sin ftalatos. Material ignífugo M2. Color a elegir por la propiedad. 1 ud Sala 31 | D7: 6941 | G7: 1 | I7: =G7*H7 -> 0
C8: Colchonetas y quitamiedos
B9: EQ6 | C9: Loseta puzzle infantil Sumo 06890 o similar. Rollo de foam compuesto por una espuma reticulada de alta densidad y espesor de 35 mm. laminada con PVC PAJA DE ARROZ . Fácil de montar y desmontar, antideslizante, gran absorción de impacto. Color a elegir por la propiedad. Dimensiones: 100 x 100 x 1 cm 4 ud Despacho 36b | D9: 06890-17 | G9: 4 | I9: =G9*H9 -> 0
B10: EQ7 | C10: Colchoneta escolar con velcro con tacto deslizante Sumo 06970 o similar. Color a elegir por la propiedad. 200x100x5 cm. 30 kg/m3 1 ud Despacho 15 | D10: 6970 | G10: 1 | I10: =G10*H10 -> 0
B11: EQ8 | C11: Colchoneta quitamiedos olas plegables Sumo 07423 o similar 200x100x15 cm. Funda tacto deslizante de color a elegir por la propiedad. 1 ud Despacho 35c 1 ud Despacho 36b 1 ud Despacho 36e | D11: 7423 | G11: 3 | I11: =G11*H11 -> 0
B12: EQ9 | C12: Colchoneta poliéster Sumo 07668 o similar. 200x100x3 cm. Material ignifugo M2. Sin cantoneras . Con base antideslizante. Funda tacto deslizante de color a elegir por la propiedad. 1 ud Despacho 14b 1 ud Despacho 36a | D12: 7668 | G12: 2 | I12: =G12*H12 -> 0
B13: EQ10 | C13: Colchoneta poliéster Sumo 07670 o similar. 200x100x10 cm. Material ignifugo M2. Sin cantoneras . Con base antideslizante. Funda tacto deslizante de color a elegir por la propiedad. 1 ud Despacho 26 1 ud Despacho 31 4 ud Despacho 36a | D13: 7670 | G13: 6 | I13: =G13*H13 -> 0
B14: EQ11 | C14: Colchoneta poliéster Sumo 07671 o similar. 200x100x15 cm. Material ignifugo M2. Sin cantoneras . Con base antideslizante. Funda tacto deslizante de color a elegir por la propiedad. 1 ud Despacho 30 1 ud Despacho 35c 1 ud Despacho 36b | D14: 7671 | G14: 3 | I14: =G14*H14 -> 0
B15: EQ12 | C15: Quitamiedos infantil Sumo 06958o similar. Colchoneta de espuma recubierta de vinilo poliéster. Ø 140x30 cm. 1 ud Despacho 31 | G15: 1 | I15: =G15*H15 -> 0
B16: EQ13 | C16: Quitamiedos grande Sumo 07687 o similar. 300x200x30 cm. Fabricada con espuma de 20 kg. de densidad. Sin ftalatos. Material ignífugo M2. Funda tacto deslizante de color a elegir por la propiedad. 1 ud Despacho 36e | D16: 7686 | G16: 1 | I16: =G16*H16 -> 0
B17: EQ14 | C17: Puff gigante 6866 o similar. Cojín gigante de 4 colores para grupos, de fácil limpieza con agua y jabón. Tela revestida de malla no toxica, doble costura. Autoextingible M2. Interior de copos de espuma que se adapta a cualquier posición del cuerpo. Medidas: 2x2 m. Para niños de 2 a 6 años. Fabricado sin ftalatos. 1 ud Despacho 36d 1 ud Despacho 36e | G17: 2 | I17: =G17*H17 -> 0
B18: EQ15 | C18: Colchoneta moldeable Sumo 06936 o similar 135x135x10 cm. Color funda a elegir por la propiedad. 1 ud Despacho 27 1 ud Despacho 31 1 ud Despacho 32 1 ud Despacho 33 1 ud Despacho 34 1 ud Despacho 36a 1 ud Despacho 36c | G18: 7 | I18: =G18*H18 -> 0
C19: Cilindros
B20: EQ16 | C20: Cilindro Sumo 07100 o similar Ø 20x60 cm. Sin ftalatos. Material ignífugo M2. Funda tacto deslizante de color a elegir por la propiedad. 1 ud Despacho 31 | D20: 7100 | G20: 1 | I20: =G20*H20 -> 0
B21: EQ17 | C21: Cilindro MOBE S0456 o similar Ø 30x30 cm. Sin ftalatos. Material ignífugo M2. Funda tacto deslizante de color a elegir por la propiedad. 3 ud Despacho 27 1 ud Despacho 35c | D21: 7102 | G21: 4 | I21: =G21*H21 -> 0
B22: EQ18 | C22: Cilindro Sumo 07103 o similar Ø 30x120 cm. Sin ftalatos. Material ignífugo M2. Funda tacto deslizante de color a elegir por la propiedad. 1 ud Despacho 31 1 ud Despacho 36d 1 ud Despacho 36e | D22: 7103 | G22: 3 | I22: =G22*H22 -> 0
B23: EQ19 | C23: Cilindro Sumo 07104 o similar Ø 50x60 cm. Sin ftalatos. Material ignífugo M2. Funda tacto deslizante de color a elegir por la propiedad. 1 ud Despacho 31 1 ud Despacho 36a | D23: 7104 | G23: 2 | I23: =G23*H23 -> 0
B24: EQ20 | C24: Cilindro Sumo 07106 o similar Ø 15x60 cm. Sin ftalatos. Material ignífugo M2. Funda tacto deslizante de color a elegir por la propiedad. 1 ud Despacho 35c | D24: 7106 | G24: 1 | I24: =G24*H24 -> 0
B25: EQ21 | C25: Obstáculo túnel Sumo 07115 o similar. 60x30x55 cm. Material ignífugo M2. Funda tacto deslizante de color a elegir por la propiedad. 1 ud Despacho 36e | D25: 7110 | G25: 1 | I25: =G25*H25 -> 0
B26: EQ22 | C26: Obstáculo media luna pequeña Sumo 07117 o similar 30x30x15 cm. Funda tacto deslizante de color a elegir por la propiedad. 1 ud Despacho 30 | D26: 7117 | G26: 1 | I26: =G26*H26 -> 0
B27: EQ23 | C27: Media luna tatami obstáculo 07214 o similar de 100x60x30 cm. Color a elegir por la propiedad. Con pestañas con cierre autoadhesivo 1 ud Despacho 36e | D27: 7347 | G27: 1 | I27: =G27*H27 -> 0
B28: EQ24 | C28: Soporte cilindro Sumo 07456 o similar . 60x30x30 cm. Material ignífugo M2. Funda tacto deslizante de color a elegir por la propiedad. 1 ud Despacho 27 1 ud Despacho 32 1 ud Despacho 36a 1 ud Despacho 36e | D28: 7110 | G28: 4 | I28: =G28*H28 -> 0
B29: EQ25 | C29: Balancín Sumo 07486 o similar . 60x30x30 cm. Material ignífugo M2. Funda tacto deslizante de color a elegir por la propiedad. 1 ud Despacho 36a 1 ud Despacho 36e | D29: 7111 | G29: 2 | I29: =G29*H29 -> 0
B30: EQ26 | C30: Balancín Sumo 07487 o similar . 120x30x60 cm. Material ignífugo M2. Funda tacto deslizante de color a elegir por la propiedad. 1 ud Despacho 15 1 ud Despacho 30 1 ud Despacho 32 1 ud Despacho 33 1 ud Despacho 34 1 ud Despacho 36e | D30: 7112 | G30: 6 | I30: =G30*H30 -> 0
C31: Cubos y primas
B32: EQ27 | C32: Cubo Sumo 07348 o similar de 30x30x30 cm. Funda tacto deslizante de color a elegir por la propiedad. 2ud Despacho 35b | D32: 7348 | G32: 2 | I32: =G32*H32 -> 0
B33: EQ28 | C33: Prisma Sumo 07498 o similar. 120x30x30 cm. Sin ftalatos. Material ignífugo M2. Funda tacto deslizante de color a elegir por la propiedad. 1 ud Despacho 31 1 ud Despacho 32 1 ud Despacho 33 1 ud Despacho 34 1 ud Despacho 36a 1 ud Despacho 36b | D33: 7498 | G33: 6 | I33: =G33*H33 -> 0
B34: EQ29 | C34: Soporte prisma sencillo Sumo 07110 o similar. 30x60x35 cm. Material ignífugo M2. Funda tacto deslizante de color a elegir por la propiedad. 1 ud Despacho 26 1 ud Despacho 31 1 ud Despacho 32 1 ud Despacho 33 1 ud Despacho 34 | D34: 7110 | G34: 5 | I34: =G34*H34 -> 0
B35: EQ30 | C35: Soporte prisma sencillo . 60x60x35 cm. Material ignífugo M2. Funda tacto deslizante de color a elegir por la propiedad. 1 ud Despacho 36a | D35: 7111 | G35: 1 | I35: =G35*H35 -> 0
B36: EQ31 | C36: Bloque pequeño . 30x30x12 cm. Material ignífugo M2. Color a elegir por la propiedad. 1 ud Despacho 27 | D36: 7112 | G36: 1 | I36: =G36*H36 -> 0
B37: EQ32 | C37: Bloque pequeño . 50x50x15 cm. Material ignífugo M2. Color a elegir por la propiedad. 1 ud Despacho 27 | D37: 7113 | G37: 1 | I37: =G37*H37 -> 0
C38: Rampas, cuñas y escaleras
B39: EQ33 | C39: Rampa bloque. Dimensiones totales: 30x30x12 cm. Sin ftalatos. Material ignífugo M2. Funda tacto deslizante de color a elegir por la propiedad. 1 ud Despacho 26 | D39: 7434 | G39: 1 | I39: =G39*H39 -> 0
B40: EQ34 | C40: Rampa bloque Sumo 07430 o similar. Dimensiones totales: 50x50x15 cm. Sin ftalatos. Material ignífugo M2Funda tacto deslizante de color a elegir por la propiedad. 1 ud Despacho 27 | D40: 7435 | G40: 1 | I40: =G40*H40 -> 0
...

Sheet L8. TALLER MTO.
C2: LOTE 8 - MOBILIARIO TALLER MANTENIMIENTO
C3: Mobiliario
A4: TALLER MTO | B4: MT01 | C4: Armario metálico para taller. Estructura metálica monobloque enmarcada. Fabricados en chapa de acero pulida en frío. Acabados con pintura epoxi color a elegir por la propiedad. Puertas batientes con cerradura y juego de 2 llaves. Cuatro estantes regulables en altura. Totalmente montado. Incluidos montaje, adhesivos y demás materiales u accesorios para su correcta colocación. Dimensiones: 90x40x200 cm alto 4 ud en Taller de Mantenimiento | G4: 4 | I4: =G4*H4 -> 0
A5: TALLER MTO | B5: MT02 | C5: Mueble fregadero industrial fabricado en acero inoxidable 1 cubeta y escurridor con dos puertas. Totalmente montado. Incluidos montaje, adhesivos y demás materiales u accesorios para su correcta colocación. Dimensiones aproximadas: 1400x600x970 cm alto 1 ud en Taller de Mantenimiento | G5: 1 | I5: =G5*H5 -> 0
C6: Accesorios taller
A7: TALLER MTO | B7: MT03 | C7: Panel perforado fabricado en acero y pintura epoxi políester color gris. Anclaje a pared con tronillos, máxima resistencia. Totalmente montado. Incluidos montaje, adhesivos y demás materiales u accesorios para su correcta colocación. Incluye: - 4ud. Ganchos metálico simple para colgar herramientas 100mm - 2ud. Ganchos metálico simple para colgar herramientas 150mm - 6ud. Ganchos metálico dobles para colgar herramientas 100mm - 2ud. Ganchos metálico dobles para colgar herramientas 150mm - 8ud. Ganchos metálico sencillo "tipo B" para colgar herramientas - 5ud. gavetas pequeñas (52x100x95mm aprox) - 5ud. gavetas grandes (80x100x170mm aprox) - 1ud. Soporte de acero con capacidad para 5 herramientas de mano - 1ud. Soporte de acero para flexómetros o cúter - 1ud. Soporte para 10 llaves planas - 1ud. Soporte para 7 destornilladores - 1ud. Soporte para llaves allen Dimensiones panel: 150x60 cm aprox. 1 ud en Taller de Mantenimiento | G7: 1 | I7: =G7*H7 -> 0
A8: TALLER MTO | B8: MT04 | C8: Carro para herramientas con capa de acero revestido en polvo. 5 cajones grandes y 2 cajones estrechos, todos ellos con cerradura. Alfombrillas antideslizantes en la superficie y el interior de los cajones. Cuatro ruedas con dos frenos de bloqueo y asa para su desplazamiento. Color: negro. Totalmente montado. Incluidos montaje, adhesivos y demás materiales u accesorios. Dimensiones aproximadas: Medidas totales (largo x ancho x alto): 69 x 33 x 79 cm Medidas 2 cajones pequeños (largo x ancho x alto): 51 x 29 x 3 cm Medidas 5 cajones grandes (largo x ancho x alto): 51 x 29 x 7,5 cm Capacidad de carga: 150 kg 1 ud en Taller de Mantenimiento | G8: 1 | I8: =G8*H8 -> 0
G9: TOTAL LOTE 8 | I9: =SUM(I4:I8) -> 0
