Workbook

Sheet Partidas
A1: ANEXO 2 LISTADO PRECIOS REFERENCIA
A2: Presupuesto | G2: Oferta económica
A3: Código | B3: Nat | C3: Ud | D3: Resumen | E3: CanPres | F3: Pres | G3: ImpPres OFERTADO
A4: C01 | B4: Capítulo | D4: ACTUACIONES PREVIAS
A5: C0101 | B5: Partida | C5: m2 | D5: RECERCADO DE HUECOS | E5: 1 | F5: 41.06 | G5: =ROUND(E5*F5,2) -> 41.06
D6: M2 Recercado de hueco mediante tablones de madera en rigidización de paramentos en Cruz de San Andrés.i/ medios auxiliares.
A7: C0102 | B7: Partida | C7: m2 | D7: CUAJADO DE HUECOS | E7: 1 | F7: 61.01 | G7: =ROUND(E7*F7,2) -> 61.01
D8: M2 Cuajado de hueco para rigidización con levante de albañileria, incluso medios auxiliares.
A9: TOTAL | D9: Total C01 | G9: =SUM(G5:G8) -> 102.07
A11: C02 | B11: Capítulo | D11: FONTANERIA
A12: C0201 | B12: Capítulo | D12: ACOMETIDAS Y CONTADORES
A13: C020101 | B13: Capítulo | D13: TUBERIA HASTA 1 1/2" Y 35 MM
A14: D02010101 | B14: Partida | C14: UD | D14: SUSTITUCION TUBERIA METALICA HASTA 1 ML | E14: 1 | F14: 183.47 | G14: =ROUND(E14*F14,2) -> 183.47
D15: UD Sustitución de tubería metalica acero negro o plástica hasta 1 ml ,incluso materiales, realización del trabajo, retirada de escombros, limpieza, montaje y desmontaje de sanitarios.
A16: D02010102 | B16: Partida | C16: UD | D16: SUSTITUCION TUBERIA METALICA DE 1 ML A 3ML | E16: 1 | F16: 228.31 | G16: =ROUND(E16*F16,2) -> 228.31
D17: UD Sustitución de tubería metalica acero negro o plástica hasta 3 ml , incluso materiales, realización del trabajo, retirada de escombros, limpieza, montaje y desmontaje de sanitarios.
A18: D02010103 | B18: Partida | C18: UD | D18: SUSTITUCION "T" | E18: 1 | F18: 216.08 | G18: =ROUND(E18*F18,2) -> 216.08
D19: UD Sustitución "T" de derivación metálica acero negro o plástico , i/tramos necesarios, incluso materiales, realización del trabajo, retiradad de escombros, limpieza , montaje y desmontaje de sanitarios.
D20: Total C020101
A22: C020102 | B22: Capítulo | D22: TUBERIA DE 1 1/2" HASTA 2 1/2"
A23: D02010201 | B23: Partida | C23: UD | D23: SUSTITUCION TUBERIA METALICA HASTA 1 ML | E23: 1 | F23: 244.62 | G23: =ROUND(E23*F23,2) -> 244.62
D24: Sustitución de tramo de tubería metalica acero negro o plático hasta 1 ml, incluso materiales, realización del trabajo, retiradad des escombros, limpieza, montaje y desmontaje de sanitarios.
A25: D02010202 | B25: Partida | C25: UD | D25: SUSTITUCION TUBERIA METALICA DE 1 ML A 3ML | E25: 1 | F25: 503.52 | G25: =ROUND(E25*F25,2) -> 503.52
D26: Sustitución tramo de tubería metálica acero negro o plástico. De más de 1 ml. hasta 3 ml. incluso materiales, realización del trabajo, retirada de escombros, limpieza, montaje y desmontaje de santarios
A27: D02010203 | B27: Partida | C27: UD | D27: SUSTITUCION "T" | E27: 1 | F27: 287.43 | G27: =ROUND(E27*F27,2) -> 287.43
D28: Sustitución "T" de derivación en metálica o sintética, i./tramos necesarios. incluso materiales, realización del trabajo, retirada de escombros, limpieza, montaje y desmontaje de santarios
D29: Total C020102
A31: C020103 | B31: Partida | C31: u | D31: SUSTITUCIÓN LLAVE ESFERA DN20 (3/4") | E31: 1 | F31: 20.09 | G31: =ROUND(E31*F31,2) -> 20.09
D32: Sustitución de llave/válvula en instalación por una nueva válvula de corte por esfera de DN20 (3/4"), conforme a norma UNE-EN 13828, con conexión roscada, de latón cromado; incluyendo la retirada de la antigua llave, montaje de la nueva, probada y funcionando; I/p.p. de limpieza, material y medios auxiliares, según C.T.E. HS-4.
A33: C020104 | B33: Partida | C33: u | D33: SUSTITUCIÓN LLAVE ESFERA DN25 (1") | E33: 1 | F33: 23.25 | G33: =ROUND(E33*F33,2) -> 23.25
D34: Sustitución de llave/válvula en instalación por una nueva válvula de corte por esfera de DN25 (1"), conforme a norma UNE-EN 13828, con conexión roscada, de latón cromado; incluyendo la retirada de la antigua llave y montaje de la nueva, probada y funcionando; I/p.p. de limpieza, material y medios auxiliares, según C.T.E. HS-4.
A35: C020105 | B35: Partida | C35: u | D35: SUSTITUCIÓN LLAVE ESFERA DN32 (1 1/4") | E35: 1 | F35: 29.58 | G35: =ROUND(E35*F35,2) -> 29.58
D36: Sustitución de llave/válvula en instalación por una nueva válvula de corte por esfera de DN32 (1 1/4"), conforme a norma UNE-EN 13828, con conexión roscada, de latón cromado; incluyendo la retirada de la antigua llave y montaje de la nueva, probada y funcionando; I/p.p. de limpieza, material y medios auxiliares, según C.T.E. HS-4.
A37: C020106 | B37: Partida | C37: u | D37: SUSTITUCIÓN LLAVE ESFERA DN40 (1 1/2") | E37: 1 | F37: 45.03 | G37: =ROUND(E37*F37,2) -> 45.03
D38: Sustitución de llave/válvula en instalación por una nueva válvula de corte por esfera de DN40 (1 1/2"), conforme a norma UNE-EN 13828, con conexión roscada, de latón cromado; incluyendo la retirada de la antigua llave y montaje de la nueva, probada y funcionando; I/p.p. de limpieza, material y medios auxiliares, según C.T.E. HS-4.
A39: C020107 | B39: Partida | C39: u | D39: SUSTITUCIÓN LLAVE ESFERA DN50 (2") | E39: 1 | F39: 58.75 | G39: =ROUND(E39*F39,2) -> 58.75
D40: Sustitución de llave/válvula en instalación por una nueva válvula de corte por esfera de DN50 (2"), conforme a norma UNE-EN 13828, con conexión roscada, de latón cromado; incluyendo la retirada de la antigua llave y montaje de la nueva, probada y funcionando; I/p.p. de limpieza, material y medios auxiliares, según C.T.E. HS-4.
A41: C020108 | B41: Partida | C41: u | D41: SUSTITUCIÓN LLAVE ESFERA DN63 (2 1/2") | E41: 1 | F41: 96.86 | G41: =ROUND(E41*F41,2) -> 96.86
D42: Sustitución de llave/válvula en instalación por una nueva válvula de corte por esfera de DN63 (2 1/2"), conforme a norma UNE-EN 13828, con conexión roscada, de latón cromado; incluyendo la retirada de la antigua llave y montaje de la nueva, probada y funcionando; I/p.p. de limpieza, material y medios auxiliares, según C.T.E. HS-4.
A43: C020109 | B43: Partida | C43: u | D43: SUSTITUCIÓN VÁLVULA DE RETENCIÓN DN20 (3/4") | E43: 1 | F43: 19.05 | G43: =ROUND(E43*F43,2) -> 19.05
...

Sheet Resumen capítulos
A1: RESUMEN DE CAPITULOS
A2: Presupuesto | C2: Oferta economica
A3: Código | B3: Resumen | C3: ImpPres
A4: C01 | B4: ACTUACIONES PREVIAS | C4: =Partidas!G9 -> 102.07
A5: C02 | B5: FONTANERIA | C5: =Partidas!G399 -> 34395.74
A6: C03 | B6: DESCIEGUES Y SANEAMIENTOS | C6: =Partidas!G416 -> 993.69
A7: C04 | B7: ALBAÑILERIA | C7: =Partidas!G685 -> 9846.23
A8: C05 | B8: CUBIERTAS E IMPERMEABILIZACIONES | C8: =Partidas!G728 -> 2590.98
A9: C06 | B9: CARPINTERIA INTERIOR | C9: =Partidas!G757 -> 1851.15
A10: C07 | B10: CARPINTERIA EXTERIOR Y CERRAJERIA | C10: =Partidas!G816 -> 2306.15
A11: C08 | B11: VIDRIOS | C11: =Partidas!G857 -> 1187.91
A12: C09 | B12: PINTURAS Y TRATAMIENTOS ESPECIFICOS | C12: =Partidas!G932 -> 2736.27
A13: C10 | B13: ELECTRICIDAD | C13: =Partidas!G1400 -> 33260.14
A14: C11 | B14: CALEFACCION E INSTALACION DE GAS | C14: =Partidas!G1502 -> 13035.15
A15: C12 | B15: LIMPIEZA Y TRATAMIENTOS DE HIGIENE | C15: =Partidas!G1533 -> 3533.09
A16: C13 | B16: MANTENIMIENTO CALDERAS INDIVIDUALES | C16: =Partidas!G1586 -> 6940.58
A17: C14 | B17: VARIOS | C17: =Partidas!G1594 -> 134.83
A18: C15 | B18: GESTION DE RESIDUOS | C18: =Partidas!G1612 -> 1365.43
A19: C16 | B19: JARDINERIA | C19: =Partidas!G1629 -> 531.2
A20: C27 | B20: COCINAS | C20: =Partidas!G1647 -> 2383.77
A21: C18 | B21: VENTILACION | C21: =Partidas!G1684 -> 1015.18
B22: Total NASUVINSA | C22: =SUM(C4:C21) -> 118209.56

Sheet Formato de oferta
B2: OFERTA ECONOMICA
B3: Oferta económica que suma el coste resultante de todos los capítulos con los precios unitarios ofertados de las unidades objeto de contrato
B6: Código | C6: CAPÍTULOS del LISTADO de PRECIOS DE REFERENCIA | D6: PRECIO MÁXIMO DE EVALUACIÓN | F6: PRECIO MÁXIMO OFERTADO
D7: Cm | F7: Ci ≤ Cm
B8: C01 | C8: ACTUACIONES PREVIAS | D8: ='Resumen capítulos'!C4 -> 102.07
B9: C02 | C9: FONTANERIA | D9: ='Resumen capítulos'!C5 -> 34395.74
B10: C03 | C10: DESCIEGUES Y SANEAMIENTOS | D10: ='Resumen capítulos'!C6 -> 993.69
B11: C04 | C11: ALBAÑILERIA | D11: ='Resumen capítulos'!C7 -> 9846.23
B12: C05 | C12: CUBIERTAS E IMPERMEABILIZACIONES | D12: ='Resumen capítulos'!C8 -> 2590.98
B13: C06 | C13: CARPINTERIA INTERIOR | D13: ='Resumen capítulos'!C9 -> 1851.15
B14: C07 | C14: CARPINTERIA EXTERIOR Y CERRAJERIA | D14: ='Resumen capítulos'!C10 -> 2306.15
B15: C08 | C15: VIDRIOS | D15: ='Resumen capítulos'!C11 -> 1187.91
B16: C09 | C16: PINTURAS Y TRATAMIENTOS ESPECIFICOS | D16: ='Resumen capítulos'!C12 -> 2736.27
B17: C10 | C17: ELECTRICIDAD | D17: ='Resumen capítulos'!C13 -> 33260.14
B18: C11 | C18: CALEFACCION E INSTALACION DE GAS | D18: ='Resumen capítulos'!C14 -> 13035.15
B19: C12 | C19: LIMPIEZA Y TRATAMIENTOS DE HIGIENE | D19: ='Resumen capítulos'!C15 -> 3533.09
... B25: C18 | C25: VENTILACION | D25: ='Resumen capítulos'!C21 -> 1015.18
C26: TOTAL | D26: =SUM(D8:D25) -> 118209.56 | F26: =SUM(F8:F25) -> 0
C29: Fecha y firma electrónica:
