Workbook

Sheet Resumen
B1: ANEXO I
B5: SUMINISTRO DE PLANTAS PARA LOS JARDINES DEL AYUNTAMIENTO DE TUDELA, AÑO 2023
B8: ='Arbol CEP'!B1 -> ARBOLES ORNAMENTALES EN CEPELLÓN O CONTENEDOR. | E8: ='Arbol CEP'!A57 -> 263 | F8: Uds.
C9: TOTAL SIN IVA: | D9: ='Arbol CEP'!F57 -> 0
B11: =Arbusto!B1 -> ARBUSTO, CONÍFERA, PALMÁCEA, TREPADORA Y VIVAZ. | E11: =Arbusto!A43 -> 3185 | F11: Uds.
C12: TOTAL SIN IVA: | D12: =Arbusto!F43 -> 0
B14: ='Planta flor'!B1 -> PLANTA DE FLOR | E14: ='Planta flor'!A10 -> 1100 | F14: Uds.
C15: TOTAL SIN IVA: | D15: ='Planta flor'!F10 -> 0
C18: TOTAL SUMINISTRO SIN IVA: | D18: =D12+D9 -> 0
B19: I.V.A. | C19: 0.1 | D19: =D18*C19 -> 0
C20: TOTAL SUMINISTRO CON IVA: | D20: =D18+D19 -> 0

Sheet Arbol CEP
B1: ARBOLES ORNAMENTALES EN CEPELLÓN O CONTENEDOR.
A2: Uds. | B2: Especie/variedad | C2: Tamaño | D2: Presentación | E2: Tipo ramificación | F2: Precio sin IVA | G2: Importe sin IVA
A4: 1 | B4: Acer buergerianum | C4: 14/16 | D4: Cepellón | E4: Flechado | F4: 100 | G4: =A4*F4 -> 100
A5: 5 | B5: Acer campestre | C5: 14/16 | D5: Cepellón | E5: Flechado | F5: 95 | G5: =A5*F5 -> 475
A6: 16 | B6: Acer campestre "Elsrijk" | C6: 14/16 | D6: Cepellón | E6: Flechado | F6: 115 | G6: =A6*F6 -> 1840
A7: 16 | B7: Acer campestre "Lienco" | C7: 14/16 | D7: Cepellón | E7: Flechado | F7: 115 | G7: =A7*F7 -> 1840
A8: 13 | B8: Acer campestre "Red Shine" | C8: 14/16 | D8: Cepellón | E8: Flechado | F8: 85 | G8: =A8*F8 -> 1105
A9: 1 | B9: Acer monspessulanum | C9: 14/16 | D9: Cepellón | E9: Flechado | F9: 165 | G9: =A9*F9 -> 165
A10: 3 | B10: Acer negundo | C10: 14/16 | D10: Cepellón | E10: Flechado | F10: 65 | G10: =A10*F10 -> 195
A11: 5 | B11: Acer platanoides "Columnare" | C11: 14/16 | D11: Cepellón | E11: Flechado | F11: 125 | G11: =A11*F11 -> 625
A12: 1 | B12: Acer platanoides "Emerald Queen" | C12: 14/16 | D12: Cepellón | E12: Flechado | F12: 120 | G12: =A12*F12 -> 120
A13: 3 | B13: Acer platanoides "Globosum" | C13: 14/16 | D13: Cepellón | E13: En copa | F13: 105 | G13: =A13*F13 -> 315
A14: 1 | B14: Acer saccharinum | C14: 14/16 | D14: Cepellón | E14: Flechado | F14: 65 | G14: =A14*F14 -> 65
A15: 1 | B15: Acer x freemanii "Autumn Blaze" | C15: 14/16 | D15: Cepellón | E15: Flechado | F15: 130 | G15: =A15*F15 -> 130
... A23: 1 | B23: Firmiana simplex | C23: 14/16 | D23: Cepellón | E23: Flechado | F23: 105 | G23: =A23*F23 -> 105
A24: 6 | B24: Fraxinus angustifolia | C24: 14/16 | D24: Cepellón | E24: Flechado
A25: 11 | B25: Fraxinus angustifolia "Raywood" | C25: 14/16 | D25: Cepellón | E25: Flechado
A26: 4 | B26: Fraxinus excelsior | C26: 14/16 | D26: Cepellón | E26: Flechado
A27: 11 | B27: Fraxinus ornus | C27: 14/16 | D27: Cepellón | E27: Flechado
A28: 2 | B28: Fraxinus ornus "Meczek" | C28: 14/16 | D28: Cepellón | E28: En copa
A29: 15 | B29: Fraxinus ornus "Obelisk" | C29: 14/16 | D29: Cepellón | E29: Flechado
A30: 1 | B30: Ginkgo biloba "Blagon" | C30: 14/16 | D30: Cepellón | E30: Flechado
A31: 6 | B31: Gleditsia triacanthos "Skyline" | C31: 14/16 | D31: Cepellón | E31: Flechado
A32: 2 | B32: Gleditsia triacanthos "Sunburst" | C32: 14/16 | D32: Cepellón | E32: Flechado
A33: 1 | B33: Hibiscus syriacus | C33: 14/16 | D33: Cepellón | E33: En copa
A34: 5 | B34: Koelreuteria paniculata | C34: 14/16 | D34: Cepellón | E34: Flechado
A35: 19 | B35: Koelreuteria paniculata "Fastigiata" | C35: 14/16 | D35: Cepellón | E35: Flechado
... A55: 4 | B55: Ulmus lutece "Nanguen" | C55: 14/16 | D55: Cepellón | E55: Flechado
A57: =SUM(A3:A56) -> 263 | B57: Unidades total | E57: Total sin IVA:

Sheet Arbusto
B1: ARBUSTO, CONÍFERA, PALMÁCEA, TREPADORA Y VIVAZ.
A2: Uds. | B2: Especie/Variedad | C2: Tamaño | D2: Presentación | E2: Notas | F2: Precio sin IVA | G2: Importe sin IVA
A4: 30 | B4: Abelia floribunda | C4: 30/40 | D4: 3 litros contenedor | E4: Tres tallos
A5: 30 | B5: Agapanthus africanus | C5: 30/40 | D5: 3 litros contenedor
A6: 30 | B6: Berberis thunbergii "Atropurpurea" | C6: 30/40 | D6: 3 litros contenedor | E6: Tres tallos
A7: 250 | B7: Cotoneaster dammeri | C7: 30/40 | D7: 3 litros contenedor | E7: Tres tallos
A8: 20 | B8: Cotoneaster franchettii | C8: 30/40 | D8: 3 litros contenedor | E8: Tres tallos
A9: 20 | B9: Cotoneaster lactea | C9: 30/40 | D9: 3 litros contenedor | E9: Tres tallos
A10: 100 | B10: Eleagnus pungens "Maculata" | C10: 40/50 | D10: 3 litros contenedor | E10: Tres tallos
A11: 50 | B11: Eleagnus x ebbingei "Limelight" | C11: 60/80 | D11: 10 litros contenedor | E11: Seis tallos
A12: 100 | B12: Epilobium canum "Latifolium" | D12: 2 litros contenedor
A13: 30 | B13: Escallonia macrantha "Rubra" | C13: 30/40 | D13: 3 litros contenedor | E13: Tres tallos
A14: 15 | B14: Evonymus japonica "Aureomarginata" | C14: 50/60 | D14: 5 litros contenedor | E14: Tres tallos
A15: 5 | B15: Forsythia intermedia | C15: 60/80 | D15: 5 litros contenedor | E15: Tres tallos
A16: 100 | B16: Gaura lindheimeri | C16: 20/30 | D16: 2 litros contenedor | E16: Tres tallos
A17: 25 | B17: Hebe andersonii | C17: 20/30 | D17: 3 litros contenedor | E17: Tres tallos
A18: 100 | B18: Hebe franciscana "Variegata" | C18: 20/30 | D18: 2 litros contenedor
A19: 80 | B19: Juniperus communis "Repanda" | C19: 20/30 | D19: 3 litros contenedor | E19: Tres tallos
A20: 40 | B20: Laurus nobilis | C20: 60/80 | D20: 3 litros contenedor | E20: Tres tallos
A21: 5 | B21: Laurus nobilis | C21: 100/125 | D21: 10 litros contenedor | E21: Compacto
A22: 180 | B22: Lavandula officinalis (angustifolia) | C22: 20/30 | D22: 2 litros contenedor
A23: 500 | B23: Ligustrum ovalifolium | C23: 60/80 | D23: 2 litros contenedor | E23: Tres tallos
A24: 150 | B24: Lonicera nitida | C24: 40/60 | D24: 3 litros contenedor | E24: Tres tallos
A25: 80 | B25: Nerium oleander | C25: 40/60 | D25: 3 litros contenedor | E25: Tres tallos
A26: 10 | B26: Nerium oleander | C26: 100/125 | D26: 15 litros contenedor | E26: Seis tallos
A27: 150 | B27: Nerium oleander "Nana" | C27: 40/50 | D27: 3 litros contenedor | E27: Tres tallos
A28: 50 | B28: Osmanthus heterophyllus "Goshiki" | C28: 60/80 | D28: 10 litros contenedor | E28: Seis tallos
A29: 50 | B29: Photinia x fraseri "Red Robin" | C29: 40/50 | D29: 3 litros contenedor | E29: Tres tallos
A30: 25 | B30: Pieris floribunda | C30: 40/50 | D30: 3 litros contenedor | E30: Tres tallos
A31: 80 | B31: Pitosporum tobira "Nana" | C31: 20/30 | D31: 3 litros contenedor | E31: Tres tallos
A32: 80 | B32: Rosa "Sevillana" | C32: 30/40 | D32: 3 litros contenedor | E32: Tres tallos
A33: 80 | B33: Rosa "The Fairy" flor rosa | C33: 30/40 | D33: 3 litros contenedor | E33: Tres tallos
A34: 80 | B34: Rosmarinus officinalis | C34: 20/30 | D34: 2 litros contenedor | E34: Tres tallos
A35: 150 | B35: Rosmarinus postratus | C35: 20/30 | D35: 2 litros contenedor | E35: Tres tallos
A36: 80 | B36: Salvia officinalis | C36: 20/30 | D36: 2 litros contenedor
A37: 80 | B37: Salvia x jamensis | C37: 30/40 | D37: 2 litros contenedor
A38: 150 | B38: Teucrium maritimun (fruticans) | C38: 30/40 | D38: 3 litros contenedor | E38: Tres tallos
A39: 10 | B39: Viburnum lucidum | C39: 30/50 | D39: 3 litros contenedor | E39: Tres tallos
A40: 150 | B40: Viburnum tinus | C40: 40/50 | D40: 3 litros contenedor | E40: Tres tallos
A41: 20 | B41: Viburnum tinus | C41: 100/125 | D41: 25 litros contenedor | E41: Seis tallos
...

Sheet Planta flor
B1: PLANTA DE FLOR
A2: Uds. | B2: Especie/Variedad | C2: Tamaño | D2: Presentación | E2: Notas | F2: Precio sin IVA | G2: Importe sin IVA
A4: 300 | B4: Begonia hybrida "Dragon Wing Red" o equivalente | C4: 20/30 | D4: 2 litros contenedor | E4: Flor roja
A5: 200 | B5: Cyclamen persicum híbrido F1 "Latinia 1010" o equivalente | C5: 20/30 | D5: 1 litro contenedor | E5: Flor escarlata puro
A6: 200 | B6: Cyclamen persicum híbrido F1 "Latinia 1125" o equivalente | C6: 30/40 | D6: 3 litros contenedor | E6: Flor blanco puro
A7: 200 | B7: Petunia grandiflora Híbrido F1 "Titan coral" o equivalente | C7: 15/20 | D7: Maceta 11 cm | E7: Flor roja
A8: 200 | B8: Petunia grandiflora Híbrido F1 "Titan white" o equivalente | C8: 15/20 | D8: Maceta 11 cm | E8: Flor blanca
A10: =SUM(A3:A9) -> 1100 | B10: Unidades total | E10: Total sin IVA:
