Workbook
Name Print_Area: 'CLIMA Y VENTILACIÓN'!$A$1:$F$18
Name Print_Area: 'fontaneria saneamiento'!$A$1:$F$12
Name Print_Area: OC!$A$1:$F$62
Name Print_Area: Resumen!$A$1:$D$44
Name Print_Titles: 'CLIMA Y VENTILACIÓN'!$1:$8
Name Print_Titles: 'fontaneria saneamiento'!$1:$8
Name Print_Titles: OC!$1:$8

Sheet Resumen
A5: LABORATORIO HIDRÓGENO
A6: RESUMEN PRESUPUESTO
A9: POS | B9: DESCRIPCIÓN | D9: Total
A11: =OC!$A$10 -> 1 | B11: =OC!$C$10 -> ACTUACIONES PREVIAS | D11: =OC!$F$10 -> 1100
A13: =OC!$A$13 -> 2 | B13: =OC!$C$13 -> DESMONTAJES, DEMOLICIONES E INTERFERENCIAS | D13: =OC!$F$13 -> 17221.936
A15: =OC!$A$28 -> 3 | B15: =OC!$C$28 -> CERRAMIENTOS | D15: =OC!$F$28 -> 49664.125
A17: =OC!$A$49 -> 4 | B17: =OC!$C$49 -> REVESTIMIENTOS, F. TECHOS Y ACABADOS | D17: =OC!$F$49 -> 21819.905
A19: =OC!$A$58 -> 5 | B19: =OC!$C$58 -> AYUDAS ALBAÑILERÍA | D19: =OC!$F$58 -> 2400
A21: =OC!$A$63 -> 6 | B21: =OC!$C$63 -> CASETA GASES | D21: =OC!$F$63 -> 17085.62
A23: =OC!$A$88 -> 7 | B23: =OC!$C$88 -> ACCESO A CUBIERTA DESDE SALA MÁQUINAS PLANTA PRIMERA | D23: =OC!$F$88 -> 3330
A25: =OC!$A$97 -> 8 | B25: =OC!$C$97 -> PLATAFORMA EQUIPOS CUBIERTA Y BAJADA CONDUCTOS A LABORATORIO | D25: =OC!$F$97 -> 72308.08
A27: ='CLIMA Y VENTILACIÓN'!$A$10 -> 9 | B27: ='CLIMA Y VENTILACIÓN'!$C$10 -> INST. CLIMATIZACIÓN Y VENTILACIÓN | D27: ='CLIMA Y VENTILACIÓN'!$F$10 -> 253630.03
A29: ='fontaneria saneamiento'!$A$10 -> 10 | B29: ='fontaneria saneamiento'!$C$10 -> INST. FONTANERÍA Y SANEAMIENTO | D29: ='fontaneria saneamiento'!$F$10 -> 12938
A30: ='CALIDAD, SS, GEST RES'!$A$10 -> 11 | B30: ='CALIDAD, SS, GEST RES'!$C$10 -> CONTROL DE CALIDAD | D30: ='CALIDAD, SS, GEST RES'!$F$10 -> 700
A32: ='CALIDAD, SS, GEST RES'!$A$13 -> 12 | B32: ='CALIDAD, SS, GEST RES'!$C$13 -> SEGURIDAD Y SALUD | D32: ='CALIDAD, SS, GEST RES'!$F$13 -> 1600
A34: ='CALIDAD, SS, GEST RES'!$A$16 -> 13 | B34: ='CALIDAD, SS, GEST RES'!$C$16 -> GESTION DE RESIDUOS | D34: ='CALIDAD, SS, GEST RES'!$F$16 -> 1400
A36: 14 | B36: INSTALACION DE AIRE COMPRIMIDO | D36: ='Aire comprimido'!F10 -> 17977
A38: 15 | B38: INSTALACIÓN ELÉCTRICA BAJA TENSIÓN | D38: 107198.6
B40: Total P.E.M. | D40: =SUM(D11:D38) -> 580373.3
B41: Gastos generales (5%) | D41: =D40*0.05 -> 29018.665
B42: Beneficio Industrial (5%) | D42: =D40*0.05 -> 29018.665
B43: Total presupuesto | D43: =SUM(D40:D42) -> 638410.63

Sheet OC
A5: LABORATORIO DE HIDRÓGENO
A7: PRESUPUESTO
A8: Posición | B8: ud | C8: Descripción | D8: Cantidad | E8: P.U. | F8: IMPORTE
A10: 1 | C10: ACTUACIONES PREVIAS | F10: =SUM(F11:F12) -> 1100
A11: 01.01 | B11: p.a. | C11: INSTALACIONES PROVISIONALES OBRA Y PROTECCIONES | D11: 1 | E11: 1100 | F11: =$D11*E11 -> 1100
C12: El contratista debe considerar en esta posición todas las instalaciones provisionales necesarias para la correcta ejecución de las obras (casetas de obra, instalacion electrica provisional, instalacion de agua, conexión a la red de fecales..) que deberán ser ejecutadas según la normativa vigente y con la aprobación de la DO. Además se considerarán las protecciones de las instalaciones a mantener en la obra tales como suelos, ventanales, etc. Posteriormente una vez finalicen los trabajos se procederá al desmontaje completo de las instalaciones auxiliares, protecciones y se realizara la limpieza de la zona de implantación. Medido por partida alzada
A13: 2 | C13: DESMONTAJES, DEMOLICIONES E INTERFERENCIAS | F13: =SUM(F14:F27) -> 17221.936
A14: 02.01 | B14: p.a. | C14: ELIMINACIÓN DE INTERFERENCIAS | D14: 1 | E14: 2500 | F14: =$D14*E14 -> 2500
C15: Eliminación de interferencias existentes en el nuevo laboratorio, instalaciones complementarias y zonas de acceso, así como en tosos los ámbitos en los que se actúa en este pliego, tanto en el interior como en el entorno exterior próximo (riegos, C.I., electricidad, alumbrado, señales, IT, saneamientos, conduciones de medios...), así como el trazado alternativo de instalaciones de fábrica, eliminación de elementos obsoletos o fuera de servicio, elementos que afecten a los futuros trabajos, considerando medios auxiliares, pequeños materiales, remates, encuentros y limpieza. El proveedor analizará con detalle todas las interferencias existentes a solventar en todas las áreas de intervención. El importe valorado de la partida de deberá justificar por el proveedor mediante planos y mediciones. Partida a verificar, autorizar y revisar por D.F. y Cener En esta partida se considerarán LAS INTERFERENCIAS QUE NO SE ENGLOBEN EN PARTIDA ESPECÍFICA, o en otras partidas del volumen de prestaciones. Se certificará como máximo el importe indicado en la oferta, con todas las interferencias eliminadas.
A16: 02.02 | B16: m2 | C16: DESMONTAJE DE FALSO TECHO ENREJILLADO PARA RECUPERACIÓN (PASILLO) Y POSTERIOR MONTAJE | D16: 35 | E16: 40 | F16: =$D16*E16 -> 1400
C17: Desmontaje de falso techo enrejillado existente previa retirada /sustentación provisional de canalizaciones, luminarias, detectores, y cualquier otra instalación existente que deba mantenerse, incluido la adaptación y posterior montaje del mismo techo. i. p/p/ carga de escombros por medios manuales sobre contenedor, paso de este a camión mediante medios mecánicos y transporte a vertedero, canón de vertido incluido.
A18: 02.02 | B18: m2 | C18: DESMONTAJE DE FALSO TECHO ENREJILLADO | D18: 281 | E18: 9 | F18: =$D18*E18 -> 2529
C19: Desmontaje de falso techo enrejillado existente previa retirada /sustentación provisional de detectores, y cualquier otra instalación existente que deba mantenerse, totalmente desmontado y terminado. i. p/p/ carga de escombros por medios manuales sobre contenedor, paso de este a camión mediante medios mecánicos y transporte a vertedero, canón de vertido incluido.
A20: 02.03 | B20: m2 | C20: DESMONTAJE FALSO TECHO MODULAR | D20: 281 | E20: 9 | F20: =$D20*E20 -> 2529
C21: Desmontaje de falso techo modular existente previa retirada /sustentación provisional de canalizaciones, luminarias, detectores, y cualquier otra instalación existente, totalmente desmontado y terminado. i. p/p/ carga de escombros por medios manuales sobre contenedor, paso de este a camión mediante medios mecánicos y transporte a vertedero, canón de vertido incluido.
A22: 02.03 | B22: m2 | C22: DEMOLICIÓN PARTICIÓN INTERIOR | D22: 80 | E22: 15 | F22: =$D22*E22 -> 1200
C23: Demolición de partición interior de fábrica recubierta con mampara, pladur u otro material, con medios manuales, sin afectar a la estabilidad de los elementos constructivos contiguos, i. p/p/ carga de escombros por medios manuales sobre contenedor, paso de este a camión mediante medios mecánicos y transporte a vertedero, canón de vertido incluido.
A24: 02.04 | B24: m2 | C24: DESMONTAJE MAMPARA EXISTENTE TABIQUE PREMIUM 3 DOBLE VIDRIO 3+3/3+3 PARA RECUPERACIÓN | D24: =3.9*(3+3+2.9) -> 34.71 | E24: =32*1.3 -> 41.6 | F24: =$D24*E24 -> 1443.936
C25: Desmontaje de cerramientos de mampara PREMO PREMIUM de despachos para reutilización, TABIQUE PREMIUM 3 DE PREMO, con perfilería vista a suelo y techo, sistema modular, desmontable, módulo VIDRIADO. Estructura interna de 50 mm de doble perfil agrafado acero galvanizado ST02 y masa de recubrimiento ZInc Z275 con tratamiento cromatado. Escuadras superior e inferior regulables para ajuste y nivelación. Estructura exterior de aluminio lacado estándar o anodizado, sellando a suelo y techo con perfil en U que incorpora doble burlete acustico. Módulo de vidrio enmarcado con junquillos de aluminio, compuesto por dos vidrios de seguridad de 3+3 mm. con lamina de butiral intermedia transparente, Unión y junta de modulos de vidrio mediante perfiles de aluminio de 3 mm., previa retirada de canalizaciones y mecanismos, totalmente desmontado y terminado. El desmontaje comprende también el acopio del material en la zona que indique la D.F. hasta su posterior reutilicación. i. p/p/ carga de escombros por medios manuales sobre contenedor, paso de este a camión mediante medios mecánicos y transporte a vertedero, canón de vertido incluido.
A26: 02.05 | B26: m2 | C26: DESMONTAJE VENTILACIÓN | D26: 281 | E26: 20 | F26: =$D26*E26 -> 5620
C27: Desmontaje de red de conductos de ventilación de oficinas planta baja según plano de desmontaje, incluido desmontaje de rejillas, difusores, compuertas de regulación, termostatos, cableados, sondas y cualquier otro elemento de la red de ventilación obsoleta. , Incluyendo las desconexiones previas y taponado de conductos previo al desmontaje, los medios de elevación, la retirada de residuos según el Plan de Gestión de Residuos, incluido el canon de vertido, la mano de obra y el pequeño material. Medido por superficie a desmontar
A28: 3 | C28: CERRAMIENTOS | F28: =SUM(F29:F48) -> 49664.125
A29: 03.01 | B29: m2 | C29: MONTAJE DE TABIQUE MAMPARA REUTILIZADA TABIQUE PREMIUM 3 DOBLE VIDRIO 3+3/3+3 | D29: 33 | E29: =38*1.5 -> 57 | F29: =$D29*E29 -> 1881
C30: MONTAJE CON MATERIAL REUTILIZADO de TABIQUE PREMIUM 3 DE PREMO, con perfilería vista a suelo y techo, sistema modular, desmontable, módulo VIDRIADO. Estructura interna de 50 mm de doble perfil agrafado acero galvanizado ST02 y masa de recubrimiento ZInc Z275 con tratamiento cromatado. Escuadras superior e inferior regulables para ajuste y nivelación. Estructura exterior de aluminio lacado estándar o anodizado, sellando a suelo y techo con perfil en U que incorpora doble burlete acustico. Módulo de vidrio enmarcado con junquillos de aluminio, compuesto por dos vidrios de seguridad de 3+3 mm. con lamina de butiral intermedia transparente, Unión y junta de modulos de vidrio mediante perfiles de aluminio de 3 mm.
A31: 03.02 | B31: m2 | C31: DISTRIB. MAMP. PREMO PREMIUM VIDRIERA 3 V-V-M 3+3/3+3 | D31: =71 -> 71 | E31: =235*1.3 -> 305.5 | F31: =$D31*E31 -> 21690.5
C32: Suministro e instalación de TABIQUE PREMIUM 3 DE PREMO, con perfilería vista a suelo y techo, sistema modular, desmontable, módulo VIDRIO - VIDRIO CON CIEGO SUPERIOR. Estructura interna de 50 mm de doble perfil agrafado acero galvanizado ST02 y masa de recubrimiento ZInc Z275 con tratamiento cromatado. Escuadras superior e inferior regulables para ajuste y nivelación. Estructura exterior de aluminio lacado estándar o anodizado, sellando a suelo y techo con perfil en U que incorpora doble burlete acustico. Módulo compuesto por dos vidrios y resto zócalo ciego . La zona ciega revestida por dos paneles canteados de 13 mm de espesor acabado melamina estándar, según carta de colores PREMO ídem a mampara existente, juntas ocultas de 3 mm en aluminio . Manta aislante interior de lana mineral de 50 mm. de espesor. Zona de vidrio continuo compuesta por dos vidrios de seguridad de 3+3 mm. con lamina de butiral intermedia transparente, Unión y junta de módulos mediante perfiles de aluminio de 3 mm. - Las ventanas dispondran de veneciana interior (incluido) Distribución realizada considerando replanteos previos, recibidos, remates, encuentros, pequeño material, piezas especiales y todos los elementos necesarios incluidos para su instalación, con p.p. de gastos indirectos, medios auxiliares, protecciones y limpieza. Medida la superificie ejecutada.
A33: 03.03 | B33: m2 | C33: DISTRIB. MAMP. PREMO PREMIUM CIEGA | D33: =12.85*3.9-1.7*2.8 -> 45.355 | E33: 200 | F33: =$D33*E33 -> 9071
C34: Suministro e instalación de TABIQUE PREMIUM 3 DE PREMO, con perfilería vista a suelo y techo, sistema modular, desmontable, módulo CIEGO - CIEGO CON CIEGO SUPERIOR. Estructura interna de 50 mm de doble perfil agrafado acero galvanizado ST02 y masa de recubrimiento ZInc Z275 con tratamiento cromatado. Escuadras superior e inferior regulables para ajuste y nivelación. Estructura exterior de aluminio lacado estándar o anodizado, sellando a suelo y techo con perfil en U que incorpora doble burlete acustico. Módulo compuesto por dos ciegos y resto zócalo ciego .Ciegos revestidos por dos paneles canteados de 13 mm de espesor acabado melamina estándar, según carta de colores PREMO ídem a mampara existente, juntas ocultas de 3 mm en aluminio . Manta aislante interior de lana mineral de 50 mm. de espesor. Unión y junta de módulos mediante perfiles de aluminio de 3 mm. Distribución realizada considerando replanteos previos, recibidos, remates, encuentros, pequeño material, piezas especiales y todos los elementos necesarios incluidos para su instalación, con p.p. de gastos indirectos, medios auxiliares, protecciones y limpieza. Medida la superificie ejecutada.
A35: 03.04 | B35: m2 | C35: DISTRIB. MAMP. PREMO PREMIUM CIEGA TRASDOSADO DIRECTO | D35: 72 | E35: 50 | F35: =$D35*E35 -> 3600
C36: Instalación de PLACA TRASDOSADO DIRECTO PREMIUM 3 DE PREMO RECUPERADA, módulo CIEGO - CIEGO CON CIEGO SUPERIOR. Paneles canteados de 13 mm de espesor acabado melamina estándar. Distribución realizada considerando replanteos previos, recibidos, remates, encuentros, pequeño material, piezas especiales y todos los elementos necesarios incluidos para su instalación, con p.p. de gastos indirectos, medios auxiliares, protecciones y limpieza. Medida la superificie ejecutada.
A37: 03.05 | B37: ud | C37: PUERTA DOBLE 40 MM | D37: 2 | E37: =1725*1.3*1.3 -> 2915.25 | F37: =$D37*E37 -> 5830.5
C38: Suministro e instalación de PUERTA PREMIUM 3 DE PREMO , con perfilería oculta a suelo y techo, sistema modular, desmontable, módulo PUERTA DOBLE VIDRIO ALTURA 2800mm. Estructura interna de 50 mm de doble perfil agrafado acero galvanizado ST02 y masa de recubrimiento ZInc Z275 con tratamiento cromatado. Escuadras superior e inferior regulables para ajuste y nivelación. Estructura exterior de aluminio lacado estándar o anodizado, sellando a suelo y techo con perfil en U que incorpora doble burlete acustico. Módulo compuesto por marco de aluminio con burlete de sellado, que sostiene mediante bisagras de rodamientos ,dos hojas de puerta de 40 mm de espesor realizadas con acristalamiento acustico de seguridad 3+3/24/3+3 con doble sellado perimetral e incluyendo tamiz molecular deshidratante enmarcado en perfil de aluminio. Incorpora manilla en acero inox, cerradura y topes de puerta.
A39: 03.06 | B39: ud | C39: PUERTA DOBLE CIEGA 40 MM | D39: 1 | E39: 1600 | F39: =$D39*E39 -> 1600
C40: Suministro e instalación de PUERTA PREMIUM 3 DE PREMO , con perfilería oculta a suelo y techo, sistema modular, desmontable, módulo PUERTA DOBLE CIEGA DE 2800mm. Estructura interna de 50 mm de doble perfil agrafado acero galvanizado ST02 y masa de recubrimiento ZInc Z275 con tratamiento cromatado. Escuadras superior e inferior regulables para ajuste y nivelación. Estructura exterior de aluminio lacado estándar o anodizado, sellando a suelo y techo con perfil en U que incorpora doble burlete acustico. Módulo compuesto por marco de aluminio con burlete de sellado, que sostiene mediante bisagras de rodamientos ,dos hojas de puerta de 40 mm de espesor realizadas con acristalamiento acustico de seguridad 3+3/24/3+3 con doble sellado perimetral e incluyendo tamiz molecular deshidratante enmarcado en perfil de aluminio. Incorpora manilla en acero inox, cerradura y topes de puerta.
A41: 03.07 | B41: ud | C41: PUERTA DE VIDRIO ENMARCADA 40MM | D41: 1 | E41: 1100 | F41: =$D41*E41 -> 1100
C42: suministro e instalación de PUERTA PREMIUM 3 DE PREMO , con perfilería oculta a suelo y techo, sistema modular, desmontable, módulo PUERTA SIMPLE VIDRIO ALTURA 2200mm. Estructura interna de 50 mm de doble perfil agrafado acero galvanizado ST02 y masa de recubrimiento ZInc Z275 con tratamiento cromatado. Escuadras superior e inferior regulables para ajuste y nivelación. Estructura exterior de aluminio lacado estándar o anodizado, sellando a suelo y techo con perfil en U que incorpora doble burlete acustico. Módulo compuesto por marco de aluminio con burlete de sellado, que sostiene mediante bisagras de rodamientos , hoja de puerta de 40 mm de espesor realizada con acristalamiento acustico de seguridad 3+3/24/3+3 con doble sellado perimetral e incluyendo tamiz molecular deshidratante enmarcado en perfil de aluminio. Incorpora manilla en acero inox, cerradura y tope de puerta.
A43: 03.08 | B43: m2 | C43: TRASDOS. PLADUR METAL Std (N) 15/90 C/AISLAM. 100mm. | D43: 20 | E43: 48 | F43: =$D43*E43 -> 960
C44: Trasdosado con sistema Pladur metal Std (N), de 15/90 = 105 mm, formada por:_x000D_ - Placas Pladur Std (N) e=15 mm._x000D_ - Estructura metálica interior con canales y montantes (90) cada 400 mm, los canales metálicos se calzarán con junta e=3 mm en la unión a suelo y techo._x000D_ - Lámina reticular de polietileno desarrollo 15 cm y de protección a las zonas de anclaje (forjado, soleras mecanizadas, techos, paredes...)._x000D_ - Lana de roca en su interior e=100 mm y D-40 kg/m3._x000D_ Trasdosado ejecutado incluso colocación, recibido de cercos de puertas y demás huecos, lucidos de juntas del Pladur, uniones a techos y suelos, p.p. de cintas, guardavivos, tornillería, lijados, materiales auxiliares, etc., completo y montado._x000D_ Medición deduciendo huecos._x000D_ Placa Cartón Yeso, Perfilería y Aislamiento con marcado CE y declaración CE (UNE-EN 520, UNE-EN 14195, UNE EN 13162)._x000D_
A45: 03.09 | B45: m2 | C45: TABIQUE PLADUR METAL Std (N) 15/90/15 C/AISLAM. 100mm. | D45: =(16.25+8.9+5.85+8.8+3.85)*1.1+4*1.1 -> 52.415 | E45: 55 | F45: =$D45*E45 -> 2882.825
C46: Tabique con sistema Pladur metal Std (N), de 15/90/15 = 120 mm, formada por:_x000D_ - Placas Pladur Std (N) e=15 mm._x000D_ - Estructura metálica interior con canales y montantes (90) cada 400 mm, los canales metálicos se calzarán con junta e=3 mm en la unión a suelo y techo._x000D_ - Lámina reticular de polietileno desarrollo 15 cm y de protección a las zonas de anclaje (forjado, soleras mecanizadas, techos, paredes...)._x000D_ - Lana de roca en su interior e=100 mm y D-40 kg/m3._x000D_ Tabique ejecutado incluso colocación, recibido de cercos de puertas y demás huecos, lucidos de juntas del Pladur, uniones a techos y suelos, p.p. de cintas, guardavivos, tornillería, lijados, materiales auxiliares, etc., completo y montado._x000D_ Medición deduciendo huecos._x000D_ Placa Cartón Yeso, Perfilería y Aislamiento con marcado CE y declaración CE (UNE-EN 520, UNE-EN 14195, UNE EN 13162)._x000D_
...

Sheet CLIMA Y VENTILACIÓN
A5: LABORATORIO DE HIDRÓGENO
A7: PRESUPUESTO
A8: Posición | B8: ud | C8: Descripción | D8: Cantidad | E8: P.U. | F8: IMPORTE
A10: 9 | C10: INST. CLIMATIZACIÓN Y VENTILACIÓN | F10: =F11+F18+F69+F117+F136 -> 253630.03
A11: 9.01 | C11: ADAPTACIÓN INSTALACIÓNES EXISTENTES. | F11: =SUM(F12:F17) -> 3800
A12: 9.01.01 | B12: p.a. | C12: INSTALACIÓN EXISTENTE SUELO RADIANTE. | D12: 1 | E12: 800 | F12: =D12*E12 -> 800
C13: Adecuación de la instalación de suelo radiante, consistente en: - Anulación circuitos 105,106,107 y 108 del colector A.0.1. Se eliminarán sus cabezales eléctricos asignados a el T1 y se cerrara hidraulicamente el circuito. -Reconexión eléctrica de cabezales eléctricos de circuitos 119,120,121 y 122 del colector A.0.3. a T6 - Eliminar termostatos T7 y T8 (a reutilizar para la instalación de fancoils). -Reubicar termostato T6, incluido saneado de cableado si fuera necesario. Ver plano ZA806-POC-SR.
A14: 9.01.02 | B14: p.a. | C14: INSTALACIÓN EXISTENTE FANCOILS | D14: 1 | E14: 1500 | F14: =D14*E14 -> 1500
C15: Adecuación de la instalación de fancoils, a la nueva disposición de termostatos por zonas T7,T8, T9 y T10. Se incluye instalación eléctrica, un termostato QAA24 ( T10) y actuación hidráulica si fuera necesario para independizar los fancoils por zonas y desplazamiento de fancoils a nueva distribución de techos si fuera necesario. Ver plano ZA806-POC-FAN
A16: 9.01.03 | B16: p.a. | C16: CLIMATIZADOR EXISTENTE VENTILACIÓN OFICINAS | D16: 1 | E16: 1500 | F16: =D16*E16 -> 1500
C17: Adecuación climatizador TKM (ECS13019) marca TROX a las nuevas necesidades de caudales 3800 m³/h en impulsión y 2400 m³/h en retorno. Los ventiladores disponen de varidador de frecuencia y unicamente hay que ajustarlos al nuevo punto de trabajo. Ver plano ZA806-POC-VEN
A18: 9.02 | C18: EXTRACCIÓN LABORATORIO | F18: =SUM(F19:F68) -> 40624.66
A19: 9.02.01 | B19: ml | C19: CONDUCTO VENTILACION PPR Ø560 | D19: 25 | E19: =151.41*1.7 -> 257.397 | F19: =D19*E19 -> 6434.925
C20: Suministro e instalación conducto PPR termosoldado de diámetro exterior 560mm , 8 mm espesor, para ventilación, se incluye soportaciones y parte proporcional accesorios, codos, manguitos, tes, reducciones, etc. Totalmente instalado.
A21: 9.02.02 | B21: ml | C21: CONDUCTO VENTILACION PPR Ø500 | D21: 20 | E21: =134.37*1.7 -> 228.429 | F21: =D21*E21 -> 4568.58
C22: Suministro e instalación conducto PPR termosoldado de diámetro exterior 550mm , 8 mm espesor, para ventilación, se incluye soportaciones y parte proporcional accesorios, codos, manguitos, tes, reducciones, etc. Totalmente instalado.
A23: 9.02.03 | B23: ml | C23: CONDUCTO VENTILACION PPR Ø450 | E23: =91.45*1.7 -> 155.465 | F23: P.U.
C24: Suministro e instalación conducto PPR termosoldado de diámetro exterior 450mm , 6 mm espesor, para ventilación, se incluye soportaciones y parte proporcional accesorios, codos, manguitos, tes, reducciones, etc. Totalmente instalado.
A25: 9.02.04 | B25: ml | C25: CONDUCTO VENTILACION PPR Ø400 | E25: =79.22*1.7 -> 134.674 | F25: P.U.
C26: Suministro e instalación conducto PPR termosoldado de diámetro exterior 400mm , 6 mm espesor, para ventilación, se incluye soportaciones y parte proporcional accesorios, codos, manguitos, tes, reducciones, etc. Totalmente instalado.
A27: 9.02.05 | B27: ml | C27: CONDUCTO VENTILACION PPR Ø355 | E27: =70.31*1.7 -> 119.527 | F27: P.U
C28: Suministro e instalación conducto PPR termosoldado de diámetro exterior 355mm , 6 mm espesor, para ventilación, se incluye soportaciones y parte proporcional accesorios, codos, manguitos, tes, reducciones, etc. Totalmente instalado.
A29: 9.02.06 | B29: nl | C29: CONDUCTO VENTILACION PPR Ø315 | D29: 5 | E29: =52.12*1.7 -> 88.604 | F29: =D29*E29 -> 443.02
C30: Suministro e instalación conducto PPR termosoldado de diámetro exterior 315mm , 6 mm espesor, para ventilación, se incluye soportaciones y parte proporcional accesorios, codos, manguitos, tes, reducciones, etc. Totalmente instalado.
A31: 9.02.07 | B31: ml | C31: CONDUCTO VENTILACION PPR Ø250 | D31: 10 | E31: =29.25+40 -> 69.25 | F31: =D31*E31 -> 692.5
C32: Suministro e instalación conducto PPR termosoldado de diámetro exterior 250mm , 3.5 mm espesor, para ventilación, se incluye soportaciones y parte proporcional accesorios, codos, manguitos, tes, reducciones, etc. Totalmente instalado.
A33: 9.02.08 | B33: ml | C33: CONDUCTO VENTILACION PPR Ø200 | E33: =20.12+40 -> 60.12 | F33: P.U.
C34: Suministro e instalación conducto PPR termosoldado de diámetro exterior 200mm , 3 mm espesor, para ventilación, se incluye soportaciones y parte proporcional accesorios, codos, manguitos, tes, reducciones, etc. Totalmente instalado.
A35: 9.02.09 | B35: ml | C35: CONDUCTO VENTILACION PPR Ø160 | D35: 10 | E35: =20.41+40 -> 60.41 | F35: =D35*E35 -> 604.1
C36: Suministro e instalación conducto PPR termosoldado de diámetro exterior 160mm , 4 mm espesor, para ventilación, se incluye soportaciones y parte proporcional accesorios, codos, manguitos, tes, reducciones, etc. Totalmente instalado.
A37: 9.02.10 | B37: ml | C37: CONDUCTO VENTILACION PPR Ø140 | E37: =15.81+40 -> 55.81 | F37: P.U.
C38: Suministro e instalación conducto PPR termosoldado de diámetro exterior 140mm , 3.5 mm espesor, para ventilación, se incluye soportaciones y parte proporcional accesorios, codos, manguitos, tes, reducciones, etc. Totalmente instalado.
A39: 9.02.11 | B39: ml | C39: CONDUCTO VENTILACION PPR Ø125 | D39: 5 | E39: =12.52+40 -> 52.52 | F39: =D39*E39 -> 262.6
C40: Suministro e instalación conducto PPR termosoldado de diámetro exterior 125mm , 3.1 mm espesor, para ventilación, se incluye soportaciones y parte proporcional accesorios, codos, manguitos, tes, reducciones, etc. Totalmente instalado.
A41: 9.02.12 | B41: ml | C41: CONDUCTO VENTILACION PPR Ø75 | D41: 25 | E41: =5.43+40 -> 45.43 | F41: =D41*E41 -> 1135.75
C42: Suministro e instalación conducto PPR termosoldado de diámetro exterior75mm , 2,3 mm espesor, para ventilación, se incluye soportaciones y parte proporcional accesorios, codos, manguitos, tes, reducciones, etc. Totalmente instalado.
A43: 9.02.13 | B43: ml | C43: CONDUCTO VENTILACION PPR Ø50 | D43: 10 | E43: =3.15+40 -> 43.15 | F43: =D43*E43 -> 431.5
C44: Suministro e instalación conducto PPR termosoldado de diámetro exterior 50mm , 2 mm espesor, para ventilación, se incluye soportaciones y parte proporcional accesorios, codos, manguitos, tes, reducciones, etc. Totalmente instalado.
A45: 9.02.14 | B45: ml | C45: CONDUCTO HELICOIDAL DN 400 | D45: 10 | E45: =26.92+40 -> 66.92 | F45: =D45*E45 -> 669.2
C46: Suministro y montaje de conducto de chapa circular tipo helicoidal Ø400 e=0,7 mm construido según EN-UNE 12237 con planchas de acero galvanizada tipo Sendzimir, ejecución de las uniones y sellado de juntas según indicaciones de UNE 100-102/104-88 (clasificación B.3), El área útil del conducto deberá permitir la circulación del caudal máximo de aire a una velocidad inferior a 6m/s y la relación lado largo/corto será inferior a 3. Se Incluye en el coste de la partida la parte proporcional de piezas especiales, registros de limpieza, accesorios, uniones tipo Metu, injertos, curvas de 45º y 90º de 3 o 5 piezas, tés, registros para limpieza y medición según norma UNE 100012, cambios de sección, soportes las conexiones a difusores y todo aquel elemento o trabajo necesario para su correcto acabado. Medido el metro lineal perfectamente instalado sin deformaciones y en condiciones de estanqueidad requeridos según norma.
...

Sheet fontaneria saneamiento
A5: LABORATORIO DE HIDRÓGENO
A7: PRESUPUESTO
A8: Posición | B8: ud | C8: Descripción | D8: Cantidad | E8: P.U. | F8: IMPORTE
A10: 10 | C10: INST. FONTANERÍA Y SANEAMIENTO | F10: =SUM(F11:F20) -> 12938
A11: 10.01 | B11: ud | C11: BOMBA EVACUACIÓN AGUAS GRISES FREGADEROS | D11: 2 | E11: =894+50 -> 944 | F11: =D11*E11 -> 1888
C12: Suministroe instalación bomba de aguas residuales SANISPEED marca SFA, para aguas grises , altura de elevación hasta 7 m y 70 m en horizontal, consta de 4 tomas de entrada Ø40 mm ty una salida Ø32 mm, incluye válvula antiretorno , conectores y filtro de carbón activa para neutralizar olores. Totalmente instalado y probado, incluso conexionado eléctrico.
A13: 10.02 | B13: ml | C13: TUBERIA SANEAMIENTO LABORATORIO PP Ø40 | D13: 60 | E13: 40 | F13: =D13*E13 -> 2400
C14: Suministro e instalción tuberia polipropileno Ø40 para evacuación de sanemiento de fregadaderos hasta bajante existente en vestuarios, incluida parte proporcional accesorios, codos, tes, etc. Totalmente instalado y probado
A15: 10.03 | B15: ml | C15: TUBERIA PEX 18X2.5 ABASTECIMIENTO LABORATORIO | D15: 110 | E15: 50 | F15: =D15*E15 -> 5500
C16: Suministro materiales e instalación acometida de agua fría , caliente y recirculación para 2 ud.fregaderos de laboratorio. La partida incluye tubería de polietileno reticulado PEX 18x2,5, con aislamiento térmico , válvulas de cortes y accesorios.
A17: 10.04 | B17: p.a. | C17: ACOMETIDA AGUA PEX 40 x 3.7 AISLADA + RECUBRIMIENTO | D17: 1 | E17: =65*30 -> 1950 | F17: =D17*E17 -> 1950
C18: Suministro e instalación acometida de agua para llenado de circuito hidraulico bomba de calor (aprox 30ml). La partida incluye tubería de polietileno reticulado PEX 40x3.7, con aislamiento térmico AF-45X042 y recubrimiento en chapa galvanizada, válvulas de corte en nave y plataforma, accesorios, soportaciones,... Totalmente instalada.
A19: 10.05 | B19: p.a. | C19: EVACUACIÓN SANEAMIENTO PLATAFORMA INSTALACIONES. | D19: 1 | E19: 1200 | F19: =D19*E19 -> 1200
C20: Suministro materiales e instalación tubería PVC saneamiento Ø90 desde plataforma a red existente en cuarto instalaciones 1ªPlanta(aprox 30m), incluida parte proporcional de accesorios ( codos, tes, redudcciones, sumidero, y sujeciones).

Sheet CALIDAD, SS, GEST RES
A5: LABORATORIO DE HIDRÓGENO
A7: PRESUPUESTO
A8: Posición | B8: ud | C8: Descripción | D8: Cantidad | E8: P.U. | F8: IMPORTE
A10: 11 | C10: CONTROL DE CALIDAD | F10: =F11 -> 700
A11: 11.01 | B11: ud | C11: CONTROL CALIDAD: PLAN, ENSAYOS, INFORMES... | D11: 1 | E11: 700 | F11: =$D11*E11 -> 700
C12: El precio de esta posición incluye todas las medidas del plan de control de calidad, planificación y ejecución de los ensayos establecidos en la normativa, elaboración y tramitación de actas de resultados, comunicación de las mismas, elaboración de la documentación de seguimientos del control de calidad, y los análisis e informes derivados de dicho control. Se incluye de manera expresa la emision por parte del fabricante, del certificado de comportamiento ante el fuego de la puerta una vez modificada. Se incluyen los ensayos solicitados a petición de D.F., así como ensayos complementarios derivados de las situaciones que se puedan generan en el desarrollo de los trabajos de ejecución y/o entrada en servicio del proyecto. Medida la unidad completa de actuaciones destinadas a controlar la calidad de los materiales, procesos, sistemas constructivos, instalaciones y/o cualquier otro trabajo ejecutado.
A13: 12 | C13: SEGURIDAD Y SALUD | F13: =F14 -> 1600
A14: 12.01 | B14: ud | C14: MEDIDAS SEGURIDAD Y SALUD | D14: 1 | E14: 1600 | F14: =$D14*E14 -> 1600
C15: El precio de esta posición incluye todas las medidas de delimitación de obra y accesos, servicios higiénicos y de bienestar, protección colectiva e individual que se deben utilizar durante la ejecución de las obras y que estarán de acuerdo con lo dispuesto en el Plan de Seguridad realizado por la contrata y aprobado por el coordinador de Seguridad y Salud de la obra y por la Dirección de Obra. Los vallados de Obra, posición de casetas... etc... se adaptarán a las necesidades de producción de la fábrica, variando y adaptando su ámbito, tipo, puertas peatonales y de vehículos, así como señalización, alumbrados etc... a las diferentes necesidades de paso, ocupación, espacio... La configuración de elementos, casetas, control, señalizaciones, cerraduras... según normativa PRL. La limpieza y el orden en el entorno es norma de seguridad, por lo que se incluyen las labores necesarias de orden y limpieza (parcial y total) que sean precisas. Medido por UNIDAD completa para la totalidad de la obra, independientemente de la duración real de la misma. Se certificará mensualmente por % estimado según avance de la obra.
A16: 13 | C16: GESTION DE RESIDUOS | F16: =F17 -> 1400
A17: 13.01 | B17: ud | C17: GESTIÓN RESIDUOS | D17: 1 | E17: 1400 | F17: =$D17*E17 -> 1400
C18: El precio de esta posición incluye todas las medidas del plan de gestión de residuos, planificación y ejecución de los procesos establecidos en la normativa (Estatal y D.F. 23/2011), acopios especiales, cargas, transportes a gestores, cánones especiales de vertido o de gestión del residuo, elaboración y tramitación de documentación, comunicación de la misma, elaboración de la documentación de seguimientos del control de gestión, y los análisis e informes derivados de dicho control. También se incluye residuos complementarios derivados de las situaciones que se puedan generan en el desarrollo de los trabajos de ejecución y/o entrada en servicio del proyecto. Medida la unidad completa de actuaciones destinadas a la gestión de la totalidad de los residuos derivados de la intervención.

Sheet Aire comprimido
A5: LABORATORIO DE HIDRÓGENO
A7: PRESUPUESTO
A8: Posición | B8: ud | C8: Descripción | D8: Cantidad | E8: P.U. | F8: IMPORTE
A10: 14 | C10: AIRE COMPRIMIDO | F10: =F11+F13+F15+F17+F19+F21 -> 17977
A11: 14.01 | B11: ud | C11: COMPRESOR SCROLL ATLAS COPCO 270 L | D11: 1 | E11: 9500 | F11: =$D11*E11 -> 9500
C12: Suministro e instalación de compresor scroll Atlas Copco exento de aceite modelo SF-2+ FF con secador frigorífico incorporado, y montado sobre depósito de 270 litros. SF-2+ FF/270/8/220V-1ph Condiciones de referencia Presión de Entrada bar(a) 1 Temperatura de aire de entrada °C 20 Humedad relativa del aire % 0 Presión nominal de trabajo bar(g) 6.75 Velocidad eje motor rpm 2885 Características Técnicas Presión máxima de trabajo bar(g) 7.75 Capacidad FAD (*) a presión nominal I/s 4.2 Potencia motor Kw 2.2 Nivel sonoro (**) db(A) 56 Temperatura aire de descarga ambiente + °C 0 Conexión salida de aire G 1/2" Alimentación eléctrica volts / Hz / fase 230 / 50 / 1 Temperatura de punto de rocío a presión °C 4
A13: 14.02 | B13: ml | C13: TUBERÍA ALUMINIO PARA AIRE COMPRIMIDO 6 BAR DN25 | D13: 95 | E13: 35 | F13: =$D13*E13 -> 3325
C14: Tubería de aluminio pintado Transair, de diámetro 25 mm, PN16, inc/codos, tes, manguitos fijaciones y demás accesorios, totalmente instalada.
A15: 14.03 | B15: ud | C15: AC CONJUNTO BAJANTE DN16 + LLAVE + 2 TOMAS RÁPIDAS 3/8" | D15: 15 | E15: 315 | F15: =$D15*E15 -> 4725
C16: Suministro e instalación de bajante a toma, formado por: - 4 metros de tubería aluminio 6063-T5 de DN1" de diámetro . - 2 llaves de esfera DN16 mm PN16 - 1conjunto doble toma de enchufe rápido de 3/8", formado por T con tapón roscado, codo y dos tomas rápidas estándar fábrica, incluida fijación y llave de purga de 1/2". Totalmente instalada, incluyendo picaje en red general, soportería, accesorios y pequeño material
A17: 14.04 | B17: ud | C17: VÁLVULA DE ESFERA DN25 PN16 | D17: 1 | E17: 62 | F17: =$D17*E17 -> 62
C18: Válvula de esfera de DN25, PN16, totalmente instalada i/ accesorios.
A19: 14.05 | B19: ud | C19: PUESTA EN MARCHA INSTALACIÓN | D19: 1 | E19: 260 | F19: =$D19*E19 -> 260
C20: Montaje de elementos del sistema, pruebas, certificados, tramitaciones y puesta en marcha de la instalación.
A21: 14.06 | B21: pa | C21: SEÑALIZACIÓN Y DOCUMENTACIÓN | D21: 1 | E21: 105 | F21: =$D21*E21 -> 105
C22: Conjunto de etiquetas de llaves y tuberías, flechas y/o bandas de color normalizado para señalización de la instalación.

Sheet Baja Tensión
A1: Código | B1: Nat | C1: Ud | D1: Resumen | E1: CanPres | F1: PrPres | G1: ImpPres
A2: BT01 | B2: Capítulo | D2: DESMONTAJES | E2: =E11 -> 1 | F2: =F11 -> 799 | G2: =G11 -> 799
A3: 01.1 | B3: Partida | C3: PA | D3: ELIMINACIÓN DE INTERFEREMNCIAS ELÉCTRICAS | E3: 1 | F3: 350 | G3: =ROUND(E3*F3,2) -> 350
D4: Elimiación de insterferncias eléctricas de oficina dejando fuera de servicio las instalaciones para su desmontaje/traslado, incluidos bloqueos de protecciones, carteles de seguridad y pequeños materail necesario.
A5: 01.2 | B5: Partida | C5: UD | D5: DESMONTAJE PUESTO TRABAJO | E5: 14 | F5: 22 | G5: =ROUND(E5*F5,2) -> 308
D6: Desmontaje de puesto de trabajo existente, con medios manuales, sin deteriorar los elementos constructivos a los que pueda estar sujeta, totalmente desmontado y terminado. Los elementos desmontados se prodrán recuperar en caso de que se estime necesario. Las lineas deberan quedar recogidas en falso techo junto a la bandeja debidamente etiquetadas. En la documentación asbuilt se reflejaran todas las posiciones, Todo el material con posibilidad de recuparación para su montaje será trasladado a mnto de la propiedad. Incluida p/p/ carga de escombros por medios manuales sobre contenedor, paso de este a camión mediante medios mecánicos y transporte a vertedero, canón de vertido incluido.
A7: 01.3 | B7: Partida | C7: UD | D7: DESMONTAJE TOMA CORRIENTE | E7: 9 | F7: 4 | G7: =ROUND(E7*F7,2) -> 36
D8: Desmontaje de toma de corriente existente, empotrada en pared, con medios manuales, sin deteriorar los elementos constructivos a los que pueda estar sujeta, totalmente desmontado y terminado. i. p/p/ carga de escombros por medios manuales sobre contenedor, paso de este a camión mediante medios mecánicos y transporte a vertedero, canón de vertido incluido.
A9: 01.4 | B9: Partida | C9: UD | D9: DESMONTAJE COLUMNA DISTRIBUCIÓN | E9: 7 | F9: 15 | G9: =ROUND(E9*F9,2) -> 105
D10: Desmontaje de columna de distribución de aluminio de doble cara existente, con medios manuales, sin deteriorar los elementos constructivos a los que pueda estar sujeta, totalmente desmontado y terminado. Serán retiradas a almacén mnto de Cener para su reutilización i. p/p/ carga de escombros por medios manuales sobre contenedor, paso de este a camión mediante medios mecánicos y transporte a vertedero, canón de vertido incluido.. Todo el material con posibilidad de recuparación para su montaje será trasladado a mnto de la propiedad.,
D11: BT01 | E11: 1 | F11: =G3+G5+G7+G9 -> 799 | G11: =ROUND(F11*E11,2) -> 799
A13: BT02 | B13: Capítulo | D13: ACOMETIDAS | E13: =E16 -> 1 | F13: =F16 -> 8550 | G13: =G16 -> 8550
A14: 02.1 | B14: Partida | C14: ML | D14: CONDUCTOR 3X185+95+95 MM2 CU RZ1-K 0,6/1 KV | E14: 90 | F14: 95 | G14: =ROUND(E14*F14,2) -> 8550
D15: Conductor de cobre aislado tipo RZ1-K 0,6/1 KV de 3x185+1x95(N)+1x95(T)mm2, con aislamiento XLPE, fabricado según UNE 21123-2. Tendido en bandeja, incluso replanteo, bridas de atado , p.p. de cajas de conexión con tornillo, terminales y conexión, etiquetado , pequeño material y M.O. de instalación.
D16: BT02 | E16: 1 | F16: =G14 -> 8550 | G16: =ROUND(F16*E16,2) -> 8550
A18: BT03 | B18: Capítulo | D18: CUADROS BAJA TENSIÓN | E18: =E23 -> 1 | F18: =F23 -> 31000 | G18: =G23 -> 31000
A19: 03.1 | B19: Partida | C19: UD | D19: PROTECCIÓN SALIDA DE CUADRO EXISTENTE 400A IVp | E19: 1 | F19: 3250 | G19: =ROUND(E19*F19,2) -> 3250
D20: Protección de acometida en cuadro general de distribución de zona comprendiendo : - Interruptor Automático NSX400 4P 50kA - Micrologic 4.3 Vigi 400A - LV433940 - Relé diferencial RH99, equipado con toroidal. - Barras de conexión embarrado de cuadro, placa soporte, panel de cierre, material aux. necesario y mano de obra de instalación. Totalmente instalado y pesto en servicio
A21: 03.2 | B21: Partida | C21: UD | D21: CUADRO DISTRIBUCIÓN GENERAL LABORATORIO H2 | E21: 1 | F21: 27750 | G21: =ROUND(E21*F21,2) -> 27750
D22: Armario de distribución eléctrica Schneider, Prisma P con 30% reserva útil , construido en piezas modulares de chapa lacada, incluyendo soportes de aparatos, tapas frontales, canaletas interiores, distribuidores de cables barras de distribución, tierra, puertas plenas, zócalo realizado en perfil metálico de 250 cm en toda la longitud del cuadro con chapa galvanizada de cierre lacada en colr a definir, incluidas piezas de fijación y tapas, obturadores y carriles en módulos de reserva, rotulación de automáticos, etiquetado de cables, documentación en portaplanos rígido con : documentación de equipos y esquema definitivo, pequeño material, y puesta en marcha, incluyendo en su interior los elementos indicados en esquema unifilar adjunto. Marca / Modelo : Schneider / Prisma P. Ancho = 2x650+2x300/ Fondo = 400, / alto 2000 P. transparenre , LLAVE BOMBÍN Zocalo 250mm Entrada cables inferior
D23: BT03 | E23: 1 | F23: =G19+G21 -> 31000 | G23: =ROUND(F23*E23,2) -> 31000
A25: BT04 | B25: Capítulo | D25: BANDEJAS PORTACABLES | E25: =E39 -> 1 | F25: =F39 -> 5117.7 | G25: =G39 -> 5117.7
A26: 04.1 | B26: Partida | C26: ML | D26: BANDEJA RANURADA GALVANIZADA 100X60 | E26: 5 | F26: 35 | G26: =ROUND(E26*F26,2) -> 175
A27: 04.2 | B27: Partida | C27: Ml | D27: BAND.RANURADA GALVANIZADA 400x60mm. | E27: 20 | F27: 47.4 | G27: =ROUND(E27*F27,2) -> 948
D28: Bandeja ranurada con tratamiento galvanizado de 400x60 mm. tipo PUK o similar, instalada en tramos horizontales/verticales, incluidas uniones y accesorios, cinta matacantos, replanteo, medios auxiliares, material de fijación y mano de obra de instalación.
A29: 04.3 | B29: Partida | C29: Ml | D29: BANDEJA REJILLA ALAMBRE 400x60mm. | E29: 50 | F29: 36 | G29: =ROUND(E29*F29,2) -> 1800
D30: Bandeja rejilla alambre con tratamiento galvanizado de 400x60 mm., instalada en tramos horizontales/verticales, incluidas uniones y accesorios, cinta matacantos, replanteo, medios auxiliares, material de fijación y mano de obra de instalación.
A31: 04.4 | B31: Partida | C31: Ml | D31: BANDEJA REJILLA ALAMBRE 100x60mm. | E31: 20 | F31: 29 | G31: =ROUND(E31*F31,2) -> 580
D32: Bandeja rejilla alambre con tratamiento galvanizado sz de 100x60 mm. tipo PUK o similar, instalada en tramos horizontales/verticales, incluidas uniones y accesorios, cinta matacantos, replanteo, medios auxiliares, material de fijación y mano de obra de instalación.
A33: 04.5 | B33: Partida | C33: Ml | D33: TAPA BANDEJA PORTACABLES 100 | E33: 5 | F33: 6.8 | G33: =ROUND(E33*F33,2) -> 34
D34: Sumnistro y montaje de bandeja metálica de 100 incluidas piezas de unión, completamente instalada.
A35: 04.6 | B35: Partida | C35: ML | D35: TAPA BANDEJA PORTACABLES 400 | E35: 5 | F35: 8.14 | G35: =ROUND(E35*F35,2) -> 40.7
D36: Sumnistro y montaje de tapa de bandeja metálica de 100 incluidas piezas de unión, completamente instalada.
A37: 04.7 | B37: Partida | C37: Ml | D37: BAND.PVC CON TAPA 200x60mm.UNEX U48X | E37: 44 | F37: 35 | G37: =ROUND(E37*F37,2) -> 1540
D38: Bandeja ranurada con tratamiento galvanizado sz de 200x60 mm. tipo PUK o similar, instalada en tramos horizontales/verticales, incluidas uniones y accesorios, cinta matacantos, replanteo, medios auxiliares, material de fijación y mano de obra de instalación. Suspension de techo mediante soporte galvanizado en T.
D39: BT04 | E39: 1 | F39: =G26+G27+G29+G31+G33+G35+G37 -> 5117.7 | G39: =ROUND(F39*E39,2) -> 5117.7
A41: BT05 | B41: Capítulo | D41: INSTALACIÓN FUERZA | E41: =E74 -> 1 | F41: =F74 -> 24839.9 | G41: =G74 -> 24839.9
A42: 05.1 | B42: Partida | C42: ML | D42: CONDUCTOR 5X35 MM2 CU RZ1-K 0,6/1 KV | E42: 60 | F42: 24 | G42: =ROUND(E42*F42,2) -> 1440
D43: Conductor de cobre aislado tipo RZ1-K 0,6/1 KV de 5x35 mm2, con aislamiento XLPE, fabricado según UNE 21123-2. Tendido en bandeja, incluso replanteo, bridas de atado , p.p. de cajas de conexión con tornillo, terminales y conexión, etiquetado , pequeño material y M.O. de instalación.
A44: 05.2 | B44: Partida | C44: ML | D44: CONDUCTOR 5X16 MM2 CU RZ1-K 0,6/1 KV | E44: 15 | F44: 18.3 | G44: =ROUND(E44*F44,2) -> 274.5
...

Sheet Hoja1
