Workbook

Sheet Modelo
A1: A) OTROS CRITEROS VALORADOS MEDIANTE FORMULAS OBJETIVAS | C1: MAX 64 PUNTOS
A2: 1. Compromiso de ejecución. Inserción y Eficacia para aumentar la empleabilidad de las personas usuarias. | C2: Max 20 puntos
A3: a) Factor A = Inserción (60%). Se consideran inserciones a estar de alta 30 días en Seguridad Social en el período de 12 meses desde que se recibió el último servicio.
A4: 1. A partir del 50% de Inserciones de las personas atendidas 0,6 x 20 puntos. | C4: =0.6*20 -> 12
A5: 2. Del 45% al 49% de Inserciones de las personas atendidas 0,6 x 15 puntos. | C5: =0.6*15 -> 9
A6: 3. Del 40% al 44% de Inserciones de las personas atendidas 0,6 x 10 puntos. | C6: =0.6*10 -> 6
A7: Para los lotes 1 y 2 la valoración será:
A8: 1. A partir del 30% de Inserciones de las personas atendidas 0,6 x 20 puntos. | C8: =0.6*20 -> 12
A9: 2. Del 21% al 29% de Inserciones de las personas atendidas 0,6 x 15 puntos. | C9: =0.6*15 -> 9
A10: 3. Del 10% al 20% de Inserciones de las personas atendidas 0,6 x 10 puntos | C10: =0.6*10 -> 6
A11: b) Factor B = Eficacia (40%). Lograr que completen el itinerario el mayor número de personas.
A12: 1. Si finalizan más del 90% de las personas, 0,4 x 20 puntos. | C12: =0.4*20 -> 8
A13: 2. Si finalizan entre el 80% y 90% de las personas, 0,4 x 16 puntos. | C13: =0.4*16 -> 6.4
A14: 3. Si finalizan entre el 70% y 80% de las personas, 0,4 x 12 puntos. | C14: =0.4*12 -> 4.8
A15: 4. Si finalizan entre el 60% y 70% de las personas, 0,4 x 8 puntos. | C15: =0.4*8 -> 3.2
A16: 5. Si finalizan menos del 60% de las personas, 0,4 x 0 puntos. | C16: =0.4*0 -> 0
A17: 2. Herramientas utilizadas para la prestación del servicio. Se valorará aquellas proposiciones técnicas que incluyan la utilización de herramientas informáticas dirigidas al uso por parte de la persona usuaria para trabajar su empleabilidad. | C17: Max 7 puntos
A18: 1. Herramientas telemáticas propias (plataformas) que permitan la interacción simultánea en entornos virtuales y la provisión de materiales y contenidos para la persona (webnibar, chats, etc.): 4 puntos. | C18: 4
A19: 2. Herramientas telemáticas propias (plataformas) específicas para el colectivo: 7 puntos. | C19: 7
A20: 3. Otras herramientas telemáticas (plataformas) no propias que permitan la interacción simultánea en entornos virtuales y la provisión de materiales y contenidos para la persona (webinar, chats, etc.): 2 puntos. | C20: 2
A21: 4. Otras herramientas telemáticas (plataformas) específicas para el colectivo: 5 puntos. | C21: 5
A22: 3. Prospección de empresas | C22: Max 7 puntos
A23: a) Cartera de empresas, con centro de trabajo en Navarra, que tengan convenio suscrito con la entidad, en los últimos 4 años anteriores a la fecha de presentación de la solicitud y cuya vigencia se extienda, como mínimo, hasta 2022: Hasta 5 puntos.
A24: 1. Más de 150 empresas: 5 puntos. | C24: 5
A25: 2. De 100 a 149 empresas: 3 puntos. | C25: 3
A26: 3. De 50 a 99 empresas: 1 punto. | C26: 1
A27: b) Tendencias. Estudios propios que hayan realizado en los últimos 3 años anteriores a la fecha de presentación de la solicitud sobre las tendencias del mercado de trabajo u otros relacionados con la prospección: 2 puntos. | C27: 2
A28: 4. Locales adicionales. Se tomará en consideración el mapa del padrón (franja azul y morada): https://padron.com.es/navarra/ | C28: Max 15 puntos
A29: Por cada local adicional situado en localidad cuyo número de habitantes sea relevante en el ámbito geográfico de la Agencia de empleo: 1 punto. (Hasta 3 puntos por ámbito de AE). Altsasu/Alsasua, Aoiz, Doneztebe/Santesteban, Estella/Lizarra, Lodosa, Tafalla y Tudela. En lo que se refiere a las Agencias de Iturrondo y 2º Ensanche de Pamplona, se considerarán como una sola Agencia, y deberá disponer de dos locales obligatorios. El máximo también serán 3 puntos ya que las dos Agencias son consideradas un solo ámbito.
B30: Nº Locales adicionales
A31: Iturrondo + 2º Ensanche
A32: Altsasu/Alsasua
A33: Aoiz
A34: Doneztebe/Santesteban
A35: Estella/Lizarra
A36: Lodosa
A37: Tafalla
A38: Tudela
A39: 5. Compromiso de sustitución del personal. Se concederán los siguientes puntos por el compromiso de la entidad, que se mantendrá durante toda la ejecución del contrato, de sustituir al personal adscrito al contrato, en el siguiente plazo: | C39: Max 5 puntos
A40: 1. Menos de 15 días: 5 puntos. | C40: 5
...

Sheet Formulario
A1: A) OTROS CRITEROS VALORADOS MEDIANTE FORMULAS OBJETIVAS | C1: MAX 64 PUNTOS
A2: 1. Compromiso de ejecución. Inserción y Eficacia para aumentar la empleabilidad de las personas usuarias. | C2: Max 20 puntos
A3: a) Factor A = Inserción (60%). Se consideran inserciones a estar de alta 30 días en Seguridad Social en el período de 12 meses desde que se recibió el último servicio.
A4: 3. Del 40% al 44% de Inserciones de las personas atendidas 0,6 x 10 puntos. | C4: =VLOOKUP(A4,Modelo!A4:C6,3) -> 6
A5: Para los lotes 1 y 2 la valoración será:
A6: 3. Del 10% al 20% de Inserciones de las personas atendidas 0,6 x 10 puntos | C6: =VLOOKUP(A6,Modelo!A8:C10,3) -> 6
A7: b) Factor B = Eficacia (40%). Lograr que completen el itinerario el mayor número de personas.
A8: 2. Si finalizan entre el 80% y 90% de las personas, 0,4 x 16 puntos. | C8: =VLOOKUP(A8,Modelo!A12:C16,3) -> 6.4
A9: 2. Herramientas utilizadas para la prestación del servicio. Se valorará aquellas proposiciones técnicas que incluyan la utilización de herramientas informáticas dirigidas al uso por parte de la persona usuaria para trabajar su empleabilidad. | C9: Max 7 puntos
A10: 3. Otras herramientas telemáticas (plataformas) no propias que permitan la interacción simultánea en entornos virtuales y la provisión de materiales y contenidos para la persona (webinar, chats, etc.): 2 puntos. | C10: =VLOOKUP(A10,Modelo!A18:C21,3) -> 2
A11: 3. Prospección de empresas | C11: Max 7 puntos
A12: a) Cartera de empresas, con centro de trabajo en Navarra, que tengan convenio suscrito con la entidad, en los últimos 4 años anteriores a la fecha de presentación de la solicitud y cuya vigencia se extienda, como mínimo, hasta 2022: Hasta 5 puntos.
A13: 3. De 50 a 99 empresas: 1 punto. | C13: =VLOOKUP(A13,Modelo!A24:C26,3) -> 1
B14: SI/NO
A15: b) Tendencias. Estudios propios que hayan realizado en los últimos 3 años anteriores a la fecha de presentación de la solicitud sobre las tendencias del mercado de trabajo u otros relacionados con la prospección: 2 puntos. | B15: SI | C15: =IF(B15="si",2,0) -> 2
A16: 4. Locales adicionales. Se tomará en consideración el mapa del padrón (franja azul y morada): https://padron.com.es/navarra/ | C16: Max 15 puntos
A17: Por cada local adicional situado en localidad cuyo número de habitantes sea relevante en el ámbito geográfico de la Agencia de empleo: 1 punto. (Hasta 3 puntos por ámbito de AE). Altsasu/Alsasua, Aoiz, Doneztebe/Santesteban, Estella/Lizarra, Lodosa, Tafalla y Tudela. En lo que se refiere a las Agencias de Iturrondo y 2º Ensanche de Pamplona, se considerarán como una sola Agencia, y deberá disponer de dos locales obligatorios. El máximo también serán 3 puntos ya que las dos Agencias son consideradas un solo ámbito. | C17: =MIN(15,SUM(C19:C26)) -> 0
B18: Nº Locales adicionales
A19: Iturrondo + 2º Ensanche | B19: 0 | C19: =IF(B19="",0,MIN(B19,3)) -> 0
A20: Altsasu/Alsasua | B20: 0 | C20: =IF(B20="",0,MIN(B20,3)) -> 0
A21: Aoiz | B21: 0 | C21: =IF(B21="",0,MIN(B21,3)) -> 0
A22: Doneztebe/Santesteban | B22: 0 | C22: =IF(B22="",0,MIN(B22,3)) -> 0
A23: Estella/Lizarra | B23: 0 | C23: =IF(B23="",0,MIN(B23,3)) -> 0
A24: Lodosa | B24: 0 | C24: =IF(B24="",0,MIN(B24,3)) -> 0
A25: Tafalla | B25: 0 | C25: =IF(B25="",0,MIN(B25,3)) -> 0
A26: Tudela | B26: 0 | C26: =IF(B26="",0,MIN(B26,3)) -> 0
A27: 5. Compromiso de sustitución del personal. Se concederán los siguientes puntos por el compromiso de la entidad, que se mantendrá durante toda la ejecución del contrato, de sustituir al personal adscrito al contrato, en el siguiente plazo: | C27: Max 5 puntos
A28: 2. Entre 15 y 30 días: 2 puntos. | C28: =VLOOKUP(A28,Modelo!A40:C42,3) -> 2
A29: 6. Atención del servicio en Euskera. Se podrá acreditará por cualquiera de estos medios: · Aportando titulación de C1 o equivalente según el Marco Común Europeo de Referencia para las lenguas, y para personal de apoyo de B2 o equivalente. . Declaración responsable de compromiso a prestar la atención en los términos indicados. | C29: Max 7 puntos
A30: 3. Zona No Vascófona: 1 punto. | C30: =VLOOKUP(A30,Modelo!A44:C46,3) -> 1
A31: 7. Sellos de calidad | B31: SI/NO | C31: Max 3 puntos
A32: Se valorará la tenencia por la entidad adjudicataria de certificados de calidad relacionados con el objeto del acuerdo (EFQM, ISO, SGSI) | B32: SI | C32: =IF(B32="si",3,0) -> 3
A35: B) CRITERIOS SOCIALES | C35: MAX 13 PUNTOS
A36: 1. Desarrollo de acciones formativas dirigidas al personal destinado a la ejecución del contrato que incremente el número mínimo de horas exigido en la cláusula 19 | C36: Máx. 3 puntos
A37: 1. Más de 30 horas: 3 puntos. | C37: =VLOOKUP(A37,Modelo!A53:C55,3) -> 3
A38: 2. Transferencia del conocimiento y medidas de conciliación e igualdad. | B38: SI/NO | C38: Máx. 10 puntos
A39: a) Se valorarán con hasta 4 puntos la realización de las siguientes acciones de transferencia de conocimiento
A40: 1. Publicaciones, conferencias, estudios, comunicaciones, que la entidad se compromete a realizar durante la ejecución del contrato, en relación con el desarrollo, la prestación y las conclusiones del mismo: 1 punto por cada acción que la entidad adjudicataria se comprometa a realizar. Máximo 2 puntos. | B40: 0 | C40: =MIN(B40,2) -> 0
A41: 2. Organización de sesiones conjuntas de puesta en común de buenas prácticas en la prestación del servicio en las que participen el personal que presta el servicio y personal del SNE-NL, que la entidad se compromete a realizar durante la ejecución del contrato: 1 punto por cada sesión que la entidad adjudicataria se comprometa a realizar´. Máximo 2 puntos. | B41: 1 | C41: =MIN(B41,2) -> 1
A42: b) Se valorará hasta con 4 puntos que la entidad licitadora ponga a disposición de las personas usuarias del servicio durante toda la ejecución del contrato, las siguientes medidas en materia de conciliación de la vida laboral, familiar y personal.
...
