Workbook

Sheet Resumen
B1: ANEXO I
B5: SUMINISTRO DE PLANTAS PARA LOS JARDINES DEL AYUNTAMIENTO DE TUDELA, AÑO 2020
B8: ='Arbol RD'!B1 -> ARBOLES ORNAMENTALES A RAÍZ DESNUDA
C9: TOTAL SIN IVA: | D9: ='Arbol RD'!F25 -> 0
B11: ='Arbol CEP'!B1 -> ARBOLES ORNAMENTALES EN CEPELLÓN O CONTENEDOR.
C12: TOTAL SIN IVA: | D12: ='Arbol CEP'!F46 -> 0
B14: =Arbusto!B1 -> ARBUSTOS, CONÍFERAS, PALMÁCEAS, TREPADORAS Y VIVACES.
C15: TOTAL SIN IVA: | D15: =Arbusto!F79 -> 0
C18: TOTAL SUMINISTRO SIN IVA: | D18: =D15+D12+D9 -> 0
B19: I.V.A. | C19: 0.1 | D19: =D18*C19 -> 0
C20: TOTAL SUMINISTRO CON IVA: | D20: =D18+D19 -> 0

Sheet Arbol RD
B1: ARBOLES ORNAMENTALES A RAÍZ DESNUDA
A2: Uds. | B2: Especie/variedad | C2: Tamaño | D2: Presentación | E2: Tipo ramificación | F2: Precio sin IVA | G2: Importe sin IVA
A4: 1 | B4: Acer campestre | C4: 14/16 | D4: Raiz desnuda | E4: Flechado | G4: =A4*F4 -> 0
A5: 2 | B5: Acer campestre "Elsrijk" | C5: 14/16 | D5: Raiz desnuda | E5: Flechado | G5: =A5*F5 -> 0
A6: 41 | B6: Acer campestre "Lienco" | C6: 14/16 | D6: Raiz desnuda | E6: Flechado | G6: =A6*F6 -> 0
A7: 14 | B7: Acer campestre "Queen Elizabeth" | C7: 14/16 | D7: Raiz desnuda | E7: Flechado | G7: =A7*F7 -> 0
A8: 1 | B8: Acer platanoides | C8: 14/16 | D8: Raiz desnuda | E8: Flechado | G8: =A8*F8 -> 0
A9: 1 | B9: Catalpa bungei | C9: 14/16 | D9: Raiz desnuda | E9: En copa | G9: =A9*F9 -> 0
A10: 1 | B10: Eleagnus angustifolia | C10: 14/16 | D10: Raiz desnuda | E10: Flechado | G10: =A10*F10 -> 0
A11: 3 | B11: Firmiana simplex | C11: 14/16 | D11: Raiz desnuda | E11: Flechado | G11: =A11*F11 -> 0
A12: 1 | B12: Gleditsia triacanthos | C12: 14/16 | D12: Raiz desnuda | E12: Flechado | G12: =A12*F12 -> 0
A13: 1 | B13: Koelreuteria paniculata | C13: 14/16 | D13: Raiz desnuda | E13: Flechado | G13: =A13*F13 -> 0
A14: 2 | B14: Morus alba "Fruitless" | C14: 14/16 | D14: Raiz desnuda | E14: En copa | G14: =A14*F14 -> 0
A15: 1 | B15: Paulownia imperialis | C15: 14/16 | D15: Raiz desnuda | E15: Flechado | G15: =A15*F15 -> 0
... A23: 1 | B23: Zelkova serrata | C23: 14/16 | D23: Raiz desnuda | E23: Flechado | G23: =A23*F23 -> 0
A25: =SUM(A3:A24) -> 124 | B25: Unidades total | E25: Total sin IVA: | F25: =SUM(G3:G24) -> 0

Sheet Arbol CEP
B1: ARBOLES ORNAMENTALES EN CEPELLÓN O CONTENEDOR.
A2: Uds. | B2: Especie/variedad | C2: Tamaño | D2: Presentación | E2: Tipo ramificación | F2: Precio sin IVA | G2: Importe sin IVA
A4: 3 | B4: Acer "Pacific Sunset" | C4: 14/16 | D4: Cepellón | E4: Flechado | G4: =A4*F4 -> 0
A5: 1 | B5: Acer buergerianum | C5: 14/16 | D5: Cepellón | E5: Flechado | G5: =A5*F5 -> 0
A6: 28 | B6: Acer campestre "Red Shine" | C6: 14/16 | D6: Cepellón | E6: Flechado | G6: =A6*F6 -> 0
A7: 3 | B7: Acer monspessulanum | C7: 14/16 | D7: Cepellón | E7: Flechado | G7: =A7*F7 -> 0
A8: 13 | B8: Acer platanoides "Columnare" | C8: 14/16 | D8: Cepellón | E8: Flechado | G8: =A8*F8 -> 0
A9: 10 | B9: Acer platanoides "Globosum" | C9: 14/16 | D9: Cepellón | E9: En copa | G9: =A9*F9 -> 0
A10: 2 | B10: Acer x freemanii "Autumn Blaze" | C10: 14/16 | D10: Cepellón | E10: Flechado | G10: =A10*F10 -> 0
A11: 1 | B11: Albizia julibrissin | C11: 14/16 | D11: Cepellón | E11: En copa | G11: =A11*F11 -> 0
A12: 6 | B12: Alnus cordata | C12: 14/16 | D12: Cepellón | E12: Flechado | G12: =A12*F12 -> 0
A13: 1 | B13: Alnus glutinosa "Imperialis" | C13: 14/16 | D13: Cepellón | E13: Flechado | G13: =A13*F13 -> 0
A14: 4 | B14: Carpinus betulus | C14: 14/16 | D14: Cepellón | E14: Flechado | G14: =A14*F14 -> 0
A15: 1 | B15: Celtis australis | C15: 14/16 | D15: Cepellón | E15: Flechado | G15: =A15*F15 -> 0
... A44: 1 | B44: Tilia cordata "Corzan" | C44: 14/16 | D44: Cepellón | E44: Flechado | G44: =A44*F44 -> 0
A46: =SUM(A3:A45) -> 207 | B46: Unidades total | E46: Total sin IVA: | F46: =SUM(G3:G45) -> 0

Sheet Arbusto
B1: ARBUSTOS, CONÍFERAS, PALMÁCEAS, TREPADORAS Y VIVACES.
A2: Uds. | B2: Especie/Variedad | C2: Tamaño | D2: Presentación | E2: Notas | F2: Precio sin IVA | G2: Importe sin IVA
A4: 10 | B4: Abelia grandiflora | C4: 30/40 | D4: 3 litros contenedor | E4: Tres tallos | G4: =A4*F4 -> 0
A5: 150 | B5: Abelia x grandiflora "Prostrata" | C5: 30/40 | D5: 3 litros contenedor | E5: Tres tallos | G5: =A5*F5 -> 0
A6: 1 | B6: Abies x masjoanni | C6: 175/200 | D6: 25 litros contenedor | E6: Flechado | G6: =A6*F6 -> 0
A7: 50 | B7: Acanthus mollis | C7: 15/20 | D7: 3 litros contenedor | E7: Tres tallos | G7: =A7*F7 -> 0
A8: 10 | B8: Argyranthemum frutescens "Flor rosa" | C8: 20/30 | D8: 2 litros contenedor | G8: =A8*F8 -> 0
A9: 150 | B9: Asteriscus maritimus | C9: 10/15 | D9: 1 litro contenedor | G9: =A9*F9 -> 0
A10: 10 | B10: Berberis thunbergii "Atropurpurea" | C10: 30/40 | D10: 3 litros contenedor | E10: Tres tallos | G10: =A10*F10 -> 0
A11: 6 | B11: Buddleia davidii | C11: 40/60 | D11: 3 litros contenedor | E11: Tres tallos | G11: =A11*F11 -> 0
A12: 10 | B12: Callistemon laevis | C12: 40/50 | D12: 5 litros contenedor | E12: Tres tallos | G12: =A12*F12 -> 0
A13: 50 | B13: Ceanothus griseus "Yankee Points" | C13: 30/40 | D13: 3 litros contenedor | E13: Tres tallos | G13: =A13*F13 -> 0
A14: 50 | B14: Chaenomeles x superba "Nicoline" | C14: 20/40 | D14: 3 litros contenedor | E14: Tres tallos | G14: =A14*F14 -> 0
A15: 4 | B15: Chamaerops humilis | C15: 100/125 | D15: 50 litros contenedor | E15: Tres tallos | G15: =A15*F15 -> 0
A16: 10 | B16: Cistus albidus | C16: 30/40 | D16: 2 litros contenedor | E16: Tres tallos | G16: =A16*F16 -> 0
A17: 10 | B17: Convulvus cneorum | C17: 20/30 | D17: 3 litros contenedor | E17: Tres tallos | G17: =A17*F17 -> 0
A18: 15 | B18: Corylus avellana | C18: 40/60 | D18: 3 litros contenedor | E18: Tres tallos | G18: =A18*F18 -> 0
A19: 10 | B19: Cotoneaster dammeri | C19: 30/40 | D19: 3 litros contenedor | E19: Tres tallos | G19: =A19*F19 -> 0
A20: 10 | B20: Cotoneaster franchettii | C20: 30/40 | D20: 3 litros contenedor | E20: Tres tallos | G20: =A20*F20 -> 0
A21: 7 | B21: Cupressus sempervirens | C21: 150/175 | D21: 5 litros contenedor | E21: Flechado | G21: =A21*F21 -> 0
A22: 10 | B22: Dimorfoteca ecklonis "Flor amarilla" | C22: 20/30 | D22: 3 litros contenedor | G22: =A22*F22 -> 0
A23: 10 | B23: Eleagnus pungens "Maculata" | C23: 40/50 | D23: 3 litros contenedor | E23: Tres tallos | G23: =A23*F23 -> 0
A24: 10 | B24: Eleagnus x ebbingei | C24: 40/50 | D24: 3 litros contenedor | E24: Tres tallos | G24: =A24*F24 -> 0
A25: 2 | B25: Eleagnus x ebbingei "Limelight" | C25: 30/40 | D25: 3 litros contenedor | E25: Tres tallos | G25: =A25*F25 -> 0
A26: 10 | B26: Epilobium canum | C26: 20/30 | D26: 3 litros contenedor | E26: Tres tallos | G26: =A26*F26 -> 0
A27: 1 | B27: Eriobotrya japonica | C27: 150/175 | D27: 30 litros contenedor | E27: Compacto | G27: =A27*F27 -> 0
A28: 10 | B28: Escallonia macrantha "Rubra" | C28: 40/50 | D28: 3 litros contenedor | E28: Tres tallos | G28: =A28*F28 -> 0
A29: 10 | B29: Evonymus japonica "Aureomarginata" | C29: 50/60 | D29: 5 litros contenedor | E29: Tres tallos | G29: =A29*F29 -> 0
A30: 10 | B30: Evonymus japonica "Picta Luna" | C30: 50/60 | D30: 5 litros contenedor | E30: Tres tallos | G30: =A30*F30 -> 0
A31: 1 | B31: Forsythia intermedia | C31: 50/60 | D31: 5 litros contenedor | E31: Tres tallos | G31: =A31*F31 -> 0
A32: 10 | B32: Gaura lindheimerii | C32: 20/30 | D32: 2 litros contenedor | G32: =A32*F32 -> 0
A33: 10 | B33: Hebe andersonii | C33: 30/40 | D33: 5 litros contenedor | E33: Tres tallos | G33: =A33*F33 -> 0
A34: 10 | B34: Hebe franciscana "Variegata" | C34: 20/30 | D34: 2 litros contenedor | G34: =A34*F34 -> 0
A35: 10 | B35: Hedera helix | C35: 150/200 | D35: 3 litros contenedor | E35: Tutor | G35: =A35*F35 -> 0
A36: 2 | B36: Hibiscus syriacus | C36: 80/100 | D36: 10 litros contenedor | E36: Compacto | G36: =A36*F36 -> 0
A37: 10 | B37: Hypericum balearicum | C37: 20/30 | D37: 2 litros contenedor | G37: =A37*F37 -> 0
A38: 10 | B38: Juniperus communis "Prostrata" | C38: 30/40 | D38: 3 litros contenedor | E38: Tres tallos | G38: =A38*F38 -> 0
A39: 10 | B39: Juniperus communis "Repanda" | C39: 30/40 | D39: 3 litros contenedor | E39: Tres tallos | G39: =A39*F39 -> 0
A40: 10 | B40: Juniperus horizontalis "Glauca" | C40: 30/40 | D40: 3 litros contenedor | E40: Tres tallos | G40: =A40*F40 -> 0
A41: 10 | B41: Juniperus sabina "Tamariscifolia" | C41: 30/40 | D41: 3 litros contenedor | E41: Tres tallos | G41: =A41*F41 -> 0
...
