Workbook

Sheet Resumen
B1: ANEXO I
B5: SUMINISTRO DE PLANTAS PARA LOS JARDINES DEL AYUNTAMIENTO DE TUDELA, AÑO 2020
B8: ='Arbol RD'!B1 -> ARBOLES ORNAMENTALES A RAÍZ DESNUDA
C9: TOTAL SIN IVA: | D9: ='Arbol RD'!F25 -> 0
B11: ='Arbol CEP'!B1 -> ARBOLES ORNAMENTALES EN CEPELLÓN O CONTENEDOR.
C12: TOTAL SIN IVA: | D12: ='Arbol CEP'!F46 -> 0
B14: =Arbusto!B1 -> ARBUSTOS, CONÍFERAS, PALMÁCEAS, TREPADORAS Y VIVACES.
C15: TOTAL SIN IVA: | D15: =Arbusto!F79 -> 0
C18: TOTAL SUMINISTRO SIN IVA: | D18: =D15+D12+D9 -> 0
B19: I.V.A. | C19: 0.1 | D19: =D18*C19 -> 0
C20: TOTAL SUMINISTRO CON IVA: | D20: =D18+D19 -> 0

Sheet Arbol RD
B1: ARBOLES ORNAMENTALES A RAÍZ DESNUDA
A2: Uds. | B2: Especie/variedad | C2: Tamaño | D2: Presentación | E2: Tipo ramificación | F2: Precio sin IVA | G2: Importe sin IVA
A4: 1 | B4: Acer campestre | C4: 14/16 | D4: Raiz desnuda | E4: Flechado | G4: =A4*F4 -> 0
A5: 2 | B5: Acer campestre "Elsrijk" | C5: 14/16 | D5: Raiz desnuda | E5: Flechado | G5: =A5*F5 -> 0
A6: 41 | B6: Acer campestre "Lienco" | C6: 14/16 | D6: Raiz desnuda | E6: Flechado | G6: =A6*F6 -> 0
A7: 14 | B7: Acer campestre "Queen Elizabeth" | C7: 14/16 | D7: Raiz desnuda | E7: Flechado | G7: =A7*F7 -> 0
A8: 1 | B8: Acer platanoides | C8: 14/16 | D8: Raiz desnuda | E8: Flechado | G8: =A8*F8 -> 0
A9: 1 | B9: Catalpa bungei | C9: 14/16 | D9: Raiz desnuda | E9: En copa | G9: =A9*F9 -> 0
A10: 1 | B10: Eleagnus angustifolia | C10: 14/16 | D10: Raiz desnuda | E10: Flechado | G10: =A10*F10 -> 0
A11: 3 | B11: Firmiana simplex | C11: 14/16 | D11: Raiz desnuda | E11: Flechado | G11: =A11*F11 -> 0
A12: 1 | B12: Gleditsia triacanthos | C12: 14/16 | D12: Raiz desnuda | E12: Flechado | G12: =A12*F12 -> 0
A13: 1 | B13: Koelreuteria paniculata | C13: 14/16 | D13: Raiz desnuda | E13: Flechado | G13: =A13*F13 -> 0
A14: 2 | B14: Morus alba "Fruitless" | C14: 14/16 | D14: Raiz desnuda | E14: En copa | G14: =A14*F14 -> 0
A15: 1 | B15: Paulownia imperialis | C15: 14/16 | D15: Raiz desnuda | E15: Flechado | G15: =A15*F15 -> 0
... A23: 1 | B23: Zelkova serrata | C23: 14/16 | D23: Raiz desnuda | E23: Flechado | G23: =A23*F23 -> 0
A25: =SUM(A3:A24) -> 124 | B25: Unidades total | E25: Total sin IVA: | F25: =SUM(G3:G24) -> 0

Sheet Arbol CEP
B1: ARBOLES ORNAMENTALES EN CEPELLÓN O CONTENEDOR.
A2: Uds. | B2: Especie/variedad | C2: Tamaño | D2: Presentación | E2: Tipo ramificación | F2: Precio sin IVA | G2: Importe sin IVA
A4: 3 | B4: Acer "Pacific Sunset" | C4: 14/16 | D4: Cepellón | E4: Flechado | G4: =A4*F4 -> 0
A5: 1 | B5: Acer buergerianum | C5: 14/16 | D5: Cepellón | E5: Flechado | G5: =A5*F5 -> 0
A6: 28 | B6: Acer campestre "Red Shine" | C6: 14/16 | D6: Cepellón | E6: Flechado | G6: =A6*F6 -> 0
A7: 3 | B7: Acer monspessulanum | C7: 14/16 | D7: Cepellón | E7: Flechado | G7: =A7*F7 -> 0
A8: 13 | B8: Acer platanoides "Columnare" | C8: 14/16 | D8: Cepellón | E8: Flechado | G8: =A8*F8 -> 0
A9: 10 | B9: Acer platanoides "Globosum" | C9: 14/16 | D9: Cepellón | E9: En copa | G9: =A9*F9 -> 0
A10: 2 | B10: Acer x freemanii "Autumn Blaze" | C10: 14/16 | D10: Cepellón | E10: Flechado | G10: =A10*F10 -> 0
A11: 1 | B11: Albizia julibrissin | C11: 14/16 | D11: Cepellón | E11: En copa | G11: =A11*F11 -> 0
A12: 6 | B12: Alnus cordata | C12: 14/16 | D12: Cepellón | E12: Flechado | G12: =A12*F12 -> 0
A13: 1 | B13: Alnus glutinosa "Imperialis" | C13: 14/16 | D13: Cepellón | E13: Flechado | G13: =A13*F13 -> 0
A14: 4 | B14: Carpinus betulus | C14: 14/16 | D14: Cepellón | E14: Flechado | G14: =A14*F14 -> 0
A15: 1 | B15: Celtis australis | C15: 14/16 | D15: Cepellón | E15: Flechado | G15: =A15*F15 -> 0
... A44: 1 | B44: Tilia cordata "Corzan" | C44: 14/16 | D44: Cepellón | E44: Flechado | G44: =A44*F44 -> 0
A46: =SUM(A3:A45) -> 207 | B46: Unidades total | E46: Total sin IVA: | F46: =SUM(G3:G45) -> 0

Sheet Arbusto
B1: ARBUSTOS, CONÍFERAS, PALMÁCEAS, TREPADORAS Y VIVACES.
A2: Uds. | B2: Especie/Variedad | C2: Tamaño | D2: Presentación | E2: Notas | F2: Precio sin IVA | G2: Importe sin IVA
A4: 10 | B4: Abelia grandiflora | C4: 30/40 | D4: 3 litros contenedor | E4: Tres tallos | G4: =A4*F4 -> 0
A5: 150 | B5: Abelia x grandiflora "Prostrata" | C5: 30/40 | D5: 3 litros contenedor | E5: Tres tallos | G5: =A5*F5 -> 0
A6: 1 | B6: Abies x masjoanni | C6: 175/200 | D6: 25 litros contenedor | E6: Flechado | G6: =A6*F6 -> 0
A7: 50 | B7: Acanthus mollis | C7: 15/20 | D7: 3 litros contenedor | E7: Tres tallos | G7: =A7*F7 -> 0
A8: 10 | B8: Argyranthemum frutescens "Flor rosa" | C8: 20/30 | D8: 2 litros contenedor | G8: =A8*F8 -> 0
A9: 150 | B9: Asteriscus maritimus | C9: 10/15 | D9: 1 litro contenedor | G9: =A9*F9 -> 0
A10: 10 | B10: Berberis thunbergii "Atropurpurea" | C10: 30/40 | D10: 3 litros contenedor | E10: Tres tallos | G10: =A10*F10 -> 0
A11: 6 | B11: Buddleia davidii | C11: 40/60 | D11: 3 litros contenedor | E11: Tres tallos | G11: =A11*F11 -> 0
A12: 10 | B12: Callistemon laevis | C12: 40/50 | D12: 5 litros contenedor | E12: Tres tallos | G12: =A12*F12 -> 0
A13: 50 | B13: Ceanothus griseus "Yankee Points" | C13: 30/40 | D13: 3 litros contenedor | E13: Tres tallos | G13: =A13*F13 -> 0
A14: 50 | B14: Chaenomeles x superba "Nicoline" | C14: 20/40 | D14: 3 litros contenedor | E14: Tres tallos | G14: =A14*F14 -> 0
A15: 4 | B15: Chamaerops humilis | C15: 100/125 | D15: 50 litros contenedor | E15: Tres tallos | G15: =A15*F15 -> 0
A16: 10 | B16: Cistus albidus | C16: 30/40 | D16: 2 litros contenedor | E16: Tres tallos | G16: =A16*F16 -> 0
A17: 10 | B17: Convulvus cneorum | C17: 20/30 | D17: 3 litros contenedor | E17: Tres tallos | G17: =A17*F17 -> 0
A18: 15 | B18: Corylus avellana | C18: 40/60 | D18: 3 litros contenedor | E18: Tres tallos | G18: =A18*F18 -> 0
A19: 10 | B19: Cotoneaster dammeri | C19: 30/40 | D19: 3 litros contenedor | E19: Tres tallos | G19: =A19*F19 -> 0
A20: 10 | B20: Cotoneaster franchettii | C20: 30/40 | D20: 3 litros contenedor | E20: Tres tallos | G20: =A20*F20 -> 0
A21: 7 | B21: Cupressus sempervirens | C21: 150/175 | D21: 5 litros contenedor | E21: Flechado | G21: =A21*F21 -> 0
A22: 10 | B22: Dimorfoteca ecklonis "Flor amarilla" | C22: 20/30 | D22: 3 litros contenedor | G22: =A22*F22 -> 0
A23: 10 | B23: Eleagnus pungens "Maculata" | C23: 40/50 | D23: 3 litros contenedor | E23: Tres tallos | G23: =A23*F23 -> 0
A24: 10 | B24: Eleagnus x ebbingei | C24: 40/50 | D24: 3 litros contenedor | E24: Tres tallos | G24: =A24*F24 -> 0
A25: 2 | B25: Eleagnus x ebbingei "Limelight" | C25: 30/40 | D25: 3 litros contenedor | E25: Tres tallos | G25: =A25*F25 -> 0
A26: 10 | B26: Epilobium canum | C26: 20/30 | D26: 3 litros contenedor | E26: Tres tallos | G26: =A26*F26 -> 0
A27: 1 | B27: Eriobotrya japonica | C27: 150/175 | D27: 30 litros contenedor | E27: Compacto | G27: =A27*F27 -> 0
A28: 10 | B28: Escallonia macrantha "Rubra" | C28: 40/50 | D28: 3 litros contenedor | E28: Tres tallos | G28: =A28*F28 -> 0
A29: 10 | B29: Evonymus japonica "Aureomarginata" | C29: 50/60 | D29: 5 litros contenedor | E29: Tres tallos | G29: =A29*F29 -> 0
A30: 10 | B30: Evonymus japonica "Picta Luna" | C30: 50/60 | D30: 5 litros contenedor | E30: Tres tallos | G30: =A30*F30 -> 0
A31: 1 | B31: Forsythia intermedia | C31: 50/60 | D31: 5 litros contenedor | E31: Tres tallos | G31: =A31*F31 -> 0
A32: 10 | B32: Gaura lindheimerii | C32: 20/30 | D32: 2 litros contenedor | G32: =A32*F32 -> 0
A33: 10 | B33: Hebe andersonii | C33: 30/40 | D33: 5 litros contenedor | E33: Tres tallos | G33: =A33*F33 -> 0
A34: 10 | B34: Hebe franciscana "Variegata" | C34: 20/30 | D34: 2 litros contenedor | G34: =A34*F34 -> 0
A35: 10 | B35: Hedera helix | C35: 150/200 | D35: 3 litros contenedor | E35: Tutor | G35: =A35*F35 -> 0
A36: 2 | B36: Hibiscus syriacus | C36: 80/100 | D36: 10 litros contenedor | E36: Compacto | G36: =A36*F36 -> 0
A37: 10 | B37: Hypericum balearicum | C37: 20/30 | D37: 2 litros contenedor | G37: =A37*F37 -> 0
A38: 10 | B38: Juniperus communis "Prostrata" | C38: 30/40 | D38: 3 litros contenedor | E38: Tres tallos | G38: =A38*F38 -> 0
A39: 10 | B39: Juniperus communis "Repanda" | C39: 30/40 | D39: 3 litros contenedor | E39: Tres tallos | G39: =A39*F39 -> 0
A40: 10 | B40: Juniperus horizontalis "Glauca" | C40: 30/40 | D40: 3 litros contenedor | E40: Tres tallos | G40: =A40*F40 -> 0
A41: 10 | B41: Juniperus sabina "Tamariscifolia" | C41: 30/40 | D41: 3 litros contenedor | E41: Tres tallos | G41: =A41*F41 -> 0
A42: 10 | B42: Juniperus squamata "Blue Carpet" | C42: 30/40 | D42: 3 litros contenedor | E42: Tres tallos | G42: =A42*F42 -> 0
A43: 30 | B43: Lantana montevidensis | C43: 30/40 | D43: 3 litros contenedor | E43: Tres tallos | G43: =A43*F43 -> 0
A44: 10 | B44: Laurus nobilis | C44: 80/100 | D44: 3 litros contenedor | E44: Tres tallos | G44: =A44*F44 -> 0
A45: 1 | B45: Laurus nobilis | C45: 175/200 | D45: 25 litros contenedor | E45: Compacto | G45: =A45*F45 -> 0
A46: 10 | B46: Lavandula officinalis (angustifolia) | C46: 20/30 | D46: 2 litros contenedor | G46: =A46*F46 -> 0
A47: 10 | B47: Ligustrum ovalifolium | C47: 60/80 | D47: 2 litros contenedor | E47: Tres tallos | G47: =A47*F47 -> 0
A48: 10 | B48: Ligustrum ovalifolium | C48: 80/100 | D48: 5 litros contenedor | E48: Tres tallos | G48: =A48*F48 -> 0
A49: 50 | B49: Lonicera nitida | C49: 40/60 | D49: 3 litros contenedor | E49: Tres tallos | G49: =A49*F49 -> 0
A50: 50 | B50: Nandina domestica "Fire Power" | C50: 20/30 | D50: 3 litros contenedor | E50: Tres tallos | G50: =A50*F50 -> 0
A51: 10 | B51: Nerium oleander | C51: 60/80 | D51: 3 litros contenedor | E51: Tres tallos | G51: =A51*F51 -> 0
A52: 10 | B52: Nerium oleander | C52: 125/150 | D52: 50 litros contenedor | E52: Compacto | G52: =A52*F52 -> 0
A53: 10 | B53: Nerium oleander "Nana" | C53: 30/40 | D53: 3 litros contenedor | E53: Tres tallos | G53: =A53*F53 -> 0
A54: 4 | B54: Nerium oleander "Nana" Salmón | C54: 30/40 | D54: 3 litros contenedor | E54: Tres tallos | G54: =A54*F54 -> 0
A55: 50 | B55: Osmanthus heterophyllus | C55: 30/40 | D55: 5 litros contenedor | E55: Tres tallos | G55: =A55*F55 -> 0
A56: 10 | B56: Photinia x fraseri "Red Robin" | C56: 40/50 | D56: 3 litros contenedor | E56: Tres tallos | G56: =A56*F56 -> 0
A57: 10 | B57: Photinia x fraseri "Red Robin" | C57: 150/175 | D57: 30 litros contenedor | E57: Compacto | G57: =A57*F57 -> 0
A58: 50 | B58: Phyla nodiflora | C58: 10/20 | D58: 1 litro contenedor | G58: =A58*F58 -> 0
A59: 80 | B59: Pieris floribunda | D59: 3 litros contenedor | E59: Tres tallos | G59: =A59*F59 -> 0
A60: 10 | B60: Pinus halepensis | C60: 60/80 | D60: 3 litros contenedor | E60: Flechado | G60: =A60*F60 -> 0
A61: 8 | B61: Pitosporum tobira | C61: 60/80 | D61: 5 litros contenedor | E61: Tres tallos | G61: =A61*F61 -> 0
A62: 1 | B62: Prunus cerasifera "Pissardii" | C62: 150/200 | D62: 30 litros contenedor | E62: Compacto | G62: =A62*F62 -> 0
A63: 10 | B63: Rosa "The Fairy Rubra" | C63: 30/40 | D63: 3 litros contenedor | E63: Tres tallos | G63: =A63*F63 -> 0
A64: 10 | B64: Rosa "The Fairy" | C64: 30/40 | D64: 3 litros contenedor | E64: Tres tallos | G64: =A64*F64 -> 0
A65: 4 | B65: Rosa grandiflora "Meilland" trepador | C65: 150/175 | D65: 3 litros contenedor | E65: Tutor | G65: =A65*F65 -> 0
A66: 10 | B66: Rosmarinus officinalis | C66: 30/40 | D66: 3 litros contenedor | E66: Tres tallos | G66: =A66*F66 -> 0
A67: 10 | B67: Rosmarinus postratus | C67: 20/30 | D67: 3 litros contenedor | E67: Tres tallos | G67: =A67*F67 -> 0
A68: 10 | B68: Salvia officinalis | C68: 20/30 | D68: 2 litros contenedor | G68: =A68*F68 -> 0
A69: 10 | B69: Salvia x jamensis | C69: 30/40 | D69: 2 litros contenedor | G69: =A69*F69 -> 0
A70: 10 | B70: Stipa tenuissima | C70: 30/40 | D70: 2 litros contenedor | G70: =A70*F70 -> 0
A71: 2 | B71: Taxus bacata | C71: 100/125 | D71: 25 litros contenedor | E71: Compacto | G71: =A71*F71 -> 0
A72: 10 | B72: Teucrium maritimun (fruticans) | C72: 40/50 | D72: 3 litros contenedor | E72: Tres tallos | G72: =A72*F72 -> 0
A73: 10 | B73: Teucrium maritimun (fruticans) | C73: 50/60 | D73: 10 litros contenedor | E73: Compacto | G73: =A73*F73 -> 0
A74: 2 | B74: Thuja occidentalis "Esmeralda" | C74: 80/100 | D74: 10 litros contenedor | E74: Compacto | G74: =A74*F74 -> 0
A75: 10 | B75: Viburnum lucidum | C75: 40/60 | D75: 5 litros contenedor | E75: Tres tallos | G75: =A75*F75 -> 0
A76: 13 | B76: Viburnum tinus | C76: 50/60 | D76: 3 litros contenedor | E76: Tres tallos | G76: =A76*F76 -> 0
A77: 20 | B77: Viburnum tinus | C77: 80/100 | D77: 25 litros contenedor | E77: Compacto | G77: =A77*F77 -> 0
A79: =SUM(A3:A78) -> 1304 | B79: Unidades total | E79: Total sin IVA: | F79: =SUM(G3:G78) -> 0
