Workbook

Sheet LOTE 1
B2: COSTES DE ATR
B4: Término de Potencia
C6: Termino de Potencia ATR - Enero 2019 (€/kW/año)
B7: TARIFAS | C7: P 1 | D7: P 2 | E7: P 3 | F7: P 4 | G7: P 5 | H7: P 6
B8: 3.1A | C8: 59.17368 | D8: 36.490689 | E8: 8.367731 | F8: --- | G8: --- | H8: ---
B9: 6.1A | C9: 39.139427 | D9: 19.586654 | E9: 14.334178 | F9: 14.334178 | G9: 14.334178 | H9: 6.540177
B10: 6.2 | C10: 22.158348 | D10: 11.088763 | E10: 8.115134 | F10: 8.115134 | G10: 8.115134 | H10: 3.702649
B12: Término de Energía
C14: Termino de Energía ATR - Enero 2019 (€/MWh)
B15: TARIFAS | C15: P 1 | D15: P 2 | E15: P 3 | F15: P 4 | G15: P 5 | H15: P 6
B16: 3.1A | C16: 14.335 | D16: 12.754 | E16: 7.805 | F16: --- | G16: --- | H16: ---
B17: 6.1A | C17: 26.674 | D17: 19.921 | E17: 10.615 | F17: 5.283 | G17: 3.411 | H17: 2.137
B18: 6.2 | C18: 15.587 | D18: 11.641 | E18: 6.204 | F18: 3.087 | G18: 1.993 | H18: 1.247
B21: COSTES ENERGÍA OMIE
D26: OMIE | E26: 55 | F26: (€/MWh)
D28: Datos a ofertar (celdas en color verde)
D30: CGomie: | F30: (€/MWh)
C32: Termino de Energía (€/MWh)
B33: TARIFAS | C33: P 1 | D33: P 2 | E33: P 3 | F33: P 4 | G33: P 5 | H33: P 6
B34: 3.1A | C34: =+(($E$26+E86+E87+E88+E89+E90)*(1+E85)*1.015+$E$30)+C16 -> 84.36794 | D34: =+(($E$26+F86+F87+F88+F89+F90)*(1+F85)*1.015+$E$30)+D16 -> 80.127017 | E34: =+(($E$26+G86+G87+G88+G89+G90)*(1+G85)*1.015+$E$30)+E16 -> 71.819899 | F34: --- | G34: --- | H34: ---
B35: 6.1A | C35: =+(($E$26+E92+E93+E94+E95+E96)*(1+E91)*1.015+$E$30)+C17 -> 95.924684 | D35: =+(($E$26+F92+F93+F94+F95+F96)*(1+F91)*1.015+$E$30)+D17 -> 86.830476 | E35: =+(($E$26+G92+G93+G94+G95+G96)*(1+G91)*1.015+$E$30)+E17 -> 76.051914 | F35: =+(($E$26+H92+H93+H94+H95+H96)*(1+H91)*1.015+$E$30)+F17 -> 69.873963 | G35: =+(($E$26+I92+I93+I94+I95+I96)*(1+I91)*1.015+$E$30)+G17 -> 68.529396 | H35: =+(($E$26+J92+J93+J94+J95+J96)*(1+J91)*1.015+$E$30)+H17 -> 66.705907
B36: 6.2 | C36: =+(($E$26+E98+E99+E100+E101+E102)*(1+E97)*1.015+$E$30)+C18 -> 83.545313 | D36: =+(($E$26+F98+F99+F100+F101+F102)*(1+F97)*1.015+$E$30)+D18 -> 76.97146 | E36: =+(($E$26+G98+G99+G100+G101+G102)*(1+G97)*1.015+$E$30)+E18 -> 70.469761 | F36: =+(($E$26+H98+H99+H100+H101+H102)*(1+H97)*1.015+$E$30)+F18 -> 66.519483 | G36: =+(($E$26+I98+I99+I100+I101+I102)*(1+I97)*1.015+$E$30)+G18 -> 65.895872 | H36: =+(($E$26+J98+J99+J100+J101+J102)*(1+J97)*1.015+$E$30)+H18 -> 64.391167
B37: Coste solo energía con ATR energía sin IE
B40: COSTES ENERGÍA OMIP
D45: OMIP | E45: =E26 -> 55 | F45: (€/MWh)
D47: Datos a ofertar (celdas en color verde)
D49: CGomip: | F49: (€/MWh)
C51: Apuntamientos
B52: TARIFAS | C52: P 1 | D52: P 2 | E52: P 3 | F52: P 4 | G52: P 5 | H52: P 6
B53: 3.1A | F53: --- | G53: --- | H53: ---
B54: 6.1A
B55: 6.2
C58: Termino de Energía OMIP (€/MWh)
B59: TARIFAS | C59: P 1 | D59: P 2 | E59: P 3 | F59: P 4 | G59: P 5 | H59: P 6
B60: 3.1A | C60: =+(($E$45*C53+E86+E87+E88+E89+E90)*(1+E85)*1.015+$E$49)+C16 -> 24.350483 | D60: =+(($E$45*D53+F86+F87+F88+F89+F90)*(1+F85)*1.015+$E$49)+D16 -> 19.947667 | E60: =+(($E$45*E53+G86+G87+G88+G89+G90)*(1+G85)*1.015+$E$49)+E16 -> 12.087149
B61: 6.1A | C61: =+(($E$45*C54+E92+E93+E94+E95+E96)*(1+E91)*1.015+$E$49)+C17 -> 36.085866 | D61: =+(($E$45*D54+F92+F93+F94+F95+F96)*(1+F91)*1.015+$E$49)+D17 -> 26.020304 | E61: =+(($E$45*E54+G92+G93+G94+G95+G96)*(1+G91)*1.015+$E$49)+E17 -> 16.280086 | F61: =+(($E$45*F54+H92+H93+H94+H95+H96)*(1+H91)*1.015+$E$49)+F17 -> 10.31427 | G61: =+(($E$45*G54+I92+I93+I94+I95+I96)*(1+I91)*1.015+$E$49)+G17 -> 8.9752858 | H61: =+(($E$45*H54+J92+J93+J94+J95+J96)*(1+J91)*1.015+$E$49)+H17 -> 6.5098092
B62: 6.2 | C62: =+(($E$45*C55+E98+E99+E100+E101+E102)*(1+E97)*1.015+$E$49)+C18 -> 24.828578 | D62: =+(($E$45*D55+F98+F99+F100+F101+F102)*(1+F97)*1.015+$E$49)+D18 -> 17.59599 | E62: =+(($E$45*E55+G98+G99+G100+G101+G102)*(1+G97)*1.015+$E$49)+E18 -> 11.853511 | F62: =+(($E$45*F55+H98+H99+H100+H101+H102)*(1+H97)*1.015+$E$49)+F18 -> 8.0874557 | G62: =+(($E$45*G55+I98+I99+I100+I101+I102)*(1+I97)*1.015+$E$49)+G18 -> 7.4694268 | H62: =+(($E$45*H55+J98+J99+J100+J101+J102)*(1+J97)*1.015+$E$49)+H18 -> 5.49021
B63: Coste solo energía con ATR energía sin IE
B67: PRECIO OFERTADO LOTE 1 (EN EUROS)
C69: Térm. Potencia | D69: Térm. Energía
...

Sheet LOTE 2
B2: COSTES DE ATR
B4: Término de Potencia
C6: Termino de Potencia ATR - Enero 2019 (€/kW/año)
B7: TARIFAS | C7: P 1 | D7: P 2 | E7: P 3 | F7: P 4 | G7: P 5 | H7: P 6
B8: 2.1A | C8: 44.44471 | D8: --- | E8: --- | F8: --- | G8: --- | H8: ---
B9: 2.1DHA | C9: 44.44471 | D9: --- | E9: --- | F9: --- | G9: --- | H9: ---
B10: 3.0A | C10: 40.728885 | D10: 24.43733 | E10: 16.291555 | F10: --- | G10: --- | H10: ---
B11: 3.1A | C11: 59.17368 | D11: 36.490689 | E11: 8.367731 | F11: --- | G11: --- | H11: ---
B14: Término de Energía
C16: Termino de Energía ATR - Enero 2019 (€/MWh)
B17: TARIFAS | C17: P 1 | D17: P 2 | E17: P 3 | F17: P 4 | G17: P 5 | H17: P 6
B18: 2.1A | C18: 57.36 | D18: --- | E18: --- | F18: --- | G18: --- | H18: ---
B19: 2.1DHA | C19: 74.568 | D19: 13.192 | E19: --- | F19: --- | G19: --- | H19: ---
B20: 3.0A | C20: 18.762 | D20: 12.575 | E20: 4.67 | F20: --- | G20: --- | H20: ---
B21: 3.1A | C21: 14.335 | D21: 12.754 | E21: 7.805 | F21: --- | G21: --- | H21: ---
B24: COSTES ENERGÍA OMIE
D28: OMIE | E28: 55 | F28: (€/MWh)
D30: Datos a ofertar (celdas en color verde)
C32: C1omie OFERTADO (€/MWh)
B33: TARIFAS | C33: P 1 | D33: P 2 | E33: P 3 | F33: P 4 | G33: P 5 | H33: P 6
B34: 2.1A | D34: --- | E34: --- | F34: --- | G34: --- | H34: ---
B35: 2.1DHA | E35: --- | F35: --- | G35: --- | H35: ---
B36: 3.0A | F36: --- | G36: --- | H36: ---
B37: 3.1A | F37: --- | G37: --- | H37: ---
C39: C2 OFERTADO
B40: TARIFAS | C40: P 1 | D40: P 2 | E40: P 3 | F40: P 4 | G40: P 5 | H40: P 6
B41: 2.1A | D41: --- | E41: --- | F41: --- | G41: --- | H41: ---
B42: 2.1DHA | E42: --- | F42: --- | G42: --- | H42: ---
B43: 3.0A | F43: --- | G43: --- | H43: ---
B44: 3.1A | F44: --- | G44: --- | H44: ---
C46: Apuntamientos Omie
B47: TARIFAS | C47: P 1 | D47: P 2 | E47: P 3 | F47: P 4 | G47: P 5 | H47: P 6
B48: 2.1A | D48: --- | E48: --- | F48: --- | G48: --- | H48: ---
B49: 2.1DHA | E49: --- | F49: --- | G49: --- | H49: ---
B50: 3.0A | F50: --- | G50: --- | H50: ---
B51: 3.1A | F51: --- | G51: --- | H51: ---
C54: Termino de Energía COMPLETO OMIE (€/MWh)
B55: TARIFAS | C55: P 1 | D55: P 2 | E55: P 3 | F55: P 4 | G55: P 5 | H55: P 6
B56: 2.1A | C56: =+(C34+$E$28*C48)*C41+C18 -> 57.36 | D56: --- | E56: --- | F56: --- | G56: --- | H56: ---
B57: 2.1DHA | C57: =+(C35+$E$28*C49)*C42+C19 -> 74.568 | D57: =+(D35+$E$28*D49)*D42+D19 -> 13.192 | E57: --- | F57: --- | G57: --- | H57: ---
...

Sheet Datos LOTE 1
B3: POTENCIA CONTRATADA | H3: CONSUMOS ANUALES
A4: Tarifa | B4: P1 (kW) | C4: P2 (kW) | D4: P3 (kW) | E4: P4 (kW) | F4: P5 (kW) | G4: P6 (kW) | H4: kWh P1 | I4: kWh P2 | J4: kWh P3 | K4: kWh P4 | L4: kWh P5 | M4: kWh P6 | N4: TOTAL
A5: 3.1A | B5: 537 | C5: 583 | D5: 658 | E5: 0 | F5: 0 | G5: 0 | H5: 542449.52 | I5: 1049140.6 | J5: 1131479.7 | K5: 0 | L5: 0 | M5: 0 | N5: 2723069.8
A6: 6.1A | B6: 2025 | C6: 2075 | D6: 2075 | E6: 2075 | F6: 2225 | G6: 3897 | H6: 664156 | I6: 822714 | J6: 513678 | K6: 796010 | L6: 1072856 | M6: 3969423 | N6: 7838837
A7: 6.2 | B7: 950 | C7: 950 | D7: 950 | E7: 950 | F7: 950 | G7: 980 | H7: 352753 | I7: 477275 | J7: 262543 | K7: 432672 | L7: 577090 | M7: 2756828 | N7: 4859161

Sheet Datos LOTE 2
B1: POTENCIA CONTRATADA | E1: CONSUMOS ANUALES
A2: Tarifa | B2: P1 (kW) | C2: P2 (kW) | D2: P3 (kW) | E2: kWh P1 | F2: kWh P2 | G2: kWh P3 | H2: TOTAL
A3: 2.1A | B3: 78.772 | C3: 0 | D3: 0 | E3: 53631.185 | F3: 0 | G3: 0 | H3: =SUM(E3:G3) -> 53631.185
A4: 2.1DHA | B4: 798.822 | C4: 784.962 | D4: 0 | E4: 1011466.7 | F4: 1357880.2 | G4: 0 | H4: =SUM(E4:G4) -> 2369346.8
A5: 3.0A | B5: 2143.887 | C5: 2267.887 | D5: 2474.169 | E5: 1022396.4 | F5: 2931606.9 | G5: 1702777.5 | H5: =SUM(E5:G5) -> 5656780.7
A6: 3.1A | B6: 1216.791 | C6: 1216.791 | D6: 1428.791 | E6: 967966.62 | F6: 1959759.1 | G6: 2254862 | H6: =SUM(E6:G6) -> 5182587.8
