Workbook

Sheet LOTE 1
A1: Resumen Criterio 2. Cualificación y experiencia del equipo
A3: LOTE 1 | B3: 2.1 | C3: 2.2.1.a | D3: 2.2.1.b | E3: 2.2.1.a´ | F3: 2.2.1.b´ | G3: 2.2.2. (in) | H3: 2.2.2. (eus) | I3: 2.2.3 | J3: 2.2.4 | K3: Puntos
A4: BRANDOK | B4: 5 | C4: =BRANDOK!$G$9 -> 15 | D4: =BRANDOK!$G$14 -> 6 | E4: =BRANDOK!$G$19 -> 15 | F4: =BRANDOK!$G$24 -> 6 | G4: =BRANDOK!$G$29 -> 3 | H4: =BRANDOK!$G$33 -> 0 | I4: =BRANDOK!$G$38 -> 5 | J4: =BRANDOK!$G$43 -> 15 | K4: =BRANDOK!I48 -> 70
A5: CIGANDA | B5: =CIGANDA!G7 -> 0 | C5: =CIGANDA!G9 -> 15 | D5: =CIGANDA!G14 -> 2 | E5: =CIGANDA!G19 -> 15 | F5: =CIGANDA!G24 -> 2 | G5: =CIGANDA!G29 -> 3 | H5: =CIGANDA!G33 -> 0 | I5: =CIGANDA!G38 -> 0 | J5: =CIGANDA!G43 -> 0 | K5: =SUM(B5:J5) -> 37
A6: CHOURRUNT | B6: =CHOURRANT!G7 -> 5 | C6: 15 | D6: 6 | E6: 7 | F6: 3 | G6: =CHOURRANT!G29 -> 3 | H6: =CHOURRANT!G33 -> 5 | I6: 10 | J6: 15 | K6: =CHOURRANT!I48 -> 69
A7: ERREA | B7: =ERREA!G7 -> 5 | C7: 15 | D7: 6 | E7: 15 | F7: 6 | G7: =ERREA!G29 -> 3 | H7: =ERREA!G33 -> 0 | I7: =ERREA!G38 -> 10 | J7: =ERREA!G43 -> 15 | K7: =ERREA!I48 -> 75
A8: GABINETESEIS | B8: =GABINETESEIS!G7 -> 5 | C8: 15 | D8: 6 | E8: 15 | F8: 3 | G8: =GABINETESEIS!G29 -> 2 | H8: =GABINETESEIS!G33 -> 5 | I8: =GABINETESEIS!G38 -> 5 | J8: 5 | K8: =GABINETESEIS!I48 -> 61
A9: LA LLORONA | B9: ='LA LLORONA'!G6 -> 5 | C9: 15 | D9: 6 | E9: 15 | F9: 6 | G9: 3 | H9: 0 | I9: 10 | J9: 15 | K9: =SUM(B9:J9) -> 75
A10: LA VACA PÚRUPURA | B10: ='LA VACA P.'!G7 -> 5 | C10: 15 | D10: 6 | E10: 15 | F10: 6 | G10: 3 | H10: 0 | I10: 10 | J10: 15 | K10: =SUM(B10:J10) -> 75
A11: NACAP | B11: =NACAP!G7 -> 5 | C11: =NACAP!G9 -> 15 | D11: =NACAP!G14 -> 6 | E11: =NACAP!G19 -> 15 | F11: =NACAP!G24 -> 6 | G11: =NACAP!G29 -> 3 | H11: =NACAP!G33 -> 0 | I11: =NACAP!G38 -> 10 | J11: =NACAP!G43 -> 15 | K11: =SUM(B11:J11) -> 75
A12: PROYECTA | B12: =PROYECTA!G7 -> 5 | C12: =PROYECTA!G9 -> 15 | D12: =PROYECTA!G14 -> 6 | E12: =PROYECTA!G19 -> 15 | F12: =PROYECTA!G24 -> 6 | G12: =PROYECTA!G29 -> 0 | H12: =PROYECTA!G33 -> 0 | I12: =PROYECTA!G38 -> 5 | J12: =PROYECTA!G43 -> 15 | K12: =PROYECTA!G48 -> 67

Sheet BRANDOK
A1: Lote | B1: 1
A2: Entidad | B2: BRANDOK
A3: Criterio | B3: 2
F5: Valoración | G5: Puntuación | H5: Valoración tras aclaración/subsanación | I5: Puntuación
A7: 2.1 Puesta a disposición de un/a técnico/a adicional en comunicación | B7: Máximo 5 puntos | F7: La entidad pone a disposición un técnico adicional. Sin embargo, no se aporta fotocopia de la titulación a efectos de dar cumplimiento a lo exigido en la estipulación 21 de las Condiciones Reguladoras. No queda suficientemente clara en la documentación aportada la acreditación en los términos declarados en el anexo IV por lo que, teniendo en cuenta lo previsto en el último párrafo del artículo 97 de la Ley Foral 2/2018, de 13 de abril, de Contratos Públicos, se requiere aclaración, al considerarse que la oferta presentada adolece de oscuridad o inconcreción. Deberá presentar fotocopia de la titulación universitaria en periodismo, comunicación, marketing, publicidad, diseño o similares de la persona propuesta como técnico/a adicional | G7: s/c | H7: Presenta persona con titulación universitaria y, al menos 3 años de experiencia profesional; según requisitos criterio 2.1. | I7: 5
A9: 2.2.1(a) Experiencia en servicios de comunicación estratégica para entidades/corporaciones de más de 100 trabajadores | B9: Casos de éxito | F9: Acredita experiencia en más de 3 trabajos de comunicación estratégica para entidades/corporaciones de más de 100 trabajadores por parte del equipo de trabajo. | G9: 15 | H9: Acredita experiencia en más de 3 trabajos de comunicación estratégica para entidades/corporaciones de más de 100 trabajadores por parte del equipo de trabajo. | I9: 15
B10: 1 | C10: 2 a 3 | D10: >3
B11: 3 | C11: 7 | D11: 15
B12: máximo 15 puntos
A14: 2.2.1 (b) Adicionalmente, la experiencia anterior es con entidades públicas | B14: Casos de éxito | F14: Más de tres trabajos de los acreditados en el apartado anterior son con entidades públicas | G14: 6 | H14: Más de tres trabajos de los acreditados en el apartado anterior son con entidades públicas | I14: 6
B15: 1 | C15: 2 a 3 | D15: >3
B16: 2 | C16: 3 | D16: 6
B17: máximo 6 puntos
A19: 2.2.1 (a) Experiencia en gestión de eventos para entidades/corporaciones de más de 100 trabajadores | B19: Casos de éxito | F19: Acredita experiencia en más de 3 trabajos de gestión de eventos para entidades/corporaciones de más de 100 trabajadores | G19: 15 | H19: Acredita experiencia en más de 3 trabajos de gestión de eventos para entidades/corporaciones de más de 100 trabajadores | I19: 15
B20: 1 | C20: 2 a 3 | D20: >3
B21: 3 | C21: 7 | D21: 15
B22: máximo 15 puntos
A24: 2.2.1 (b) Adicionalmente, la experiencia anterior es con entidades públicas | B24: Casos de éxito | F24: Más de 3 trabajos de los acreditados en el apartado anterior son con entidades públicas. | G24: 6 | H24: Más de 3 trabajos de los acreditados en el apartado anterior son con entidades públicas. | I24: 6
B25: 1 | C25: 2 a 3 | D25: >3
B26: 2 | C26: 3 | D26: 6
B27: máximo 6 puntos
A29: 2.2.2. Idiomas | B29: Inglés | F29: Dispone de una persona en el equipo que acredita nivel superior en inglés, mínimo C1 o equivalente. | G29: 3 | H29: Dispone de una persona en el equipo que acredita nivel superior en inglés, mínimo C1 o equivalente. | I29: 3
B30: C1 | C30: B2
B31: 3 | C31: 2
B32: máximo 3 puntos
B33: Euskera | F33: No se dispone de una persona en el equipo que acredite competencia certificada en euskera. | G33: 0 | H33: No se dispone de una persona en el equipo que acredite competencia certificada en euskera. | I33: 0
B34: C1 | C34: B2
B35: 5 | C35: 3
B36: máximo 5 puntos
A38: 2.2.3. Formación complementaria | B38: Formación > 100 h | F38: Acredita formación complementaria en periodismo, comunicación, publicidad, fotografía, edición de vídeos, etc, mínimo 100 h formativas en una persona. | G38: 5 | H38: Acredita formación complementaria en periodismo, comunicación, publicidad, fotografía, edición de vídeos, etc, mínimo 100 h formativas en una persona. | I38: 5
B39: En 1 persona | C39: En + de 1 persona
B40: 5 | C40: 10
B41: máximo 10 puntos
A43: 2.2.4. Experiencia en formación impartida | B43: Al menos un curso > 6 h impartido | F43: Acredita experiencia en impartición de cursos/jornadas de formación, mínimo 6h formativas/curso en materia de comunicación en más de una persona. | G43: 15 | H43: Acredita experiencia en impartición de cursos/jornadas de formación, mínimo 6h formativas/curso en materia de comunicación en más de una persona. | I43: 15
B44: En 1 persona | C44: En + de 1 persona
B45: 5 | C45: 15
B46: máximo 15 puntos
F48: Puntuación total | G48: =SUM(G7:G44) -> 65 | H48: Puntuación total | I48: =SUM(I7:I44) -> 70

Sheet CIGANDA
A1: Lote | B1: 1
A2: Entidad | B2: CIGANDA
A3: Criterio | B3: 2.2 | C3: Plusvalor respecto del equipo
F5: Valoración | G5: Puntuación
A7: 2.1 Puesta a disposición de un/a técnico/a adicional en comunicación | B7: Máximo 5 puntos | F7: En el anexo IV presentado se propone a un técnico adicional respecto al que se indica que no reune los requisitos de titulación exigidos en la estipulación 21 de las Condiciones Reguladoras. En consecuencia, la persona propuesta como técnico de comunicación perfil gestión de eventos no puede ser admitida en el equipo de trabajo. Se realiza la valoración sin tener en cuenta a esta persona. | G7: 0
A9: 2.2.1(a) Experiencia en servicios de comunicación estratégica para entidades/corporaciones de más de 100 trabajadores | B9: Casos de éxito | F9: Acredita experiencia en más de 3 trabajos de comunicación estratégica para entidades/corporaciones de más de 100 trabajadores por parte del equipo de trabajo. | G9: 15
B10: 1 | C10: 2 a 3 | D10: >3
B11: 3 | C11: 7 | D11: 15
B12: máximo 15 puntos
A14: 2.2.1 (b) Adicionalmente, la experiencia anterior es con entidades públicas | B14: Casos de éxito | F14: Uno de los trabajos de los acreditados en el apartado anterior son con entidades públicas | G14: 2
B15: 1 | C15: 2 a 3 | D15: >3
B16: 2 | C16: 3 | D16: 6
B17: máximo 6 puntos
A19: 2.2.1 (a) Experiencia en gestión de eventos para entidades/corporaciones de más de 100 trabajadores | B19: Casos de éxito | F19: Acredita experiencia en más de 3 trabajos de gestión de eventos para entidades/corporaciones de más de 100 trabajadores por parte del equipo de trabajo. | G19: 15
B20: 1 | C20: 2 a 3 | D20: >3
B21: 3 | C21: 7 | D21: 15
B22: máximo 15 puntos
A24: 2.2.1 (b) Adicionalmente, la experiencia anterior es con entidades públicas | B24: Casos de éxito | F24: Uno de los trabajos de los acreditados en el apartado anterior son con entidades públicas. | G24: 2
B25: 1 | C25: 2 a 3 | D25: >3
B26: 2 | C26: 3 | D26: 6
B27: máximo 6 puntos
A29: 2.2.2. Idiomas | B29: Inglés | F29: Dispone de una persona en el equipo que acredita nivel superior en inglés, C1 o equivalente. | G29: 3
B30: C1 | C30: B2
B31: 3 | C31: 2
B32: máximo 3 puntos
B33: Euskera | F33: No se dispone de una persona en el equipo que acredite competencia certificada en euskera. | G33: 0
B34: C1 | C34: B2
B35: 5 | C35: 3
B36: máximo 5 puntos
A38: 2.2.3. Formación complementaria | B38: Formación > 100 h | F38: No acredita formación complementaria en periodismo, comunicación, publicidad, fotografía, edición de vídeos, etc, mínimo 100 h formativas. | G38: 0
B39: En 1 persona | C39: En + de 1 persona
B40: 5 | C40: 10
B41: máximo 10 puntos
A43: 2.2.4. Experiencia en formación impartida | B43: Al menos un curso > 6 h impartido | F43: No acredita experiencia en impartición de cursos/jornadas de formación, mínimo 6h formativas/curso en materia de comunicación. | G43: 0
B44: En 1 persona | C44: En + de 1 persona
B45: 5 | C45: 15
B46: máximo 15 puntos
F48: Puntuación total | G48: =SUM(G7:G44) -> 37

Sheet CHOURRANT
A1: Lote | B1: 1
A2: Entidad | B2: EVA CHOURRAUT
A3: Criterio | B3: 2.2 | C3: Plusvalor respecto del equipo
F5: Valoración | G5: Puntuación | H5: Valoración tras aclaración/subsanación | I5: Puntuación
A7: 2.1 Puesta a disposición de un/a técnico/a adicional en comunicación | B7: Máximo 5 puntos | F7: Presenta persona con titulación universitaria y, al menos 3 años de experiencia profesional; según requisitos criterio 2.1. | G7: 5 | H7: Presenta persona con titulación universitaria y, al menos 3 años de experiencia profesional; según requisitos criterio 2.1. | I7: 5
A9: 2.2.1(a) Experiencia en servicios de comunicación estratégica para entidades/corporaciones de más de 100 trabajadores | B9: Casos de éxito | F9: En el anexo IV presentado se identifican trabajos de comunicación estátegica y gestión de eventospara entidades/corporaciones de más de 100 trabajadores. Sin embargo, no se aporta documentación justificativa de los servicios prestados, de acuerdo a lo exigido en la estipulación 18 de las Condiciones Reguladoras. Asimismo, en el anexo IV presentado se declara que la perosna propuesta como técnico/a de redacción ha recibido formación complementaria, mínimo 100h formativa. Sin embargo, no se acredita, de conformidad con lo exigido en la estipulación 18 de las Condiciones Reguladoras. Por último, en la propuesta se declara experiencia por parte de dos miembros del equipo propuesto en impartición de cursos/jornadas de formación, mínimo 6h formativas/curso en materia de comunicación, que sin embargo, no se acreditan, de acuerdo a lo exigido en la estipulación 18 de las Condiciones Reguladoras. No queda suficientemente clara en la documentación aportada la acreditación en los términos declarados en el anexo IV por lo que, teniendo en cuenta lo previsto en el último párrafo del artículo 97 de la Ley Foral 2/2018, de 13 de abril, de Contratos Públicos, se requiere aclaración, al considerarse que la oferta presentada adolece de oscuridad o inconcreción. Deberá presentar documentación justificativa de los servicios de comunicación estratégica y gestión de eventos identificados en el anexo IV, así como certificado del curso/formación recibida por la persona propuesta como técnica de redacción y certificado de los cursos/jornadas de formación impartidas identificadas en el anexo IV. | G9: s/c | H9: Acredita experiencia en más de 3 trabajos de comunicación estratégica para entidades/corporaciones de más de 100 trabajadores por parte del equipo de trabajo. | I9: 15
B10: 1 | C10: 2 a 3 | D10: >3
B11: 3 | C11: 7 | D11: 15
B12: máximo 15 puntos
A14: 2.2.1 (b) Adicionalmente, la experiencia anterior es con entidades públicas | B14: Casos de éxito | G14: s/c | H14: Más de 3 trabajos de los acreditados en el apartado anterior son con entidades públicas. | I14: 6
B15: 1 | C15: 2 a 3 | D15: >3
B16: 2 | C16: 3 | D16: 6
B17: máximo 6 puntos
A19: 2.2.1 (a) Experiencia en gestión de eventos para entidades/corporaciones de más de 100 trabajadores | B19: Casos de éxito | G19: s/c | H19: Acredita experiencia en 2 trabajos de gestión de eventos para entidades/corporaciones de más de 100 trabajadores | I19: 7
B20: 1 | C20: 2 a 3 | D20: >3
B21: 3 | C21: 7 | D21: 15
B22: máximo 15 puntos
A24: 2.2.1 (b) Adicionalmente, la experiencia anterior es con entidades públicas | B24: Casos de éxito | G24: s/c | H24: 2 trabajos de los acreditados en el apartado anterior son con entidades públicas. | I24: 3
B25: 1 | C25: 2 a 3 | D25: >3
B26: 2 | C26: 3 | D26: 6
B27: máximo 6 puntos
A29: 2.2.2. Idiomas | B29: Inglés | F29: Dispone de una persona en el equipo que acredita nivel avanzado en inglés, C1 o equivalente. | G29: 3 | H29: Dispone de una persona en el equipo que acredita nivel superior en inglés, mínimo C1 o equivalente. | I29: 3
B30: C1 | C30: B2
B31: 3 | C31: 2
B32: máximo 3 puntos
B33: Euskera | F33: Dispone de una persona en el equipo que acredita nivel superior en euskera mínimo C1, EGA o equivalente. | G33: 5 | H33: Dispone de una persona en el equipo que acredita nivel superior en euskera mínimo C1, EGA o equivalente. | I33: 5
B34: C1 | C34: B2
B35: 5 | C35: 3
B36: máximo 5 puntos
A38: 2.2.3. Formación complementaria | B38: Formación > 100 h | F38: Idem apartado 2.2.1 | G38: s/c | H38: Acredita formación complementaria en periodismo, comunicación, publicidad, fotografía, edición de vídeos, etc, mínimo 100 h formativas en más de una persona. | I38: 10
B39: En 1 persona | C39: En + de 1 persona
B40: 5 | C40: 10
B41: máximo 10 puntos
A43: 2.2.4. Experiencia en formación impartida | B43: Al menos un curso > 6 h impartido | F43: Idem apartado 2.2.1 | G43: s/c | H43: Acredita experiencia en impartición de cursos/jornadas de formación, mínimo 6h formativas/curso en materia de comunicación en más de una persona. | I43: 15
B44: En 1 persona | C44: En + de 1 persona
B45: 5 | C45: 15
B46: máximo 15 puntos
F48: Puntuación total | G48: =SUM(G7:G44) -> 13 | H48: Puntuación total | I48: =SUM(I7:I44) -> 69

Sheet ERREA
A1: Lote | B1: 1
A2: Entidad | B2: ERREA
A3: Criterio | B3: 2.2 | C3: Plusvalor respecto del equipo
F5: Valoración | G5: Puntuación | H5: Valoración tras aclaración/subsanación | I5: Puntuación
A7: 2.1 Puesta a disposición de un/a técnico/a adicional en comunicación | B7: Máximo 5 puntos | F7: Presenta persona con titulación universitaria y, al menos 3 años de experiencia profesional; según requisitos criterio 2.1. | G7: 5 | H7: Presenta persona con titulación universitaria y, al menos 3 años de experiencia profesional; según requisitos criterio 2.1. | I7: 5
A9: 2.2.1(a) Experiencia en servicios de comunicación estratégica para entidades/corporaciones de más de 100 trabajadores | B9: Casos de éxito | F9: En el anexo IV presentado se identifican trabajos de comunicación estátegica y gestión de eventospara entidades/corporaciones de más de 100 trabajadores. Sin embargo, no se aporta documentación justificativa de los servicios prestados, de acuerdo a lo exigido en la estipulación 18 de las Condiciones Reguladoras. No queda suficientemente clara en la documentación aportada la acreditación en los términos declarados en el anexo IV por lo que, teniendo en cuenta lo previsto en el último párrafo del artículo 97 de la Ley Foral 2/2018, de 13 de abril, de Contratos Públicos, se requiere aclaración, al considerarse que la oferta presentada adolece de oscuridad o inconcreción. Deberá presentar documentación justificativa de los servicios de comunicación estratégica y gestión de eventos identificados en el anexo IV. | G9: s/c | H9: Acredita experiencia en más de 3 trabajos de comunicación estratégica para entidades/corporaciones de más de 100 trabajadores por parte del equipo de trabajo. | I9: 15
B10: 1 | C10: 2 a 3 | D10: >3
B11: 3 | C11: 7 | D11: 15
B12: máximo 15 puntos
A14: 2.2.1 (b) Adicionalmente, la experiencia anterior es con entidades públicas | B14: Casos de éxito | G14: s/c | H14: Más de tres trabajos de los acreditados en el apartado anterior son con entidades públicas. | I14: 6
B15: 1 | C15: 2 a 3 | D15: >3
B16: 2 | C16: 3 | D16: 6
B17: máximo 6 puntos
A19: 2.2.1 (a) Experiencia en gestión de eventos para entidades/corporaciones de más de 100 trabajadores | B19: Casos de éxito | G19: s/c | H19: Acredita experiencia en más de 3 trabajos de gestión de eventos para entidades/corporaciones de más de 100 trabajadores | I19: 15
B20: 1 | C20: 2 a 3 | D20: >3
B21: 3 | C21: 7 | D21: 15
B22: máximo 15 puntos
A24: 2.2.1 (b) Adicionalmente, la experiencia anterior es con entidades públicas | B24: Casos de éxito | G24: s/c | H24: Más de tres trabajos de los acreditados en el apartado anterior son con entidades públicas. | I24: 6
B25: 1 | C25: 2 a 3 | D25: >3
B26: 2 | C26: 3 | D26: 6
B27: máximo 6 puntos
A29: 2.2.2. Idiomas | B29: Inglés | F29: Dispone de una persona en el equipo que acredita nivel superior en inglés, C1 o equivalente. | G29: 3 | H29: Dispone de una persona en el equipo que acredita nivel superior en inglés, C1 o equivalente. | I29: 3
B30: C1 | C30: B2
B31: 3 | C31: 2
B32: máximo 3 puntos
B33: Euskera | F33: No se dispone de una persona en el equipo que acredite competencia certificada en euskera. | G33: 0 | H33: No se dispone de una persona en el equipo que acredite competencia certificada en euskera. | I33: 0
B34: C1 | C34: B2
B35: 5 | C35: 3
B36: máximo 5 puntos
A38: 2.2.3. Formación complementaria | B38: Formación > 100 h | F38: Acredita formación complementaria en periodismo, comunicación, publicidad, fotografía, edición de vídeos, etc, mínimo 100 h formativas en más de una persona. | G38: 10 | H38: Acredita formación complementaria en periodismo, comunicación, publicidad, fotografía, edición de vídeos, etc, mínimo 100 h formativas en más de una persona. | I38: 10
B39: En 1 persona | C39: En + de 1 persona
B40: 5 | C40: 10
B41: máximo 10 puntos
A43: 2.2.4. Experiencia en formación impartida | B43: Al menos un curso > 6 h impartido | F43: Acredita experiencia en impartición de cursos/jornadas de formación, mínimo 6h formativas/curso en materia de comunicación en más de una persona. | G43: 15 | H43: Acredita experiencia en impartición de cursos/jornadas de formación, mínimo 6h formativas/curso en materia de comunicación en más de una persona. | I43: 15
B44: En 1 persona | C44: En + de 1 persona
B45: 5 | C45: 15
B46: máximo 15 puntos
F48: Puntuación total | G48: =SUM(G7:G44) -> 33 | H48: Puntuación total | I48: =SUM(I7:I44) -> 75

Sheet GABINETESEIS
A1: Lote | B1: 1
A2: Entidad | B2: GABINETESEIS
A3: Criterio | B3: 2.2 | C3: Plusvalor respecto del equipo
F5: Valoración | G5: Puntuación | H5: Valoración tras aclaración/subsanación | I5: Puntuación
A7: 2.1 Puesta a disposición de un/a técnico/a adicional en comunicación | B7: Máximo 5 puntos | F7: Presenta persona con titulación universitaria y, al menos 3 años de experiencia profesional; según requisitos criterio 2.1. | G7: 5 | H7: Presenta persona con titulación universitaria y, al menos 3 años de experiencia profesional; según requisitos criterio 2.1. | I7: 5
A9: 2.2.1(a) Experiencia en servicios de comunicación estratégica para entidades/corporaciones de más de 100 trabajadores | B9: Casos de éxito | F9: En el anexo IV presentado se identifican trabajos de comunicación estátegica y gestión de eventospara entidades/corporaciones de más de 100 trabajadores. Sin embargo, no se aporta documentación justificativa de los servicios prestados, de acuerdo a lo exigido en la estipulación 18 de las Condiciones Reguladoras. No queda suficientemente clara en la documentación aportada la acreditación en los términos declarados en el anexo IV por lo que, teniendo en cuenta lo previsto en el último párrafo del artículo 97 de la Ley Foral 2/2018, de 13 de abril, de Contratos Públicos, se requiere aclaración, al considerarse que la oferta presentada adolece de oscuridad o inconcreción. Deberá presentar documentación justificativa de los servicios de comunicación estratégica y gestión de eventos identificados en el anexo IV. | G9: s/c | H9: Acredita experiencia en más de 3 trabajos de comunicación estratégica para entidades/corporaciones de más de 100 trabajadores por parte del equipo de trabajo. | I9: 15
B10: 1 | C10: 2 a 3 | D10: >3
B11: 3 | C11: 7 | D11: 15
B12: máximo 15 puntos
A14: 2.2.1 (b) Adicionalmente, la experiencia anterior es con entidades públicas | B14: Casos de éxito | G14: s/c | H14: Más de 3 trabajos de los acreditados en el apartado anterior son con entidades públicas. | I14: 6
B15: 1 | C15: 2 a 3 | D15: >3
B16: 2 | C16: 3 | D16: 6
B17: máximo 6 puntos
A19: 2.2.1 (a) Experiencia en gestión de eventos para entidades/corporaciones de más de 100 trabajadores | B19: Casos de éxito | G19: s/c | H19: Acredita experiencia en más de 3 trabajos de gestión de eventos para entidades/corporaciones de más de 100 trabajadores | I19: 15
B20: 1 | C20: 2 a 3 | D20: >3
B21: 3 | C21: 7 | D21: 15
B22: máximo 15 puntos
A24: 2.2.1 (b) Adicionalmente, la experiencia anterior es con entidades públicas | B24: Casos de éxito | G24: s/c | H24: Tres de los trabajos acreditados en el apartado anterior son con entidades públicas. | I24: 3
B25: 1 | C25: 2 a 3 | D25: >3
B26: 2 | C26: 3 | D26: 6
B27: máximo 6 puntos
A29: 2.2.2. Idiomas | B29: Inglés | F29: Dispone de una persona en el equipo que acredita nivel avanzado en inglés, B2 o equivalente. | G29: 2 | H29: Dispone de una persona en el equipo que acredita nivel avanzado en inglés, B2 o equivalente. | I29: 2
B30: C1 | C30: B2
B31: 3 | C31: 2
B32: máximo 3 puntos
B33: Euskera | F33: Dispone de una persona en el equipo que acredita nivel superior en euskera, mínimo C1 o equivalente.. | G33: 5 | H33: Dispone de una persona en el equipo que acredita nivel superior en euskera, mínimo C1 o equivalente.. | I33: 5
B34: C1 | C34: B2
B35: 5 | C35: 3
B36: máximo 5 puntos
A38: 2.2.3. Formación complementaria | B38: Formación > 100 h | F38: Acredita formación complementaria en periodismo, comunicación, publicidad, fotografía, edición de vídeos, etc, mínimo 100 h formativas en una persona. | G38: 5 | H38: Acredita formación complementaria en periodismo, comunicación, publicidad, fotografía, edición de vídeos, etc, mínimo 100 h formativas en una persona. | I38: 5
B39: En 1 persona | C39: En + de 1 persona
B40: 5 | C40: 10
B41: máximo 10 puntos
A43: 2.2.4. Experiencia en formación impartida | B43: Al menos un curso > 6 h impartido | F43: En el anexo IV presentado se declara experiencia en impartición de cursos/jornadas de formación en una persona del equipo, sin embargo, no se aporta certificado. Deberá presentar certificado del curso/formación. | G43: s/c | H43: Acredita experiencia en impartición de cursos/jornadas de formación, mínimo 6h formativas/curso en materia de comunicación en una persona. | I43: 5
B44: En 1 persona | C44: En + de 1 persona
B45: 5 | C45: 15
B46: máximo 15 puntos
F48: Puntuación total | G48: =SUM(G7:G46) -> 17 | H48: Puntuación total | I48: =SUM(I7:I46) -> 61

Sheet LA LLORONA
A1: Lote | B1: 1
A2: Entidad | B2: LA LLORONA
A3: Criterio | B3: 2
F4: Valoración | G4: Puntuación
A6: 2.1 Puesta a disposición de un/a técnico/a adicional en comunicación | B6: Máximo 5 puntos | F6: Presenta persona con titulación universitaria y, al menos 3 años de experiencia profesional; según requisitos criterio 2.1. | G6: 5
A8: 2.2.1 (a) Experiencia en servicios de comunicación estratégica para entidades/corporaciones de más de 100 trabajadores | B8: Casos de éxito | F8: Acredita experiencia en más de 3 trabajos de comunicación estratégica para entidades/corporaciones de más de 100 trabajadores por parte del equipo de trabajo. | G8: 15
B9: 1 | C9: 2 a 3 | D9: >3
B10: 3 | C10: 7 | D10: 15
B11: máximo 15 puntos
A13: 2.2.1 (b) Adicionalmente, la experiencia anterior es con entidades públicas | B13: Casos de éxito | F13: Más de tres trabajos de los acreditados en el apartado anterior son con entidades públicas | G13: 6
B14: 1 | C14: 2 a 3 | D14: >3
B15: 2 | C15: 3 | D15: 6
B16: máximo 6 puntos
A18: 2.2.1 (a) Experiencia en gestión de eventos para entidades/corporaciones de más de 100 trabajadores | B18: Casos de éxito | F18: Acredita experiencia en más de 3 trabajos de gestión de eventos para entidades/corporaciones de más de 100 trabajadores | G18: 15
B19: 1 | C19: 2 a 3 | D19: >3
B20: 3 | C20: 7 | D20: 15
B21: máximo 15 puntos
A23: 2.2.1 (b) Adicionalmente, la experiencia anterior es con entidades públicas | B23: Casos de éxito | F23: Más de 3 trabajos de los acreditados en el apartado anterior son con entidades públicas. | G23: 6
B24: 1 | C24: 2 a 3 | D24: >3
B25: 2 | C25: 3 | D25: 6
B26: máximo 6 puntos
A28: 2.2.2. Idiomas | B28: Inglés | F28: Dispone de una persona en el equipo que acredita nivel superior en inglés, C1 o equivalente. | G28: 3
B29: C1 | C29: B2
B30: 3 | C30: 2
B31: máximo 3 puntos
B32: Euskera | F32: No se dispone de una persona en el equipo que acredite competencia certificada en euskera. | G32: 0
B33: C1 | C33: B2
B34: 5 | C34: 3
B35: máximo 5 puntos
A37: 2.2.3. Formación complementaria | B37: Formación > 100 h | F37: Acredita formación complementaria en periodismo, comunicación, publicidad, fotografía, edición de vídeos, etc, mínimo 100 h formativas en más de una persona. | G37: 10
B38: En 1 persona | C38: En + de 1 persona
B39: 5 | C39: 10
B40: máximo 10 puntos
A42: 2.2.4. Experiencia en formación impartida | B42: Al menos un curso > 6 h impartido | F42: Acredita experiencia en impartición de cursos/jornadas de formación, mínimo 6h formativas/curso en materia de comunicación en más de una persona. | G42: 15
B43: En 1 persona | C43: En + de 1 persona
B44: 5 | C44: 15
B45: máximo 15 puntos
F47: Puntuación total | G47: =SUM(G6:G45) -> 75

Sheet LA VACA P.
A1: Lote | B1: 1
A2: Entidad | B2: LA VACA PÚRPURA
A3: Criterio | B3: 2.2 | C3: Plusvalor respecto del equipo
F5: Valoración | G5: Puntuación
A7: 2.1 Puesta a disposición de un/a técnico/a adicional en comunicación | B7: Máximo 5 puntos | F7: Presenta persona con titulación universitaria y, al menos 3 años de experiencia profesional; según requisitos criterio 2.1. | G7: 5
A9: 2.2.1(a) Experiencia en servicios de comunicación estratégica para entidades/corporaciones de más de 100 trabajadores | B9: Casos de éxito | F9: Acredita experiencia en más de 3 trabajos de comunicación estratégica para entidades/corporaciones de más de 100 trabajadores por parte del equipo de trabajo. | G9: 15
B10: 1 | C10: 2 a 3 | D10: >3
B11: 3 | C11: 7 | D11: 15
B12: máximo 15 puntos
A14: 2.2.1 (b) Adicionalmente, la experiencia anterior es con entidades públicas | B14: Casos de éxito | F14: Más de tres trabajos de los acreditados en el apartado anterior son con entidades públicas | G14: 6
B15: 1 | C15: 2 a 3 | D15: >3
B16: 2 | C16: 3 | D16: 6
B17: máximo 6 puntos
A19: 2.2.1 (a) Experiencia en gestión de eventos para entidades/corporaciones de más de 100 trabajadores | B19: Casos de éxito | F19: Acredita experiencia en más de 3 trabajos de gestión de eventos para entidades/corporaciones de más de 100 trabajadores | G19: 15
B20: 1 | C20: 2 a 3 | D20: >3
B21: 3 | C21: 7 | D21: 15
B22: máximo 15 puntos
A24: 2.2.1 (b) Adicionalmente, la experiencia anterior es con entidades públicas | B24: Casos de éxito | F24: Más de 3 trabajos de los acreditados en el apartado anterior son con entidades públicas. | G24: 6
B25: 1 | C25: 2 a 3 | D25: >3
B26: 2 | C26: 3 | D26: 6
B27: máximo 6 puntos
A29: 2.2.2. Idiomas | B29: Inglés | F29: Dispone de una persona en el equipo que acredita nivel superior en inglés, C1 o equivalente. | G29: 3
B30: C1 | C30: B2
B31: 3 | C31: 2
B32: máximo 3 puntos
B33: Euskera | F33: No se dispone de una persona en el equipo que acredite competencia certificada en euskera. | G33: 0
B34: C1 | C34: B2
B35: 5 | C35: 3
B36: máximo 5 puntos
A38: 2.2.3. Formación complementaria | B38: Formación > 100 h | F38: Acredita formación complementaria en periodismo, comunicación, publicidad, fotografía, edición de vídeos, etc, mínimo 100 h formativas en más de una persona. | G38: 10
B39: En 1 persona | C39: En + de 1 persona
B40: 5 | C40: 10
B41: máximo 10 puntos
A43: 2.2.4. Experiencia en formación impartida | B43: Al menos un curso > 6 h impartido | F43: Acredita experiencia en impartición de cursos/jornadas de formación, mínimo 6h formativas/curso en materia de comunicación en más de una persona. | G43: 15
B44: En 1 persona | C44: En + de 1 persona
B45: 5 | C45: 15
B46: máximo 15 puntos
F48: Puntuación total | G48: =SUM(G7:G44) -> 75

Sheet NACAP
A1: Lote | B1: 1
A2: Entidad | B2: NACAP
A3: Criterio | B3: 2.2 | C3: Plusvalor respecto del equipo
F5: Valoración | G5: Puntuación
A7: 2.1 Puesta a disposición de un/a técnico/a adicional en comunicación | B7: Máximo 5 puntos | F7: Presenta persona con titulación universitaria y, al menos 3 años de experiencia profesional; según requisitos criterio 2.1. | G7: 5
A9: 2.2.1(a) Experiencia en servicios de comunicación estratégica para entidades/corporaciones de más de 100 trabajadores | B9: Casos de éxito | F9: Acredita experiencia en más de 3 trabajos de comunicación estratégica para entidades/corporaciones de más de 100 trabajadores por parte del equipo de trabajo. | G9: 15
B10: 1 | C10: 2 a 3 | D10: >3
B11: 3 | C11: 7 | D11: 15
B12: máximo 15 puntos
A14: 2.2.1 (b) Adicionalmente, la experiencia anterior es con entidades públicas | B14: Casos de éxito | F14: Más de tres trabajos de los acreditados en el apartado anterior son con entidades públicas | G14: 6
B15: 1 | C15: 2 a 3 | D15: >3
B16: 2 | C16: 3 | D16: 6
B17: máximo 6 puntos
A19: 2.2.1 (a) Experiencia en gestión de eventos para entidades/corporaciones de más de 100 trabajadores | B19: Casos de éxito | F19: Acredita experiencia en más de 3 trabajos de gestión de eventos para entidades/corporaciones de más de 100 trabajadores | G19: 15
B20: 1 | C20: 2 a 3 | D20: >3
B21: 3 | C21: 7 | D21: 15
B22: máximo 15 puntos
A24: 2.2.1 (b) Adicionalmente, la experiencia anterior es con entidades públicas | B24: Casos de éxito | F24: Más de 3 trabajos de los acreditados en el apartado anterior son con entidades públicas. | G24: 6
B25: 1 | C25: 2 a 3 | D25: >3
B26: 2 | C26: 3 | D26: 6
B27: máximo 6 puntos
A29: 2.2.2. Idiomas | B29: Inglés | F29: Dispone de una persona en el equipo que acredita nivel superior en inglés, C1 o equivalente. | G29: 3
B30: C1 | C30: B2
B31: 3 | C31: 2
B32: máximo 3 puntos
B33: Euskera | F33: No se dispone de una persona en el equipo que acredite competencia certificada en euskera. | G33: 0
B34: C1 | C34: B2
B35: 5 | C35: 3
B36: máximo 5 puntos
A38: 2.2.3. Formación complementaria | B38: Formación > 100 h | F38: Acredita formación complementaria en periodismo, comunicación, publicidad, fotografía, edición de vídeos, etc, mínimo 100 h formativas en más de una persona. | G38: 10
B39: En 1 persona | C39: En + de 1 persona
B40: 5 | C40: 10
B41: máximo 10 puntos
A43: 2.2.4. Experiencia en formación impartida | B43: Al menos un curso > 6 h impartido | F43: Acredita experiencia en impartición de cursos/jornadas de formación, mínimo 6h formativas/curso en materia de comunicación en más de una persona. | G43: 15
B44: En 1 persona | C44: En + de 1 persona
B45: 5 | C45: 15
B46: máximo 15 puntos
F48: Puntuación total | G48: =SUM(G7:G44) -> 75

Sheet PROYECTA
A1: Lote | B1: 1
A2: Entidad | B2: PROYECTA
A3: Criterio | B3: 2.2 | C3: Plusvalor respecto del equipo
F5: Valoración | G5: Puntuación | H5: Valoración tras aclaración/subsanación | I5: Puntuación
A7: 2.1 Puesta a disposición de un/a técnico/a adicional en comunicación | B7: Máximo 5 puntos | F7: Presenta persona con titulación universitaria y, al menos 3 años de experiencia profesional; según requisitos criterio 2.1. La entidad propone como director a una persona de que declara reunir con los requisitos de titulación y experiencia. Sin embargo, no se aporta fotocopia de la titulación, de acuerdo a lo exigido en la estipulación 18 de las Condiciones Reguladoras. No queda suficientemente clara en la documentación aportada la acreditación en los términos declarados en el anexo IV por lo que, teniendo en cuenta lo previsto en el último párrafo del artículo 97 de la Ley Foral 2/2018, de 13 de abril, de Contratos Públicos, se requiere aclaración, al considerarse que la oferta presentada adolece de oscuridad o inconcreción. Deberá presentar fotocopia de la titulación universitaria en periodismo, comunicación, marketing, publicidad, diseño o similares de la persona propuesta como director. | G7: 5 | H7: Presenta persona con titulación universitaria y, al menos 3 años de experiencia profesional; según requisitos criterio 2.1. | I7: 5
A9: 2.2.1(a) Experiencia en servicios de comunicación estratégica para entidades/corporaciones de más de 100 trabajadores | B9: Casos de éxito | F9: Acredita experiencia en más de 3 trabajos de comunicación estratégica para entidades/corporaciones de más de 100 trabajadores por parte del equipo de trabajo. | G9: 15 | H9: Acredita experiencia en más de 3 trabajos de comunicación estratégica para entidades/corporaciones de más de 100 trabajadores por parte del equipo de trabajo. | I9: 15
B10: 1 | C10: 2 a 3 | D10: >3
B11: 3 | C11: 7 | D11: 15
B12: máximo 15 puntos
A14: 2.2.1 (b) Adicionalmente, la experiencia anterior es con entidades públicas | B14: Casos de éxito | F14: Más de tres de los trabajos de los acreditados en el apartado anterior son con entidades públicas | G14: 6 | H14: Más de tres de los trabajos de los acreditados en el apartado anterior son con entidades públicas | I14: 6
B15: 1 | C15: 2 a 3 | D15: >3
B16: 2 | C16: 3 | D16: 6
B17: máximo 6 puntos
A19: 2.2.1 (a) Experiencia en gestión de eventos para entidades/corporaciones de más de 100 trabajadores | B19: Casos de éxito | F19: Acredita experiencia en más de 3 trabajos de gestión de eventos para entidades/corporaciones de más de 100 trabajadores | G19: 15 | H19: Acredita experiencia en más de 3 trabajos de gestión de eventos para entidades/corporaciones de más de 100 trabajadores | I19: 15
B20: 1 | C20: 2 a 3 | D20: >3
B21: 3 | C21: 7 | D21: 15
B22: máximo 15 puntos
A24: 2.2.1 (b) Adicionalmente, la experiencia anterior es con entidades públicas | B24: Casos de éxito | F24: Más de 3 trabajos de los acreditados en el apartado anterior son con entidades públicas. | G24: 6 | H24: Más de 3 trabajos de los acreditados en el apartado anterior son con entidades públicas. | I24: 6
B25: 1 | C25: 2 a 3 | D25: >3
B26: 2 | C26: 3 | D26: 6
B27: máximo 6 puntos
A29: 2.2.2. Idiomas | B29: Inglés | F29: No se dispone de una persona en el equipo que acredite competencia certificada en inglés. | G29: 0 | H29: No se dispone de una persona en el equipo que acredite competencia certificada en inglés. | I29: 0
B30: C1 | C30: B2
B31: 3 | C31: 2
B32: máximo 3 puntos
B33: Euskera | F33: No se dispone de una persona en el equipo que acredite competencia certificada en euskera. | G33: 0 | H33: No se dispone de una persona en el equipo que acredite competencia certificada en euskera. | I33: 0
B34: C1 | C34: B2
B35: 5 | C35: 3
B36: máximo 5 puntos
A38: 2.2.3. Formación complementaria | B38: Formación > 100 h | F38: Acredita formación complementaria en periodismo, comunicación, publicidad, fotografía, edición de vídeos, etc, mínimo 100 h formativas en una persona. Respecto a la persona propuesta como técnico adicional de comuniciaión perfil gestión de eventos, se comprueba que la titulación aportada no reune los requisitos mínimos exigidos. | G38: 5 | H38: Acredita formación complementaria en periodismo, comunicación, publicidad, fotografía, edición de vídeos, etc, mínimo 100 h formativas en una persona. Respecto a la persona propuesta como técnico adicional de comuniciaión perfil gestión de eventos, se comprueba que la titulación aportada no reune los requisitos mínimos exigidos. | I38: 5
B39: En 1 persona | C39: En + de 1 persona
B40: 5 | C40: 10
B41: máximo 10 puntos
A43: 2.2.4. Experiencia en formación impartida | B43: Al menos un curso > 6 h impartido | F43: Acredita experiencia en impartición de cursos/jornadas de formación, mínimo 6h formativas/curso en materia de comunicación más de una persona del equipo. | G43: 15 | H43: Acredita experiencia en impartición de cursos/jornadas de formación, mínimo 6h formativas/curso en materia de comunicación más de una persona del equipo. | I43: 15
B44: En 1 persona | C44: En + de 1 persona
B45: 5 | C45: 15
B46: máximo 15 puntos
F48: Puntuación total | G48: =SUM(G7:G46) -> 67 | I48: =SUM(I7:I46) -> 67
