Workbook

Sheet LOTE 3
B2: Resumen Criterio 2. Cualificación y experiencia del equipo
B4: LOTE 3 | C4: 2.2.1.a | D4: 2.2.1.b | E4: 2.2.2. (in) | F4: 2.2.2. (eus) | G4: 2.2.3 | H4: 2.2.4 | I4: Puntos
B5: ARTWORKS | C5: 20 | D5: 0 | E5: 0 | F5: 0 | G5: 5 | H5: 5 | I5: =ARTWORKS!I36 -> 30
B6: BRANDOK | C6: 30 | D6: 8 | E6: 5 | F6: 0 | G6: 5 | H6: 15 | I6: =BRANDOK!I36 -> 63
B7: GARLIC | C7: 30 | D7: 0 | E7: 5 | F7: 5 | G7: 15 | H7: 0 | I7: =GARLIC!G36 -> 55
B8: JAVIER ERREA | C8: 30 | D8: 2 | E8: 5 | F8: 0 | G8: 15 | H8: 15 | I8: ='JAVIER ERREA'!I36 -> 67
B9: JOSE MANUEL PINTO | C9: 10 | D9: 2 | E9: 0 | F9: 0 | G9: 0 | H9: 0 | I9: ='JOSE MANUEL'!I36 -> 12
B10: LA VACA PURPURA | C10: 30 | D10: 8 | E10: 5 | F10: 0 | G10: 15 | H10: 15 | I10: =SUM(C10:H10) -> 73
B11: NACAP | C11: 30 | D11: 8 | E11: 5 | F11: 0 | G11: 15 | H11: 15 | I11: =SUM(C11:H11) -> 73
B12: ORBETEC | C12: 0 | D12: 0 | E12: 0 | F12: 0 | G12: 15 | H12: 0 | I12: =ORBETEC!I35 -> 15
B13: PROYECTA | C13: 30 | D13: 8 | E13: 0 | F13: 0 | G13: 5 | H13: 15 | I13: =SUM(C13:H13) -> 58
B14: RAUL NARROS | C14: 30 | D14: 2 | E14: 3 | F14: 0 | G14: 5 | H14: 0 | I14: ='RAUL NARROS'!I36 -> 40
B15: REBECA ARRARÁS | C15: 10 | D15: 8 | E15: 3 | F15: 7 | G15: 15 | H15: 15 | I15: =SUM(C15:H15) -> 58
B16: RYPPLES | C16: 30 | D16: 2 | E16: 3 | F16: 0 | G16: 15 | H16: 5 | I16: =RYPPLES!I36 -> 55

Sheet ARTWORKS
A1: Lote | B1: 3
A2: Entidad | B2: ARTWORKS
A3: Criterio | B3: 2.2
F4: Valoración | G4: Puntuación | H4: Valoración tras aclaración/subsanación | I4: Puntuación
A5: 2.2.1 (a) Experiencia en servicios de community manager para entidades/corporaciones de más de 100 trabajadores | B5: Casos de éxito
B6: 1 | C6: 2 a 3 | D6: >3 | F6: No se acredita experiencia en trabajos de community manager para entidades/ corporaciónes de más de 100 trabajadores por parte del equipo de trabajo. | G6: 0 | H6: Se acredita experiencia en 3 trabajos de community manager para entidades/ corporaciónes de más de 100 trabajadores por parte del equipo de trabajo. | I6: 20
B7: 10 puntos | C7: 20 puntos | D7: 30 puntos
B8: máximo 30 puntos
A10: 2.2.1 (b) Adicionalmente, la experiencia anterior es con entidades públicas | B10: Casos de éxito
B11: 1 | C11: 2 a 3 | D11: >3 | F11: Al no acreditar el apartado anterior, no se puede aplicar este criterio. | G11: 0 | H11: Ninguno de los trabajos acreditados en el apartado anterior es con entidades públicas. | I11: 0
B12: 2 puntos | C12: 5 puntos | D12: 8 puntos
B13: máximo 8 puntos
A16: 2.2.2. Idiomas | B16: Inglés | F16: No se dispone de una persona en el equipo que acredite competencia certificada en inglés | G16: 0 | H16: No se dispone de una persona en el equipo que acredite competencia certificada en inglés | I16: 0
B17: C1 | C17: B2
B18: 5 puntos | C18: 3 puntos
B19: máximo 5 puntos
B20: Euskera | F20: No se dispone de una persona en el equipo que acredite competencia certificada en euskera | G20: 0 | H20: No se dispone de una persona en el equipo que acredite competencia certificada en euskera | I20: 0
B21: C1 | C21: B2
B22: 7 puntos | C22: 5 puntos
B23: máximo 7 puntos
A25: 2.2.3. Formación complementaria | B25: formación > 100 h | F25: En el anexo IV presentado se declara que una persona del equipo dispone de formación complementaria a la exigida en el apartado de solvencia, bien sea master, posgrado, curso o similar en periodismo, comunicación, publicidad, fotografía, edición de vídeos, etc, mínimo 100 h formativas. Sin embargo, el certificado acreditativo aportado es un programa de desarrollo directivo, sin llegar a identificar un contenido relacionado con la comunicación. No queda suficientemente clara en la documentación aportada la acreditación en los términos declarados en el anexo IV por lo que, teniendo en cuenta lo previsto en el último párrafo del artículo 97 de la Ley Foral 2/2018, de 13 de abril, de Contratos Públicos, se requiere aclaración, al considerarse que la oferta presentada adolece de oscuridad o inconcreción. Deberá presentar documentación complementaria que permita comprobar que el contenido del programa de desarollo directivo presentado, está relacionado con la comunicación. | G25: s/c | H25: Acredita formación complementaria en periodismo, comunicación, publicidad, fotografía, edición de vídeos, etc, mínimo 100 h formativas en una persona. | I25: 5
B26: En una persona del equipo | C26: En más de una persona del equipo
B27: 5 puntos | C27: 15 puntos
B28: máximo 15 puntos
A30: 2.2.4. Experiencia en formación impartida | B30: al menos un curso > 6 h impartido | F30: Se acredita experiencia en impartición de cursos/jornadas de formación, mínimo 6h formativas/curso en materia de comunicación en una persona del equipo de trabajo. | G30: 5 | H30: Se acredita experiencia en impartición de cursos/jornadas de formación, mínimo 6h formativas/curso en materia de comunicación en una persona del equipo de trabajo. | I30: 5
B31: una persona del equipo | C31: más de una persona
B32: 5 puntos | C32: 15 puntos
B33: máximo 15 puntos
F36: Puntuación total | G36: =SUM(G6:G33) -> 5 | H36: Puntuación total | I36: =SUM(I6:I34) -> 30

Sheet RAUL NARROS
A1: Lote | B1: 3
A2: Entidad | B2: RAÚL NARROS
A3: Criterio | B3: 2.2
F4: Valoración | G4: Puntuación | H4: Valoración tras aclaración/subsanación | I4: Puntuación
A5: 2.2.1 (a) Experiencia en servicios de community manager para entidades/corporaciones de más de 100 trabajadores | B5: Casos de éxito
B6: 1 | C6: 2 a 3 | D6: >3 | F6: En el anexo IV presentado se identifican trabajos de community manager para entidades/corporaciones de más de 100 trabajadores. Sin embargo, no se aporta documentación justificativa de los servicios prestados, de acuerdo a lo exigido en la estipulación 18 de las Condiciones Reguladoras. No queda suficientemente clara en la documentación aportada la acreditación en los términos declarados en el anexo IV por lo que, teniendo en cuenta lo previsto en el último párrafo del artículo 97 de la Ley Foral 2/2018, de 13 de abril, de Contratos Públicos, se requiere aclaración, al considerarse que la oferta presentada adolece de oscuridad o inconcreción. Deberá presentar documentación justificativa de los servicios de community manager identificados en el anexo IV | G6: s/c | H6: Se acredita experiencia en más de tres servicios de community manager para entidades/corporaciones de más de 100 trabajadores por parte de los miembros del equipo de trabajo. | I6: 30
B7: 10 puntos | C7: 20 puntos | D7: 30 puntos
B8: máximo 30 puntos
A10: 2.2.1 (b) Adicionalmente, la experiencia anterior es con entidades públicas | B10: Casos de éxito
B11: 1 | C11: 2 a 3 | D11: >3 | G11: s/c | H11: Uno de los trabajos acreditados en el apartado anterior es con entidades públicas. | I11: 2
B12: 2 puntos | C12: 5 puntos | D12: 8 puntos
B13: máximo 8 puntos
A16: 2.2.2. Idiomas | B16: Inglés | F16: Se dispone de al menos una persona en el equipo que acredita nivel avanzado en inglés, mínimo B2 o equivalente | G16: 3 | H16: Se dispone de al menos una persona en el equipo que acredita nivel avanzado en inglés, mínimo B2 o equivalente | I16: 3
B17: C1 | C17: B2
B18: 5 puntos | C18: 3 puntos
B19: máximo 5 puntos
B20: Euskera | F20: No se dispone de una persona en el equipo que acredite competencia certificada en euskera | G20: 0 | H20: No se dispone de una persona en el equipo que acredite competencia certificada en euskera | I20: 0
B21: C1 | C21: B2
B22: 7 puntos | C22: 5 puntos
B23: máximo 7 puntos
A25: 2.2.3. Formación complementaria | B25: formación > 100 h | F25: Acredita formación complementaria en periodismo, comunicación, publicidad, fotografía, edición de vídeos, etc, mínimo 100 h formativas en una persona. | G25: 5 | H25: Acredita formación complementaria en periodismo, comunicación, publicidad, fotografía, edición de vídeos, etc, mínimo 100 h formativas en una persona. | I25: 5
B26: En una persona del equipo | C26: En más de una persona del equipo
B27: 5 puntos | C27: 15 puntos
B28: máximo 15 puntos
A30: 2.2.4. Experiencia en formación impartida | B30: al menos un curso > 6 h impartido | F30: No se acredita experiencia en impartición de cursos/jornadas de formación, mínimo 6h formativas/curso en materia de comunicación en ninguna persona del equipo de trabajo. | G30: 0 | H30: No se acredita experiencia en impartición de cursos/jornadas de formación, mínimo 6h formativas/curso en materia de comunicación en ninguna persona del equipo de trabajo. | I30: 0
B31: una persona del equipo | C31: más de una persona
B32: 5 puntos | C32: 15 puntos
B33: máximo 15 puntos
F36: Puntuación total | G36: =SUM(G6:G33) -> 8 | H36: Puntuación total | I36: =SUM(I6:I34) -> 40

Sheet BRANDOK
A1: Lote | B1: 3
A2: Entidad | B2: BRANDOK
A3: Criterio | B3: 2.2
F4: Valoración | G4: Puntuación | H4: Valoración tras aclaración/subsanación | I4: Puntuación
A5: 2.2.1 (a) Experiencia en servicios de community manager para entidades/corporaciones de más de 100 trabajadores | B5: Casos de éxito
B6: 1 | C6: 2 a 3 | D6: >3 | F6: La entidad propone como técnico de comunicación a una persona de que declara reunir con los requisitos de titulación y experiencia. Sin embargo, no se aporta fotocopia de la titulación, de acuerdo a lo exigido en la estipulación 18 de las Condiciones Reguladoras. Asimismo, respecto a la experiencia en trabajos de community manager en entidades/corporaciones de más de 100 trabajadores, en el anexo IV aportado se identifican una serie de trabajos respecto a los cuales no queda suficientemente claro el caracter de community manager. No queda suficientemente clara en la documentación aportada la acreditación en los términos declarados en el anexo IV por lo que, teniendo en cuenta lo previsto en el último párrafo del artículo 97 de la Ley Foral 2/2018, de 13 de abril, de Contratos Públicos, se requiere aclaración, al considerarse que la oferta presentada adolece de oscuridad o inconcreción. Deberá presentarse fotocopia de la titulación universitaria en periodismo, comunicación, publicidad, marketing, diseño o similares de la persona propuesta como técnico de comunicación, así como declaración responsable en la que se indique cuales de los trbajos identificados en el anexo IV son como community manager. | G6: s/c | H6: Se acredita experiencia en más de tres servicios de community manager para entidades/corporaciones de más de 100 trabajadores por parte de los miembros del equipo de trabajo. | I6: 30
B7: 10 puntos | C7: 20 puntos | D7: 30 puntos
B8: máximo 30 puntos
A10: 2.2.1 (b) Adicionalmente, la experiencia anterior es con entidades públicas | B10: Casos de éxito
B11: 1 | C11: 2 a 3 | D11: >3 | G11: s/c | H11: Adicionalmente, más de 3 trabajos de los acreditados en el apartado anterior son con entidades públicas | I11: 8
B12: 2 puntos | C12: 5 puntos | D12: 8 puntos
B13: máximo 8 puntos
A16: 2.2.2. Idiomas | B16: Inglés | F16: Se dispone de al menos una persona en el equipo que acredita nivel superior en inglés, mínimo C1 o equivalente | G16: 5 | H16: Se dispone de al menos una persona en el equipo que acredita nivel superior en inglés, mínimo C1 o equivalente | I16: 5
B17: C1 | C17: B2
B18: 5 puntos | C18: 3 puntos
B19: máximo 5 puntos
B20: Euskera | F20: No se dispone de una persona en el equipo que acredite competencia certificada en euskera | G20: 0 | H20: No se dispone de una persona en el equipo que acredite competencia certificada en euskera | I20: 0
B21: C1 | C21: B2
B22: 7 puntos | C22: 5 puntos
B23: máximo 7 puntos
A25: 2.2.3. Formación complementaria | B25: formación > 100 h | F25: Acredita formación complementaria en periodismo, comunicación, publicidad, fotografía, edición de vídeos, etc, mínimo 100 h formativas en una persona. | G25: 5 | H25: Acredita formación complementaria en periodismo, comunicación, publicidad, fotografía, edición de vídeos, etc, mínimo 100 h formativas en una persona. | I25: 5
B26: En una persona del equipo | C26: En más de una persona del equipo
B27: 5 puntos | C27: 15 puntos
B28: máximo 15 puntos
A30: 2.2.4. Experiencia en formación impartida | B30: al menos un curso > 6 h impartido | F30: Se acredita experiencia en impartición de cursos/jornadas de formación, mínimo 6h formativas/curso en materia de comunicación en más de una persona del equipo de trabajo. | G30: 15 | H30: Se acredita experiencia en impartición de cursos/jornadas de formación, mínimo 6h formativas/curso en materia de comunicación en más de una persona del equipo de trabajo. | I30: 15
B31: una persona del equipo | C31: más de una persona
B32: 5 puntos | C32: 15 puntos
B33: máximo 15 puntos
F36: Puntuación total | G36: =SUM(G6:G33) -> 25 | H36: Puntuación total | I36: =SUM(I6:I34) -> 63

Sheet JOSE MANUEL
A1: Lote | B1: 3
A2: Entidad | B2: JOSÉ MANUEL PINTO
A3: Criterio | B3: 2.2
F4: Valoración | G4: Puntuación | H4: Valoración tras aclaración/subsanación | I4: Puntuación
A5: 2.2.1 (a) Experiencia en servicios de community manager para entidades/corporaciones de más de 100 trabajadores | B5: Casos de éxito
B6: 1 | C6: 2 a 3 | D6: >3 | F6: La propuesta incluye documentación referente a varias personas,sin embargo, presenta sin cumplimentar la declaración responsable con el equipo de trabajo según anexo IV, de acuerdo a lo exigido en la estipulación 18 de las Condiciones Reguladoras. No se puede comprobar que la documentación aportada responde a los términos declarados, por lo que, teniendo en cuenta lo previsto en el último párrafo del artículo 97 de la Ley Foral 2/2018, de 13 de abril, de Contratos Públicos, se requiere aclaración, al considerarse que la oferta presentada adolece de oscuridad o inconcreción. Deberá presentarse declaración responsable del equipo de formación conforme al modelo de anexo IV donde figuren los términos que pretende acreditar la documentación ya presentada, advirtiendo que, no puede incluirse documentación adicional a la que obran en la documentación presentada en la oferta. | G6: s/c | H6: Se acredita experiencia en un servicio de community manager para entidades/corporaciones de más de 100 trabajadores por parte de los miembros del equipo de trabajo. | I6: 10
B7: 10 puntos | C7: 20 puntos | D7: 30 puntos
B8: máximo 30 puntos
A10: 2.2.1 (b) Adicionalmente, la experiencia anterior es con entidades públicas | B10: Casos de éxito
B11: 1 | C11: 2 a 3 | D11: >3 | G11: s/c | H11: Adicionalmente, el trabajo acreditado en el apartado anterior es con entidades públicas. | I11: 2
B12: 2 puntos | C12: 5 puntos | D12: 8 puntos
B13: máximo 8 puntos
A16: 2.2.2. Idiomas | B16: Inglés | G16: s/c | H16: No se dispone de una persona en el equipo que acredite competencia certificada en inglés | I16: 0
B17: C1 | C17: B2
B18: 5 puntos | C18: 3 puntos
B19: máximo 5 puntos
B20: Euskera | G20: s/c | H20: No se dispone de una persona en el equipo que acredite competencia certificada en euskera | I20: 0
B21: C1 | C21: B2
B22: 7 puntos | C22: 5 puntos
B23: máximo 7 puntos
A25: 2.2.3. Formación complementaria | B25: formación > 100 h | G25: s/c | H25: No se aredita formación complementaria en periodismo, comunicación, publicidad, fotografía, edición de vídeos, etc, mínimo 100 h formativas en ninguna persona del equipo de trabajo. | I25: 0
B26: En una persona del equipo | C26: En más de una persona del equipo
B27: 5 puntos | C27: 15 puntos
B28: máximo 15 puntos
A30: 2.2.4. Experiencia en formación impartida | B30: al menos un curso > 6 h impartido | G30: s/c | H30: No se acredita experiencia en impartición de cursos/jornadas de formación, mínimo 6h formativas/curso en materia de comunicación en ninguna persona del equipo de trabajo. | I30: 0
B31: una persona del equipo | C31: más de una persona
B32: 5 puntos | C32: 15 puntos
B33: máximo 15 puntos
F36: Puntuación total | G36: =SUM(G6:G33) -> 0 | H36: Puntuación total | I36: =SUM(I6:I34) -> 12

Sheet PROYECTA
A1: Lote | B1: 3
A2: Entidad | B2: PROYECTA
A3: Criterio | B3: 2.2
F4: Valoración | G4: Puntuación
A5: 2.2.1 (a) Experiencia en servicios de community manager para entidades/corporaciones de más de 100 trabajadores | B5: Casos de éxito
B6: 1 | C6: 2 a 3 | D6: >3 | F6: Se acredita experiencia en más de tres servicios de community manager para entidades/corporaciones de más de 100 trabajadores por parte de los miembros del equipo de trabajo. | G6: 30
B7: 10 puntos | C7: 20 puntos | D7: 30 puntos
B8: máximo 30 puntos
A10: 2.2.1 (b) Adicionalmente, la experiencia anterior es con entidades públicas | B10: Casos de éxito
B11: 1 | C11: 2 a 3 | D11: >3 | F11: Adicionalmente, más de 3 trabajos de los acreditados en el apartado anterior son con entidades públicas | G11: 8
B12: 2 puntos | C12: 5 puntos | D12: 8 puntos
B13: máximo 8 puntos
A16: 2.2.2. Idiomas | B16: Inglés | F16: No se dispone de una persona en el equipo que acredite competencia certificada en inglés | G16: 0
B17: C1 | C17: B2
B18: 5 puntos | C18: 3 puntos
B19: máximo 5 puntos
B20: Euskera | F20: No se dispone de una persona en el equipo que acredite competencia certificada en euskera | G20: 0
B21: C1 | C21: B2
B22: 7 puntos | C22: 5 puntos
B23: máximo 7 puntos
A25: 2.2.3. Formación complementaria | B25: formación > 100 h | F25: Acredita formación complementaria en periodismo, comunicación, publicidad, fotografía, edición de vídeos, etc, mínimo 100 h formativas en una persona. | G25: 5
B26: En una persona del equipo | C26: En más de una persona del equipo
B27: 5 puntos | C27: 15 puntos
B28: máximo 15 puntos
A30: 2.2.4. Experiencia en formación impartida | B30: al menos un curso > 6 h impartido | F30: Se acredita experiencia en impartición de cursos/jornadas de formación, mínimo 6h formativas/curso en materia de comunicación en más de una persona del equipo de trabajo. | G30: 15
B31: una persona del equipo | C31: más de una persona
B32: 5 puntos | C32: 15 puntos
B33: máximo 15 puntos
F36: Puntuación total | G36: =SUM(G6:G34) -> 58

Sheet JAVIER ERREA
A1: Lote | B1: 3
A2: Entidad | B2: JAVIER ERREA
A3: Criterio | B3: 2.2
F4: Valoración | G4: Puntuación | H4: Valoración tras aclaración/subsanación | I4: Puntuación
A5: 2.2.1 (a) Experiencia en servicios de community manager para entidades/corporaciones de más de 100 trabajadores | B5: Casos de éxito
B6: 1 | C6: 2 a 3 | D6: >3 | F6: En el anexo IV presentado se identifican trabajos de community manager para entidades/corporaciones de más de 100 trabajadores. Sin embargo, no se aporta documentación justificativa de los servicios prestados, de acuerdo a lo exigido en la estipulación 18 de las Condiciones Reguladoras. No queda suficientemente clara en la documentación aportada la acreditación en los términos declarados en el anexo IV por lo que, teniendo en cuenta lo previsto en el último párrafo del artículo 97 de la Ley Foral 2/2018, de 13 de abril, de Contratos Públicos, se requiere aclaración, al considerarse que la oferta presentada adolece de oscuridad o inconcreción. Deberá presentar documentación justificativa de los servicios de community manager identificados en el anexo IV | G6: s/c | H6: Se acredita experiencia en más de tres servicios de community manager para entidades/corporaciones de más de 100 trabajadores por parte de los miembros del equipo de trabajo. | I6: 30
B7: 10 puntos | C7: 20 puntos | D7: 30 puntos
B8: máximo 30 puntos
A10: 2.2.1 (b) Adicionalmente, la experiencia anterior es con entidades públicas | B10: Casos de éxito
B11: 1 | C11: 2 a 3 | D11: >3 | G11: s/c | H11: Uno de los trabajos acreditados en el apartado anterior es con entidades públicas. | I11: 2
B12: 2 puntos | C12: 5 puntos | D12: 8 puntos
B13: máximo 8 puntos
A16: 2.2.2. Idiomas | B16: Inglés | F16: Se dispone de al menos una persona en el equipo que acredita nivel superior en inglés, mínimo C1 o equivalente | G16: 5 | H16: Se dispone de al menos una persona en el equipo que acredita nivel superior en inglés, mínimo C1 o equivalente. | I16: 5
B17: C1 | C17: B2
B18: 5 puntos | C18: 3 puntos
B19: máximo 5 puntos
B20: Euskera | F20: No se dispone de una persona en el equipo que acredite competencia certificada en euskera | G20: 0 | H20: No se dispone de una persona en el equipo que acredite competencia certificada en euskera | I20: 0
B21: C1 | C21: B2
B22: 7 puntos | C22: 5 puntos
B23: máximo 7 puntos
A25: 2.2.3. Formación complementaria | B25: formación > 100 h | F25: Acredita formación complementaria en periodismo, comunicación, publicidad, fotografía, edición de vídeos, etc, mínimo 100 h formativas en más de una persona. | G25: 15 | H25: Acredita formación complementaria en periodismo, comunicación, publicidad, fotografía, edición de vídeos, etc, mínimo 100 h formativas en más de una persona. | I25: 15
B26: En una persona del equipo | C26: En más de una persona del equipo
B27: 5 puntos | C27: 15 puntos
B28: máximo 15 puntos
A30: 2.2.4. Experiencia en formación impartida | B30: al menos un curso > 6 h impartido | F30: Se acredita experiencia en impartición de cursos/jornadas de formación, mínimo 6h formativas/curso en materia de comunicación en más de una persona del equipo de trabajo. | G30: 15 | H30: Se acredita experiencia en impartición de cursos/jornadas de formación, mínimo 6h formativas/curso en materia de comunicación en más de una persona del equipo de trabajo. | I30: 15
B31: una persona del equipo | C31: más de una persona
B32: 5 puntos | C32: 15 puntos
B33: máximo 15 puntos
F36: Puntuación total | G36: =SUM(G6:G33) -> 35 | H36: Puntuación total | I36: =SUM(I6:I34) -> 67

Sheet GARLIC
A1: Lote | B1: 3
A2: Entidad | B2: GARLIC
A3: Criterio | B3: 2.2
F4: Valoración | G4: Puntuación
A5: 2.2.1 (a) Experiencia en servicios de community manager para entidades/corporaciones de más de 100 trabajadores | B5: Casos de éxito
B6: 1 | C6: 2 a 3 | D6: >3 | F6: Se acredita experiencia en más de tres servicios de community manager para entidades/corporaciones de más de 100 trabajadores por parte de los miembros del equipo de trabajo. | G6: 30
B7: 10 puntos | C7: 20 puntos | D7: 30 puntos
B8: máximo 30 puntos
A10: 2.2.1 (b) Adicionalmente, la experiencia anterior es con entidades públicas | B10: Casos de éxito
B11: 1 | C11: 2 a 3 | D11: >3 | F11: La experiencia acreditada en el apartado anterior no es con entidades públicas | G11: 0
B12: 2 puntos | C12: 5 puntos | D12: 8 puntos
B13: máximo 8 puntos
A16: 2.2.2. Idiomas | B16: Inglés | F16: Se dispone de al menos una persona en el equipo de trabajo que acredita nivel superior en inglés, mínimo c1 o equivalente | G16: 5
B17: C1 | C17: B2
B18: 5 puntos | C18: 3 puntos
B19: máximo 5 puntos
B20: Euskera | F20: Se dispone de al menos una persona en el equipo de trabajo que acredita nivel avanzado en euskera, mínimo b2 o equivalente | G20: 5
B21: C1 | C21: B2
B22: 7 puntos | C22: 5 puntos
B23: máximo 7 puntos
A25: 2.2.3. Formación complementaria | B25: formación > 100 h | F25: Acredita formación complementaria en periodismo, comunicación, publicidad, fotografía, edición de vídeos, etc, mínimo 100 h formativas en más de una persona. | G25: 15
B26: En una persona del equipo | C26: En más de una persona del equipo
B27: 5 puntos | C27: 15 puntos
B28: máximo 15 puntos
A30: 2.2.4. Experiencia en formación impartida | B30: al menos un curso > 6 h impartido | F30: No se acredita experiencia en impartición de cursos/jornadas de formación, mínimo 6h formativas/curso en materia de comunicación en ninguna persona del equipo de trabajo. | G30: 0
B31: una persona del equipo | C31: más de una persona
B32: 5 puntos | C32: 15 puntos
B33: máximo 15 puntos
F36: Puntuación total | G36: =SUM(G6:G34) -> 55

Sheet NACAP
A1: Lote | B1: 3
A2: Entidad | B2: NACAP
A3: Criterio | B3: 2.2
F4: Valoración | G4: Puntuación
A5: 2.2.1 (a) Experiencia en servicios de community manager para entidades/corporaciones de más de 100 trabajadores | B5: Casos de éxito
B6: 1 | C6: 2 a 3 | D6: >3 | F6: Se acredita experiencia en más de tres servicios de community manager para entidades/corporaciones de más de 100 trabajadores por parte de los miembros del equipo de trabajo. | G6: 30
B7: 10 puntos | C7: 20 puntos | D7: 30 puntos
B8: máximo 30 puntos
A10: 2.2.1 (b) Adicionalmente, la experiencia anterior es con entidades públicas | B10: Casos de éxito
B11: 1 | C11: 2 a 3 | D11: >3 | F11: Adicionalmente, más de 3 trabajos de los acreditados en el apartado anterior son con entidades públicas | G11: 8
B12: 2 puntos | C12: 5 puntos | D12: 8 puntos
B13: máximo 8 puntos
A16: 2.2.2. Idiomas | B16: Inglés | F16: Se dispone de al menos una persona en el equipo de trabajo que acredita nivel superior en inglés, mínimo c1 o equivalente | G16: 5
B17: C1 | C17: B2
B18: 5 puntos | C18: 3 puntos
B19: máximo 5 puntos
B20: Euskera | F20: No se dispone de una persona en el equipo que acredite competencia certificada en euskera | G20: 0
B21: C1 | C21: B2
B22: 7 puntos | C22: 5 puntos
B23: máximo 7 puntos
A25: 2.2.3. Formación complementaria | B25: formación > 100 h | F25: Acredita formación complementaria en periodismo, comunicación, publicidad, fotografía, edición de vídeos, etc, mínimo 100 h formativas en más de una persona. | G25: 15
B26: En una persona | C26: En más de una persona
B27: 5 puntos | C27: 15 puntos
B28: máximo 15 puntos
A30: 2.2.4. Experiencia en formación impartida | B30: al menos un curso > 6 h impartido | F30: Se acredita experiencia en impartición de cursos/jornadas de formación, mínimo 6h formativas/curso en materia de comunicación en más de una persona del equipo de trabajo. | G30: 15
B31: En una persona | C31: En más de una una persona
B32: 5 puntos | C32: 15 puntos
B33: máximo 15 puntos
F35: Puntuación total | G35: =SUM(G6:G33) -> 73

Sheet LA VACA PÚRPURA
A1: Lote | B1: 3
A2: Entidad | B2: LA VACA PÚRPURA
A3: Criterio | B3: 2.2
F4: Valoración | G4: Puntuación
A5: 2.2.1 (a) Experiencia en servicios de community manager para entidades/corporaciones de más de 100 trabajadores | B5: Casos de éxito
B6: 1 | C6: 2 a 3 | D6: >3 | F6: Se acredita experiencia en más de tres servicios de community manager para entidades/corporaciones de más de 100 trabajadores por parte de los miembros del equipo de trabajo. | G6: 30
B7: 10 puntos | C7: 20 puntos | D7: 30 puntos
B8: máximo 30 puntos
A10: 2.2.1 (b) Adicionalmente, la experiencia anterior es con entidades públicas | B10: Casos de éxito
B11: 1 | C11: 2 a 3 | D11: >3 | F11: Adicionalmente, más de 3 trabajos de los acreditados en el apartado anterior son con entidades públicas | G11: 8
B12: 2 puntos | C12: 5 puntos | D12: 8 puntos
B13: máximo 8 puntos
A16: 2.2.2. Idiomas | B16: Inglés | F16: Se dispone de al menos una persona en el equipo de trabajo que acredita nivel superior en inglés, mínimo c1 o equivalente | G16: 5
B17: C1 | C17: B2
B18: 5 puntos | C18: 3 puntos
B19: máximo 5 puntos
B20: Euskera | F20: No se dispone de una persona en el equipo que acredite competencia certificada en euskera | G20: 0
B21: C1 | C21: B2
B22: 7 puntos | C22: 5 puntos
B23: máximo 7 puntos
A25: 2.2.3. Formación complementaria | B25: formación > 100 h | F25: Acredita formación complementaria en periodismo, comunicación, publicidad, fotografía, edición de vídeos, etc, mínimo 100 h formativas en más de una persona. | G25: 15
B26: En una persona del equipo | C26: En más de una persona del equipo
B27: 5 puntos | C27: 15 puntos
B28: máximo 15 puntos
A30: 2.2.4. Experiencia en formación impartida | B30: al menos un curso > 6 h impartido | F30: Se acredita experiencia en impartición de cursos/jornadas de formación, mínimo 6h formativas/curso en materia de comunicación en más de una persona del equipo de trabajo. | G30: 15
B31: una persona del equipo | C31: más de una persona
B32: 5 puntos | C32: 15 puntos
B33: máximo 15 puntos
F36: Puntuación total | G36: =SUM(G6:G34) -> 73

Sheet REBECA
A1: Lote | B1: 3
A2: Entidad | B2: REBECA ARRARÁS
A3: Criterio | B3: 2.2
F4: Valoración | G4: Puntuación
A5: 2.2.1 (a) Experiencia en servicios de community manager para entidades/corporaciones de más de 100 trabajadores | B5: Casos de éxito
B6: 1 | C6: 2 a 3 | D6: >3 | F6: Se acredita experiencia en más de tres servicios de community manager para entidades/corporaciones de más de 100 trabajadores por parte de los miembros del equipo de trabajo. | G6: 30
B7: 10 puntos | C7: 20 puntos | D7: 30 puntos
B8: máximo 30 puntos
A10: 2.2.1 (b) Adicionalmente, la experiencia anterior es con entidades públicas | B10: Casos de éxito
B11: 1 | C11: 2 a 3 | D11: >3 | F11: Adicionalmente, más de 3 trabajos de los acreditados en el apartado anterior son con entidades públicas | G11: 8
B12: 2 puntos | C12: 5 puntos | D12: 8 puntos
B13: máximo 8 puntos
A16: 2.2.2. Idiomas | B16: Inglés | F16: Se dispone de al menos una persona en el equipo de trabajo que acredita nivel avanzado en inglés, mínimo b2 o equivalente | G16: 3
B17: C1 | C17: B2
B18: 5 puntos | C18: 3 puntos
B19: máximo 5 puntos
B20: Euskera | F20: Se dispone de al menos una persona en el equipo de trabajo que acredita nivel superior en euskera, mínimo c1 o equivalente | G20: 7
B21: C1 | C21: B2
B22: 7 puntos | C22: 5 puntos
B23: máximo 7 puntos
A25: 2.2.3. Formación complementaria | B25: formación > 100 h | F25: Acredita formación complementaria en periodismo, comunicación, publicidad, fotografía, edición de vídeos, etc, mínimo 100 h formativas en más de una persona. | G25: 15
B26: En una persona del equipo | C26: En más de una persona del equipo
B27: 5 puntos | C27: 15 puntos
B28: máximo 15 puntos
A30: 2.2.4. Experiencia en formación impartida | B30: al menos un curso > 6 h impartido | F30: Se acredita experiencia en impartición de cursos/jornadas de formación, mínimo 6h formativas/curso en materia de comunicación en más de una persona del equipo de trabajo. | G30: 15
B31: una persona del equipo | C31: más de una persona
B32: 5 puntos | C32: 15 puntos
B33: máximo 15 puntos
F36: Puntuación total | G36: =SUM(G6:G34) -> 78

Sheet RYPPLES
A1: Lote | B1: 3
A2: Entidad | B2: RYPPLES
A3: Criterio | B3: 2.2 | F3: Valoración | G3: Puntuación | H3: Valoración tras aclaración/subsanación | I3: Puntuación
A4: 2.2.1 (a) Experiencia en servicios de community manager para entidades/corporaciones de más de 100 trabajadores | B4: Casos de éxito
B5: 1 | C5: 2 a 3 | D5: >3 | F5: Se acredita experiencia en más de tres servicios de community manager para entidades/corporaciones de más de 100 trabajadores por parte de los miembros del equipo de trabajo. | G5: 30 | H5: Se acredita experiencia en más de tres servicios de community manager para entidades/corporaciones de más de 100 trabajadores por parte de los miembros del equipo de trabajo. | I5: 30
B6: 10 puntos | C6: 20 puntos | D6: 30 puntos
B7: máximo 30 puntos
A9: 2.2.1 (b) Adicionalmente, la experiencia anterior es con entidades públicas | B9: Casos de éxito
B10: 1 | C10: 2 a 3 | D10: >3 | F10: Adicionalmente, un trabajo de los acreditados en el apartado anterior son con entidades públicas | G10: 2 | H10: Adicionalmente, un trabajo de los acreditados en el apartado anterior son con entidades públicas | I10: 2
B11: 2 puntos | C11: 5 puntos | D11: 8 puntos
B12: máximo 8 puntos
A15: 2.2.2. Idiomas | B15: Inglés | F15: En el anexo IV presentado se declara la disposición de una persona en el equipo con nivel C1 en inglés. Sin embargo, no se aporta certificado del título de acuerdo a lo exigido en la estipulación 18 de las Condiciones Reguladoras. Por último, se declara que una persona del equipo cuenta con experiencia en impartición de cursos/jornadas de formación, mínimo 6h formativas/curso en materia de comunicación. Sin embargo, no se aporta documentación acreditativa conforme a la estipulación 18 de las Condiciones Reguladoras. No queda suficientemente clara en la documentación aportada la acreditación en los términos declarados en el anexo IV por lo que, teniendo en cuenta lo previsto en el último párrafo del artículo 97 de la Ley Foral 2/2018, de 13 de abril, de Contratos Públicos, se requiere aclaración, al considerarse que la oferta presentada adolece de oscuridad o inconcreción. Deberá aportarse fotocopia del título de inglés. | G15: s/c | H15: Se dispone de al menos una persona en el equipo de trabajo que acredita nivel avanzado en inglés, mínimo B2 o equivalente | I15: 3
B16: C1 | C16: B2
B17: 5 puntos | C17: 3 puntos
B18: máximo 5 puntos
B20: Euskera | F20: No se dispone de una persona en el equipo que acredite competencia certificada en euskera | G20: 0 | H20: No se dispone de una persona en el equipo que acredite competencia certificada en euskera | I20: 0
B21: C1 | C21: B2
B22: 7 puntos | C22: 5 puntos
B23: máximo 7 puntos
A25: 2.2.3. Formación complementaria | B25: formación > 100 h | F25: Se acredita formación complementaria a la exigida en el apartado de solvencia, bien sea master, posgrado, curso o similar en periodismo, comunicación, publicidad, fotografía, edición de vídeos, etc, mínimo 100 h formativas en más de una de las personas del equipo de trabajo | G25: 15 | H25: Se acredita formación complementaria a la exigida en el apartado de solvencia, bien sea master, posgrado, curso o similar en periodismo, comunicación, publicidad, fotografía, edición de vídeos, etc, mínimo 100 h formativas en más de una de las personas del equipo de trabajo | I25: 15
B26: En una persona del equipo | C26: En más de una persona del equipo
B27: 5 puntos | C27: 15 puntos
B28: máximo 15 puntos
A30: 2.2.4. Experiencia en formación impartida | B30: al menos un curso > 6 h impartido | F30: Ídem apartado 2.2.2 | G30: s/c | H30: Se acredita experiencia en impartición de cursos/jornadas de formación, mínimo 6h formativas/curso en materia de comunicación en una persona del equipo de trabajo. | I30: 5
B31: una persona del equipo | C31: más de una persona
B32: 5 puntos | C32: 15 puntos
B33: máximo 15 puntos
F36: Puntuación total | G36: =SUM(G5:G33) -> 47 | H36: Puntuación total | I36: =SUM(I5:I34) -> 55

Sheet ORBETEC
A1: Lote | B1: 3
A2: Entidad | B2: ORBETEC
A3: Criterio | B3: 2.2 | F3: Valoración | G3: Puntuación | H3: Valoración tras aclaración/subsanación | I3: Puntuación
A4: 2.2.1 (a) Experiencia en servicios de community manager para entidades/corporaciones de más de 100 trabajadores | B4: Casos de éxito
B5: 1 | C5: 2 a 3 | D5: >3 | F5: En el anexo IV presentado se identifican trabajos de community manager para entidades/corporaciones de más de 100 trabajadores. Sin embargo, no se aporta documentación justificativa de los servicios prestados, de acuerdo a lo exigido en la estipulación 18 de las Condiciones Reguladoras. No queda suficientemente clara en la documentación aportada la acreditación en los términos declarados en el anexo IV por lo que, teniendo en cuenta lo previsto en el último párrafo del artículo 97 de la Ley Foral 2/2018, de 13 de abril, de Contratos Públicos, se requiere aclaración, al considerarse que la oferta presentada adolece de oscuridad o inconcreción. Deberá presentar documentación justificativa de los servicios de community manager identificados en el anexo IV | G5: s/c | H5: La entidad no responde al requerimiento de aclaración. En consecuencia, no se puede valorar este apartado. | I5: 0
B6: 10 puntos | C6: 20 puntos | D6: 30 puntos
B7: máximo 30 puntos
A9: 2.2.1 (b) Adicionalmente, la experiencia anterior es con entidades públicas | B9: Casos de éxito
B10: 1 | C10: 2 a 3 | D10: >3 | G10: s/c
B11: 2 puntos | C11: 5 puntos | D11: 8 puntos
B12: máximo 8 puntos
A15: 2.2.2. Idiomas | B15: Inglés | F15: Ídem apartado 2.2.1. | G15: s/c | H15: Ídem apartado 2.2.1. | I15: 0
B16: C1 | C16: B2
B17: 5 puntos | C17: 3 puntos
B18: máximo 5 puntos
B19: Euskera | F19: No se dispone de una persona en el equipo que acredite competencia certificada en euskera | G19: 0 | H19: No se dispone de una persona en el equipo que acredite competencia certificada en euskera | I19: 0
B20: C1 | C20: B2
B21: 7 puntos | C21: 5 puntos
B22: máximo 7 puntos
A24: 2.2.3. Formación complementaria | B24: formación > 100 h | F24: Acredita formación complementaria en periodismo, comunicación, publicidad, fotografía, edición de vídeos, etc, mínimo 100 h formativas en más de una persona. | G24: 15 | H24: Acredita formación complementaria en periodismo, comunicación, publicidad, fotografía, edición de vídeos, etc, mínimo 100 h formativas en más de una persona. | I24: 15
B25: En una persona del equipo | C25: En más de una persona del equipo
B26: 5 puntos | C26: 15 puntos
B27: máximo 15 puntos
A29: 2.2.4. Experiencia en formación impartida | B29: al menos un curso > 6 h impartido | F29: Ídem apartado 2.2.1 | G29: s/c | H29: Ídem apartado 2.2.1. | I29: 0
B30: una persona del equipo | C30: más de una persona
B31: 5 puntos | C31: 15 puntos
B32: máximo 15 puntos
F35: Puntuación total | G35: =SUM(G5:G32) -> 15 | H35: Puntuación total | I35: =SUM(I5:I33) -> 15
